{"text_format":"1","workbook":"xlsx","n_sheets":14,"sheets":["Introduction","User Guide","Options","Results","Evidence","SHEETS TO BE HIDDEN ->","Calculations","Inequalities","Health outcome totals 2016","Lists","Demographic data","Prevalence Rates","Population 2016","Population at Risk"],"not_rendered":{"charts":0,"images":3,"macros":1,"external_links":0,"defined_names":2,"comments":0,"pivot_tables":0},"unopened":[],"bounds":{"document_bytes":16777216,"sheet_cells":100000,"rows_first":2000,"rows_last":500,"rows_between":2000,"halvings":0,"cell_chars":16384,"cell_head_chars":4096},"cells_cut":0,"cells_raw":0,"read":"whole","date_system":"1900"}

{"sheet":"Introduction","index":0,"n_rows":51,"n_cols":10,"rows_kept":51,"cut":false,"hidden":false,"merged":[]}
[]
[null,"Informing Interventions to reduce health Inequalities ('Triple I'):"]
[null,"Increasing Tobacco Taxation by 10%"]
[]
[]
[]
[null,"Informing Interventions to reduce health Inequalities ('Triple I') is a collaboration between NHS Health Scotland and the Scottish Public Health Observatory (ScotPHO)."]
[null,"Triple I provides national and local decision makers with practical tools and interpreted results about investing in interventions to reduce health inequalities in Scotland. "]
[null,"It does this by modelling the potential impact of different interventions and policies on overall population health and health inequalities."]
[null,"This tool is part of a set of 9 spreadsheets and associated documentation, produced as an update and extension of our 2014 Triple I work.  "]
[null,"Data and evidence have been updated where applicable, new interventions have been included, and presentation of the results has been improved.  "]
[null,"The tool can be used to produce detailed results for different geographies (Scotland, Local Authorities, Health Boards, City Regions, or Integrated Joint Boards)."]
[null,"Results are provided for three health outcomes: premature mortality, years of life lost, and hospital stays.  "]
[]
[null,"The interventions:"]
[null,"The interventions were chosen based on the highest quality and most generalisable evidence linking them to changes in all-cause mortality and hospital admissions."]
[null,"The topics addressed by the interventions span the determinants of health (including ‘upstream’, ‘downstream’, individual-level and population-wide)."]
[null,"There are 9 Triple I spreadsheet tools (corresponding to the topic areas below)."]
[]
[null,null,"Individual-level interventions: ",null,null,null,null,"Population-wide interventions:"]
[null,null,"(N.B. modelled as being implemented in year 1 only)",null,null,null,null,"(N.B. permanent: modelled as remaining "]
[null,null,"Topic","Intervention(s) ",null,null,null,"in place after implementation in year 1)"]
[null,null,"Mental Health","Interventions for depression",null,null,null,"Topic",null,"Intervention(s) "]
[null,null,"Obesity","Weight management service",null,null,null,"Physical Environment",null,"20 mph speed limits "]
[null,null,"Physical inactivity","Physical activity interventions",null,null,null,"Smoking",null,"Tobacco taxation"]
[null,null,"Smoking","Smoking cessation",null,null,null,"Income",null,"Income-based policies"]
[null,null,"Alcohol consumption","Alcohol Brief Interventions (ABIs)"]
[null,null,"Unemployment","Job provision"]
[]
[null,"Pages in this spreadsheet tool:"]
[null,null,"Introduction",null,">>","Information about the Triple I project"]
[null,null,"User guide",null,">>","How to use this spreadsheet tool"]
[null,null,"Options",null,">>","Where users can change the model options, and see high-level results"]
[null,null,"Results",null,">>","Full results for the chosen model options"]
[null,null,"Evidence",null,">>","Summary of the evidence underpinning the model, and definitions of the policies/interventions"]
[]
[null,"Further information is available on the Triple I website:",null,null,null,null,"Triple I website"]
[null,null,"Interactive results browser",null,">>","An online interactive results browser for comparing different interventions (April 2019)"]
[null,null,"National Overview Report",null,">>","A summary report of the national-level findings (April 2019)"]
[null,null,"Technical Report",null,">>","Details of Triple I's methods and data sources (April 2019)"]
[null,null,"Frequently Asked Questions",null,">>","Answers to frequently-asked questions about Triple I (April 2019)"]
[null,null,"Income-based policies",null,">>","Report and Supplementary Information about the income-based policies work (October 2018)"]
[null,null,"nhs.triple.i@nhs.net",null,">>","Email us for more information."]
[]
[null,"Abbreviations used"]
[null,"IJB","Integrated Joint Board"]
[null,"LA","Local Authority"]
[null,"RII","Relative Index of Inequality"]
[null,"SII","Slope Index of Inequality"]
[null,"SIMD","Scottish Index of Multiple Deprivation"]
[null,"Q1 - Q5","Quintiles of the SIMD: Q1 contains the 20% most deprived areas, and Q5 contains the 20% least deprived areas."]

{"sheet":"User Guide","index":1,"n_rows":72,"n_cols":10,"rows_kept":72,"cut":false,"hidden":false,"merged":[]}
[]
[null,"User Guide"]
[]
[null,"Please note: Macros need to be enabled for the tools to work properly."]
[null,"How to do this in a recent version of Excel: File > Options > Trust Center > Trust Center Settings > Macro Settings > \"Enable all macros\""]
[null,"How to do this in an older version of Excel: Tools > Options > Security > Macro Security > \"Medium\""]
[]
[null,"Changing the intervention details:"]
[null,"You can interact with the Triple I model from the Options tab."]
[null,"Any changes made to the shaded cells (blue) on this tab will cause Excel to recalculate the model and present new results.   "]
[null,"Below are the options available (N.B. not every spreadsheet will have all of these options):"]
[]
[null,"Intervention:"]
[null,"Choose the intervention of interest (only relevant for tools covering more than one intervention: Mental health, Physical activity, and Income-based interventions)"]
[]
[null,"Area:"]
[null,"Choose the area to run the model for.  The available geographies are listed below. "]
[null,null,"1. Health Boards:",null,null,"The 14 territorial NHS health boards responsible for delivery of frontline healthcare services in Scotland (2014 boundaries). "]
[null,null,"2. Local Authorities:",null,null,"The 32 elected councils that provide a range of services to local people, including education and care.  "]
[null,null,null,null,null,"The Gaelic name of Eilean Siar is used for the local authority covering the Western Isles.  "]
[null,null,"3. Integrated Joint Boards:",null,null,"31 integration authorities were created by The Public Bodies (Joint Working) Act 2014, in order to integrate the health "]
[null,null,null,null,null,"and social care functions of health boards and local authorities.  These Integrated Joint Boards (IJBs) or Partnerships "]
[null,null,null,null,null,"correspond to local authority areas, with the exception of Clackmannanshire and Stirling IJB which combines two local "]
[null,null,null,null,null,"authorities.  The Gaelic name of Eilean Siar is used for the IJB covering the Western Isles.  "]
[null,null,"4. City Region Deals: ",null,null,"City Region Deals are agreements between the Scottish Government, the UK Government and local government."]
[null,null,null,null,null,"They have been designed to bring about long-term strategic approaches to improving regional economies.  "]
[null,null,null,null,null,"The following 6 city regions are included:"]
[]
[null,null,null,null,null,"City Region:",null,null,null,"Local Authorities (LAs) included: "]
[null,null,null,null,null,"Aberdeen City Region Deal",null,null,null,"Aberdeen and Aberdeenshire "]
[null,null,null,null,null,"Edinburgh & Southeast Scotland City Region Deal",null,null,null,"Edinburgh, Fife, East Lothian, Midlothian, West Lothian, Borders"]
[null,null,null,null,null,"Glasgow City Region Deal",null,null,null,"East Dunbartonshire, East Renfrewshire, Glasgow City, Inverclyde, "]
[null,null,null,null,null,null,null,null,null,"North Lanarkshire, Renfrewshire, South Lanarkshire, West Dunbartonshire"]
[null,null,null,null,null,"Inverness & Highland City Region Deal",null,null,null,"Highland"]
[null,null,null,null,null,"Stirling and Clackmannanshire City Region Deal",null,null,null,"Stirling and Clackmannanshire "]
[null,null,null,null,null,"Tay Cities Region Deal ",null,null,null,"Dundee, Perth & Kinross, Angus, Fife "]
[]
[null,"Targeting strategy:"]
[null,"The strategy for delivering the individual-level* interventions can be altered by the user.  "]
[null,"*Interventions delivered to individuals: mental health, weight management, physical activity, smoking cessation, alcohol brief interventions, and job provision. "]
[null,"Four options are available:"]
[null,"·       Even distribution: treat the same proportion of the eligible population in each subgroup (i.e., age group, sex and SIMD 2016 quintile)."]
[null,"·       Proportionate to need: the proportion of each subgroup treated is proportionate to the subgroup's prevalence of the exposure (e.g., smoking or depression)."]
[null,"·       Most deprived 20% only**: treat only those in SIMD quintile 1 (even distribution within this quintile).    "]
[null,"·       Most deprived 40% only: treat only those in SIMD quintiles 1 and 2 (even distribution within these quintiles).  "]
[null,"**The Orkney Islands, Shetland Islands and the Western Isles do not have population in SIMD 2016 quintile 1, so targeting to quintile 1 will produce an error message."]
[]
[null,"Number to treat:"]
[null,"For individual-level interventions you can choose the number of people to be treated."]
[null,"·       For information the maximum number of people who are eligible to be treated will be calculated in the preceding cell."]
[null,"·       If a higher number is entered an error message will prevent the calculation from occurring."]
[null,"·       Be aware that the model will run and produce results if changes to another cell mean that the number of people then exceeds the new maximum number.  "]
[]
[null,"Number of years:"]
[null,"The interventions are delivered in year 1.  "]
[null,"Their effects can be modelled from year 2 (the first year of follow-up) to year 20."]
[null,"N.B. Individual-level interventions are delivered for a single year, while the population-level interventions are modelled as remaining in place after year 1. "]
[]
[null,"Viewing the results:"]
[null,"Options tab",null,"A summary of the results is shown on the Options tab."]
[null,"Results tab",null,"More detailed results are shown on the Results tab."]
[null,"Technical Report",null,"Further information about how the results are calculated, and how to interpret them, can be found in the Triple I Technical Report.  "]
[]
[null,"For advanced users: How to make more advanced changes to the model"]
[null,"The inner workings of the Triple I tools are described in the Technical Report.  We recommend you consult the report before making any advanced changes."]
[null,"The model data and calculations can be found in a number of 'hidden' tabs."]
[null,"These are hidden to simplify the spreadsheet for users.  "]
[null,"To see the hidden tabs, right-click on any tab, select 'Unhide', then select the tab you want to unhide. "]
[null,"The hidden tabs include population data, prevalence data, targeting calculations, and result calculations."]
[null,"VBA (Visual Basic for Applications) code has been written to create bespoke functions for the calculations.   "]
[null,"The code can be found from the Developer tab > Visual Basic."]
[null,"If the Developer tab is not shown in your version of Excel go to File > Options > Customize Ribbon and switch on the Developer tab (recent Excel versions only)."]

{"sheet":"Options","index":2,"n_rows":31,"n_cols":8,"rows_kept":31,"cut":false,"hidden":false,"merged":[]}
[]
[null,"Options for changing the model:",null,null,"Results summary:"]
[]
[null,"Change the shaded cells (blue) to recalculate.",null,null,"Check the Results tab for a detailed breakdown of the results"]
[null,"N.B. Results may take a few seconds to change.",null,null,"Results shown as cumulative difference from baseline over the follow-up period (% difference in brackets).  "]
[]
[null,"Intervention: (defined on Evidence tab)",null,null,"POLICY IMPACT ON HEALTH*","Whole population","SIMD Q1 & Q2","SIMD Q1"]
[null,"Tobacco tax +10%",null,null,"Hospital stays prevented",{"$f":"CONCATENATE(FIXED(Results!E16,0),\" (\",FIXED(Results!F16,2),\"%)\")","v":"1,147 (0.10%)"},{"$f":"CONCATENATE(FIXED(Results!E17,0),\" (\",FIXED(Results!F17,2),\"%)\")","v":"733 (0.14%)"},{"$f":"IF(OR(Calculations!$E$2=\"Orkney Health Board\",Calculations!$E$2=\"Orkney Islands Local Authority\",Calculations!$E$2=\"Shetland Health Board\",Calculations!$E$2=\"Western Isles Health Board\",Calculations!$E$2=\"Shetland Islands Local Authority\",Calculations!$E$2=\"Eilean Siar Local Authority\"),\"N/A\", CONCATENATE(FIXED(Results!E18,0),\" (\",FIXED(Results!F18,2),\"%)\"))","v":"441 (0.15%)"}]
[null,null,null,null,"Premature deaths prevented",{"$f":"CONCATENATE(FIXED(Results!E20,0),\" (\",FIXED(Results!F20,2),\"%)\")","v":"37 (0.17%)"},{"$f":"CONCATENATE(FIXED(Results!E21,0),\" (\",FIXED(Results!F21,2),\"%)\")","v":"25 (0.22%)"},{"$f":"IF(OR(Calculations!$E$2=\"Orkney Health Board\",Calculations!$E$2=\"Orkney Islands Local Authority\",Calculations!$E$2=\"Shetland Health Board\",Calculations!$E$2=\"Western Isles Health Board\",Calculations!$E$2=\"Shetland Islands Local Authority\",Calculations!$E$2=\"Eilean Siar Local Authority\"),\"N/A\", CONCATENATE(FIXED(Results!E22,0),\" (\",FIXED(Results!F22,2),\"%)\"))","v":"16 (0.24%)"}]
[null,"Choose the area to run the model for:",null,null,"Years of life saved",{"$f":"CONCATENATE(FIXED(Results!E24,0),\" (\",FIXED(Results!F24,2),\"%)\")","v":"957 (0.16%)"},{"$f":"CONCATENATE(FIXED(Results!E25,0),\" (\",FIXED(Results!F25,2),\"%)\")","v":"651 (0.20%)"},{"$f":"IF(OR(Calculations!$E$2=\"Orkney Health Board\",Calculations!$E$2=\"Orkney Islands Local Authority\",Calculations!$E$2=\"Shetland Health Board\",Calculations!$E$2=\"Western Isles Health Board\",Calculations!$E$2=\"Shetland Islands Local Authority\",Calculations!$E$2=\"Eilean Siar Local Authority\"),\"N/A\", CONCATENATE(FIXED(Results!E26,0),\" (\",FIXED(Results!F26,2),\"%)\"))","v":"409 (0.23%)"}]
[null,"Scotland",null,null,"*N.B. a positive figure indicates an improvement in health outcomes."]
[]
[null,"Calculate health impact after this many years:",null,null,"POLICY IMPACT ON HEALTH INEQUALITIES**"]
[null,2,null,null,"Gap between most and least deprived","Absolute","Relative"]
[null,null,null,null,"Hospital stays",{"$f":"CONCATENATE(FIXED(Results!E29,0),\" (\",FIXED(Results!F29,3),\"%)\")","v":"-36 (-0.272%)"},{"$f":"CONCATENATE(FIXED(Results!E33,4),\" (\",FIXED(Results!F33,3),\"%)\")","v":"-0.0018 (-0.102%)"}]
[null,null,null,null,"Premature deaths",{"$f":"CONCATENATE(FIXED(Results!E30,0),\" (\",FIXED(Results!F30,3),\"%)\")","v":"-1 (-0.322%)"},{"$f":"CONCATENATE(FIXED(Results!E34,4),\" (\",FIXED(Results!F34,3),\"%)\")","v":"-0.0049 (-0.163%)"}]
[null,null,null,null,"Years of life lost",{"$f":"CONCATENATE(FIXED(Results!E31,0),\" (\",FIXED(Results!F31,3),\"%)\")","v":"-37 (-0.295%)"},{"$f":"CONCATENATE(FIXED(Results!E35,4),\" (\",FIXED(Results!F35,3),\"%)\")","v":"-0.0044 (-0.148%)"}]
[null,null,null,null,"Population-wide inequalities slope","Absolute (SII)","Relative (RII)"]
[null,null,null,null,"Hospital stays",{"$f":"CONCATENATE(FIXED(Results!E37,0),\" (\",FIXED(Results!F37,3),\"%)\")","v":"-44 (-0.271%)"},{"$f":"CONCATENATE(FIXED(Results!E41,4),\" (\",FIXED(Results!F41,3),\"%)\")","v":"-0.0013 (-0.172%)"}]
[null,null,null,null,"Premature deaths",{"$f":"CONCATENATE(FIXED(Results!E38,0),\" (\",FIXED(Results!F38,3),\"%)\")","v":"-2 (-0.323%)"},{"$f":"CONCATENATE(FIXED(Results!E42,4),\" (\",FIXED(Results!F42,3),\"%)\")","v":"-0.0019 (-0.149%)"}]
[null,null,null,null,"Years of life lost",{"$f":"CONCATENATE(FIXED(Results!E39,0),\" (\",FIXED(Results!F39,3),\"%)\")","v":"-43 (-0.295%)"},{"$f":"CONCATENATE(FIXED(Results!E43,4),\" (\",FIXED(Results!F43,3),\"%)\")","v":"-0.0017 (-0.136%)"}]
[null,null,null,null,"**N.B. Based on rates per 100,000.  A negative figure indicates reduced inequalities / narrowing of the gap."]
[]
[null,null,null,null,"SELECTED COSTS AND SAVINGS***",null,"£"]
[null,null,null,null,"Direct financial cost of the intervention (£)****:",null,{"$f":"Results!D50","v":-70636839.039999992}]
[null,null,null,null,"Direct financial savings from reduced hospitalisations (£):"]
[null,null,null,null,null,"Whole population",{"$f":"CONCATENATE(FIXED(Results!E54,0),\" (\",FIXED(Results!F54,3),\"%)\")","v":"2,881,901 (0.100%)"}]
[null,null,null,null,null,"SIMD Q1 & Q2",{"$f":"CONCATENATE(FIXED(Results!E55,0),\" (\",FIXED(Results!F55,3),\"%)\")","v":"1,840,734 (0.135%)"}]
[null,null,null,null,null,"SIMD Q1",{"$f":"IF(OR(Calculations!$E$2=\"Orkney Health Board\",Calculations!$E$2=\"Orkney Islands Local Authority\",Calculations!$E$2=\"Shetland Health Board\",Calculations!$E$2=\"Western Isles Health Board\",Calculations!$E$2=\"Shetland Islands Local Authority\",Calculations!$E$2=\"Eilean Siar Local Authority\"),\"N/A\", CONCATENATE(FIXED(Results!E56,0),\" (\",FIXED(Results!F56,3),\"%)\"))","v":"1,108,432 (0.153%)"}]
[null,null,null,null,"***Costs/savings from changes to other health outcomes and to health inequalities have not been estimated."]
[null,null,null,null,"****This calculation accounts for the recurring annual costs/savings of this intervention."]

{"sheet":"Results","index":3,"n_rows":59,"n_cols":7,"rows_kept":59,"cut":false,"hidden":false,"merged":[]}
[]
[null,"Detailed results for intervention:",null,{"$f":"Options!B8","v":"Tobacco tax +10%"}]
[]
[null,"Area of interest:",{"$f":"Options!B11","v":"Scotland"}]
[null,"Age group:","16+ years"]
[null,"Baseline year (prevalence and population data):",2016,"Health impact calculated after:",{"$f":"CONCATENATE(Options!B14,\" years\")","v":"2 years"}]
[]
[null,"Baseline situation (2016):","No. smokers","No. all-cause hospital stays","No. all-cause deaths","No. all-cause premature deaths","Years of life lost (all causes)"]
[null,"Whole population",{"$f":"HLOOKUP(Calculations!$E$2,'Population at Risk'!$C$3:$BC$257,'Population at Risk'!BD251,FALSE)","v":990842.21130000008},{"$f":"HLOOKUP(Calculations!$E$2,'Health outcome totals 2016'!$C$3:$BC$17,'Health outcome totals 2016'!$BD6,FALSE)","v":1125093},{"$f":"HLOOKUP(Calculations!$E$2,'Health outcome totals 2016'!$C$3:$BC$17,'Health outcome totals 2016'!$BD9,FALSE)","v":56725},{"$f":"HLOOKUP(Calculations!$E$2,'Health outcome totals 2016'!$C$3:$BC$17,'Health outcome totals 2016'!$BD12,FALSE)","v":21313},{"$f":"HLOOKUP(Calculations!$E$2,'Health outcome totals 2016'!$C$3:$BC$17,'Health outcome totals 2016'!$BD15,FALSE)","v":708624.04837918223}]
[null,"Most deprived 40% (Q1 & Q2)",{"$f":"HLOOKUP(Calculations!$E$2,'Population at Risk'!$C$3:$BC$257,'Population at Risk'!BD253,FALSE)","v":561679.87490000005},{"$f":"HLOOKUP(Calculations!$E$2,'Health outcome totals 2016'!$C$3:$BC$17,'Health outcome totals 2016'!$BD8,FALSE)","v":534382},{"$f":"HLOOKUP(Calculations!$E$2,'Health outcome totals 2016'!$C$3:$BC$17,'Health outcome totals 2016'!$BD11,FALSE)","v":26567},{"$f":"HLOOKUP(Calculations!$E$2,'Health outcome totals 2016'!$C$3:$BC$17,'Health outcome totals 2016'!$BD14,FALSE)","v":11618},{"$f":"HLOOKUP(Calculations!$E$2,'Health outcome totals 2016'!$C$3:$BC$17,'Health outcome totals 2016'!$BD17,FALSE)","v":372328.97050476068}]
[null,"Most deprived 20% (Q1)",{"$f":"IF(OR(Calculations!$E$2=\"Orkney Health Board\",Calculations!$E$2=\"Orkney Islands Local Authority\",Calculations!$E$2=\"Shetland Health Board\",Calculations!$E$2=\"Western Isles Health Board\",Calculations!$E$2=\"Shetland Islands Local Authority\",Calculations!$E$2=\"Eilean Siar Local Authority\"),\"N/A\", HLOOKUP(Calculations!$E$2,'Population at Risk'!$C$3:$BC$257,'Population at Risk'!BD252,FALSE))","v":316301.97120000003},{"$f":"IF(OR(Calculations!$E$2=\"Orkney Health Board\",Calculations!$E$2=\"Orkney Islands Local Authority\",Calculations!$E$2=\"Shetland Health Board\",Calculations!$E$2=\"Western Isles Health Board\",Calculations!$E$2=\"Shetland Islands Local Authority\",Calculations!$E$2=\"Eilean Siar Local Authority\"),\"N/A\", HLOOKUP(Calculations!$E$2,'Health outcome totals 2016'!$C$3:$BC$17,'Health outcome totals 2016'!$BD7,FALSE))","v":283718},{"$f":"IF(OR(Calculations!$E$2=\"Orkney Health Board\",Calculations!$E$2=\"Orkney Islands Local Authority\",Calculations!$E$2=\"Shetland Health Board\",Calculations!$E$2=\"Western Isles Health Board\",Calculations!$E$2=\"Shetland Islands Local Authority\",Calculations!$E$2=\"Eilean Siar Local Authority\"),\"N/A\", HLOOKUP(Calculations!$E$2,'Health outcome totals 2016'!$C$3:$BC$17,'Health outcome totals 2016'!$BD10,FALSE))","v":13665},{"$f":"IF(OR(Calculations!$E$2=\"Orkney Health Board\",Calculations!$E$2=\"Orkney Islands Local Authority\",Calculations!$E$2=\"Shetland Health Board\",Calculations!$E$2=\"Western Isles Health Board\",Calculations!$E$2=\"Shetland Islands Local Authority\",Calculations!$E$2=\"Eilean Siar Local Authority\"),\"N/A\", HLOOKUP(Calculations!$E$2,'Health outcome totals 2016'!$C$3:$BC$17,'Health outcome totals 2016'!$BD13,FALSE))","v":6443},{"$f":"IF(OR(Calculations!$E$2=\"Orkney Health Board\",Calculations!$E$2=\"Orkney Islands Local Authority\",Calculations!$E$2=\"Shetland Health Board\",Calculations!$E$2=\"Western Isles Health Board\",Calculations!$E$2=\"Shetland Islands Local Authority\",Calculations!$E$2=\"Eilean Siar Local Authority\"),\"N/A\", HLOOKUP(Calculations!$E$2,'Health outcome totals 2016'!$C$3:$BC$17,'Health outcome totals 2016'!$BD16,FALSE))","v":203545.71069335938}]
[]
[null,"Health impact","Without intervention","With intervention","Difference","Difference","Interpretation"]
[null,"HEALTH OUTCOMES","n","n","n","%"]
[null,"Hospital stays",null,null,null,"% prevented"]
[null,"Whole population",{"$f":"Calculations!O5","v":1143855.727350824},{"$f":"Calculations!P5","v":1142708.4735696574},{"$f":"C16-D16","v":1147.2537811666261},{"$f":"E16*100/C16","v":0.10029707014045136},"Hospital stays prevented"]
[null,"Q1 & Q2",{"$f":"Calculations!O6","v":542278.73076819046},{"$f":"Calculations!P6","v":541545.95437278063},{"$f":"C17-D17","v":732.77639540983364},{"$f":"E17*100/C17","v":0.13512910498477135},"(N.B. positive difference = "]
[null,"Q1",{"$f":"IF(OR(Calculations!$E$2=\"Orkney Health Board\",Calculations!$E$2=\"Orkney Islands Local Authority\",Calculations!$E$2=\"Shetland Health Board\",Calculations!$E$2=\"Western Isles Health Board\",Calculations!$E$2=\"Shetland Islands Local Authority\",Calculations!$E$2=\"Eilean Siar Local Authority\"),\"N/A\", Calculations!O7)","v":288715.84006160521},{"$f":"IF(OR(Calculations!$E$2=\"Orkney Health Board\",Calculations!$E$2=\"Orkney Islands Local Authority\",Calculations!$E$2=\"Shetland Health Board\",Calculations!$E$2=\"Western Isles Health Board\",Calculations!$E$2=\"Shetland Islands Local Authority\",Calculations!$E$2=\"Eilean Siar Local Authority\"),\"N/A\", Calculations!P7)","v":288274.58519722265},{"$f":"IF(OR(Calculations!$E$2=\"Orkney Health Board\",Calculations!$E$2=\"Orkney Islands Local Authority\",Calculations!$E$2=\"Shetland Health Board\",Calculations!$E$2=\"Western Isles Health Board\",Calculations!$E$2=\"Shetland Islands Local Authority\",Calculations!$E$2=\"Eilean Siar Local Authority\"),\"N/A\", C18-D18)","v":441.25486438255757},{"$f":"IF(OR(Calculations!$E$2=\"Orkney Health Board\",Calculations!$E$2=\"Orkney Islands Local Authority\",Calculations!$E$2=\"Shetland Health Board\",Calculations!$E$2=\"Western Isles Health Board\",Calculations!$E$2=\"Shetland Islands Local Authority\",Calculations!$E$2=\"Eilean Siar Local Authority\"),\"N/A\", E18*100/C18)","v":0.15283361809605045},"fewer stays)"]
[null,"Premature deaths (<75 years)",null,null,null,"% prevented"]
[null,"Whole population",{"$f":"Calculations!Q5","v":21611.413127534201},{"$f":"Calculations!R5","v":21574.032509706303},{"$f":"C20-D20","v":37.380617827897368},{"$f":"E20*100/C20","v":0.17296702259729735},"Premature deaths prevented"]
[null,"Q1 & Q2",{"$f":"Calculations!Q6","v":11396.364678034401},{"$f":"Calculations!R6","v":11371.117610597801},{"$f":"C21-D21","v":25.247067436599536},{"$f":"E21*100/C21","v":0.22153614902532279},"(N.B. positive difference = "]
[null,"Q1",{"$f":"IF(OR(Calculations!$E$2=\"Orkney Health Board\",Calculations!$E$2=\"Orkney Islands Local Authority\",Calculations!$E$2=\"Shetland Health Board\",Calculations!$E$2=\"Western Isles Health Board\",Calculations!$E$2=\"Shetland Islands Local Authority\",Calculations!$E$2=\"Eilean Siar Local Authority\"),\"N/A\", Calculations!Q7)","v":6418.2032144008008},{"$f":"IF(OR(Calculations!$E$2=\"Orkney Health Board\",Calculations!$E$2=\"Orkney Islands Local Authority\",Calculations!$E$2=\"Shetland Health Board\",Calculations!$E$2=\"Western Isles Health Board\",Calculations!$E$2=\"Shetland Islands Local Authority\",Calculations!$E$2=\"Eilean Siar Local Authority\"),\"N/A\", Calculations!R7)","v":6402.4874853939},{"$f":"IF(OR(Calculations!$E$2=\"Orkney Health Board\",Calculations!$E$2=\"Orkney Islands Local Authority\",Calculations!$E$2=\"Shetland Health Board\",Calculations!$E$2=\"Western Isles Health Board\",Calculations!$E$2=\"Shetland Islands Local Authority\",Calculations!$E$2=\"Eilean Siar Local Authority\"),\"N/A\", C22-D22)","v":15.715729006900801},{"$f":"IF(OR(Calculations!$E$2=\"Orkney Health Board\",Calculations!$E$2=\"Orkney Islands Local Authority\",Calculations!$E$2=\"Shetland Health Board\",Calculations!$E$2=\"Western Isles Health Board\",Calculations!$E$2=\"Shetland Islands Local Authority\",Calculations!$E$2=\"Eilean Siar Local Authority\"),\"N/A\", E22*100/C22)","v":0.24486181695896975},"fewer premature deaths)"]
[null,"Years of life lost",null,null,null,"% saved"]
[null,"Whole population",{"$f":"Calculations!M5","v":595251.88027269009},{"$f":"Calculations!N5","v":594294.95131518575},{"$f":"C24-D24","v":956.92895750433672},{"$f":"E24*100/C24","v":0.1607603418347808},"Years of life saved"]
[null,"Q1 & Q2",{"$f":"Calculations!M6","v":317747.90651440376},{"$f":"Calculations!N6","v":317097.19464724953},{"$f":"C25-D25","v":650.71186715422664},{"$f":"E25*100/C25","v":0.20478871892259953},"(N.B. positive difference ="]
[null,"Q1",{"$f":"IF(OR(Calculations!$E$2=\"Orkney Health Board\",Calculations!$E$2=\"Orkney Islands Local Authority\",Calculations!$E$2=\"Shetland Health Board\",Calculations!$E$2=\"Western Isles Health Board\",Calculations!$E$2=\"Shetland Islands Local Authority\",Calculations!$E$2=\"Eilean Siar Local Authority\"),\"N/A\", Calculations!M7)","v":179391.53956481616},{"$f":"IF(OR(Calculations!$E$2=\"Orkney Health Board\",Calculations!$E$2=\"Orkney Islands Local Authority\",Calculations!$E$2=\"Shetland Health Board\",Calculations!$E$2=\"Western Isles Health Board\",Calculations!$E$2=\"Shetland Islands Local Authority\",Calculations!$E$2=\"Eilean Siar Local Authority\"),\"N/A\", Calculations!N7)","v":178982.46502889539},{"$f":"IF(OR(Calculations!$E$2=\"Orkney Health Board\",Calculations!$E$2=\"Orkney Islands Local Authority\",Calculations!$E$2=\"Shetland Health Board\",Calculations!$E$2=\"Western Isles Health Board\",Calculations!$E$2=\"Shetland Islands Local Authority\",Calculations!$E$2=\"Eilean Siar Local Authority\"),\"N/A\", C26-D26)","v":409.07453592077945},{"$f":"IF(OR(Calculations!$E$2=\"Orkney Health Board\",Calculations!$E$2=\"Orkney Islands Local Authority\",Calculations!$E$2=\"Shetland Health Board\",Calculations!$E$2=\"Western Isles Health Board\",Calculations!$E$2=\"Shetland Islands Local Authority\",Calculations!$E$2=\"Eilean Siar Local Authority\"),\"N/A\", E26*100/C26)","v":0.22803446411862488},"years of life saved)"]
[null,"HEALTH INEQUALITIES ","rate*","rate*","rate*","%"]
[null,"Absolute gap (Q1 minus Q5**)",null,null,null,"% increase"]
[null,"Hospital stays",{"$f":"Inequalities!H17","v":13347.326196375001},{"$f":"Inequalities!J17","v":13310.959331789036},{"$f":"D29-C29","v":-36.366864585965232},{"$f":"E29*100/C29","v":-0.27246554141939011},"Change in the absolute gap"]
[null,"Premature deaths",{"$f":"Inequalities!N17","v":452.85972769368129},{"$f":"Inequalities!P17","v":451.40283253110158},{"$f":"D30-C30","v":-1.4568951625797126},{"$f":"E30*100/C30","v":-0.32171002928420489},"(N.B. negative = narrower gap)"]
[null,"YLL",{"$f":"Inequalities!T17","v":12467.788608299079},{"$f":"Inequalities!V17","v":12430.988040305394},{"$f":"D31-C31","v":-36.800567993685036},{"$f":"E31*100/C31","v":-0.29516515839215501}]
[null,"Relative gap Q1 to Q5**",null,null,null,"% increase"]
[null,"Hospital stays",{"$f":"Inequalities!H18","v":1.8136171707492037},{"$f":"Inequalities!J18","v":1.8117696008110433},{"$f":"D33-C33","v":-1.8475699381603761E-3},{"$f":"E33*100/C33","v":-0.10187210222525334},"Change in the relative gap"]
[null,"Premature deaths",{"$f":"Inequalities!N18","v":3.0021460268931137},{"$f":"Inequalities!P18","v":2.9972605573208861},{"$f":"D34-C34","v":-4.8854695722275743E-3},{"$f":"E34*100/C34","v":-0.162732576245916},"(N.B. negative = narrower gap)"]
[null,"YLL",{"$f":"Inequalities!T18","v":2.9890503101685257},{"$f":"Inequalities!V18","v":2.984635500450703},{"$f":"D35-C35","v":-4.4148097178227097E-3},{"$f":"E35*100/C35","v":-0.14769941150886143}]
[null,"Slope Index of Inequality (SII)",null,null,null,"% increase"]
[null,"Hospital stays",{"$f":"Inequalities!H15","v":16090.340555944245},{"$f":"Inequalities!J15","v":16046.759870605281},{"$f":"D37-C37","v":-43.580685338964031},{"$f":"E37*100/C37","v":-0.27084998721710735},"Change in absolute inequalities"]
[null,"Premature deaths",{"$f":"Inequalities!N15","v":533.46848173714238},{"$f":"Inequalities!P15","v":531.74634373315746},{"$f":"D38-C38","v":-1.7221380039849237},{"$f":"E38*100/C38","v":-0.32281907234277396},"(N.B. negative = decreased inequalities)"]
[null,"YLL",{"$f":"Inequalities!T15","v":14690.304517187824},{"$f":"Inequalities!V15","v":14646.923943979451},{"$f":"D39-C39","v":-43.38057320837288},{"$f":"E39*100/C39","v":-0.2953007077397008}]
[null,"Relative Index of Inequality (RII)",null,null,null,"% increase"]
[null,"Hospital stays",{"$f":"Inequalities!H16","v":0.73338952625810161},{"$f":"Inequalities!J16","v":0.73212830170172494},{"$f":"D41-C41","v":-1.2612245563766722E-3},{"$f":"E41*100/C41","v":-0.17197198912993608},"Change in relative inequalities"]
[null,"Premature deaths",{"$f":"Inequalities!N16","v":1.2849380037542335},{"$f":"Inequalities!P16","v":1.2830284856726069},{"$f":"D42-C42","v":-1.9095180816266488E-3},{"$f":"E42*100/C42","v":-0.14860779866791746},"(N.B. negative = decreased inequalities)"]
[null,"YLL",{"$f":"Inequalities!T16","v":1.2798286153286231},{"$f":"Inequalities!V16","v":1.2780903032590807},{"$f":"D43-C43","v":-1.738312069542447E-3},{"$f":"E43*100/C43","v":-0.13582381646437078}]
[]
[null,"* European age-standardised rate per 100,000"]
[null,"** or the most and least deprived quintiles in the area"]
[]
[null,"Economic impact","Without intervention","With intervention","Difference","Difference","Interpretation"]
[null,null,"£","£","£"]
[null,"Direct financial cost:",0,{"$f":"(Options!B14-1)*Evidence!D175*HLOOKUP(Calculations!$E$2,'Population at Risk'!$C$3:$BC$257,'Population at Risk'!$BD255,FALSE)/'Population at Risk'!AR255","v":-70636839.039999992},{"$f":"D50-C50","v":-70636839.039999992},null,"Positive difference = net cost incurred"]
[]
[null,"Direct financial savings:","£","£","£","% saved"]
[null,"Hospital stays"]
[null,"Whole population",{"$f":"Evidence!$D$185*Results!C16","v":2873365587.1052699},{"$f":"Evidence!$D$185*Results!D16","v":2870483685.6069794},{"$f":"C54-D54","v":2881901.4982905388},{"$f":"E54*100/C54","v":0.10029707014045046},"Reduction in hospital stay costs"]
[null,"Q1 & Q2",{"$f":"Evidence!$D$185*Results!C17","v":1362204171.6896944},{"$f":"Evidence!$D$185*Results!D17","v":1360363437.3844249},{"$f":"C55-D55","v":1840734.3052694798},{"$f":"E55*100/C55","v":0.13512910498476971},"(N.B. positive difference = "]
[null,"Q1",{"$f":"IF(OR(Calculations!$E$2=\"Orkney Health Board\",Calculations!$E$2=\"Orkney Islands Local Authority\",Calculations!$E$2=\"Shetland Health Board\",Calculations!$E$2=\"Western Isles Health Board\",Calculations!$E$2=\"Shetland Islands Local Authority\",Calculations!$E$2=\"Eilean Siar Local Authority\"),\"N/A\", Evidence!$D$185*Results!C18)","v":725254190.2347523},{"$f":"IF(OR(Calculations!$E$2=\"Orkney Health Board\",Calculations!$E$2=\"Orkney Islands Local Authority\",Calculations!$E$2=\"Shetland Health Board\",Calculations!$E$2=\"Western Isles Health Board\",Calculations!$E$2=\"Shetland Islands Local Authority\",Calculations!$E$2=\"Eilean Siar Local Authority\"),\"N/A\", Evidence!$D$185*Results!D18)","v":724145758.0154233},{"$f":"IF(OR(Calculations!$E$2=\"Orkney Health Board\",Calculations!$E$2=\"Orkney Islands Local Authority\",Calculations!$E$2=\"Shetland Health Board\",Calculations!$E$2=\"Western Isles Health Board\",Calculations!$E$2=\"Shetland Islands Local Authority\",Calculations!$E$2=\"Eilean Siar Local Authority\"),\"N/A\", C56-D56)","v":1108432.2193289995},{"$f":"IF(OR(Calculations!$E$2=\"Orkney Health Board\",Calculations!$E$2=\"Orkney Islands Local Authority\",Calculations!$E$2=\"Shetland Health Board\",Calculations!$E$2=\"Western Isles Health Board\",Calculations!$E$2=\"Shetland Islands Local Authority\",Calculations!$E$2=\"Eilean Siar Local Authority\"),\"N/A\", E56*100/C56)","v":0.1528336180960525},"money saved)"]
[null,"Premature deaths (<75 years)",null,null,"Savings not estimated"]
[null,"Years of life lost",null,null,"Savings not estimated"]
[null,"Inequalities",null,null,"Savings not estimated"]

{"sheet":"Evidence","index":4,"n_rows":203,"n_cols":9,"rows_kept":203,"cut":false,"hidden":false,"merged":[]}
[]
[null,"The intervention"]
[]
[null,"The intervention to be modelled is a 10% increase in the retail price of tobacco through taxation. "]
[null,"Tobacco taxation is one of the tools to reduce demand for tobacco and is an important component of government policies to reduce smoking prevalence. "]
[]
[]
[null,"Exposure Rate Ratios (ERR) for smoking"]
[]
[null,"Outcome","Sex","ERR (relative to non-smokers)","Source","Quoted/calculated?"]
[null,"All-cause hospitalisation","Men",1.48,"Lawder et al., 2007","Quoted"]
[null,null,"Women",1.55,"Lawder et al., 2007","Quoted"]
[]
[null,"All-cause mortality","Men",1.9,"Gellert et al., 2012","Quoted"]
[null,null,"Women",1.8,"Gellert et al., 2012","Quoted"]
[]
[null,"Hospitalisation"]
[null,"The relative risk of hospitalisation in current smokers compared with never smokers is 1.48 (HR) for males and 1.55 (HR) for females as reported in the Linked "]
[null,"Scottish Health Survey to Predict Hospitalization and Deaths (Lawder et al, 2007).  The hazard ratios are based on individuals who smoke 10-20 cigarettes per day."]
[]
[null,"Mortality"]
[null,"Based on a systematic review and meta-analysis of association of smoking with all-cause mortality in people 60 years and older (Gellert et al 2012).  "]
[null,"The study included 17 cohort studies from 7 countries (including England) published before 2011."]
[null,"Age and sex were adjusted for in all studies that were not restricted to single age group or sex. "]
[null,"Other factors controlled for were systolic blood pressure, alcohol consumption, and physical activity."]
[]
[]
[null,"Intervention effect for tobacco taxation"]
[]
[null,"We assumed that a 10% increase in the retail price of tobacco would result in a 5.6% reduction in consumption of tobacco products. "]
[null,"5.6% is the midpoint of the range of price elasticity of demand figures (3.5 to 7.8%) estimated for the UK between 2001 and 2011 (Reed et al 2013)."]
[null,"Prevalence of smoking would be reduced by a lower amount: Golden et al (2016) estimated that in response to tobacco price changes smoking prevalence would "]
[null,"be reduced by about half the consumption rate.  We therefore assumed that prevalence would be reduced by 2.8% if tobacco retail prices increased by 10%."]
[]
[]
[null,"Intervention Rate Ratios (IRR) for tobacco taxation"]
[]
[null,"Outcome","Sex","IRR for ex-smokers relative to current smokers","Sources","Quoted/calculated?"]
[null,"All-cause hospitalisation","Men",0.82,"Lawder et al, 2007","Calculated"]
[null,null,"Women",0.76,"Lawder et al, 2007","Calculated"]
[]
[null,"All-cause mortality","Men",0.76,"Hart et al, 2013","Quoted"]
[null,null,"Women",0.64,"Hart et al, 2013","Quoted"]
[]
[null,"Hospitalisation"]
[null,"We found no direct evidence for the effect of giving up smoking on hospitalisation risks.  "]
[null,"We therefore calculated these from the HRs given by Lawder et al (2007), for the risk of hospitalisation for former smokers and moderate smokers, "]
[null,"relative to never smokers.  The hospitalisation IRR was calculated as the HR for former smokers divided by the HR for moderate smokers.   "]
[null,"For males this was 1.21/1.48 = 0.82 and for females it was 1.18/1.55 = 0.76."]
[]
[]
[null,"\"Eligibility\" for the intervention"]
[]
[null,"Increases in tobacco taxation affect the legal tobacco trade, but smokers that obtain their tobacco from illicit sources will be unaffected."]
[null,"Her Majesty's Revenue and Customs (HMRC) estimated that in 2016/17 the illicit market accounted for 15% of the number of cigarettes smoked and 28% of the weight "]
[null,"of hand-rolling tobacco consumed (HMRC 2017). Usage of hand-rolling tobacco has increased relative to cigarette use in recent decades (Young et al 2006, "]
[null,"Brown et al 2015; see table below) and the latest prevalence estimate of 32.7% of smokers in 2010 was therefore used here.  "]
[]
[null,"Year","% smokers using hand-rolling tobacco","Use type","Reference details"]
[null,2002,28.4,"Any use","UK; Young et al 2006"]
[null,2007,26.4,"Exclusive use","UK; Brown et al 2015"]
[null,2008,28,"Main product used","GB; Gilmore et al 2014"]
[null,2010,32.700000000000003,"Exclusive use","UK; Brown et al 2015"]
[]
[null,"Using these figures we estimate that 80.7% of smokers will be affected by the tobacco taxation increase:"]
[null,"72% of those using hand-rolling tobacco (32.7% of smokers) + 85% of those smoking cigarettes (67.3% of smokers)"]
[]
[]
[null,"Change in intervention effect over time"]
[]
[null,"A meta-analysis of nicotine-replacement therapy (Etter and Stapleton, 2006) found that most relapse occurred within 2 years of the intervention."]
[null,"30% of the treated individuals began smoking again after the treatment.  In order to calculate the intervention effect in each year of follow up we assumed "]
[null,"2.8% quit in year one (intervention year) and 70% of these (1.96% of treated population) remained ex-smokers from year 2 onwards. "]
[]
[null,null,null,null,null,"Rate ratio (see above):"]
[null,null,null,null,null,"Hospitalisation",null,"Mortality"]
[null,null,null,null,null,"male","female","male","female"]
[null,null,null,"Ex-smoker relative to current smoker:",null,0.82,0.76,0.76,0.64]
[null,null,null,"Current smoker relative to ex-smoker:",null,{"$f":"1/F78","v":1.2195121951219512},{"$f":"1/G78","v":1.3157894736842106},{"$f":"1/H78","v":1.3157894736842106},{"$f":"1/I78","v":1.5625}]
[null,null,"Smoking prevalence",null,null,"IRR for treated group (relative to untreated)"]
[null,null,"Treated group",null,"Untreated","Hospitalisation",null,"Mortality"]
[null,"Year","% smokers","% non-smokers","% smokers","male","female","male","female"]
[null,"0 (pre-intervention)",100,0,100]
[null,"1 (intervention)",{"$f":"C83-2.8","v":97.2},2.8,100,{"$f":"(($C84/100)*F$79 + ($D84/100))/(1*F$79)","v":0.99495999999999996},0.99327999999999994,0.99327999999999994,0.98992000000000002]
[null,2,{"$f":"100-D85","v":98.04},{"$f":"D84*0.7","v":1.9599999999999997},100,0.99647200000000002,0.99529600000000018,0.99529600000000018,0.99294400000000005]
[null,3,{"$f":"100-D86","v":98.04},{"$f":"D85","v":1.9599999999999997},100,0.99647200000000002,0.99529600000000018,0.99529600000000018,0.99294400000000005]
[null,4,{"$f":"100-D87","v":98.04},{"$f":"D86","v":1.9599999999999997},100,0.99647200000000002,0.99529600000000018,0.99529600000000018,0.99294400000000005]
[null,5,98.04,1.9599999999999997,100,0.99647200000000002,0.99529600000000018,0.99529600000000018,0.99294400000000005]
[null,6,98.04,1.9599999999999997,100,0.99647200000000002,0.99529600000000018,0.99529600000000018,0.99294400000000005]
[null,7,98.04,1.9599999999999997,100,0.99647200000000002,0.99529600000000018,0.99529600000000018,0.99294400000000005]
[null,8,98.04,1.9599999999999997,100,0.99647200000000002,0.99529600000000018,0.99529600000000018,0.99294400000000005]
[null,9,98.04,1.9599999999999997,100,0.99647200000000002,0.99529600000000018,0.99529600000000018,0.99294400000000005]
[null,10,98.04,1.9599999999999997,100,0.99647200000000002,0.99529600000000018,0.99529600000000018,0.99294400000000005]
[null,11,98.04,1.9599999999999997,100,0.99647200000000002,0.99529600000000018,0.99529600000000018,0.99294400000000005]
[null,12,98.04,1.9599999999999997,100,0.99647200000000002,0.99529600000000018,0.99529600000000018,0.99294400000000005]
[null,13,98.04,1.9599999999999997,100,0.99647200000000002,0.99529600000000018,0.99529600000000018,0.99294400000000005]
[null,14,98.04,1.9599999999999997,100,0.99647200000000002,0.99529600000000018,0.99529600000000018,0.99294400000000005]
[null,15,98.04,1.9599999999999997,100,0.99647200000000002,0.99529600000000018,0.99529600000000018,0.99294400000000005]
[null,16,98.04,1.9599999999999997,100,0.99647200000000002,0.99529600000000018,0.99529600000000018,0.99294400000000005]
[null,17,98.04,1.9599999999999997,100,0.99647200000000002,0.99529600000000018,0.99529600000000018,0.99294400000000005]
[null,18,98.04,1.9599999999999997,100,0.99647200000000002,0.99529600000000018,0.99529600000000018,0.99294400000000005]
[null,19,98.04,1.9599999999999997,100,0.99647200000000002,0.99529600000000018,0.99529600000000018,0.99294400000000005]
[null,20,98.04,1.9599999999999997,100,0.99647200000000002,0.99529600000000018,0.99529600000000018,0.99294400000000005]
[null,21,98.04,1.9599999999999997,100,0.99647200000000002,0.99529600000000018,0.99529600000000018,0.99294400000000005]
[]
[]
[null,"Prevalence of smoking"]
[]
[null,"The prevalence data (proportion of the population that smoke) were extracted from the Scottish Surveys Core Questions.  Prevalence for local areas (by sex) was "]
[null,"taken from the 2015 dataset, and national prevalence (by age group, sex and SIMD) was taken from the 2012-2015 combined data.  "]
[]
[null,"Prevalence by Area (proportion)",null,null,null,"Prevalence by deprivation quintile (proportion)"]
[null,"Area ","Females","Males",null,"SIMD 2016 quintile ","age group","Females","Males"]
[null,"SCOTLAND",0.188,0.2266,null,"Q1 (most deprived)","16-24",0.27679999999999999,0.33260000000000001]
[null,"Ayrshire & Arran Health Board",0.19010000000000002,0.23569999999999999,null,null,"25-34",0.35870000000000002,0.40960000000000002]
[null,"Borders Health Board",0.19210000000000002,0.16690000000000002,null,null,"35-44",0.39290000000000003,0.47410000000000002]
[null,"Dumfries & Galloway Health Board",0.22359999999999999,0.2341,null,null,"45-54",0.43149999999999999,0.43470000000000003]
[null,"Fife Health Board",0.1938,0.24809999999999999,null,null,"55-64",0.39530000000000004,0.43260000000000004]
[null,"Forth Valley Health Board",0.13849999999999998,0.19350000000000001,null,null,"65-74",0.2737,0.3095]
[null,"Grampian Health Board",0.16600000000000001,0.23760000000000001,null,null,"75+",0.14899999999999999,0.17050000000000001]
[null,"Greater Glasgow & Clyde Health Board",0.21,0.2432,null,"Q2","16-24",0.26369999999999999,0.2858]
[null,"Highland Health Board",0.1787,0.2402,null,null,"25-34",0.28010000000000002,0.31980000000000003]
[null,"Lanarkshire Health Board",0.21920000000000001,0.21640000000000001,null,null,"35-44",0.30299999999999999,0.34090000000000004]
[null,"Lothian Health Board",0.1709,0.2011,null,null,"45-54",0.31280000000000002,0.36699999999999999]
[null,"Orkney Health Board",0.188,0.2266,null,null,"55-64",0.29300000000000004,0.2838]
[null,"Shetland Health Board",0.188,0.2266,null,null,"65-74",0.21100000000000002,0.21840000000000001]
[null,"Tayside Health Board",0.1686,0.23809999999999998,null,null,"75+",9.6500000000000002E-2,0.10050000000000001]
[null,"Western Isles Health Board",0.188,0.2266,null,"Q3","16-24",0.1986,0.2051]
[null,"Aberdeen City Local Authority",0.1666,0.25629999999999997,null,null,"25-34",0.23120000000000002,0.2873]
[null,"Aberdeenshire Local Authority",0.14150000000000001,0.2177,null,null,"35-44",0.22220000000000001,0.31010000000000004]
[null,"Angus Local Authority",9.8299999999999998E-2,0.26170000000000004,null,null,"45-54",0.23120000000000002,0.24860000000000002]
[null,"Argyll & Bute Local Authority",0.188,0.2266,null,null,"55-64",0.18410000000000001,0.20950000000000002]
[null,"Clackmannanshire Local Authority",0.188,0.2266,null,null,"65-74",0.1651,0.16290000000000002]
[null,"Dumfries & Galloway Local Authority",0.22359999999999999,0.2341,null,null,"75+",7.3700000000000002E-2,7.400000000000001E-2]
[null,"Dundee City Local Authority",0.24429999999999999,0.25769999999999998,null,"Q4","16-24",0.1918,0.2054]
[null,"East Ayrshire Local Authority",0.19190000000000002,0.2306,null,null,"25-34",0.18720000000000001,0.23650000000000002]
[null,"East Dunbartonshire Local Authority",0.14249999999999999,0.19519999999999998,null,null,"35-44",0.15670000000000001,0.20830000000000001]
[null,"East Lothian Local Authority",0.21170000000000003,0.21690000000000001,null,null,"45-54",0.14949999999999999,0.2069]
[null,"East Renfrewshire Local Authority",8.1500000000000003E-2,0.13059999999999999,null,null,"55-64",0.13770000000000002,0.14940000000000001]
[null,"Edinburgh, City of Local Authority",0.14279999999999998,0.19350000000000001,null,null,"65-74",0.11560000000000001,0.11320000000000001]
[null,"Eilean Siar Local Authority",0.188,0.2266,null,null,"75+",6.1400000000000003E-2,4.07E-2]
[null,"Falkirk Local Authority",0.12480000000000001,0.21109999999999998,null,"Q5 (least deprived)","16-24",9.8299999999999998E-2,0.1351]
[null,"Fife Local Authority",0.1938,0.24809999999999999,null,null,"25-34",0.1003,0.19260000000000002]
[null,"Glasgow City Local Authority",0.2281,0.26579999999999998,null,null,"35-44",9.2200000000000004E-2,0.12860000000000002]
[null,"Highland Local Authority",0.17660000000000001,0.245,null,null,"45-54",9.98E-2,0.12290000000000001]
[null,"Inverclyde Local Authority",0.188,0.2266,null,null,"55-64",0.10840000000000001,0.11360000000000001]
[null,"Midlothian Local Authority",0.188,0.2266,null,null,"65-74",7.2599999999999998E-2,7.6200000000000004E-2]
[null,"Moray Local Authority",0.2303,0.24460000000000001,null,null,"75+",5.0599999999999999E-2,0.04]
[null,"North Ayrshire Local Authority",0.1837,0.28820000000000001]
[null,"North Lanarkshire Local Authority",0.2586,0.21890000000000001]
[null,"Orkney Islands Local Authority",0.188,0.2266]
[null,"Perth & Kinross Local Authority",0.14710000000000001,0.20069999999999999]
[null,"Renfrewshire Local Authority",0.21739999999999998,0.23780000000000001]
[null,"Scottish Borders Local Authority",0.19210000000000002,0.16690000000000002]
[null,"Shetland Islands Local Authority",0.188,0.2266]
[null,"South Ayrshire Local Authority",0.19579999999999997,0.17899999999999999]
[null,"South Lanarkshire Local Authority",0.17780000000000001,0.21379999999999999]
[null,"Stirling Local Authority",0.188,0.2266]
[null,"West Dunbartonshire Local Authority",0.25069999999999998,0.26100000000000001]
[null,"West Lothian Local Authority",0.2024,0.18329999999999999]
[null,"Aberdeen City Region Deal",9.0164723575007558E-2,9.0164723575007558E-2]
[null,"Edinburgh & SE Scotland City Region Deal",0.13380566601024071,0.13380566601024071]
[null,"Glasgow City Region Deal",7.9155541094083695E-2,7.9155541094083695E-2]
[null,"Inverness & Highland City Region Deal",9.4347826086956521E-2,9.4347826086956521E-2]
[null,"Tay Cities Region Deal ",0.1071890421622347,0.1071890421622347]
[null,"Clackmannanshire & Stirling IJB",0.188,0.2266]
[]
[]
[null,"Intervention costs"]
[]
[null,"The revenue to Her Majesty's Revenue and Customs (HMRC) from tobacco tax in 2016 was £9092 million (HMRC 2018).  "]
[null,"A reduction in tobacco products consumption of 5.6% would reduce this to:",null,{"$f":"9092*0.944","v":8582.848}]
[null,"Scotland's population was 8.23% of the 2016 UK population (Office for National Statistics, ONS, 2018) hence tobacco taxation revenue in Scotland is "]
[null,"estimated at £706.37 million.  Increasing tobacco taxation by 10% in Scotland could raise an additional £71 million annually. "]
[null,"Estimated 'cost' of tobacco taxation increase (per year)",null,-70636839.039999992]
[null,"This 'cost' is multiplied by the follow-up period to estimate the total 'cost'."]
[null,"When the model is run for local areas this 'cost' is scaled by the proportion of smokers in the area, out of the Scottish total."]
[]
[]
[null,"Hospitalisation costs"]
[]
[null,"The cost of a continuous inpatient stay was estimated to be £2,113 in 2006/07 (Geue et al 2012; based on healthcare resource groups and the English tariff)."]
[null,"This was inflated to £2,512 for 2015/16 using the Hospital and Community Health Service (HCHS) inflation index."]
[]
[null,"Cost of continuous Inpatient stay ",null,2512]
[]
[]
[null,"References"]
[]
[null,"Etter and Stapleton 2006","Nicotine replacement therapy for long-term smoking cessation: a meta-analysis. Tobacco Control 15(4): 280-285. https://www.ncbi.nlm.nih.gov/pmc/articles/PMC2563611/"]
[null,"Brown et al 2015","Trends and socioeconomic differences in roll-your-own tobacco use: findings from the ITC Europe Surveys. Tobacco Control 24:iii11-iii16. https://tobaccocontrol.bmj.com/content/tobaccocontrol/24/Suppl_3/iii11.full.pdf"]
[null,"Gellert et al 2012","Smoking and all-cause mortality in older people. Arch Intern Med 172(11): 837-844. https://jamanetwork.com/journals/jamainternalmedicine/fullarticle/1182214"]
[null,"Geue et al 2012","Spoilt for choice: implications of using alternative methods of costing hospital episode statistics. Health Economics 21: 1201-1216. https://onlinelibrary.wiley.com/doi/abs/10.1002/hec.1785"]
[null,"Golden et al 2016","Comparing projected impacts of cigarette floor price and excise tax policies on socioeconomic disparities in smoking. Tobacco Control 2016(25):i60-i66. http://dx.doi.org/10.1136/tobaccocontrol-2016-053230"]
[null,"Gilmore et al 2014","Smoking patterns in Great Britain: the rise of cheap cigarette brands and roll your own (RYO) tobacco.  Journal of Public Health 37(1): 78-88.  https://academic.oup.com/jpubhealth/article/37/1/78/1559709"]
[null,"Hart et al 2013","Does smoking reduction in midlife reduce mortality risk? Results of 2 long-term prospective cohort studies of men and women in Scotland. Am J Epidemiol 178(5): 770-779. http://doi.org/10.1093/aje/kwt038"]
[null,"HMRC 2017","Tobacco tax gap estimates for 2016-17. https://assets.publishing.service.gov.uk/government/uploads/system/uploads/attachment_data/file/654490/HMRC-tobacco-tax-gap-estimates-2017.pdf"]
[null,"HMRC 2018","Tobacco Bulletin April 2018. https://www.uktradeinfo.com/Statistics/Tax%20and%20Duty%20Bulletins/Tobacco0418.xls"]
[null,"Lawder et al 2007","Using the linked Scottish Health Survey to predict hospitalisation and death: an analysis of the link between behavioural, biological and social risk factors and subsequent hospital admission and death in Scotland. http://www.scotpho.org.uk/publications/reports-and-papers/using-the-linked-scottish-health-survey-to-predict-hospitalisation-and-death/"]
[null,"ONS 2018","Population Estimates for UK, England and Wales, Scotland and Northern Ireland: mid-2012 to mid-2016. https://www.ons.gov.uk/file?uri=/peoplepopulationandcommunity/populationandmigration/populationestimates/datasets/populationestimatesforukenglandandwalesscotlandandnorthernireland/mid2012tomid2016/ukmidyearestimates20122016.xls"]
[null,"Reed et al 2013","The price elasticity of demand for cigarettes in the UK, 2001-2011. Eur J Pub Health 23(S1): 150-151.  https://doi.org/10.1093/eurpub/ckt123.012"]
[null,"Scottish Health Survey 2016","Supplementary Tables. Part 10: Smoking. http://www.gov.scot/Topics/Statistics/Browse/Health/scottish-health-survey/Publications/Supplementary2015/Supplementary2016"]
[null,"Young et al 2006","Prevalence and attributes of roll-your-own smokers in the International Tobacco Control (ITC) Four Country Survey.  Tobacco Control 15(Suppl. III): iii76-iii82. https://www.ncbi.nlm.nih.gov/pmc/articles/PMC2593057/pdf/iii76.pdf"]

{"sheet":"SHEETS TO BE HIDDEN ->","index":5,"n_rows":0,"n_cols":0,"rows_kept":0,"cut":false,"hidden":true,"merged":[]}

{"sheet":"Calculations","index":6,"n_rows":249,"n_cols":43,"rows_kept":249,"cut":false,"hidden":true,"merged":[]}
["Calculating the deaths, years of life lost, hospital stays, and premature deaths for each group ",null,null,null,null,null,null,null,null,null,"COUNTS",null,null,null,null,null,null,null,null,null,null,null,null,null,null,null,null,null,null,null,null,null,null,null,null,"EUROPEAN AGE-STANDARDISED RATE (EASR) PER 100000"]
["AREA:",{"$f":"Options!B11","v":"Scotland"},"EQUIVALENT AREA:",null,{"$f":"VLOOKUP(B2,Lists!D2:E85,2)","v":"Scotland"},null,null,null,null,null,"CUMULATIVE INCIDENCE (DEATHS)",null,"YEARS OF LIFE LOST",null,"HOSPITALISATIONS",null,"PREMATURE MORTALITY",null,"AGE STANDARDISED RATE (ASR)",null,null,null,null,null,null,null,"ASR*EUROPEAN STANDARD POPULATION (ESP2013)",null,null,null,null,null,null,null,null,"CUMULATIVE INCIDENCE (DEATHS)",null,"YEARS OF LIFE LOST",null,"HOSPITALISATIONS",null,"PREMATURE MORTALITY"]
["SIMD","group","mean age (2016)","life exp (2014-16)","sex","SIMD","prevalence exposure","population (2016)","no. treated at base","additional no. treated under policy","Baseline","Policy","Baseline","Policy","Baseline","Policy","Baseline","Policy","CI_BASE","CI_POLICY","YLL_BASE","YLL_POLICY","HOSP_BASE","HOSP_POLICY","PREM_BASE","PREM_POLICY","CI_BASE","CI_POLICY","YLL_BASE","YLL_POLICY","HOSP_BASE","HOSP_POLICY","PREM_BASE","PREM_POLICY","ESP2013","Baseline","Policy","Baseline","Policy","Baseline","Policy","Baseline","Policy"]
[]
["All quintiles","16+ Males and Females","N/A",null,"BOTH","ALL",null,{"$f":"SUM(H7:H11)","v":4488783},{"$f":"SUM(I7:I11)","v":0},{"$f":"SUM(J7:J11)","v":799613},{"$f":"SUMIF(K7:K11,\">0\")","v":44470.024307599102},44414.914368839804,595251.88027269009,594294.95131518575,1143855.727350824,1142708.4735696574,21611.413127534201,21574.032509706303,null,null,null,null,null,null,null,null,{"$f":"SUMIF(AA7:AA11,\">0\")","v":905253480.1962477},{"$f":"SUMIF(AB7:AB11,\">0\")","v":904155881.4816258},11478337287.696741,11460007095.453554,21939692318.814999,21917961419.203358,415170599.80987024,414446249.37878758,{"$f":"SUM(AI7:AI11)","v":1000000},{"$f":"AA5/$AI5","v":905.25348019624766},{"$f":"AB5/$AI5","v":904.15588148162578},{"$f":"AC5/$AI5","v":11478.337287696741},11460.007095453555,21939.692318814999,21917.961419203359,415.17059980987023,414.44624937878757]
["Q1 and Q2","16+ Males and Females","N/A",null,"BOTH","Q1&2",null,{"$f":"SUM(H7:H8)","v":1769266},0,453279,23376.352664210601,23339.002122563797,317747.90651440376,317097.19464724953,542278.73076819046,541545.95437278063,11396.364678034401,11371.117610597801,null,null,null,null,null,null,null,null,{"$f":"SUMIF(AA7:AA8,\">0\")","v":501761254.70408034},{"$f":"SUMIF(AB7:AB8,\">0\")","v":500987621.65986919},6385547340.7285118,6372733729.5626545,10787710810.292,10773499309.990803,231238681.21020055,230731308.38643363,{"$f":"SUM(AI7:AI8)","v":400000},{"$f":"AA6/$AI6","v":1254.4031367602008},1252.469054149673,15963.86835182128,15931.834323906636,26969.27702573,26933.748274977006,578.09670302550137,576.82827096608412]
["SIMD Q1 (most deprived)","16+ Males and Females","N/A",null,"BOTH",1,null,{"$f":"H12+H17","v":872234},0,255257,12882.173790882,12858.765567733701,{"$f":"M12+M17","v":179391.53956481616},178982.46502889539,288715.84006160521,288274.58519722265,6418.2032144008008,6402.4874853939,null,null,null,null,null,null,null,null,{"$f":"AA12+AA17","v":293701285.96516037},{"$f":"AB12+AB17","v":293194336.99321389},3747200079.9813333,3738920139.4762793,5950449632.4840012,5941683810.4981117,135809377.93485564,135482764.17407101,{"$f":"AI12+AI17","v":200000},{"$f":"AA7/$AI7","v":1468.5064298258019},1465.9716849660695,{"$f":"AC7/$AI7","v":18736.000399906665},{"$f":"AD7/$AI7","v":18694.600697381396},{"$f":"AE7/$AI7","v":29752.248162420005},{"$f":"AF7/$AI7","v":29708.419052490557},{"$f":"AG7/$AI7","v":679.04688967427819},{"$f":"AH7/$AI7","v":677.41382087035504}]
["SIMD Q2",null,"N/A",null,"BOTH",2,null,{"$f":"H13+H18","v":897032},0,198022,{"$f":"K13+K18","v":10494.178873328601},10480.236554830099,138356.36694958759,138114.72961835418,253562.89070658525,253271.36917555792,4978.1614636335999,4968.6301252039002,null,null,null,null,null,null,null,null,{"$f":"AA13+AA18","v":208059968.73891997},{"$f":"AB13+AB18","v":207793284.6666553},2638347260.7471786,2633813590.0863748,4837261177.8079996,4831815499.492691,95429303.275344893,95248544.212362617,{"$f":"AI13+AI18","v":200000},1040.2998436945998,1038.9664233332765,13191.736303735894,13169.067950431874,24186.305889039999,24159.077497463455,477.14651637672449,476.24272106181309]
["SIMD Q3",null,"N/A",null,"BOTH",3,null,907978,0,151980,8984.6686046559007,8975.408114600199,117466.94507120381,117307.7827233616,227312.98226707341,227113.49163937184,4320.2324650849005,4313.8567194748011,null,null,null,null,null,null,null,null,{"$f":"AA14+AA19","v":169124904.28240126},{"$f":"AB14+AB19","v":168956679.67055881},2138813712.7313056,2135946791.461693,4182172524.5570002,4178551071.2044582,77293683.447550997,77179900.921313733,{"$f":"AI14+AI19","v":200000},845.62452141200629,844.78339835279405,10694.068563656529,10679.733957308465,20910.862622785,20892.755356022291,386.46841723775498,385.89950460656866]
["SIMD Q4",null,"N/A",null,"BOTH",4,null,910792,0,117505,7029.3881051767003,7023.8923211494002,93214.468622158893,93117.489099978498,200119.05611311671,199985.23195774609,3451.0812198318999,3447.2433089617998,null,null,null,null,null,null,null,null,{"$f":"AA15+AA20","v":134772459.47818372},{"$f":"AB15+AB20","v":134672977.27349129},1700333875.9154048,1698604043.0140061,3688824590.757,3686419093.8677917,61400802.755999357,61332842.403189555,{"$f":"AI15+AI20","v":200000},673.86229739091857,673.36488636745651,8501.6693795770243,8493.0202150700316,18444.122953785001,18432.095469338958,307.0040137799968,306.66421201594778]
["SIMD Q5 (least deprived)",null,"N/A",null,"BOTH",5,null,900747,0,76849,5079.6149335559003,5076.6118105263995,66822.5600649236,66772.484844596096,174144.95820244367,174063.79559975886,2443.7347645829996,2441.8148706719003,null,null,null,null,null,null,null,null,{"$f":"AA16+AA21","v":99594861.731582284},{"$f":"AB16+AB21","v":99538602.877706558},1253642358.3215172,1252722531.4152007,3280984393.2090006,3279491944.1403046,45237432.396119386,45202197.667850688,{"$f":"AI16+AI21","v":200000},{"$f":"AA11/$AI11","v":497.97430865791142},497.69301438853279,6268.2117916075858,6263.6126570760034,16404.921966045004,16397.459720701521,226.18716198059693,226.01098833925343]
["SIMD Q1 (most deprived)","16+ Females","N/A",null,"female",1,null,{"$f":"SUM(H60:H78)","v":457633},{"$f":"SUM(I60:I78)","v":0},{"$f":"SUM(J60:J78)","v":125379},{"$f":"SUMIF(K60:K78,\">0\")","v":6419.095526608},6406.5256816972997,82501.770895734997,82291.006959128688,155037.8908593776,154777.5840727904,2637.1668751559,2629.5663699694001,null,null,null,null,null,null,null,null,{"$f":"SUMIF(AA60:AA78,\">0\")","v":123883425.88065423},{"$f":"SUMIF(AB60:AB78,\">0\")","v":123639209.45356268},{"$f":"SUMIF(AC60:AC78,\">0\")","v":1588767246.1702867},1584722704.6570263,2906076588.3480005,2901219940.6027026,53045749.197697461,52894518.211016506,{"$f":"SUM(AI60:AI78)","v":100000},1238.8342588065423,1236.3920945356267,15887.672461702867,15847.227046570262,29060.765883480006,29012.199406027026,530.45749197697455,528.94518211016509]
["SIMD Q2",null,"N/A",null,"female",2,null,{"$f":"SUM(H98:H116)","v":469079},{"$f":"SUM(I98:I116)","v":0},{"$f":"SUM(J98:J116)","v":97755},{"$f":"SUMIF(K98:K116,\">0\")","v":5237.0175506463002},5229.4342745578997,64009.394528549405,63883.974412586387,134904.85907071829,134731.65880284281,2051.8506668999999,2047.161214926,null,null,null,null,null,null,null,null,{"$f":"SUMIF(AA98:AA116,\">0\")","v":87683288.280680507},{"$f":"SUMIF(AB98:AB116,\">0\")","v":87552416.848463908},1118092062.1253412,1115860655.382961,2362418359.7929997,2359335836.5727243,37245419.040143549,37160367.986518763,{"$f":"SUM(AI98:AI116)","v":100000},876.83288280680506,875.52416848463906,11180.920621253412,11158.60655382961,23624.183597929998,23593.358365727243,372.45419040143548,371.60367986518764]
["SIMD Q3",null,"N/A",null,"female",3,null,{"$f":"SUM(H136:H154)","v":469093},{"$f":"SUM(I136:I154)","v":0},{"$f":"SUM(J136:J154)","v":72334},{"$f":"SUMIF(K136:K154,\">0\")","v":4353.9769323118999},4349.0681875730997,53280.104460582697,53200.017455236695,118438.08137411861,118322.54619044771,1752.7457043868999,1749.6959418761003,null,null,null,null,null,null,null,null,{"$f":"SUMIF(AA136:AA154,\">0\")","v":71247777.688673109},{"$f":"SUMIF(AB136:AB154,\">0\")","v":71165809.713650629},906201622.68972504,904821652.91135359,2042486603.9890001,2040464374.8680012,30156555.4908024,30103984.793942899,{"$f":"SUM(AI136:AI154)","v":100000},712.47777688673114,711.65809713650629,9062.0162268972508,9048.2165291135352,20424.866039889999,20404.643748680013,301.56555490802401,301.03984793942897]
["SIMD Q4",null,"N/A",null,"female",4,null,{"$f":"SUM(H174:H192)","v":468792},{"$f":"SUM(I174:I192)","v":0},{"$f":"SUM(J174:J192)","v":54884},{"$f":"SUMIF(K174:K192,\">0\")","v":3353.2195988243002},3350.2351998933,41820.323523705403,41772.245723782289,103630.27058914659,103552.86711115499,1387.2364035681001,1385.449865459,null,null,null,null,null,null,null,null,{"$f":"SUMIF(AA174:AA192,\">0\")","v":56753042.44918292},{"$f":"SUMIF(AB174:AB192,\">0\")","v":56702199.337030157},720264097.87689197,719433890.77652955,1801545672.0019999,1800190838.8865974,23948420.399818484,23917585.889695752,{"$f":"SUM(AI174:AI192)","v":100000},567.53042449182919,567.02199337030163,7202.6409787689199,7194.3389077652955,18015.45672002,18001.908388865973,239.48420399818482,239.17585889695752]
["SIMD Q5 (least deprived)",null,"N/A",null,"female",5,null,{"$f":"SUM(H212:H230)","v":465079},{"$f":"SUM(I212:I230)","v":0},{"$f":"SUM(J212:J230)","v":34105},{"$f":"SUMIF(K212:K230,\">0\")","v":2445.4602286762001},2443.823877672,30215.823298677398,30191.046742647199,90811.936485394297,90765.767156267597,993.46403351139998,992.57346213520009,null,null,null,null,null,null,null,null,{"$f":"SUMIF(AA212:AA230,\">0\")","v":41929695.883388713},{"$f":"SUMIF(AB212:AB230,\">0\")","v":41901439.495468341},530961234.56070298,530525395.66903567,1602364950.7030003,1601548521.9856923,17638809.189126551,17623041.495473906,{"$f":"SUM(AI212:AI230)","v":100000},419.29695883388712,419.01439495468338,5309.61234560703,5305.253956690357,16023.649507030002,16015.485219856922,176.3880918912655,176.23041495473908]
["SIMD Q1 (most deprived)","16+ Males","N/A",null,"male",1,null,{"$f":"SUM(H79:H97)","v":414601},{"$f":"SUM(I79:I97)","v":0},{"$f":"SUM(J79:J97)","v":129878},{"$f":"SUMIF(K79:K97,\">0\")","v":6463.0782642739996},6452.239886036401,96889.768669081182,96691.458069766697,133677.94920222761,133497.00112443228,3781.0363392449003,3772.9211154245004,null,null,null,null,null,null,null,null,{"$f":"SUMIF(AA79:AA97,\">0\")","v":169817860.08450612},{"$f":"SUMIF(AB79:AB97,\">0\")","v":169555127.53965119},2158432833.8110466,2154197434.819253,3044373044.1360002,3040463869.8954096,82763628.737158194,82588245.963054523,{"$f":"SUM(AI79:AI97)","v":100000},1698.1786008450613,1695.5512753965118,21584.328338110467,21541.974348192529,30443.730441360003,30404.638698954095,827.63628737158194,825.88245963054521]
["SIMD Q2",null,"N/A",null,"male",2,null,{"$f":"SUM(H117:H135)","v":427953},{"$f":"SUM(I117:I135)","v":0},{"$f":"SUM(J117:J135)","v":100267},{"$f":"SUMIF(K117:K135,\">0\")","v":5257.1613226823001},5250.8022802721998,74346.972421038197,74230.755205767782,118658.03163586698,118539.7103727151,2926.3107967336005,2921.4689102779002,null,null,null,null,null,null,null,null,{"$f":"SUMIF(AA117:AA135,\">0\")","v":120376680.45823945},{"$f":"SUMIF(AB117:AB135,\">0\")","v":120240867.81819138},1520255198.6218374,1517952934.7034137,2474842818.0149999,2472479662.9199667,58183884.235201344,58088176.225843847,{"$f":"SUM(AI117:AI135)","v":100000},1203.7668045823946,1202.4086781819137,15202.551986218374,15179.529347034137,24748.42818015,24724.796629199667,581.83884235201344,580.88176225843847]
["SIMD Q3",null,"N/A",null,"male",3,null,{"$f":"SUM(H155:H173)","v":438885},{"$f":"SUM(I155:I173)","v":0},{"$f":"SUM(J155:J173)","v":79646},{"$f":"SUMIF(K155:K173,\">0\")","v":4630.6916723439999},4626.3399270271002,64186.840610621104,64107.765268124895,108874.90089295481,108790.94544892412,2567.4867606980001,2564.1607775987004,null,null,null,null,null,null,null,null,{"$f":"SUMIF(AA155:AA173,\">0\")","v":97877126.593728155},{"$f":"SUMIF(AB155:AB173,\">0\")","v":97790869.956908166},1232612090.0415807,1231125138.5503395,2139685920.5679998,2138086696.3364568,47137127.956748597,47075916.127370834,{"$f":"SUM(AI155:AI173)","v":100000},{"$f":"AA19/$AI19","v":978.77126593728156},{"$f":"AB19/$AI19","v":977.9086995690817},{"$f":"AC19/$AI19","v":12326.120900415806},{"$f":"AD19/$AI19","v":12311.251385503394},21396.859205679997,21380.86696336457,471.371279567486,470.75916127370834]
["SIMD Q4",null,"N/A",null,"male",4,null,{"$f":"SUM(H193:H211)","v":442000},{"$f":"SUM(I193:I211)","v":0},{"$f":"SUM(J193:J211)","v":62621},{"$f":"SUMIF(K193:K211,\">0\")","v":3676.1685063524001},3673.6571212560998,51394.145098453497,51345.243376196202,96488.785523970117,96432.364846591096,2063.8448162638001,2061.7934435028001,null,null,null,null,null,null,null,null,{"$f":"SUMIF(AA193:AA211,\">0\")","v":78019417.029000789},{"$f":"SUMIF(AB193:AB211,\">0\")","v":77970777.936461136},980069778.03851283,979170152.23747671,1887278918.7550004,1886228254.9811943,37452382.356180876,37415256.513493806,{"$f":"SUM(AI193:AI211)","v":100000},780.19417029000783,779.70777936461138,9800.6977803851278,9791.7015223747676,18872.789187550003,18862.282549811942,374.52382356180874,374.15256513493807]
["SIMD Q5 (least deprived)",null,"N/A",null,"male",5,null,{"$f":"SUM(H231:H249)","v":435668},{"$f":"SUM(I231:I249)","v":0},{"$f":"SUM(J231:J249)","v":42744},{"$f":"SUMIF(K231:K249,\">0\")","v":2634.1547048797001},2632.7879328544,36606.736766246198,36581.438101948901,83333.021717049385,83298.028443491276,1450.2707310715998,1449.2414085367,null,null,null,null,null,null,null,null,{"$f":"SUMIF(AA231:AA249,\">0\")","v":57665165.848193578},{"$f":"SUMIF(AB231:AB249,\">0\")","v":57637163.382238209},722681123.76081431,722197135.74616504,1678619442.506,1677943422.1546123,27598623.206992835,27579156.172376785,{"$f":"SUM(AI231:AI249)","v":100000},{"$f":"AA21/$AI21","v":576.65165848193578},576.37163382238214,7226.8112376081435,7221.9713574616508,16786.194425059999,16779.434221546122,275.98623206992835,275.79156172376787]
[null,"Female 0-4",2.0384007,81.468401,"female","ALL",null,{"$f":"SUM(H60,H98,H136,H174,H212)","v":0},0,0,{"$f":"SUM(K60,K98,K136,K174,K212)","v":{"$error":"#VALUE!"}},{"$error":"#VALUE!"},{"$error":"#VALUE!"},{"$error":"#VALUE!"},{"$error":"#VALUE!"},{"$error":"#VALUE!"},{"$error":"#VALUE!"},{"$error":"#VALUE!"},null,null,null,null,null,null,null,null,{"$f":"SUM(AA60,AA98,AA136,AA174,AA212)","v":{"$error":"#VALUE!"}},{"$error":"#VALUE!"},{"$error":"#VALUE!"},{"$error":"#VALUE!"},{"$error":"#VALUE!"},{"$error":"#VALUE!"},{"$error":"#VALUE!"},{"$error":"#VALUE!"},25000,{"$error":"#VALUE!"},{"$error":"#VALUE!"},{"$error":"#VALUE!"},{"$error":"#VALUE!"},{"$error":"#VALUE!"},{"$error":"#VALUE!"},{"$error":"#VALUE!"},{"$error":"#VALUE!"}]
[null,"Female 5-9",6.9792794999999996,81.439279999999997,"female","ALL",null,{"$f":"SUM(H61,H99,H137,H175,H213)","v":0},0,0,{"$f":"SUM(K61,K99,K137,K175,K213)","v":{"$error":"#VALUE!"}},{"$error":"#VALUE!"},{"$f":"SUM(M61,M99,M137,M175,M213)","v":{"$error":"#VALUE!"}},{"$error":"#VALUE!"},{"$error":"#VALUE!"},{"$error":"#VALUE!"},{"$error":"#VALUE!"},{"$error":"#VALUE!"},null,null,null,null,null,null,null,null,{"$f":"SUM(AA61,AA99,AA137,AA175,AA213)","v":{"$error":"#VALUE!"}},{"$error":"#VALUE!"},{"$error":"#VALUE!"},{"$error":"#VALUE!"},{"$error":"#VALUE!"},{"$error":"#VALUE!"},{"$error":"#VALUE!"},{"$error":"#VALUE!"},27500,{"$error":"#VALUE!"},{"$error":"#VALUE!"},{"$error":"#VALUE!"},{"$error":"#VALUE!"},{"$error":"#VALUE!"},{"$error":"#VALUE!"},{"$error":"#VALUE!"},{"$error":"#VALUE!"}]
[null,"Female 10-15",12.478312000000001,81.948309999999992,"female","ALL",null,{"$f":"SUM(H62,H100,H138,H176,H214)","v":0},0,0,{"$f":"SUM(K62,K100,K138,K176,K214)","v":{"$error":"#VALUE!"}},{"$f":"SUM(L62,L100,L138,L176,L214)","v":{"$error":"#VALUE!"}},{"$error":"#VALUE!"},{"$error":"#VALUE!"},{"$f":"SUM(O62,O100,O138,O176,O214)","v":{"$error":"#VALUE!"}},{"$f":"SUM(P62,P100,P138,P176,P214)","v":{"$error":"#VALUE!"}},{"$error":"#VALUE!"},{"$error":"#VALUE!"},null,null,null,null,null,null,null,null,{"$f":"SUM(AA62,AA100,AA138,AA176,AA214)","v":{"$error":"#VALUE!"}},{"$error":"#VALUE!"},{"$error":"#VALUE!"},{"$error":"#VALUE!"},{"$error":"#VALUE!"},{"$error":"#VALUE!"},{"$error":"#VALUE!"},{"$error":"#VALUE!"},33000,{"$error":"#VALUE!"},{"$error":"#VALUE!"},{"$error":"#VALUE!"},{"$error":"#VALUE!"},{"$error":"#VALUE!"},{"$error":"#VALUE!"},{"$error":"#VALUE!"},{"$error":"#VALUE!"}]
["All quintiles","Female 16-19",17.570053000000001,81.100049999999996,"female","ALL",null,{"$f":"SUM(H63,H101,H139,H177,H215)","v":118803},0,19604,22.937371861599999,22.889258702500001,1434.2737936937001,1431.2652779995999,12465.290273103001,12450.066334175601,22.937371861599999,22.889258702500001,null,null,null,null,null,null,null,null,{"$f":"SUM(AA63,AA101,AA139,AA177,AA215)","v":426135.13950307155},425239.0482266348,26646228.994721074,26590196.409895219,231245008.5,230961392.25608486,426135.13950307155,425239.0482266348,22000,19.369779068321435,19.329047646665217,1211.1922270327761,1208.6452913588737,10511.13675,10498.245102549312,19.369779068321435,19.329047646665217]
[null,"Female 20-24",22.077057,81.667060000000006,"female","ALL",null,{"$f":"SUM(H64,H102,H140,H178,H216)","v":182279},0,30258,51.980350206999994,51.870882263200002,3045.5288745691996,3039.1151474136,21506.627044283003,21480.231294732399,51.980350206999994,51.870882263200002,null,null,null,null,null,null,null,null,{"$f":"SUM(AA64,AA102,AA140,AA178,AA216)","v":852519.13482760312},850726.62093458732,49949098.667106956,49844075.272738345,353188002.77999997,352754818.17536575,852519.13482760312,850726.62093458732,30000,28.417304494253436,28.357554031152912,1664.9699555702318,1661.4691757579449,11772.933426,11758.493939178858,28.417304494253436,28.357554031152912]
[null,"Female 25-29",26.975186999999998,81.645189999999999,"female","ALL",null,{"$f":"SUM(H65,H103,H141,H179,H217)","v":187975},0,36712,84.831593814200005,84.624548819899999,4552.9118945028995,4541.7997890377001,25701.254892726301,25664.564272073698,84.831593814200005,84.624548819899999,null,null,null,null,null,null,null,null,{"$f":"SUM(AA65,AA103,AA141,AA179,AA217)","v":1292988.4771081554},1289931.797123712,69394695.445360199,69230643.421425283,399497115.36000001,398947648.20441341,1292988.4771081554,1289931.797123712,30000,43.099615903605176,42.997726570790398,2313.1565148453401,2307.6881140475093,13316.570512,13298.254940147113,43.099615903605176,42.997726570790398]
[null,"Female 30-34",31.999904999999998,81.799899999999994,"female","ALL",null,{"$f":"SUM(H66,H104,H142,H180,H218)","v":179608},0,34715,122.85146762609999,122.55399133919998,5995.1510058962995,5980.6341645829998,27681.461214470404,27642.2894717708,122.85146762609999,122.55399133919998,null,null,null,null,null,null,null,null,{"$f":"SUM(AA66,AA104,AA142,AA180,AA218)","v":2147341.4656121242},2142266.4290929055,104790252.78516363,104542591.02840158,491095913.10000002,490420467.00023443,2147341.4656121242,2142266.4290929055,32500,66.072045095757673,65.915890125935547,3224.315470312727,3216.6951085662026,15110.643480000001,15089.860523084137,66.072045095757673,65.915890125935547]
[null,"Female 35-39",36.918118,81.898120000000006,"female","ALL",null,{"$f":"SUM(H67,H105,H143,H181,H219)","v":166485},0,31567,168.2289625665,167.8200027442,7398.7101101326998,7380.7240563299001,28578.8459945453,28538.647795360699,168.2289625665,167.8200027442,null,null,null,null,null,null,null,null,{"$f":"SUM(AA67,AA105,AA143,AA181,AA219)","v":3512899.4063438345},3504419.5930120423,154497322.91680291,154124380.70950839,598519214.23000002,597683113.20512426,3512899.4063438345,3504419.5930120423,35000,100.3685544669667,100.12627408605836,4414.209226194369,4403.553734557383,17100.548977999999,17076.660377289263,100.3685544669667,100.12627408605836]
[null,"Female 40-44",42.077438000000001,82.30744,"female","ALL",null,{"$f":"SUM(H68,H106,H144,H182,H220)","v":172709},0,32065,265.83507329119999,265.19940620930004,10428.710456883899,10403.7732359897,33419.637561234005,33373.4714989028,265.83507329119999,265.19940620930004,null,null,null,null,null,null,null,null,{"$f":"SUM(AA68,AA106,AA144,AA182,AA220)","v":5446220.6730400911},5433082.7109792046,213655247.8958036,213139845.61788067,681457961.73000002,680506013.72682822,5446220.6730400911,5433082.7109792046,35000,155.6063049440026,155.23093459940586,6104.4356541658171,6089.7098747965911,19470.227478000001,19443.028963623663,155.6063049440026,155.23093459940586]
[null,"Female 45-49",47.025772000000003,82.585769999999997,"female","ALL",null,{"$f":"SUM(H69,H107,H145,H183,H221)","v":202829},0,39546,475.64356552719994,474.45811401870003,16438.240673332799,16397.271471570002,44462.663781813499,44398.4961472332,475.64356552719994,474.45811401870003,null,null,null,null,null,null,null,null,{"$f":"SUM(AA69,AA107,AA145,AA183,AA221)","v":8292036.5926495055},8271169.3079949599,286572768.05789196,285851594.74196649,771783001.00999999,770656439.31132424,8292036.5926495055,8271169.3079949599,35000,236.9153312185573,236.31912308557028,8187.793373082628,8167.1884211990428,22050.942886000001,22018.75540889498,236.9153312185573,236.31912308557028]
[null,"Female 50-54",51.990825999999998,82.980829999999997,"female","ALL",null,{"$f":"SUM(H70,H108,H146,H184,H222)","v":209262},0,40724,746.78667904880001,744.93295299499994,22396.135491820103,22340.5422400518,51924.448520960301,51849.681146451905,746.78667904880001,744.93295299499994,null,null,null,null,null,null,null,null,{"$f":"SUM(AA70,AA108,AA146,AA184,AA222)","v":12639468.803081926},12607707.347913532,379057719.96229994,378105193.7947551,874448019.83000016,873171607.24604726,12639468.803081926,12607707.347913532,35000,361.127680088055,360.22020994038661,10830.220570351426,10803.005536993003,24984.229138000006,24947.760207029922,361.127680088055,360.22020994038661]
[null,"Female 55-59",56.953040999999999,83.473039999999997,"female","ALL",null,{"$f":"SUM(H71,H109,H147,H185,H223)","v":190084},0,33741,1032.5327680138,1030.1676502972,26350.235207179401,26289.877405416901,53414.8733387307,53343.942499372402,1032.5327680138,1030.1676502972,null,null,null,null,null,null,null,null,{"$f":"SUM(AA71,AA109,AA147,AA185,AA223)","v":17878574.419906311},17837027.400427725,456261201.31743443,455200921.42188823,919934892.56499994,918694325.57609797,17878574.419906311,17837027.400427725,32500,550.10998215096345,548.83161232085308,14038.806194382598,14006.182197596561,28305.689001999999,28267.517710033782,550.10998215096345,548.83161232085308]
[null,"Female 60-64",61.947387999999997,84.167389999999997,"female","ALL",null,{"$f":"SUM(H72,H110,H148,H186,H224)","v":165146},0,29015,1358.1528203426999,1355.0815211554002,28820.005563977695,28754.832589080597,52377.011972582302,52308.133864482596,1358.1528203426999,1355.0815211554002,null,null,null,null,null,null,null,null,{"$f":"SUM(AA72,AA110,AA148,AA186,AA224)","v":25192582.948637575},25134245.915580884,534586660.55525464,533348748.59711766,962839226.39999986,961540826.54826379,25192582.948637575,25134245.915580884,30000,839.75276495458581,837.80819718602947,17819.55535184182,17778.291619903921,32094.640879999995,32051.360884942125,839.75276495458581,837.80819718602947]
[null,"Female 65-69",67.063927000000007,85.193929999999995,"female","ALL",null,{"$f":"SUM(H73,H111,H149,H187,H225)","v":164057},0,21584,2066.2542076137001,2062.6426409336,35394.9407751853,35333.074627120499,58973.220499182193,58913.529918254702,2066.2542076137001,2062.6426409336,null,null,null,null,null,null,null,null,{"$f":"SUM(AA73,AA111,AA149,AA187,AA225)","v":35585132.202063732},35521320.858255081,609573421.3767482,608480332.86587214,1003826931.03,1002783126.386361,35585132.202063732,35521320.858255081,27500,1294.0048073477722,1291.6843948456394,22166.306231881754,22126.557558758988,36502.797491999998,36464.840959504036,1294.0048073477722,1291.6843948456394]
[null,"Female 70-74",71.938164,86.248159999999999,"female","ALL",null,{"$f":"SUM(H74,H112,H150,H188,H226)","v":127150},0,16833,2426.4288236094999,2422.2058848874999,32295.757936527203,32239.550639028999,51815.942235666997,51763.226221073499,2426.4288236094999,2422.2058848874999,null,null,null,null,null,null,null,null,{"$f":"SUM(AA74,AA112,AA150,AA188,AA226)","v":48769054.054814517},48682361.347106561,649115914.39336622,647962034.8005414,1031603609.2000002,1030530934.5282569,48769054.054814517,48682361.347106561,25000,1950.7621621925807,1947.2944538842623,25964.63657573465,25918.481392021655,41264.144368000008,41221.237381130275,1950.7621621925807,1947.2944538842623]
[null,"Female 75-79",76.942824999999999,87.812830000000005,"female","ALL",null,{"$f":"SUM(H75,H113,H151,H189,H227)","v":104331},0,7192,3076.7549921096997,3073.8366176900004,30367.587155897701,30338.782785783398,48655.3933290477,48628.410192170501,0,0,null,null,null,null,null,null,null,null,{"$f":"SUM(AA75,AA113,AA151,AA189,AA227)","v":59361155.62302424},59304111.012187287,585894902.80502725,585331872.21084392,935996664.24000001,935471313.77251577,0,0,20000,2968.0577811512121,2965.2055506093643,29294.745140251362,29266.593610542197,46799.833211999998,46773.565688625786,0,0]
[null,"Female 80-84",81.856712000000002,89.736710000000002,"female","ALL",null,{"$f":"SUM(H76,H114,H152,H190,H228)","v":80217},0,5544,3567.8762767677003,3564.5621208619,24546.981648409201,24524.180262405596,42391.156082702597,42367.591863522393,0,0,null,null,null,null,null,null,null,null,{"$f":"SUM(AA76,AA114,AA152,AA190,AA228)","v":55828278.730138212},55775857.130653977,384098446.00679302,383737785.50718451,661963668.95000005,661592080.47839177,0,0,12500,4466.2622984110567,4462.0685704523185,30727.875680543442,30699.022840574762,52957.093516000001,52927.36643827134,0,0]
[null,"Female 85-89",86.730819999999994,92.220819999999989,"female","ALL",null,{"$f":"SUM(H77,H115,H153,H191,H229)","v":49691},0,3401,3270.3859906739003,3267.473737027,14684.033098125801,14670.9570792511,29525.065473962801,29508.7998257045,0,0,null,null,null,null,null,null,null,null,{"$f":"SUM(AA77,AA115,AA153,AA191,AA229)","v":50005245.611253478},49959911.980030343,224523552.79452795,224320004.79033428,448983820.05000007,448731822.42082095,0,0,7500,6667.3660815004641,6661.321597337379,29936.47370593706,29909.333972044573,59864.509340000011,59830.909656109463,0,0]
[null,"Female 90+",92.779342999999997,96.279340000000005,"female","ALL",null,{"$f":"SUM(H78,H116,H154,H192,H230)","v":29050},0,1956,3071.2888939930999,3068.7678914489998,7678.2130211160002,7671.9105223188999,19930.146163744299,19919.3409882218,0,0,null,null,null,null,null,null,null,null,{"$f":"SUM(AA78,AA116,AA154,AA192,AA230)","v":54267596.900575139},54221696.348656274,135668829.44864586,135554078.20655307,348509125.86000001,348313584.07958716,0,0,5000,10853.519380115027,10844.339269731256,27133.765889729173,27110.815641310615,69701.825171999997,69662.716815917433,0,0]
[null,"Male 0-4",2.0320822999999999,77.402082000000007,"male","ALL",null,{"$f":"SUM(H79,H117,H155,H193,H231)","v":0},0,0,{"$error":"#VALUE!"},{"$error":"#VALUE!"},{"$error":"#VALUE!"},{"$error":"#VALUE!"},{"$error":"#VALUE!"},{"$error":"#VALUE!"},{"$error":"#VALUE!"},{"$error":"#VALUE!"},null,null,null,null,null,null,null,null,{"$f":"SUM(AA79,AA117,AA155,AA193,AA231)","v":{"$error":"#VALUE!"}},{"$error":"#VALUE!"},{"$error":"#VALUE!"},{"$error":"#VALUE!"},{"$error":"#VALUE!"},{"$error":"#VALUE!"},{"$error":"#VALUE!"},{"$error":"#VALUE!"},25000,{"$error":"#VALUE!"},{"$error":"#VALUE!"},{"$error":"#VALUE!"},{"$error":"#VALUE!"},{"$error":"#VALUE!"},{"$error":"#VALUE!"},{"$error":"#VALUE!"},{"$error":"#VALUE!"}]
[null,"Male 5-9",6.9784756000000003,77.398476000000002,"male","ALL",null,{"$f":"SUM(H80,H118,H156,H194,H232)","v":0},0,0,{"$error":"#VALUE!"},{"$error":"#VALUE!"},{"$error":"#VALUE!"},{"$error":"#VALUE!"},{"$error":"#VALUE!"},{"$error":"#VALUE!"},{"$error":"#VALUE!"},{"$error":"#VALUE!"},null,null,null,null,null,null,null,null,{"$f":"SUM(AA80,AA118,AA156,AA194,AA232)","v":{"$error":"#VALUE!"}},{"$error":"#VALUE!"},{"$error":"#VALUE!"},{"$error":"#VALUE!"},{"$error":"#VALUE!"},{"$error":"#VALUE!"},{"$error":"#VALUE!"},{"$error":"#VALUE!"},27500,{"$error":"#VALUE!"},{"$error":"#VALUE!"},{"$error":"#VALUE!"},{"$error":"#VALUE!"},{"$error":"#VALUE!"},{"$error":"#VALUE!"},{"$error":"#VALUE!"},{"$error":"#VALUE!"}]
[null,"Male 10-15",12.471144000000001,77.921140000000008,"male","ALL",null,{"$f":"SUM(H81,H119,H157,H195,H233)","v":0},0,0,{"$error":"#VALUE!"},{"$error":"#VALUE!"},{"$error":"#VALUE!"},{"$error":"#VALUE!"},{"$error":"#VALUE!"},{"$error":"#VALUE!"},{"$error":"#VALUE!"},{"$error":"#VALUE!"},null,null,null,null,null,null,null,null,{"$f":"SUM(AA81,AA119,AA157,AA195,AA233)","v":{"$error":"#VALUE!"}},{"$error":"#VALUE!"},{"$error":"#VALUE!"},{"$error":"#VALUE!"},{"$error":"#VALUE!"},{"$error":"#VALUE!"},{"$error":"#VALUE!"},{"$error":"#VALUE!"},33000,{"$error":"#VALUE!"},{"$error":"#VALUE!"},{"$error":"#VALUE!"},{"$error":"#VALUE!"},{"$error":"#VALUE!"},{"$error":"#VALUE!"},{"$error":"#VALUE!"},{"$error":"#VALUE!"}]
[null,"Male 16-19",17.556318000000001,77.07632000000001,"male","ALL",null,{"$f":"SUM(H82,H120,H158,H196,H234)","v":124418},0,23233,56.983085586300007,56.891695984499997,3334.6502824764002,3329.3021627964999,8826.1892314548004,8817.4235543079994,56.983085586300007,56.891695984499997,null,null,null,null,null,null,null,null,{"$f":"SUM(AA82,AA120,AA158,AA196,AA234)","v":1013108.4483698934},1011480.8070703836,59287108.42482233,59191858.852723427,156551621.59999999,156395579.05175942,1013108.4483698934,1011480.8070703836,22000,46.050384016813332,45.976400321381071,2694.8685647646512,2690.5390387601556,7115.9827999999998,7108.8899568981551,46.050384016813332,45.976400321381071]
[null,"Male 20-24",22.054632000000002,77.704629999999995,"male","ALL",null,{"$f":"SUM(H83,H121,H159,H197,H235)","v":181688},0,34097,117.52926087200001,117.34029885249998,6422.9738715963003,6412.6470976086002,15171.5733622719,15156.449318804402,117.52926087200001,117.34029885249998,null,null,null,null,null,null,null,null,{"$f":"SUM(AA83,AA121,AA159,AA197,AA235)","v":1939971.5727290353},1936855.7769247929,106019442.56969902,105849164.33522961,250437460.62000003,250187859.62123182,1939971.5727290353,1936855.7769247929,30000,64.665719090967841,64.561859230826428,3533.9814189899671,3528.3054778409869,8347.9153540000007,8339.5953207077273,64.665719090967841,64.561859230826428]
[null,"Male 25-29",26.959762999999999,77.789760000000001,"male","ALL",null,{"$f":"SUM(H84,H122,H160,H198,H236)","v":186149},0,44400,180.0667229101,179.72004151099998,8972.7242624101018,8955.4491293329011,18844.707746336899,18821.636977562299,180.0667229101,179.72004151099998,null,null,null,null,null,null,null,null,{"$f":"SUM(AA84,AA122,AA160,AA198,AA236)","v":2808963.823753492},2803642.8819388808,139970658.91074497,139705516.3960841,298066844.88,297708825.08425212,2808963.823753492,2803642.8819388808,30000,93.63212745844973,93.454762731296029,4665.6886303581659,4656.8505465361368,9935.5614960000003,9923.6275028084037,93.63212745844973,93.454762731296029]
[null,"Male 30-34",31.981521999999998,78.061520000000002,"male","ALL",null,{"$f":"SUM(H85,H123,H161,H199,H237)","v":172305},0,41043,242.73364493950001,242.26778602609997,10942.432228405498,10921.431309521002,20810.1130147968,20784.692305858796,242.73364493950001,242.26778602609997,null,null,null,null,null,null,null,null,{"$f":"SUM(AA85,AA123,AA161,AA199,AA237)","v":4444721.4541476788},4436305.9962870106,200368034.26353687,199988665.44000605,385911765.13499999,385448230.04689437,4444721.4541476788,4436305.9962870106,32500,136.76066012762089,136.50172296267726,6165.1702850319034,6153.4973981540325,11874.208157999999,11859.945539904442,136.76066012762089,136.50172296267726]
[null,"Male 35-39",36.926009999999998,78.336009999999987,"male","ALL",null,{"$f":"SUM(H86,H124,H162,H200,H238)","v":161268},0,38222,321.64932170539998,321.01827488060002,12997.849090115298,12972.348487924999,22880.108764238601,22851.8321040111,321.64932170539998,321.01827488060002,null,null,null,null,null,null,null,null,{"$f":"SUM(AA86,AA124,AA162,AA200,AA238)","v":6949961.6819153037},6936372.0199671676,280847951.56619924,280298793.32687223,495329032.51999998,494719249.34334356,6949961.6819153037,6936372.0199671676,35000,198.57033376900867,198.18205771334766,8024.227187605693,8008.5369521963494,14152.258071999999,14134.835695524102,198.57033376900867,198.18205771334766]
[null,"Male 40-44",42.067703000000002,78.907700000000006,"male","ALL",null,{"$f":"SUM(H87,H125,H163,H201,H239)","v":164929},0,38290,475.91620807219999,474.99594599450006,17056.835469558999,17023.853279455001,27796.411228545301,27762.630600599194,475.91620807219999,474.99594599450006,null,null,null,null,null,null,null,null,{"$f":"SUM(AA87,AA125,AA163,AA201,AA239)","v":10240286.194035577},10220284.08077958,367011826.4733761,366294950.79428697,594504097.52999997,593772230.6660459,10240286.194035577,10220284.08077958,35000,292.57960554387364,292.00811659370231,10486.052184953604,10465.570022693913,16985.831357999999,16964.920876172739,292.57960554387364,292.00811659370231]
[null,"Male 45-49",47.038155000000003,79.418149999999997,"male","ALL",null,{"$f":"SUM(H88,H126,H164,H202,H240)","v":189422},0,41563,794.6930565184,793.22643661660004,24937.464140082098,24891.441614896699,38076.879094208001,38032.829985320597,794.6930565184,793.22643661660004,null,null,null,null,null,null,null,null,{"$f":"SUM(AA88,AA126,AA164,AA202,AA240)","v":14890850.385256773},14863077.749825895,467274810.63510543,466403305.47414732,709212168.1400001,708381217.10674226,14890850.385256773,14863077.749825895,35000,425.45286815019352,424.65936428073985,13350.708875288727,13325.80872783278,20263.204804000005,20239.463345906923,425.45286815019352,424.65936428073985]
[null,"Male 50-54",51.998646000000001,79.988649999999993,"male","ALL",null,{"$f":"SUM(H89,H127,H165,H203,H241)","v":197429},0,43283,1201.9410748933001,1199.7315604015998,32440.3944191345,32380.759614165498,47294.710130008105,47240.07357400209,1201.9410748933001,1199.7315604015998,null,null,null,null,null,null,null,null,{"$f":"SUM(AA89,AA127,AA165,AA203,AA241)","v":21629005.30036404},21588755.748389058,583766939.57284713,582680604.00404501,845753788.74000001,844762873.33919549,21629005.30036404,21588755.748389058,35000,617.97158001040111,616.82159281111592,16679.05541636706,16648.017257258431,24164.393963999999,24136.082095405585,617.97158001040111,616.82159281111592]
[null,"Male 55-59",56.950867000000002,80.660870000000003,"male","ALL",null,{"$f":"SUM(H90,H128,H166,H204,H242)","v":180737},0,33959,1594.9092706869001,1592.2919815906,36220.394322027299,36160.955678798404,51591.136928716893,51538.669204098507,1594.9092706869001,1592.2919815906,null,null,null,null,null,null,null,null,{"$f":"SUM(AA90,AA128,AA166,AA204,AA242)","v":29138433.176066414},29089771.168966878,661733904.84376752,660628790.51655018,936266656.77999997,935295779.20682788,29138433.176066414,29089771.168966878,32500,896.56717464819735,895.06988212205783,20361.043225962079,20327.039708201544,28808.204824,28778.331667902396,896.56717464819735,895.06988212205783]
[null,"Male 60-64",61.942988999999997,81.612989999999996,"male","ALL",null,{"$f":"SUM(H91,H129,H167,H205,H243)","v":156406},0,29050,1989.1832327154998,1985.9666278376001,37138.052943981602,37077.998927694702,53033.3207283355,52979.965371168502,1989.1832327154998,1985.9666278376001,null,null,null,null,null,null,null,null,{"$f":"SUM(AA91,AA129,AA167,AA205,AA243)","v":39108076.28396938},39043092.166756153,730147823.32978427,728934569.79643095,1031793595.7400001,1030723645.4646779,39108076.28396938,39043092.166756153,30000,1303.6025427989794,1301.4364055585384,24338.260777659474,24297.818993214365,34393.119858000005,34357.454848822599,1303.6025427989794,1301.4364055585384]
[null,"Male 65-69",67.054419999999993,82.954419999999999,"male","ALL",null,{"$f":"SUM(H92,H130,H168,H206,H244)","v":153467},0,20986,2842.6808033265002,2839.1333849133998,42355.943969564803,42303.087435209607,62174.331774444901,62126.789283542297,2842.6808033265002,2839.1333849133998,null,null,null,null,null,null,null,null,{"$f":"SUM(AA92,AA130,AA168,AA206,AA244)","v":52531096.19883877},52463281.698762894,782713333.36269665,781702897.311566,1133962873.1749997,1133063069.0237741,52531096.19883877,52463281.698762894,27500,1910.2216799577734,1907.7556981368325,28462.303031370786,28425.559902238765,41235.013569999988,41202.293419046335,1910.2216799577734,1907.7556981368325]
[null,"Male 70-74",71.891098,84.341099999999997,"male","ALL",null,{"$f":"SUM(H93,H131,H169,H207,H245)","v":111869},0,15303,2970.6637617858005,2967.0016207315998,34014.106013774894,33972.174491379999,53814.804399198903,53773.673290313207,2970.6637617858005,2967.0016207315998,null,null,null,null,null,null,null,null,{"$f":"SUM(AA93,AA131,AA169,AA207,AA245)","v":68441171.972835496},68353830.906471103,783651555.97130978,782651500.58675432,1223954579.8000002,1222983390.8047781,68441171.972835496,68353830.906471103,25000,2737.6468789134196,2734.1532362588441,31346.062238852392,31306.060023470174,48958.183192000004,48919.335632191127,2737.6468789134196,2734.1532362588441]
[null,"Male 75-79",76.907700000000006,86.357700000000008,"male","ALL",null,{"$f":"SUM(H94,H132,H170,H208,H246)","v":82515},0,5452,3200.4715334839998,3198.4019664467996,27043.984457939801,27026.496616475401,47629.863037836702,47611.142759357295,0,0,null,null,null,null,null,null,null,null,{"$f":"SUM(AA94,AA132,AA170,AA208,AA246)","v":79383208.597126752},79329800.28897804,670788112.6457212,670336812.44186282,1170005851.5599999,1169526609.2196896,0,0,20000,3969.1604298563375,3966.490014448902,33539.405632286063,33516.840622093143,58500.292578000001,58476.330460984478,0,0]
[null,"Male 80-84",81.797089,88.627089999999995,"male","ALL",null,{"$f":"SUM(H95,H133,H171,H209,H247)","v":56201},0,3679,3097.8644247156999,3095.9306367004001,18060.552693956899,18049.2787078939,38436.063031124599,38421.078135858101,0,0,null,null,null,null,null,null,null,null,{"$f":"SUM(AA95,AA133,AA171,AA209,AA247)","v":70991409.710358769},70945025.649902701,413879989.60280013,413609570.48395693,869840774.2249999,869484450.06245363,0,0,12500,5679.3127768287013,5675.6020519922158,33110.399168224008,33088.765638716555,69587.261937999996,69558.756004996292,0,0]
[null,"Male 85-89",86.630752999999999,91.420750000000012,"male","ALL",null,{"$f":"SUM(H96,H134,H172,H210,H248)","v":28287},0,1822,2191.93219662,2190.6358739164998,8307.4164493933004,8302.5033902358991,22836.6916996447,22827.921915905099,0,0,null,null,null,null,null,null,null,null,{"$f":"SUM(AA96,AA134,AA172,AA210,AA248)","v":60418636.163269326},60380785.079574965,228986449.80288491,228842994.30923343,619589003.44500005,619335232.15293658,0,0,7500,8055.8181551025764,8050.7713439433282,30531.526640384654,30512.399241231124,82611.867126000012,82578.030953724883,0,0]
[null,"Male 90+",92.215477000000007,95.515479999999997,"male","ALL",null,{"$f":"SUM(H97,H135,H173,H211,H249)","v":12017},0,774,1382.0368717008,1381.2730150418997,3178.6889510224,3176.9320784153997,11815.7848009063,11811.241855444399,0,0,null,null,null,null,null,null,null,null,{"$f":"SUM(AA97,AA135,AA173,AA211,AA249)","v":59827349.050631411},59792444.61285454,137603082.2984964,137522801.98689845,503620030.09000003,503413666.09303653,0,0,5000,{"$f":"AA59/$AI59","v":11965.469810126282},11958.488922570908,{"$f":"AC59/$AI59","v":27520.616459699278},27504.56039737969,100724.006018,100682.7332186073,0,0]
[null,"Female 0-4",2.0384007,81.468401,"female",1,{"$f":"HLOOKUP($E$2,'Prevalence Rates'!$C$3:$BC$249,'Prevalence Rates'!$BD60,FALSE)","v":0},{"$f":"HLOOKUP($E$2,'Population 2016'!$C$3:$BC$249,'Population 2016'!BD60,FALSE)","v":0},0,{"$f":"H60*G60","v":0},{"$f":"IF(AND(OR($E$2=\"Orkney Health Board\",$E$2=\"Orkney Islands Local Authority\"),$F60=1),0,IF(AND(OR($E$2=\"Shetland Health Board\",$E$2=\"Western Isles Health Board\",$E$2=\"Shetland Islands Local Authority\",$E$2=\"Eilean Siar Local Authority\"),OR($F60=1,$F60=5)),0,new_ci(VALUE(LEFT(Options!$B$14,2)),$C60,$E60,$F60,2016,$I60,1,$H60,$G60*$H60,Options!$B$8)))","v":{"$error":"#VALUE!"}},{"$f":"IF(AND(OR($E$2=\"Orkney Health Board\",$E$2=\"Orkney Islands Local Authority\"),$F60=1),0,IF(AND(OR($E$2=\"Shetland Health Board\",$E$2=\"Western Isles Health Board\",$E$2=\"Shetland Islands Local Authority\",$E$2=\"Eilean Siar Local Authority\"),OR($F60=1,$F60=5)),0,new_ci(VALUE(LEFT(Options!$B$14,2)),$C60,$E60,$F60,2016,$I60+$J60,1,$H60,$G60*$H60,Options!$B$8)))","v":{"$error":"#VALUE!"}},{"$f":"IF(AND(OR($E$2=\"Orkney Health Board\",$E$2=\"Orkney Islands Local Authority\"),$F60=1),0,IF(AND(OR($E$2=\"Shetland Health Board\",$E$2=\"Western Isles Health Board\",$E$2=\"Shetland Islands Local Authority\",$E$2=\"Eilean Siar Local Authority\"),OR($F60=1,$F60=5)),0,new_yllv2(VALUE(LEFT(Options!$B$14,2)),$C60,$D60,$E60,$F60,2016,$I60,1,$H60,$G60*$H60,Options!$B$8)))","v":{"$error":"#VALUE!"}},{"$f":"IF(AND(OR($E$2=\"Orkney Health Board\",$E$2=\"Orkney Islands Local Authority\"),$F60=1),0,IF(AND(OR($E$2=\"Shetland Health Board\",$E$2=\"Western Isles Health Board\",$E$2=\"Shetland Islands Local Authority\",$E$2=\"Eilean Siar Local Authority\"),OR($F60=1,$F60=5)),0,new_yllv2(VALUE(LEFT(Options!$B$14,2)),$C60,$D60,$E60,$F60,2016,$I60+$J60,1,$H60,$G60*$H60,Options!$B$8)))","v":{"$error":"#VALUE!"}},{"$f":"IF(AND(OR($E$2=\"Orkney Health Board\",$E$2=\"Orkney Islands Local Authority\"),$F60=1),0,IF(AND(OR($E$2=\"Shetland Health Board\",$E$2=\"Western Isles Health Board\",$E$2=\"Shetland Islands Local Authority\",$E$2=\"Eilean Siar Local Authority\"),OR($F60=1,$F60=5)),0,hosp_count(VALUE(LEFT(Options!$B$14,2)),$C60,$E60,$F60,2016,$I60,1,$H60,$G60*$H60, Options!$B$8)))","v":{"$error":"#VALUE!"}},{"$f":"IF(AND(OR($E$2=\"Orkney Health Board\",$E$2=\"Orkney Islands Local Authority\"),$F60=1),0,IF(AND(OR($E$2=\"Shetland Health Board\",$E$2=\"Western Isles Health Board\",$E$2=\"Shetland Islands Local Authority\",$E$2=\"Eilean Siar Local Authority\"),OR($F60=1,$F60=5)),0,hosp_count(VALUE(LEFT(Options!$B$14,2)),$C60,$E60,$F60,2016,$I60+$J60,1,$H60,$G60*$H60, Options!$B$8)))","v":{"$error":"#VALUE!"}},{"$f":"IF(AND(OR($E$2=\"Orkney Health Board\",$E$2=\"Orkney Islands Local Authority\"),$F60=1),0,IF(AND(OR($E$2=\"Shetland Health Board\",$E$2=\"Western Isles Health Board\",$E$2=\"Shetland Islands Local Authority\",$E$2=\"Eilean Siar Local Authority\"),OR($F60=1,$F60=5)),0,prem_mort(VALUE(LEFT(Options!$B$14,2)),$C60,$E60,$F60,2016,$I60,1,$H60,$G60*$H60,Options!$B$8)))","v":{"$error":"#VALUE!"}},{"$f":"IF(AND(OR($E$2=\"Orkney Health Board\",$E$2=\"Orkney Islands Local Authority\"),$F60=1),0,IF(AND(OR($E$2=\"Shetland Health Board\",$E$2=\"Western Isles Health Board\",$E$2=\"Shetland Islands Local Authority\",$E$2=\"Eilean Siar Local Authority\"),OR($F60=1,$F60=5)),0,prem_mort(VALUE(LEFT(Options!$B$14,2)),$C60,$E60,$F60,2016,$I60+$J60,1,$H60,$G60*$H60,Options!$B$8)))","v":{"$error":"#VALUE!"}},{"$f":"K60*100000/$H60","v":{"$error":"#VALUE!"}},{"$error":"#VALUE!"},{"$error":"#VALUE!"},{"$error":"#VALUE!"},{"$error":"#VALUE!"},{"$error":"#VALUE!"},{"$error":"#VALUE!"},{"$error":"#VALUE!"},{"$f":"S60*$AI60","v":{"$error":"#VALUE!"}},{"$f":"T60*$AI60","v":{"$error":"#VALUE!"}},{"$f":"U60*$AI60","v":{"$error":"#VALUE!"}},{"$f":"V60*$AI60","v":{"$error":"#VALUE!"}},{"$f":"W60*$AI60","v":{"$error":"#VALUE!"}},{"$f":"X60*$AI60","v":{"$error":"#VALUE!"}},{"$f":"Y60*$AI60","v":{"$error":"#VALUE!"}},{"$f":"Z60*$AI60","v":{"$error":"#VALUE!"}},5000]
[null,"Female 5-9",6.9792794999999996,81.439279999999997,"female",1,{"$f":"HLOOKUP($E$2,'Prevalence Rates'!$C$3:$BC$249,'Prevalence Rates'!$BD61,FALSE)","v":0},{"$f":"HLOOKUP($E$2,'Population 2016'!$C$3:$BC$249,'Population 2016'!BD61,FALSE)","v":0},0,{"$f":"H61*G61","v":0},{"$f":"IF(AND(OR($E$2=\"Orkney Health Board\",$E$2=\"Orkney Islands Local Authority\"),$F61=1),0,IF(AND(OR($E$2=\"Shetland Health Board\",$E$2=\"Western Isles Health Board\",$E$2=\"Shetland Islands Local Authority\",$E$2=\"Eilean Siar Local Authority\"),OR($F61=1,$F61=5)),0,new_ci(VALUE(LEFT(Options!$B$14,2)),$C61,$E61,$F61,2016,$I61,1,$H61,$G61*$H61,Options!$B$8)))","v":{"$error":"#VALUE!"}},{"$f":"IF(AND(OR($E$2=\"Orkney Health Board\",$E$2=\"Orkney Islands Local Authority\"),$F61=1),0,IF(AND(OR($E$2=\"Shetland Health Board\",$E$2=\"Western Isles Health Board\",$E$2=\"Shetland Islands Local Authority\",$E$2=\"Eilean Siar Local Authority\"),OR($F61=1,$F61=5)),0,new_ci(VALUE(LEFT(Options!$B$14,2)),$C61,$E61,$F61,2016,$I61+$J61,1,$H61,$G61*$H61,Options!$B$8)))","v":{"$error":"#VALUE!"}},{"$f":"IF(AND(OR($E$2=\"Orkney Health Board\",$E$2=\"Orkney Islands Local Authority\"),$F61=1),0,IF(AND(OR($E$2=\"Shetland Health Board\",$E$2=\"Western Isles Health Board\",$E$2=\"Shetland Islands Local Authority\",$E$2=\"Eilean Siar Local Authority\"),OR($F61=1,$F61=5)),0,new_yllv2(VALUE(LEFT(Options!$B$14,2)),$C61,$D61,$E61,$F61,2016,$I61,1,$H61,$G61*$H61,Options!$B$8)))","v":{"$error":"#VALUE!"}},{"$f":"IF(AND(OR($E$2=\"Orkney Health Board\",$E$2=\"Orkney Islands Local Authority\"),$F61=1),0,IF(AND(OR($E$2=\"Shetland Health Board\",$E$2=\"Western Isles Health Board\",$E$2=\"Shetland Islands Local Authority\",$E$2=\"Eilean Siar Local Authority\"),OR($F61=1,$F61=5)),0,new_yllv2(VALUE(LEFT(Options!$B$14,2)),$C61,$D61,$E61,$F61,2016,$I61+$J61,1,$H61,$G61*$H61,Options!$B$8)))","v":{"$error":"#VALUE!"}},{"$f":"IF(AND(OR($E$2=\"Orkney Health Board\",$E$2=\"Orkney Islands Local Authority\"),$F61=1),0,IF(AND(OR($E$2=\"Shetland Health Board\",$E$2=\"Western Isles Health Board\",$E$2=\"Shetland Islands Local Authority\",$E$2=\"Eilean Siar Local Authority\"),OR($F61=1,$F61=5)),0,hosp_count(VALUE(LEFT(Options!$B$14,2)),$C61,$E61,$F61,2016,$I61,1,$H61,$G61*$H61, Options!$B$8)))","v":{"$error":"#VALUE!"}},{"$f":"IF(AND(OR($E$2=\"Orkney Health Board\",$E$2=\"Orkney Islands Local Authority\"),$F61=1),0,IF(AND(OR($E$2=\"Shetland Health Board\",$E$2=\"Western Isles Health Board\",$E$2=\"Shetland Islands Local Authority\",$E$2=\"Eilean Siar Local Authority\"),OR($F61=1,$F61=5)),0,hosp_count(VALUE(LEFT(Options!$B$14,2)),$C61,$E61,$F61,2016,$I61+$J61,1,$H61,$G61*$H61, Options!$B$8)))","v":{"$error":"#VALUE!"}},{"$f":"IF(AND(OR($E$2=\"Orkney Health Board\",$E$2=\"Orkney Islands Local Authority\"),$F61=1),0,IF(AND(OR($E$2=\"Shetland Health Board\",$E$2=\"Western Isles Health Board\",$E$2=\"Shetland Islands Local Authority\",$E$2=\"Eilean Siar Local Authority\"),OR($F61=1,$F61=5)),0,prem_mort(VALUE(LEFT(Options!$B$14,2)),$C61,$E61,$F61,2016,$I61,1,$H61,$G61*$H61,Options!$B$8)))","v":{"$error":"#VALUE!"}},{"$f":"IF(AND(OR($E$2=\"Orkney Health Board\",$E$2=\"Orkney Islands Local Authority\"),$F61=1),0,IF(AND(OR($E$2=\"Shetland Health Board\",$E$2=\"Western Isles Health Board\",$E$2=\"Shetland Islands Local Authority\",$E$2=\"Eilean Siar Local Authority\"),OR($F61=1,$F61=5)),0,prem_mort(VALUE(LEFT(Options!$B$14,2)),$C61,$E61,$F61,2016,$I61+$J61,1,$H61,$G61*$H61,Options!$B$8)))","v":{"$error":"#VALUE!"}},{"$f":"K61*100000/$H61","v":{"$error":"#VALUE!"}},{"$f":"L61*100000/$H61","v":{"$error":"#VALUE!"}},{"$f":"M61*100000/$H61","v":{"$error":"#VALUE!"}},{"$f":"N61*100000/$H61","v":{"$error":"#VALUE!"}},{"$f":"O61*100000/$H61","v":{"$error":"#VALUE!"}},{"$f":"P61*100000/$H61","v":{"$error":"#VALUE!"}},{"$f":"Q61*100000/$H61","v":{"$error":"#VALUE!"}},{"$f":"R61*100000/$H61","v":{"$error":"#VALUE!"}},{"$f":"S61*$AI61","v":{"$error":"#VALUE!"}},{"$f":"T61*$AI61","v":{"$error":"#VALUE!"}},{"$f":"U61*$AI61","v":{"$error":"#VALUE!"}},{"$error":"#VALUE!"},{"$error":"#VALUE!"},{"$error":"#VALUE!"},{"$error":"#VALUE!"},{"$error":"#VALUE!"},5500]
[null,"Female 10-15",12.478312000000001,81.948309999999992,"female",1,{"$f":"HLOOKUP($E$2,'Prevalence Rates'!$C$3:$BC$249,'Prevalence Rates'!$BD62,FALSE)","v":0},{"$f":"HLOOKUP($E$2,'Population 2016'!$C$3:$BC$249,'Population 2016'!BD62,FALSE)","v":0},0,{"$f":"H62*G62","v":0},{"$f":"IF(AND(OR($E$2=\"Orkney Health Board\",$E$2=\"Orkney Islands Local Authority\"),$F62=1),0,IF(AND(OR($E$2=\"Shetland Health Board\",$E$2=\"Western Isles Health Board\",$E$2=\"Shetland Islands Local Authority\",$E$2=\"Eilean Siar Local Authority\"),OR($F62=1,$F62=5)),0,new_ci(VALUE(LEFT(Options!$B$14,2)),$C62,$E62,$F62,2016,$I62,1,$H62,$G62*$H62,Options!$B$8)))","v":{"$error":"#VALUE!"}},{"$f":"IF(AND(OR($E$2=\"Orkney Health Board\",$E$2=\"Orkney Islands Local Authority\"),$F62=1),0,IF(AND(OR($E$2=\"Shetland Health Board\",$E$2=\"Western Isles Health Board\",$E$2=\"Shetland Islands Local Authority\",$E$2=\"Eilean Siar Local Authority\"),OR($F62=1,$F62=5)),0,new_ci(VALUE(LEFT(Options!$B$14,2)),$C62,$E62,$F62,2016,$I62+$J62,1,$H62,$G62*$H62,Options!$B$8)))","v":{"$error":"#VALUE!"}},{"$f":"IF(AND(OR($E$2=\"Orkney Health Board\",$E$2=\"Orkney Islands Local Authority\"),$F62=1),0,IF(AND(OR($E$2=\"Shetland Health Board\",$E$2=\"Western Isles Health Board\",$E$2=\"Shetland Islands Local Authority\",$E$2=\"Eilean Siar Local Authority\"),OR($F62=1,$F62=5)),0,new_yllv2(VALUE(LEFT(Options!$B$14,2)),$C62,$D62,$E62,$F62,2016,$I62,1,$H62,$G62*$H62,Options!$B$8)))","v":{"$error":"#VALUE!"}},{"$f":"IF(AND(OR($E$2=\"Orkney Health Board\",$E$2=\"Orkney Islands Local Authority\"),$F62=1),0,IF(AND(OR($E$2=\"Shetland Health Board\",$E$2=\"Western Isles Health Board\",$E$2=\"Shetland Islands Local Authority\",$E$2=\"Eilean Siar Local Authority\"),OR($F62=1,$F62=5)),0,new_yllv2(VALUE(LEFT(Options!$B$14,2)),$C62,$D62,$E62,$F62,2016,$I62+$J62,1,$H62,$G62*$H62,Options!$B$8)))","v":{"$error":"#VALUE!"}},{"$f":"IF(AND(OR($E$2=\"Orkney Health Board\",$E$2=\"Orkney Islands Local Authority\"),$F62=1),0,IF(AND(OR($E$2=\"Shetland Health Board\",$E$2=\"Western Isles Health Board\",$E$2=\"Shetland Islands Local Authority\",$E$2=\"Eilean Siar Local Authority\"),OR($F62=1,$F62=5)),0,hosp_count(VALUE(LEFT(Options!$B$14,2)),$C62,$E62,$F62,2016,$I62,1,$H62,$G62*$H62, Options!$B$8)))","v":{"$error":"#VALUE!"}},{"$f":"IF(AND(OR($E$2=\"Orkney Health Board\",$E$2=\"Orkney Islands Local Authority\"),$F62=1),0,IF(AND(OR($E$2=\"Shetland Health Board\",$E$2=\"Western Isles Health Board\",$E$2=\"Shetland Islands Local Authority\",$E$2=\"Eilean Siar Local Authority\"),OR($F62=1,$F62=5)),0,hosp_count(VALUE(LEFT(Options!$B$14,2)),$C62,$E62,$F62,2016,$I62+$J62,1,$H62,$G62*$H62, Options!$B$8)))","v":{"$error":"#VALUE!"}},{"$f":"IF(AND(OR($E$2=\"Orkney Health Board\",$E$2=\"Orkney Islands Local Authority\"),$F62=1),0,IF(AND(OR($E$2=\"Shetland Health Board\",$E$2=\"Western Isles Health Board\",$E$2=\"Shetland Islands Local Authority\",$E$2=\"Eilean Siar Local Authority\"),OR($F62=1,$F62=5)),0,prem_mort(VALUE(LEFT(Options!$B$14,2)),$C62,$E62,$F62,2016,$I62,1,$H62,$G62*$H62,Options!$B$8)))","v":{"$error":"#VALUE!"}},{"$f":"IF(AND(OR($E$2=\"Orkney Health Board\",$E$2=\"Orkney Islands Local Authority\"),$F62=1),0,IF(AND(OR($E$2=\"Shetland Health Board\",$E$2=\"Western Isles Health Board\",$E$2=\"Shetland Islands Local Authority\",$E$2=\"Eilean Siar Local Authority\"),OR($F62=1,$F62=5)),0,prem_mort(VALUE(LEFT(Options!$B$14,2)),$C62,$E62,$F62,2016,$I62+$J62,1,$H62,$G62*$H62,Options!$B$8)))","v":{"$error":"#VALUE!"}},{"$error":"#VALUE!"},{"$error":"#VALUE!"},{"$error":"#VALUE!"},{"$error":"#VALUE!"},{"$error":"#VALUE!"},{"$error":"#VALUE!"},{"$error":"#VALUE!"},{"$error":"#VALUE!"},{"$error":"#VALUE!"},{"$error":"#VALUE!"},{"$error":"#VALUE!"},{"$error":"#VALUE!"},{"$error":"#VALUE!"},{"$error":"#VALUE!"},{"$error":"#VALUE!"},{"$error":"#VALUE!"},6600]
["SIMD Q1 (most deprived)","Female 16-19",17.570053000000001,81.100049999999996,"female",1,{"$f":"HLOOKUP($E$2,'Prevalence Rates'!$C$3:$BC$249,'Prevalence Rates'!$BD63,FALSE)","v":0.27679999999999999},{"$f":"HLOOKUP($E$2,'Population 2016'!$C$3:$BC$249,'Population 2016'!BD63,FALSE)","v":24142},0,{"$f":"ROUND(0.807*(HLOOKUP($E$2,'Population at Risk'!$C$3:$BC$249,'Population at Risk'!$BD63,FALSE)),0)","v":5393},{"$f":"IF(AND(OR($E$2=\"Orkney Health Board\",$E$2=\"Orkney Islands Local Authority\"),$F63=1),0,IF(AND(OR($E$2=\"Shetland Health Board\",$E$2=\"Western Isles Health Board\",$E$2=\"Shetland Islands Local Authority\",$E$2=\"Eilean Siar Local Authority\"),OR($F63=1,$F63=5)),0,new_ci(VALUE(LEFT(Options!$B$14,2)),$C63,$E63,$F63,2016,$I63,1,$H63,$G63*$H63,Options!$B$8)))","v":7.6776007304},{"$f":"IF(AND(OR($E$2=\"Orkney Health Board\",$E$2=\"Orkney Islands Local Authority\"),$F63=1),0,IF(AND(OR($E$2=\"Shetland Health Board\",$E$2=\"Western Isles Health Board\",$E$2=\"Shetland Islands Local Authority\",$E$2=\"Eilean Siar Local Authority\"),OR($F63=1,$F63=5)),0,new_ci(VALUE(LEFT(Options!$B$14,2)),$C63,$E63,$F63,2016,$I63+$J63,1,$H63,$G63*$H63,Options!$B$8)))","v":7.6584172901000001},{"$f":"IF(AND(OR($E$2=\"Orkney Health Board\",$E$2=\"Orkney Islands Local Authority\"),$F63=1),0,IF(AND(OR($E$2=\"Shetland Health Board\",$E$2=\"Western Isles Health Board\",$E$2=\"Shetland Islands Local Authority\",$E$2=\"Eilean Siar Local Authority\"),OR($F63=1,$F63=5)),0,new_yllv2(VALUE(LEFT(Options!$B$14,2)),$C63,$D63,$E63,$F63,2016,$I63,1,$H63,$G63*$H63,Options!$B$8)))","v":480.0803506391},{"$f":"IF(AND(OR($E$2=\"Orkney Health Board\",$E$2=\"Orkney Islands Local Authority\"),$F63=1),0,IF(AND(OR($E$2=\"Shetland Health Board\",$E$2=\"Western Isles Health Board\",$E$2=\"Shetland Islands Local Authority\",$E$2=\"Eilean Siar Local Authority\"),OR($F63=1,$F63=5)),0,new_yllv2(VALUE(LEFT(Options!$B$14,2)),$C63,$D63,$E63,$F63,2016,$I63+$J63,1,$H63,$G63*$H63,Options!$B$8)))","v":478.8808101747},{"$f":"IF(AND(OR($E$2=\"Orkney Health Board\",$E$2=\"Orkney Islands Local Authority\"),$F63=1),0,IF(AND(OR($E$2=\"Shetland Health Board\",$E$2=\"Western Isles Health Board\",$E$2=\"Shetland Islands Local Authority\",$E$2=\"Eilean Siar Local Authority\"),OR($F63=1,$F63=5)),0,hosp_count(VALUE(LEFT(Options!$B$14,2)),$C63,$E63,$F63,2016,$I63,1,$H63,$G63*$H63, Options!$B$8)))","v":3441.2180067134},{"$f":"IF(AND(OR($E$2=\"Orkney Health Board\",$E$2=\"Orkney Islands Local Authority\"),$F63=1),0,IF(AND(OR($E$2=\"Shetland Health Board\",$E$2=\"Western Isles Health Board\",$E$2=\"Shetland Islands Local Authority\",$E$2=\"Eilean Siar Local Authority\"),OR($F63=1,$F63=5)),0,hosp_count(VALUE(LEFT(Options!$B$14,2)),$C63,$E63,$F63,2016,$I63+$J63,1,$H63,$G63*$H63, Options!$B$8)))","v":3435.9690228974},{"$f":"IF(AND(OR($E$2=\"Orkney Health Board\",$E$2=\"Orkney Islands Local Authority\"),$F63=1),0,IF(AND(OR($E$2=\"Shetland Health Board\",$E$2=\"Western Isles Health Board\",$E$2=\"Shetland Islands Local Authority\",$E$2=\"Eilean Siar Local Authority\"),OR($F63=1,$F63=5)),0,prem_mort(VALUE(LEFT(Options!$B$14,2)),$C63,$E63,$F63,2016,$I63,1,$H63,$G63*$H63,Options!$B$8)))","v":7.6776007304},{"$f":"IF(AND(OR($E$2=\"Orkney Health Board\",$E$2=\"Orkney Islands Local Authority\"),$F63=1),0,IF(AND(OR($E$2=\"Shetland Health Board\",$E$2=\"Western Isles Health Board\",$E$2=\"Shetland Islands Local Authority\",$E$2=\"Eilean Siar Local Authority\"),OR($F63=1,$F63=5)),0,prem_mort(VALUE(LEFT(Options!$B$14,2)),$C63,$E63,$F63,2016,$I63+$J63,1,$H63,$G63*$H63,Options!$B$8)))","v":7.6584172901000001},31.801842143981446,31.722381286140337,1988.5690938575926,1983.6004066552068,14254.071769999999,14232.329645006213,31.801842143981446,31.722381286140337,{"$f":"S63*$AI63","v":139928.10543351836},139578.47765901749,8749704.0129734073,8727841.7892829105,62717915.787999995,62622250.438027337,139928.10543351836,{"$f":"Z63*$AI63","v":139578.47765901749},4400]
[null,"Female 20-24",22.077057,81.667060000000006,"female",1,{"$f":"HLOOKUP($E$2,'Prevalence Rates'!$C$3:$BC$249,'Prevalence Rates'!$BD64,FALSE)","v":0.27679999999999999},{"$f":"HLOOKUP($E$2,'Population 2016'!$C$3:$BC$249,'Population 2016'!BD64,FALSE)","v":37624},0,{"$f":"ROUND(0.807*(HLOOKUP($E$2,'Population at Risk'!$C$3:$BC$249,'Population at Risk'!$BD64,FALSE)),0)","v":8404},{"$f":"IF(AND(OR($E$2=\"Orkney Health Board\",$E$2=\"Orkney Islands Local Authority\"),$F64=1),0,IF(AND(OR($E$2=\"Shetland Health Board\",$E$2=\"Western Isles Health Board\",$E$2=\"Shetland Islands Local Authority\",$E$2=\"Eilean Siar Local Authority\"),OR($F64=1,$F64=5)),0,new_ci(VALUE(LEFT(Options!$B$14,2)),$C64,$E64,$F64,2016,$I64,1,$H64,$G64*$H64,Options!$B$8)))","v":17.5535384338},{"$f":"IF(AND(OR($E$2=\"Orkney Health Board\",$E$2=\"Orkney Islands Local Authority\"),$F64=1),0,IF(AND(OR($E$2=\"Shetland Health Board\",$E$2=\"Western Isles Health Board\",$E$2=\"Shetland Islands Local Authority\",$E$2=\"Eilean Siar Local Authority\"),OR($F64=1,$F64=5)),0,new_ci(VALUE(LEFT(Options!$B$14,2)),$C64,$E64,$F64,2016,$I64+$J64,1,$H64,$G64*$H64,Options!$B$8)))","v":17.509689723400001},{"$f":"IF(AND(OR($E$2=\"Orkney Health Board\",$E$2=\"Orkney Islands Local Authority\"),$F64=1),0,IF(AND(OR($E$2=\"Shetland Health Board\",$E$2=\"Western Isles Health Board\",$E$2=\"Shetland Islands Local Authority\",$E$2=\"Eilean Siar Local Authority\"),OR($F64=1,$F64=5)),0,new_yllv2(VALUE(LEFT(Options!$B$14,2)),$C64,$D64,$E64,$F64,2016,$I64,1,$H64,$G64*$H64,Options!$B$8)))","v":1028.461869497},{"$f":"IF(AND(OR($E$2=\"Orkney Health Board\",$E$2=\"Orkney Islands Local Authority\"),$F64=1),0,IF(AND(OR($E$2=\"Shetland Health Board\",$E$2=\"Western Isles Health Board\",$E$2=\"Shetland Islands Local Authority\",$E$2=\"Eilean Siar Local Authority\"),OR($F64=1,$F64=5)),0,new_yllv2(VALUE(LEFT(Options!$B$14,2)),$C64,$D64,$E64,$F64,2016,$I64+$J64,1,$H64,$G64*$H64,Options!$B$8)))","v":1025.8927734230999},{"$f":"IF(AND(OR($E$2=\"Orkney Health Board\",$E$2=\"Orkney Islands Local Authority\"),$F64=1),0,IF(AND(OR($E$2=\"Shetland Health Board\",$E$2=\"Western Isles Health Board\",$E$2=\"Shetland Islands Local Authority\",$E$2=\"Eilean Siar Local Authority\"),OR($F64=1,$F64=5)),0,hosp_count(VALUE(LEFT(Options!$B$14,2)),$C64,$E64,$F64,2016,$I64,1,$H64,$G64*$H64, Options!$B$8)))","v":6006.7410350919999},{"$f":"IF(AND(OR($E$2=\"Orkney Health Board\",$E$2=\"Orkney Islands Local Authority\"),$F64=1),0,IF(AND(OR($E$2=\"Shetland Health Board\",$E$2=\"Western Isles Health Board\",$E$2=\"Shetland Islands Local Authority\",$E$2=\"Eilean Siar Local Authority\"),OR($F64=1,$F64=5)),0,hosp_count(VALUE(LEFT(Options!$B$14,2)),$C64,$E64,$F64,2016,$I64+$J64,1,$H64,$G64*$H64, Options!$B$8)))","v":5997.5795514005003},{"$f":"IF(AND(OR($E$2=\"Orkney Health Board\",$E$2=\"Orkney Islands Local Authority\"),$F64=1),0,IF(AND(OR($E$2=\"Shetland Health Board\",$E$2=\"Western Isles Health Board\",$E$2=\"Shetland Islands Local Authority\",$E$2=\"Eilean Siar Local Authority\"),OR($F64=1,$F64=5)),0,prem_mort(VALUE(LEFT(Options!$B$14,2)),$C64,$E64,$F64,2016,$I64,1,$H64,$G64*$H64,Options!$B$8)))","v":17.5535384338},{"$f":"IF(AND(OR($E$2=\"Orkney Health Board\",$E$2=\"Orkney Islands Local Authority\"),$F64=1),0,IF(AND(OR($E$2=\"Shetland Health Board\",$E$2=\"Western Isles Health Board\",$E$2=\"Shetland Islands Local Authority\",$E$2=\"Eilean Siar Local Authority\"),OR($F64=1,$F64=5)),0,prem_mort(VALUE(LEFT(Options!$B$14,2)),$C64,$E64,$F64,2016,$I64+$J64,1,$H64,$G64*$H64,Options!$B$8)))","v":17.509689723400001},46.655162751966827,46.538618231448012,2733.5261256033382,2726.6977817964598,15965.18455,15940.834444504839,46.655162751966827,46.538618231448012,279930.97651180095,279231.70938868809,16401156.753620028,16360186.690778758,95791107.299999997,95645006.667029038,279930.97651180095,279231.70938868809,6000]
[null,"Female 25-29",26.975186999999998,81.645189999999999,"female",1,{"$f":"HLOOKUP($E$2,'Prevalence Rates'!$C$3:$BC$249,'Prevalence Rates'!$BD65,FALSE)","v":0.35870000000000002},{"$f":"HLOOKUP($E$2,'Population 2016'!$C$3:$BC$249,'Population 2016'!BD65,FALSE)","v":45129},0,{"$f":"ROUND(0.807*(HLOOKUP($E$2,'Population at Risk'!$C$3:$BC$249,'Population at Risk'!$BD65,FALSE)),0)","v":13064},{"$f":"IF(AND(OR($E$2=\"Orkney Health Board\",$E$2=\"Orkney Islands Local Authority\"),$F65=1),0,IF(AND(OR($E$2=\"Shetland Health Board\",$E$2=\"Western Isles Health Board\",$E$2=\"Shetland Islands Local Authority\",$E$2=\"Eilean Siar Local Authority\"),OR($F65=1,$F65=5)),0,new_ci(VALUE(LEFT(Options!$B$14,2)),$C65,$E65,$F65,2016,$I65,1,$H65,$G65*$H65,Options!$B$8)))","v":31.9321637366},{"$f":"IF(AND(OR($E$2=\"Orkney Health Board\",$E$2=\"Orkney Islands Local Authority\"),$F65=1),0,IF(AND(OR($E$2=\"Shetland Health Board\",$E$2=\"Western Isles Health Board\",$E$2=\"Shetland Islands Local Authority\",$E$2=\"Eilean Siar Local Authority\"),OR($F65=1,$F65=5)),0,new_ci(VALUE(LEFT(Options!$B$14,2)),$C65,$E65,$F65,2016,$I65+$J65,1,$H65,$G65*$H65,Options!$B$8)))","v":31.834066160599999},{"$f":"IF(AND(OR($E$2=\"Orkney Health Board\",$E$2=\"Orkney Islands Local Authority\"),$F65=1),0,IF(AND(OR($E$2=\"Shetland Health Board\",$E$2=\"Western Isles Health Board\",$E$2=\"Shetland Islands Local Authority\",$E$2=\"Eilean Siar Local Authority\"),OR($F65=1,$F65=5)),0,new_yllv2(VALUE(LEFT(Options!$B$14,2)),$C65,$D65,$E65,$F65,2016,$I65,1,$H65,$G65*$H65,Options!$B$8)))","v":1713.7993235398001},{"$f":"IF(AND(OR($E$2=\"Orkney Health Board\",$E$2=\"Orkney Islands Local Authority\"),$F65=1),0,IF(AND(OR($E$2=\"Shetland Health Board\",$E$2=\"Western Isles Health Board\",$E$2=\"Shetland Islands Local Authority\",$E$2=\"Eilean Siar Local Authority\"),OR($F65=1,$F65=5)),0,new_yllv2(VALUE(LEFT(Options!$B$14,2)),$C65,$D65,$E65,$F65,2016,$I65+$J65,1,$H65,$G65*$H65,Options!$B$8)))","v":1708.5344263416},{"$f":"IF(AND(OR($E$2=\"Orkney Health Board\",$E$2=\"Orkney Islands Local Authority\"),$F65=1),0,IF(AND(OR($E$2=\"Shetland Health Board\",$E$2=\"Western Isles Health Board\",$E$2=\"Shetland Islands Local Authority\",$E$2=\"Eilean Siar Local Authority\"),OR($F65=1,$F65=5)),0,hosp_count(VALUE(LEFT(Options!$B$14,2)),$C65,$E65,$F65,2016,$I65,1,$H65,$G65*$H65, Options!$B$8)))","v":8149.6199866325996},{"$f":"IF(AND(OR($E$2=\"Orkney Health Board\",$E$2=\"Orkney Islands Local Authority\"),$F65=1),0,IF(AND(OR($E$2=\"Shetland Health Board\",$E$2=\"Western Isles Health Board\",$E$2=\"Shetland Islands Local Authority\",$E$2=\"Eilean Siar Local Authority\"),OR($F65=1,$F65=5)),0,hosp_count(VALUE(LEFT(Options!$B$14,2)),$C65,$E65,$F65,2016,$I65+$J65,1,$H65,$G65*$H65, Options!$B$8)))","v":8134.1172244137997},{"$f":"IF(AND(OR($E$2=\"Orkney Health Board\",$E$2=\"Orkney Islands Local Authority\"),$F65=1),0,IF(AND(OR($E$2=\"Shetland Health Board\",$E$2=\"Western Isles Health Board\",$E$2=\"Shetland Islands Local Authority\",$E$2=\"Eilean Siar Local Authority\"),OR($F65=1,$F65=5)),0,prem_mort(VALUE(LEFT(Options!$B$14,2)),$C65,$E65,$F65,2016,$I65,1,$H65,$G65*$H65,Options!$B$8)))","v":31.9321637366},{"$f":"IF(AND(OR($E$2=\"Orkney Health Board\",$E$2=\"Orkney Islands Local Authority\"),$F65=1),0,IF(AND(OR($E$2=\"Shetland Health Board\",$E$2=\"Western Isles Health Board\",$E$2=\"Shetland Islands Local Authority\",$E$2=\"Eilean Siar Local Authority\"),OR($F65=1,$F65=5)),0,prem_mort(VALUE(LEFT(Options!$B$14,2)),$C65,$E65,$F65,2016,$I65+$J65,1,$H65,$G65*$H65,Options!$B$8)))","v":31.834066160599999},70.757525619003303,70.540154137250994,3797.5566122444548,3785.8902841667223,18058.498940000001,18024.146833330677,70.757525619003303,70.540154137250994,424545.15371401981,423240.92482350598,22785339.673466727,22715341.705000333,108350993.64,108144880.99998406,424545.15371401981,423240.92482350598,6000]
[null,"Female 30-34",31.999904999999998,81.799899999999994,"female",1,{"$f":"HLOOKUP($E$2,'Prevalence Rates'!$C$3:$BC$249,'Prevalence Rates'!$BD66,FALSE)","v":0.35870000000000002},{"$f":"HLOOKUP($E$2,'Population 2016'!$C$3:$BC$249,'Population 2016'!BD66,FALSE)","v":41240},0,{"$f":"ROUND(0.807*(HLOOKUP($E$2,'Population at Risk'!$C$3:$BC$249,'Population at Risk'!$BD66,FALSE)),0)","v":11938},{"$f":"IF(AND(OR($E$2=\"Orkney Health Board\",$E$2=\"Orkney Islands Local Authority\"),$F66=1),0,IF(AND(OR($E$2=\"Shetland Health Board\",$E$2=\"Western Isles Health Board\",$E$2=\"Shetland Islands Local Authority\",$E$2=\"Eilean Siar Local Authority\"),OR($F66=1,$F66=5)),0,new_ci(VALUE(LEFT(Options!$B$14,2)),$C66,$E66,$F66,2016,$I66,1,$H66,$G66*$H66,Options!$B$8)))","v":44.730962071900002},{"$f":"IF(AND(OR($E$2=\"Orkney Health Board\",$E$2=\"Orkney Islands Local Authority\"),$F66=1),0,IF(AND(OR($E$2=\"Shetland Health Board\",$E$2=\"Western Isles Health Board\",$E$2=\"Shetland Islands Local Authority\",$E$2=\"Eilean Siar Local Authority\"),OR($F66=1,$F66=5)),0,new_ci(VALUE(LEFT(Options!$B$14,2)),$C66,$E66,$F66,2016,$I66+$J66,1,$H66,$G66*$H66,Options!$B$8)))","v":44.593590312099998},{"$f":"IF(AND(OR($E$2=\"Orkney Health Board\",$E$2=\"Orkney Islands Local Authority\"),$F66=1),0,IF(AND(OR($E$2=\"Shetland Health Board\",$E$2=\"Western Isles Health Board\",$E$2=\"Shetland Islands Local Authority\",$E$2=\"Eilean Siar Local Authority\"),OR($F66=1,$F66=5)),0,new_yllv2(VALUE(LEFT(Options!$B$14,2)),$C66,$D66,$E66,$F66,2016,$I66,1,$H66,$G66*$H66,Options!$B$8)))","v":2182.8707254538999},{"$f":"IF(AND(OR($E$2=\"Orkney Health Board\",$E$2=\"Orkney Islands Local Authority\"),$F66=1),0,IF(AND(OR($E$2=\"Shetland Health Board\",$E$2=\"Western Isles Health Board\",$E$2=\"Shetland Islands Local Authority\",$E$2=\"Eilean Siar Local Authority\"),OR($F66=1,$F66=5)),0,new_yllv2(VALUE(LEFT(Options!$B$14,2)),$C66,$D66,$E66,$F66,2016,$I66+$J66,1,$H66,$G66*$H66,Options!$B$8)))","v":2176.1669842625001},{"$f":"IF(AND(OR($E$2=\"Orkney Health Board\",$E$2=\"Orkney Islands Local Authority\"),$F66=1),0,IF(AND(OR($E$2=\"Shetland Health Board\",$E$2=\"Western Isles Health Board\",$E$2=\"Shetland Islands Local Authority\",$E$2=\"Eilean Siar Local Authority\"),OR($F66=1,$F66=5)),0,hosp_count(VALUE(LEFT(Options!$B$14,2)),$C66,$E66,$F66,2016,$I66,1,$H66,$G66*$H66, Options!$B$8)))","v":8450.6647051239997},{"$f":"IF(AND(OR($E$2=\"Orkney Health Board\",$E$2=\"Orkney Islands Local Authority\"),$F66=1),0,IF(AND(OR($E$2=\"Shetland Health Board\",$E$2=\"Western Isles Health Board\",$E$2=\"Shetland Islands Local Authority\",$E$2=\"Eilean Siar Local Authority\"),OR($F66=1,$F66=5)),0,hosp_count(VALUE(LEFT(Options!$B$14,2)),$C66,$E66,$F66,2016,$I66+$J66,1,$H66,$G66*$H66, Options!$B$8)))","v":8434.5895554958006},{"$f":"IF(AND(OR($E$2=\"Orkney Health Board\",$E$2=\"Orkney Islands Local Authority\"),$F66=1),0,IF(AND(OR($E$2=\"Shetland Health Board\",$E$2=\"Western Isles Health Board\",$E$2=\"Shetland Islands Local Authority\",$E$2=\"Eilean Siar Local Authority\"),OR($F66=1,$F66=5)),0,prem_mort(VALUE(LEFT(Options!$B$14,2)),$C66,$E66,$F66,2016,$I66,1,$H66,$G66*$H66,Options!$B$8)))","v":44.730962071900002},{"$f":"IF(AND(OR($E$2=\"Orkney Health Board\",$E$2=\"Orkney Islands Local Authority\"),$F66=1),0,IF(AND(OR($E$2=\"Shetland Health Board\",$E$2=\"Western Isles Health Board\",$E$2=\"Shetland Islands Local Authority\",$E$2=\"Eilean Siar Local Authority\"),OR($F66=1,$F66=5)),0,prem_mort(VALUE(LEFT(Options!$B$14,2)),$C66,$E66,$F66,2016,$I66+$J66,1,$H66,$G66*$H66,Options!$B$8)))","v":44.593590312099998},108.46499047502427,108.13188727473326,5293.0909928562069,5276.8355583474786,20491.427510000001,20452.448000717268,108.46499047502427,108.13188727473326,705022.43808765768,702857.2672857662,34405091.453565344,34299431.12925861,133194278.81500001,132940912.00466225,705022.43808765768,702857.2672857662,6500]
[null,"Female 35-39",36.918118,81.898120000000006,"female",1,{"$f":"HLOOKUP($E$2,'Prevalence Rates'!$C$3:$BC$249,'Prevalence Rates'!$BD67,FALSE)","v":0.39290000000000003},{"$f":"HLOOKUP($E$2,'Population 2016'!$C$3:$BC$249,'Population 2016'!BD67,FALSE)","v":35038},0,{"$f":"ROUND(0.807*(HLOOKUP($E$2,'Population at Risk'!$C$3:$BC$249,'Population at Risk'!$BD67,FALSE)),0)","v":11110},{"$f":"IF(AND(OR($E$2=\"Orkney Health Board\",$E$2=\"Orkney Islands Local Authority\"),$F67=1),0,IF(AND(OR($E$2=\"Shetland Health Board\",$E$2=\"Western Isles Health Board\",$E$2=\"Shetland Islands Local Authority\",$E$2=\"Eilean Siar Local Authority\"),OR($F67=1,$F67=5)),0,new_ci(VALUE(LEFT(Options!$B$14,2)),$C67,$E67,$F67,2016,$I67,1,$H67,$G67*$H67,Options!$B$8)))","v":57.725522121099999},{"$f":"IF(AND(OR($E$2=\"Orkney Health Board\",$E$2=\"Orkney Islands Local Authority\"),$F67=1),0,IF(AND(OR($E$2=\"Shetland Health Board\",$E$2=\"Western Isles Health Board\",$E$2=\"Shetland Islands Local Authority\",$E$2=\"Eilean Siar Local Authority\"),OR($F67=1,$F67=5)),0,new_ci(VALUE(LEFT(Options!$B$14,2)),$C67,$E67,$F67,2016,$I67+$J67,1,$H67,$G67*$H67,Options!$B$8)))","v":57.5354611291},{"$f":"IF(AND(OR($E$2=\"Orkney Health Board\",$E$2=\"Orkney Islands Local Authority\"),$F67=1),0,IF(AND(OR($E$2=\"Shetland Health Board\",$E$2=\"Western Isles Health Board\",$E$2=\"Shetland Islands Local Authority\",$E$2=\"Eilean Siar Local Authority\"),OR($F67=1,$F67=5)),0,new_yllv2(VALUE(LEFT(Options!$B$14,2)),$C67,$D67,$E67,$F67,2016,$I67,1,$H67,$G67*$H67,Options!$B$8)))","v":2538.7685783369998},{"$f":"IF(AND(OR($E$2=\"Orkney Health Board\",$E$2=\"Orkney Islands Local Authority\"),$F67=1),0,IF(AND(OR($E$2=\"Shetland Health Board\",$E$2=\"Western Isles Health Board\",$E$2=\"Shetland Islands Local Authority\",$E$2=\"Eilean Siar Local Authority\"),OR($F67=1,$F67=5)),0,new_yllv2(VALUE(LEFT(Options!$B$14,2)),$C67,$D67,$E67,$F67,2016,$I67+$J67,1,$H67,$G67*$H67,Options!$B$8)))","v":2530.4096955287},{"$f":"IF(AND(OR($E$2=\"Orkney Health Board\",$E$2=\"Orkney Islands Local Authority\"),$F67=1),0,IF(AND(OR($E$2=\"Shetland Health Board\",$E$2=\"Western Isles Health Board\",$E$2=\"Shetland Islands Local Authority\",$E$2=\"Eilean Siar Local Authority\"),OR($F67=1,$F67=5)),0,hosp_count(VALUE(LEFT(Options!$B$14,2)),$C67,$E67,$F67,2016,$I67,1,$H67,$G67*$H67, Options!$B$8)))","v":8125.2852417628001},{"$f":"IF(AND(OR($E$2=\"Orkney Health Board\",$E$2=\"Orkney Islands Local Authority\"),$F67=1),0,IF(AND(OR($E$2=\"Shetland Health Board\",$E$2=\"Western Isles Health Board\",$E$2=\"Shetland Islands Local Authority\",$E$2=\"Eilean Siar Local Authority\"),OR($F67=1,$F67=5)),0,hosp_count(VALUE(LEFT(Options!$B$14,2)),$C67,$E67,$F67,2016,$I67+$J67,1,$H67,$G67*$H67, Options!$B$8)))","v":8108.6168125034001},{"$f":"IF(AND(OR($E$2=\"Orkney Health Board\",$E$2=\"Orkney Islands Local Authority\"),$F67=1),0,IF(AND(OR($E$2=\"Shetland Health Board\",$E$2=\"Western Isles Health Board\",$E$2=\"Shetland Islands Local Authority\",$E$2=\"Eilean Siar Local Authority\"),OR($F67=1,$F67=5)),0,prem_mort(VALUE(LEFT(Options!$B$14,2)),$C67,$E67,$F67,2016,$I67,1,$H67,$G67*$H67,Options!$B$8)))","v":57.725522121099999},{"$f":"IF(AND(OR($E$2=\"Orkney Health Board\",$E$2=\"Orkney Islands Local Authority\"),$F67=1),0,IF(AND(OR($E$2=\"Shetland Health Board\",$E$2=\"Western Isles Health Board\",$E$2=\"Shetland Islands Local Authority\",$E$2=\"Eilean Siar Local Authority\"),OR($F67=1,$F67=5)),0,prem_mort(VALUE(LEFT(Options!$B$14,2)),$C67,$E67,$F67,2016,$I67+$J67,1,$H67,$G67*$H67,Options!$B$8)))","v":57.5354611291},164.75119048204806,164.20874801387063,7245.7576869027907,7221.901066067413,23189.923060000001,23142.350626472402,164.75119048204806,164.20874801387063,1153258.3333743364,1149461.2360970944,50720303.808319539,50553307.462471887,162329461.42000002,161996454.38530681,1153258.3333743364,1149461.2360970944,7000]
[null,"Female 40-44",42.077438000000001,82.30744,"female",1,{"$f":"HLOOKUP($E$2,'Prevalence Rates'!$C$3:$BC$249,'Prevalence Rates'!$BD68,FALSE)","v":0.39290000000000003},{"$f":"HLOOKUP($E$2,'Population 2016'!$C$3:$BC$249,'Population 2016'!BD68,FALSE)","v":33663},0,{"$f":"ROUND(0.807*(HLOOKUP($E$2,'Population at Risk'!$C$3:$BC$249,'Population at Risk'!$BD68,FALSE)),0)","v":10674},{"$f":"IF(AND(OR($E$2=\"Orkney Health Board\",$E$2=\"Orkney Islands Local Authority\"),$F68=1),0,IF(AND(OR($E$2=\"Shetland Health Board\",$E$2=\"Western Isles Health Board\",$E$2=\"Shetland Islands Local Authority\",$E$2=\"Eilean Siar Local Authority\"),OR($F68=1,$F68=5)),0,new_ci(VALUE(LEFT(Options!$B$14,2)),$C68,$E68,$F68,2016,$I68,1,$H68,$G68*$H68,Options!$B$8)))","v":85.969617490399997},{"$f":"IF(AND(OR($E$2=\"Orkney Health Board\",$E$2=\"Orkney Islands Local Authority\"),$F68=1),0,IF(AND(OR($E$2=\"Shetland Health Board\",$E$2=\"Western Isles Health Board\",$E$2=\"Shetland Islands Local Authority\",$E$2=\"Eilean Siar Local Authority\"),OR($F68=1,$F68=5)),0,new_ci(VALUE(LEFT(Options!$B$14,2)),$C68,$E68,$F68,2016,$I68+$J68,1,$H68,$G68*$H68,Options!$B$8)))","v":85.686773568800007},{"$f":"IF(AND(OR($E$2=\"Orkney Health Board\",$E$2=\"Orkney Islands Local Authority\"),$F68=1),0,IF(AND(OR($E$2=\"Shetland Health Board\",$E$2=\"Western Isles Health Board\",$E$2=\"Shetland Islands Local Authority\",$E$2=\"Eilean Siar Local Authority\"),OR($F68=1,$F68=5)),0,new_yllv2(VALUE(LEFT(Options!$B$14,2)),$C68,$D68,$E68,$F68,2016,$I68,1,$H68,$G68*$H68,Options!$B$8)))","v":3372.5882660876},{"$f":"IF(AND(OR($E$2=\"Orkney Health Board\",$E$2=\"Orkney Islands Local Authority\"),$F68=1),0,IF(AND(OR($E$2=\"Shetland Health Board\",$E$2=\"Western Isles Health Board\",$E$2=\"Shetland Islands Local Authority\",$E$2=\"Eilean Siar Local Authority\"),OR($F68=1,$F68=5)),0,new_yllv2(VALUE(LEFT(Options!$B$14,2)),$C68,$D68,$E68,$F68,2016,$I68+$J68,1,$H68,$G68*$H68,Options!$B$8)))","v":3361.4922984775999},{"$f":"IF(AND(OR($E$2=\"Orkney Health Board\",$E$2=\"Orkney Islands Local Authority\"),$F68=1),0,IF(AND(OR($E$2=\"Shetland Health Board\",$E$2=\"Western Isles Health Board\",$E$2=\"Shetland Islands Local Authority\",$E$2=\"Eilean Siar Local Authority\"),OR($F68=1,$F68=5)),0,hosp_count(VALUE(LEFT(Options!$B$14,2)),$C68,$E68,$F68,2016,$I68,1,$H68,$G68*$H68, Options!$B$8)))","v":8888.1852506181003},{"$f":"IF(AND(OR($E$2=\"Orkney Health Board\",$E$2=\"Orkney Islands Local Authority\"),$F68=1),0,IF(AND(OR($E$2=\"Shetland Health Board\",$E$2=\"Western Isles Health Board\",$E$2=\"Shetland Islands Local Authority\",$E$2=\"Eilean Siar Local Authority\"),OR($F68=1,$F68=5)),0,hosp_count(VALUE(LEFT(Options!$B$14,2)),$C68,$E68,$F68,2016,$I68+$J68,1,$H68,$G68*$H68, Options!$B$8)))","v":8869.9518033851},{"$f":"IF(AND(OR($E$2=\"Orkney Health Board\",$E$2=\"Orkney Islands Local Authority\"),$F68=1),0,IF(AND(OR($E$2=\"Shetland Health Board\",$E$2=\"Western Isles Health Board\",$E$2=\"Shetland Islands Local Authority\",$E$2=\"Eilean Siar Local Authority\"),OR($F68=1,$F68=5)),0,prem_mort(VALUE(LEFT(Options!$B$14,2)),$C68,$E68,$F68,2016,$I68,1,$H68,$G68*$H68,Options!$B$8)))","v":85.969617490399997},{"$f":"IF(AND(OR($E$2=\"Orkney Health Board\",$E$2=\"Orkney Islands Local Authority\"),$F68=1),0,IF(AND(OR($E$2=\"Shetland Health Board\",$E$2=\"Western Isles Health Board\",$E$2=\"Shetland Islands Local Authority\",$E$2=\"Eilean Siar Local Authority\"),OR($F68=1,$F68=5)),0,prem_mort(VALUE(LEFT(Options!$B$14,2)),$C68,$E68,$F68,2016,$I68+$J68,1,$H68,$G68*$H68,Options!$B$8)))","v":85.686773568800007},255.38311347889373,254.54289150937231,10018.680052543148,9985.718142998543,26403.425869999999,26349.261216721919,255.38311347889373,254.54289150937231,1787681.7943522562,1781800.2405656062,70130760.367802039,69900027.000989795,184823981.09,184444828.51705343,1787681.7943522562,1781800.2405656062,7000]
[null,"Female 45-49",47.025772000000003,82.585769999999997,"female",1,{"$f":"HLOOKUP($E$2,'Prevalence Rates'!$C$3:$BC$249,'Prevalence Rates'!$BD69,FALSE)","v":0.43149999999999999},{"$f":"HLOOKUP($E$2,'Population 2016'!$C$3:$BC$249,'Population 2016'!BD69,FALSE)","v":39197},0,{"$f":"ROUND(0.807*(HLOOKUP($E$2,'Population at Risk'!$C$3:$BC$249,'Population at Risk'!$BD69,FALSE)),0)","v":13649},{"$f":"IF(AND(OR($E$2=\"Orkney Health Board\",$E$2=\"Orkney Islands Local Authority\"),$F69=1),0,IF(AND(OR($E$2=\"Shetland Health Board\",$E$2=\"Western Isles Health Board\",$E$2=\"Shetland Islands Local Authority\",$E$2=\"Eilean Siar Local Authority\"),OR($F69=1,$F69=5)),0,new_ci(VALUE(LEFT(Options!$B$14,2)),$C69,$E69,$F69,2016,$I69,1,$H69,$G69*$H69,Options!$B$8)))","v":152.3754440088},{"$f":"IF(AND(OR($E$2=\"Orkney Health Board\",$E$2=\"Orkney Islands Local Authority\"),$F69=1),0,IF(AND(OR($E$2=\"Shetland Health Board\",$E$2=\"Western Isles Health Board\",$E$2=\"Shetland Islands Local Authority\",$E$2=\"Eilean Siar Local Authority\"),OR($F69=1,$F69=5)),0,new_ci(VALUE(LEFT(Options!$B$14,2)),$C69,$E69,$F69,2016,$I69+$J69,1,$H69,$G69*$H69,Options!$B$8)))","v":151.83806786490001},{"$f":"IF(AND(OR($E$2=\"Orkney Health Board\",$E$2=\"Orkney Islands Local Authority\"),$F69=1),0,IF(AND(OR($E$2=\"Shetland Health Board\",$E$2=\"Western Isles Health Board\",$E$2=\"Shetland Islands Local Authority\",$E$2=\"Eilean Siar Local Authority\"),OR($F69=1,$F69=5)),0,new_yllv2(VALUE(LEFT(Options!$B$14,2)),$C69,$D69,$E69,$F69,2016,$I69,1,$H69,$G69*$H69,Options!$B$8)))","v":5266.0950401931996},{"$f":"IF(AND(OR($E$2=\"Orkney Health Board\",$E$2=\"Orkney Islands Local Authority\"),$F69=1),0,IF(AND(OR($E$2=\"Shetland Health Board\",$E$2=\"Western Isles Health Board\",$E$2=\"Shetland Islands Local Authority\",$E$2=\"Eilean Siar Local Authority\"),OR($F69=1,$F69=5)),0,new_yllv2(VALUE(LEFT(Options!$B$14,2)),$C69,$D69,$E69,$F69,2016,$I69+$J69,1,$H69,$G69*$H69,Options!$B$8)))","v":5247.5233217348004},{"$f":"IF(AND(OR($E$2=\"Orkney Health Board\",$E$2=\"Orkney Islands Local Authority\"),$F69=1),0,IF(AND(OR($E$2=\"Shetland Health Board\",$E$2=\"Western Isles Health Board\",$E$2=\"Shetland Islands Local Authority\",$E$2=\"Eilean Siar Local Authority\"),OR($F69=1,$F69=5)),0,hosp_count(VALUE(LEFT(Options!$B$14,2)),$C69,$E69,$F69,2016,$I69,1,$H69,$G69*$H69, Options!$B$8)))","v":11721.123672973999},{"$f":"IF(AND(OR($E$2=\"Orkney Health Board\",$E$2=\"Orkney Islands Local Authority\"),$F69=1),0,IF(AND(OR($E$2=\"Shetland Health Board\",$E$2=\"Western Isles Health Board\",$E$2=\"Shetland Islands Local Authority\",$E$2=\"Eilean Siar Local Authority\"),OR($F69=1,$F69=5)),0,hosp_count(VALUE(LEFT(Options!$B$14,2)),$C69,$E69,$F69,2016,$I69+$J69,1,$H69,$G69*$H69, Options!$B$8)))","v":11695.1709899283},{"$f":"IF(AND(OR($E$2=\"Orkney Health Board\",$E$2=\"Orkney Islands Local Authority\"),$F69=1),0,IF(AND(OR($E$2=\"Shetland Health Board\",$E$2=\"Western Isles Health Board\",$E$2=\"Shetland Islands Local Authority\",$E$2=\"Eilean Siar Local Authority\"),OR($F69=1,$F69=5)),0,prem_mort(VALUE(LEFT(Options!$B$14,2)),$C69,$E69,$F69,2016,$I69,1,$H69,$G69*$H69,Options!$B$8)))","v":152.3754440088},{"$f":"IF(AND(OR($E$2=\"Orkney Health Board\",$E$2=\"Orkney Islands Local Authority\"),$F69=1),0,IF(AND(OR($E$2=\"Shetland Health Board\",$E$2=\"Western Isles Health Board\",$E$2=\"Shetland Islands Local Authority\",$E$2=\"Eilean Siar Local Authority\"),OR($F69=1,$F69=5)),0,prem_mort(VALUE(LEFT(Options!$B$14,2)),$C69,$E69,$F69,2016,$I69+$J69,1,$H69,$G69*$H69,Options!$B$8)))","v":151.83806786490001},388.74261807995509,387.37165564941199,13434.94410335791,13387.563644500346,29903.1142,29836.903308743782,388.74261807995509,387.37165564941199,2721198.3265596856,2711601.5895458842,94044608.723505363,93712945.511502415,209321799.40000001,208858323.16120648,2721198.3265596856,2711601.5895458842,7000]
[null,"Female 50-54",51.990825999999998,82.980829999999997,"female",1,{"$f":"HLOOKUP($E$2,'Prevalence Rates'!$C$3:$BC$249,'Prevalence Rates'!$BD70,FALSE)","v":0.43149999999999999},{"$f":"HLOOKUP($E$2,'Population 2016'!$C$3:$BC$249,'Population 2016'!BD70,FALSE)","v":39704},0,{"$f":"ROUND(0.807*(HLOOKUP($E$2,'Population at Risk'!$C$3:$BC$249,'Population at Risk'!$BD70,FALSE)),0)","v":13826},{"$f":"IF(AND(OR($E$2=\"Orkney Health Board\",$E$2=\"Orkney Islands Local Authority\"),$F70=1),0,IF(AND(OR($E$2=\"Shetland Health Board\",$E$2=\"Western Isles Health Board\",$E$2=\"Shetland Islands Local Authority\",$E$2=\"Eilean Siar Local Authority\"),OR($F70=1,$F70=5)),0,new_ci(VALUE(LEFT(Options!$B$14,2)),$C70,$E70,$F70,2016,$I70,1,$H70,$G70*$H70,Options!$B$8)))","v":235.18855463989999},{"$f":"IF(AND(OR($E$2=\"Orkney Health Board\",$E$2=\"Orkney Islands Local Authority\"),$F70=1),0,IF(AND(OR($E$2=\"Shetland Health Board\",$E$2=\"Western Isles Health Board\",$E$2=\"Shetland Islands Local Authority\",$E$2=\"Eilean Siar Local Authority\"),OR($F70=1,$F70=5)),0,new_ci(VALUE(LEFT(Options!$B$14,2)),$C70,$E70,$F70,2016,$I70+$J70,1,$H70,$G70*$H70,Options!$B$8)))","v":234.36043669169999},{"$f":"IF(AND(OR($E$2=\"Orkney Health Board\",$E$2=\"Orkney Islands Local Authority\"),$F70=1),0,IF(AND(OR($E$2=\"Shetland Health Board\",$E$2=\"Western Isles Health Board\",$E$2=\"Shetland Islands Local Authority\",$E$2=\"Eilean Siar Local Authority\"),OR($F70=1,$F70=5)),0,new_yllv2(VALUE(LEFT(Options!$B$14,2)),$C70,$D70,$E70,$F70,2016,$I70,1,$H70,$G70*$H70,Options!$B$8)))","v":7053.3056944048003},{"$f":"IF(AND(OR($E$2=\"Orkney Health Board\",$E$2=\"Orkney Islands Local Authority\"),$F70=1),0,IF(AND(OR($E$2=\"Shetland Health Board\",$E$2=\"Western Isles Health Board\",$E$2=\"Shetland Islands Local Authority\",$E$2=\"Eilean Siar Local Authority\"),OR($F70=1,$F70=5)),0,new_yllv2(VALUE(LEFT(Options!$B$14,2)),$C70,$D70,$E70,$F70,2016,$I70+$J70,1,$H70,$G70*$H70,Options!$B$8)))","v":7028.4704338257998},{"$f":"IF(AND(OR($E$2=\"Orkney Health Board\",$E$2=\"Orkney Islands Local Authority\"),$F70=1),0,IF(AND(OR($E$2=\"Shetland Health Board\",$E$2=\"Western Isles Health Board\",$E$2=\"Shetland Islands Local Authority\",$E$2=\"Eilean Siar Local Authority\"),OR($F70=1,$F70=5)),0,hosp_count(VALUE(LEFT(Options!$B$14,2)),$C70,$E70,$F70,2016,$I70,1,$H70,$G70*$H70, Options!$B$8)))","v":13452.080933396001},{"$f":"IF(AND(OR($E$2=\"Orkney Health Board\",$E$2=\"Orkney Islands Local Authority\"),$F70=1),0,IF(AND(OR($E$2=\"Shetland Health Board\",$E$2=\"Western Isles Health Board\",$E$2=\"Shetland Islands Local Authority\",$E$2=\"Eilean Siar Local Authority\"),OR($F70=1,$F70=5)),0,hosp_count(VALUE(LEFT(Options!$B$14,2)),$C70,$E70,$F70,2016,$I70+$J70,1,$H70,$G70*$H70, Options!$B$8)))","v":13422.2946185278},{"$f":"IF(AND(OR($E$2=\"Orkney Health Board\",$E$2=\"Orkney Islands Local Authority\"),$F70=1),0,IF(AND(OR($E$2=\"Shetland Health Board\",$E$2=\"Western Isles Health Board\",$E$2=\"Shetland Islands Local Authority\",$E$2=\"Eilean Siar Local Authority\"),OR($F70=1,$F70=5)),0,prem_mort(VALUE(LEFT(Options!$B$14,2)),$C70,$E70,$F70,2016,$I70,1,$H70,$G70*$H70,Options!$B$8)))","v":235.18855463989999},{"$f":"IF(AND(OR($E$2=\"Orkney Health Board\",$E$2=\"Orkney Islands Local Authority\"),$F70=1),0,IF(AND(OR($E$2=\"Shetland Health Board\",$E$2=\"Western Isles Health Board\",$E$2=\"Shetland Islands Local Authority\",$E$2=\"Eilean Siar Local Authority\"),OR($F70=1,$F70=5)),0,prem_mort(VALUE(LEFT(Options!$B$14,2)),$C70,$E70,$F70,2016,$I70+$J70,1,$H70,$G70*$H70,Options!$B$8)))","v":234.36043669169999},592.3548122101048,590.26908294302837,17764.723187600241,17702.172158537676,33880.921150000002,33805.900207857645,592.3548122101048,590.26908294302837,4146483.6854707338,4131883.5806011986,124353062.31320168,123915205.10976374,237166448.05000001,236641301.45500353,4146483.6854707338,4131883.5806011986,7000]
[null,"Female 55-59",56.953040999999999,83.473039999999997,"female",1,{"$f":"HLOOKUP($E$2,'Prevalence Rates'!$C$3:$BC$249,'Prevalence Rates'!$BD71,FALSE)","v":0.39530000000000004},{"$f":"HLOOKUP($E$2,'Population 2016'!$C$3:$BC$249,'Population 2016'!BD71,FALSE)","v":35528},0,{"$f":"ROUND(0.807*(HLOOKUP($E$2,'Population at Risk'!$C$3:$BC$249,'Population at Risk'!$BD71,FALSE)),0)","v":11334},{"$f":"IF(AND(OR($E$2=\"Orkney Health Board\",$E$2=\"Orkney Islands Local Authority\"),$F71=1),0,IF(AND(OR($E$2=\"Shetland Health Board\",$E$2=\"Western Isles Health Board\",$E$2=\"Shetland Islands Local Authority\",$E$2=\"Eilean Siar Local Authority\"),OR($F71=1,$F71=5)),0,new_ci(VALUE(LEFT(Options!$B$14,2)),$C71,$E71,$F71,2016,$I71,1,$H71,$G71*$H71,Options!$B$8)))","v":320.41437052499998},{"$f":"IF(AND(OR($E$2=\"Orkney Health Board\",$E$2=\"Orkney Islands Local Authority\"),$F71=1),0,IF(AND(OR($E$2=\"Shetland Health Board\",$E$2=\"Western Isles Health Board\",$E$2=\"Shetland Islands Local Authority\",$E$2=\"Eilean Siar Local Authority\"),OR($F71=1,$F71=5)),0,new_ci(VALUE(LEFT(Options!$B$14,2)),$C71,$E71,$F71,2016,$I71+$J71,1,$H71,$G71*$H71,Options!$B$8)))","v":319.36093982879999},{"$f":"IF(AND(OR($E$2=\"Orkney Health Board\",$E$2=\"Orkney Islands Local Authority\"),$F71=1),0,IF(AND(OR($E$2=\"Shetland Health Board\",$E$2=\"Western Isles Health Board\",$E$2=\"Shetland Islands Local Authority\",$E$2=\"Eilean Siar Local Authority\"),OR($F71=1,$F71=5)),0,new_yllv2(VALUE(LEFT(Options!$B$14,2)),$C71,$D71,$E71,$F71,2016,$I71,1,$H71,$G71*$H71,Options!$B$8)))","v":8176.9744153836},{"$f":"IF(AND(OR($E$2=\"Orkney Health Board\",$E$2=\"Orkney Islands Local Authority\"),$F71=1),0,IF(AND(OR($E$2=\"Shetland Health Board\",$E$2=\"Western Isles Health Board\",$E$2=\"Shetland Islands Local Authority\",$E$2=\"Eilean Siar Local Authority\"),OR($F71=1,$F71=5)),0,new_yllv2(VALUE(LEFT(Options!$B$14,2)),$C71,$D71,$E71,$F71,2016,$I71+$J71,1,$H71,$G71*$H71,Options!$B$8)))","v":8150.0908650700003},{"$f":"IF(AND(OR($E$2=\"Orkney Health Board\",$E$2=\"Orkney Islands Local Authority\"),$F71=1),0,IF(AND(OR($E$2=\"Shetland Health Board\",$E$2=\"Western Isles Health Board\",$E$2=\"Shetland Islands Local Authority\",$E$2=\"Eilean Siar Local Authority\"),OR($F71=1,$F71=5)),0,hosp_count(VALUE(LEFT(Options!$B$14,2)),$C71,$E71,$F71,2016,$I71,1,$H71,$G71*$H71, Options!$B$8)))","v":13637.468044908001},{"$f":"IF(AND(OR($E$2=\"Orkney Health Board\",$E$2=\"Orkney Islands Local Authority\"),$F71=1),0,IF(AND(OR($E$2=\"Shetland Health Board\",$E$2=\"Western Isles Health Board\",$E$2=\"Shetland Islands Local Authority\",$E$2=\"Eilean Siar Local Authority\"),OR($F71=1,$F71=5)),0,hosp_count(VALUE(LEFT(Options!$B$14,2)),$C71,$E71,$F71,2016,$I71+$J71,1,$H71,$G71*$H71, Options!$B$8)))","v":13609.351863264301},{"$f":"IF(AND(OR($E$2=\"Orkney Health Board\",$E$2=\"Orkney Islands Local Authority\"),$F71=1),0,IF(AND(OR($E$2=\"Shetland Health Board\",$E$2=\"Western Isles Health Board\",$E$2=\"Shetland Islands Local Authority\",$E$2=\"Eilean Siar Local Authority\"),OR($F71=1,$F71=5)),0,prem_mort(VALUE(LEFT(Options!$B$14,2)),$C71,$E71,$F71,2016,$I71,1,$H71,$G71*$H71,Options!$B$8)))","v":320.41437052499998},{"$f":"IF(AND(OR($E$2=\"Orkney Health Board\",$E$2=\"Orkney Islands Local Authority\"),$F71=1),0,IF(AND(OR($E$2=\"Shetland Health Board\",$E$2=\"Western Isles Health Board\",$E$2=\"Shetland Islands Local Authority\",$E$2=\"Eilean Siar Local Authority\"),OR($F71=1,$F71=5)),0,prem_mort(VALUE(LEFT(Options!$B$14,2)),$C71,$E71,$F71,2016,$I71+$J71,1,$H71,$G71*$H71,Options!$B$8)))","v":319.36093982879999},901.86436198209856,898.89929021841931,23015.577615918712,22939.908987474668,38385.127350000002,38305.989257105102,901.86436198209856,898.89929021841931,5862118.3528836407,5842845.3864197256,149601254.50347161,149109408.41858533,249503327.77500001,248988930.17118317,5862118.3528836407,5842845.3864197256,6500]
[null,"Female 60-64",61.947387999999997,84.167389999999997,"female",1,{"$f":"HLOOKUP($E$2,'Prevalence Rates'!$C$3:$BC$249,'Prevalence Rates'!$BD72,FALSE)","v":0.39530000000000004},{"$f":"HLOOKUP($E$2,'Population 2016'!$C$3:$BC$249,'Population 2016'!BD72,FALSE)","v":29212},0,{"$f":"ROUND(0.807*(HLOOKUP($E$2,'Population at Risk'!$C$3:$BC$249,'Population at Risk'!$BD72,FALSE)),0)","v":9319},{"$f":"IF(AND(OR($E$2=\"Orkney Health Board\",$E$2=\"Orkney Islands Local Authority\"),$F72=1),0,IF(AND(OR($E$2=\"Shetland Health Board\",$E$2=\"Western Isles Health Board\",$E$2=\"Shetland Islands Local Authority\",$E$2=\"Eilean Siar Local Authority\"),OR($F72=1,$F72=5)),0,new_ci(VALUE(LEFT(Options!$B$14,2)),$C72,$E72,$F72,2016,$I72,1,$H72,$G72*$H72,Options!$B$8)))","v":401.84291151719998},{"$f":"IF(AND(OR($E$2=\"Orkney Health Board\",$E$2=\"Orkney Islands Local Authority\"),$F72=1),0,IF(AND(OR($E$2=\"Shetland Health Board\",$E$2=\"Western Isles Health Board\",$E$2=\"Shetland Islands Local Authority\",$E$2=\"Eilean Siar Local Authority\"),OR($F72=1,$F72=5)),0,new_ci(VALUE(LEFT(Options!$B$14,2)),$C72,$E72,$F72,2016,$I72+$J72,1,$H72,$G72*$H72,Options!$B$8)))","v":400.52696527630002},{"$f":"IF(AND(OR($E$2=\"Orkney Health Board\",$E$2=\"Orkney Islands Local Authority\"),$F72=1),0,IF(AND(OR($E$2=\"Shetland Health Board\",$E$2=\"Western Isles Health Board\",$E$2=\"Shetland Islands Local Authority\",$E$2=\"Eilean Siar Local Authority\"),OR($F72=1,$F72=5)),0,new_yllv2(VALUE(LEFT(Options!$B$14,2)),$C72,$D72,$E72,$F72,2016,$I72,1,$H72,$G72*$H72,Options!$B$8)))","v":8527.1073860807992},{"$f":"IF(AND(OR($E$2=\"Orkney Health Board\",$E$2=\"Orkney Islands Local Authority\"),$F72=1),0,IF(AND(OR($E$2=\"Shetland Health Board\",$E$2=\"Western Isles Health Board\",$E$2=\"Shetland Islands Local Authority\",$E$2=\"Eilean Siar Local Authority\"),OR($F72=1,$F72=5)),0,new_yllv2(VALUE(LEFT(Options!$B$14,2)),$C72,$D72,$E72,$F72,2016,$I72+$J72,1,$H72,$G72*$H72,Options!$B$8)))","v":8499.1830042170004},{"$f":"IF(AND(OR($E$2=\"Orkney Health Board\",$E$2=\"Orkney Islands Local Authority\"),$F72=1),0,IF(AND(OR($E$2=\"Shetland Health Board\",$E$2=\"Western Isles Health Board\",$E$2=\"Shetland Islands Local Authority\",$E$2=\"Eilean Siar Local Authority\"),OR($F72=1,$F72=5)),0,hosp_count(VALUE(LEFT(Options!$B$14,2)),$C72,$E72,$F72,2016,$I72,1,$H72,$G72*$H72, Options!$B$8)))","v":12714.0251895444},{"$f":"IF(AND(OR($E$2=\"Orkney Health Board\",$E$2=\"Orkney Islands Local Authority\"),$F72=1),0,IF(AND(OR($E$2=\"Shetland Health Board\",$E$2=\"Western Isles Health Board\",$E$2=\"Shetland Islands Local Authority\",$E$2=\"Eilean Siar Local Authority\"),OR($F72=1,$F72=5)),0,hosp_count(VALUE(LEFT(Options!$B$14,2)),$C72,$E72,$F72,2016,$I72+$J72,1,$H72,$G72*$H72, Options!$B$8)))","v":12687.813124959401},{"$f":"IF(AND(OR($E$2=\"Orkney Health Board\",$E$2=\"Orkney Islands Local Authority\"),$F72=1),0,IF(AND(OR($E$2=\"Shetland Health Board\",$E$2=\"Western Isles Health Board\",$E$2=\"Shetland Islands Local Authority\",$E$2=\"Eilean Siar Local Authority\"),OR($F72=1,$F72=5)),0,prem_mort(VALUE(LEFT(Options!$B$14,2)),$C72,$E72,$F72,2016,$I72,1,$H72,$G72*$H72,Options!$B$8)))","v":401.84291151719998},{"$f":"IF(AND(OR($E$2=\"Orkney Health Board\",$E$2=\"Orkney Islands Local Authority\"),$F72=1),0,IF(AND(OR($E$2=\"Shetland Health Board\",$E$2=\"Western Isles Health Board\",$E$2=\"Shetland Islands Local Authority\",$E$2=\"Eilean Siar Local Authority\"),OR($F72=1,$F72=5)),0,prem_mort(VALUE(LEFT(Options!$B$14,2)),$C72,$E72,$F72,2016,$I72+$J72,1,$H72,$G72*$H72,Options!$B$8)))","v":400.52696527630002},1375.6090357291523,1371.1042218139805,29190.426489390658,29094.834329101053,43523.295869999994,43433.565401066,1375.6090357291523,1371.1042218139805,8253654.2143749138,8226625.3308838829,175142558.93634394,174569005.97460631,261139775.21999997,260601392.406396,8253654.2143749138,8226625.3308838829,6000]
[null,"Female 65-69",67.063927000000007,85.193929999999995,"female",1,{"$f":"HLOOKUP($E$2,'Prevalence Rates'!$C$3:$BC$249,'Prevalence Rates'!$BD73,FALSE)","v":0.2737},{"$f":"HLOOKUP($E$2,'Population 2016'!$C$3:$BC$249,'Population 2016'!BD73,FALSE)","v":27762},0,{"$f":"ROUND(0.807*(HLOOKUP($E$2,'Population at Risk'!$C$3:$BC$249,'Population at Risk'!$BD73,FALSE)),0)","v":6132},{"$f":"IF(AND(OR($E$2=\"Orkney Health Board\",$E$2=\"Orkney Islands Local Authority\"),$F73=1),0,IF(AND(OR($E$2=\"Shetland Health Board\",$E$2=\"Western Isles Health Board\",$E$2=\"Shetland Islands Local Authority\",$E$2=\"Eilean Siar Local Authority\"),OR($F73=1,$F73=5)),0,new_ci(VALUE(LEFT(Options!$B$14,2)),$C73,$E73,$F73,2016,$I73,1,$H73,$G73*$H73,Options!$B$8)))","v":587.73026207639998},{"$f":"IF(AND(OR($E$2=\"Orkney Health Board\",$E$2=\"Orkney Islands Local Authority\"),$F73=1),0,IF(AND(OR($E$2=\"Shetland Health Board\",$E$2=\"Western Isles Health Board\",$E$2=\"Shetland Islands Local Authority\",$E$2=\"Eilean Siar Local Authority\"),OR($F73=1,$F73=5)),0,new_ci(VALUE(LEFT(Options!$B$14,2)),$C73,$E73,$F73,2016,$I73+$J73,1,$H73,$G73*$H73,Options!$B$8)))","v":586.30356458879999},{"$f":"IF(AND(OR($E$2=\"Orkney Health Board\",$E$2=\"Orkney Islands Local Authority\"),$F73=1),0,IF(AND(OR($E$2=\"Shetland Health Board\",$E$2=\"Western Isles Health Board\",$E$2=\"Shetland Islands Local Authority\",$E$2=\"Eilean Siar Local Authority\"),OR($F73=1,$F73=5)),0,new_yllv2(VALUE(LEFT(Options!$B$14,2)),$C73,$D73,$E73,$F73,2016,$I73,1,$H73,$G73*$H73,Options!$B$8)))","v":10067.8211525595},{"$f":"IF(AND(OR($E$2=\"Orkney Health Board\",$E$2=\"Orkney Islands Local Authority\"),$F73=1),0,IF(AND(OR($E$2=\"Shetland Health Board\",$E$2=\"Western Isles Health Board\",$E$2=\"Shetland Islands Local Authority\",$E$2=\"Eilean Siar Local Authority\"),OR($F73=1,$F73=5)),0,new_yllv2(VALUE(LEFT(Options!$B$14,2)),$C73,$D73,$E73,$F73,2016,$I73+$J73,1,$H73,$G73*$H73,Options!$B$8)))","v":10043.381820316799},{"$f":"IF(AND(OR($E$2=\"Orkney Health Board\",$E$2=\"Orkney Islands Local Authority\"),$F73=1),0,IF(AND(OR($E$2=\"Shetland Health Board\",$E$2=\"Western Isles Health Board\",$E$2=\"Shetland Islands Local Authority\",$E$2=\"Eilean Siar Local Authority\"),OR($F73=1,$F73=5)),0,hosp_count(VALUE(LEFT(Options!$B$14,2)),$C73,$E73,$F73,2016,$I73,1,$H73,$G73*$H73, Options!$B$8)))","v":13742.512922031599},{"$f":"IF(AND(OR($E$2=\"Orkney Health Board\",$E$2=\"Orkney Islands Local Authority\"),$F73=1),0,IF(AND(OR($E$2=\"Shetland Health Board\",$E$2=\"Western Isles Health Board\",$E$2=\"Shetland Islands Local Authority\",$E$2=\"Eilean Siar Local Authority\"),OR($F73=1,$F73=5)),0,hosp_count(VALUE(LEFT(Options!$B$14,2)),$C73,$E73,$F73,2016,$I73+$J73,1,$H73,$G73*$H73, Options!$B$8)))","v":13721.7558301106},{"$f":"IF(AND(OR($E$2=\"Orkney Health Board\",$E$2=\"Orkney Islands Local Authority\"),$F73=1),0,IF(AND(OR($E$2=\"Shetland Health Board\",$E$2=\"Western Isles Health Board\",$E$2=\"Shetland Islands Local Authority\",$E$2=\"Eilean Siar Local Authority\"),OR($F73=1,$F73=5)),0,prem_mort(VALUE(LEFT(Options!$B$14,2)),$C73,$E73,$F73,2016,$I73,1,$H73,$G73*$H73,Options!$B$8)))","v":587.73026207639998},{"$f":"IF(AND(OR($E$2=\"Orkney Health Board\",$E$2=\"Orkney Islands Local Authority\"),$F73=1),0,IF(AND(OR($E$2=\"Shetland Health Board\",$E$2=\"Western Isles Health Board\",$E$2=\"Shetland Islands Local Authority\",$E$2=\"Eilean Siar Local Authority\"),OR($F73=1,$F73=5)),0,prem_mort(VALUE(LEFT(Options!$B$14,2)),$C73,$E73,$F73,2016,$I73+$J73,1,$H73,$G73*$H73,Options!$B$8)))","v":586.30356458879999},2117.0314173200777,2111.8923873957206,36264.754529787118,36176.722931765726,49501.163180000003,49426.395180860891,2117.0314173200777,2111.8923873957206,11643672.795260428,11615408.130676463,199456149.91382915,198971976.12471148,272256397.49000001,271845173.49473488,11643672.795260428,11615408.130676463,5500]
[null,"Female 70-74",71.938164,86.248159999999999,"female",1,{"$f":"HLOOKUP($E$2,'Prevalence Rates'!$C$3:$BC$249,'Prevalence Rates'!$BD74,FALSE)","v":0.2737},{"$f":"HLOOKUP($E$2,'Population 2016'!$C$3:$BC$249,'Population 2016'!BD74,FALSE)","v":21786},0,{"$f":"ROUND(0.807*(HLOOKUP($E$2,'Population at Risk'!$C$3:$BC$249,'Population at Risk'!$BD74,FALSE)),0)","v":4812},{"$f":"IF(AND(OR($E$2=\"Orkney Health Board\",$E$2=\"Orkney Islands Local Authority\"),$F74=1),0,IF(AND(OR($E$2=\"Shetland Health Board\",$E$2=\"Western Isles Health Board\",$E$2=\"Shetland Islands Local Authority\",$E$2=\"Eilean Siar Local Authority\"),OR($F74=1,$F74=5)),0,new_ci(VALUE(LEFT(Options!$B$14,2)),$C74,$E74,$F74,2016,$I74,1,$H74,$G74*$H74,Options!$B$8)))","v":694.0259278044},{"$f":"IF(AND(OR($E$2=\"Orkney Health Board\",$E$2=\"Orkney Islands Local Authority\"),$F74=1),0,IF(AND(OR($E$2=\"Shetland Health Board\",$E$2=\"Western Isles Health Board\",$E$2=\"Shetland Islands Local Authority\",$E$2=\"Eilean Siar Local Authority\"),OR($F74=1,$F74=5)),0,new_ci(VALUE(LEFT(Options!$B$14,2)),$C74,$E74,$F74,2016,$I74+$J74,1,$H74,$G74*$H74,Options!$B$8)))","v":692.35839753480002},{"$f":"IF(AND(OR($E$2=\"Orkney Health Board\",$E$2=\"Orkney Islands Local Authority\"),$F74=1),0,IF(AND(OR($E$2=\"Shetland Health Board\",$E$2=\"Western Isles Health Board\",$E$2=\"Shetland Islands Local Authority\",$E$2=\"Eilean Siar Local Authority\"),OR($F74=1,$F74=5)),0,new_yllv2(VALUE(LEFT(Options!$B$14,2)),$C74,$D74,$E74,$F74,2016,$I74,1,$H74,$G74*$H74,Options!$B$8)))","v":9237.4823229729009},{"$f":"IF(AND(OR($E$2=\"Orkney Health Board\",$E$2=\"Orkney Islands Local Authority\"),$F74=1),0,IF(AND(OR($E$2=\"Shetland Health Board\",$E$2=\"Western Isles Health Board\",$E$2=\"Shetland Islands Local Authority\",$E$2=\"Eilean Siar Local Authority\"),OR($F74=1,$F74=5)),0,new_yllv2(VALUE(LEFT(Options!$B$14,2)),$C74,$D74,$E74,$F74,2016,$I74+$J74,1,$H74,$G74*$H74,Options!$B$8)))","v":9215.2875017545994},{"$f":"IF(AND(OR($E$2=\"Orkney Health Board\",$E$2=\"Orkney Islands Local Authority\"),$F74=1),0,IF(AND(OR($E$2=\"Shetland Health Board\",$E$2=\"Western Isles Health Board\",$E$2=\"Shetland Islands Local Authority\",$E$2=\"Eilean Siar Local Authority\"),OR($F74=1,$F74=5)),0,hosp_count(VALUE(LEFT(Options!$B$14,2)),$C74,$E74,$F74,2016,$I74,1,$H74,$G74*$H74, Options!$B$8)))","v":12191.007503147401},{"$f":"IF(AND(OR($E$2=\"Orkney Health Board\",$E$2=\"Orkney Islands Local Authority\"),$F74=1),0,IF(AND(OR($E$2=\"Shetland Health Board\",$E$2=\"Western Isles Health Board\",$E$2=\"Shetland Islands Local Authority\",$E$2=\"Eilean Siar Local Authority\"),OR($F74=1,$F74=5)),0,hosp_count(VALUE(LEFT(Options!$B$14,2)),$C74,$E74,$F74,2016,$I74+$J74,1,$H74,$G74*$H74, Options!$B$8)))","v":12172.593988979799},{"$f":"IF(AND(OR($E$2=\"Orkney Health Board\",$E$2=\"Orkney Islands Local Authority\"),$F74=1),0,IF(AND(OR($E$2=\"Shetland Health Board\",$E$2=\"Western Isles Health Board\",$E$2=\"Shetland Islands Local Authority\",$E$2=\"Eilean Siar Local Authority\"),OR($F74=1,$F74=5)),0,prem_mort(VALUE(LEFT(Options!$B$14,2)),$C74,$E74,$F74,2016,$I74,1,$H74,$G74*$H74,Options!$B$8)))","v":694.0259278044},{"$f":"IF(AND(OR($E$2=\"Orkney Health Board\",$E$2=\"Orkney Islands Local Authority\"),$F74=1),0,IF(AND(OR($E$2=\"Shetland Health Board\",$E$2=\"Western Isles Health Board\",$E$2=\"Shetland Islands Local Authority\",$E$2=\"Eilean Siar Local Authority\"),OR($F74=1,$F74=5)),0,prem_mort(VALUE(LEFT(Options!$B$14,2)),$C74,$E74,$F74,2016,$I74+$J74,1,$H74,$G74*$H74,Options!$B$8)))","v":692.35839753480002},3185.651004334894,3177.9968674139354,42401.002125093641,42299.125593292025,55957.98909000001,55873.46914982007,3185.651004334894,3177.9968674139354,15928255.021674469,15889984.337069677,212005010.62546819,211495627.96646014,279789945.45000005,279367345.74910033,15928255.021674469,15889984.337069677,5000]
[null,"Female 75-79",76.942824999999999,87.812830000000005,"female",1,{"$f":"HLOOKUP($E$2,'Prevalence Rates'!$C$3:$BC$249,'Prevalence Rates'!$BD75,FALSE)","v":0.14899999999999999},{"$f":"HLOOKUP($E$2,'Population 2016'!$C$3:$BC$249,'Population 2016'!BD75,FALSE)","v":19138},0,{"$f":"ROUND(0.807*(HLOOKUP($E$2,'Population at Risk'!$C$3:$BC$249,'Population at Risk'!$BD75,FALSE)),0)","v":2301},{"$f":"IF(AND(OR($E$2=\"Orkney Health Board\",$E$2=\"Orkney Islands Local Authority\"),$F75=1),0,IF(AND(OR($E$2=\"Shetland Health Board\",$E$2=\"Western Isles Health Board\",$E$2=\"Shetland Islands Local Authority\",$E$2=\"Eilean Siar Local Authority\"),OR($F75=1,$F75=5)),0,new_ci(VALUE(LEFT(Options!$B$14,2)),$C75,$E75,$F75,2016,$I75,1,$H75,$G75*$H75,Options!$B$8)))","v":925.05143352840003},{"$f":"IF(AND(OR($E$2=\"Orkney Health Board\",$E$2=\"Orkney Islands Local Authority\"),$F75=1),0,IF(AND(OR($E$2=\"Shetland Health Board\",$E$2=\"Western Isles Health Board\",$E$2=\"Shetland Islands Local Authority\",$E$2=\"Eilean Siar Local Authority\"),OR($F75=1,$F75=5)),0,new_ci(VALUE(LEFT(Options!$B$14,2)),$C75,$E75,$F75,2016,$I75+$J75,1,$H75,$G75*$H75,Options!$B$8)))","v":923.7637897866},{"$f":"IF(AND(OR($E$2=\"Orkney Health Board\",$E$2=\"Orkney Islands Local Authority\"),$F75=1),0,IF(AND(OR($E$2=\"Shetland Health Board\",$E$2=\"Western Isles Health Board\",$E$2=\"Shetland Islands Local Authority\",$E$2=\"Eilean Siar Local Authority\"),OR($F75=1,$F75=5)),0,new_yllv2(VALUE(LEFT(Options!$B$14,2)),$C75,$D75,$E75,$F75,2016,$I75,1,$H75,$G75*$H75,Options!$B$8)))","v":9130.2622741824998},{"$f":"IF(AND(OR($E$2=\"Orkney Health Board\",$E$2=\"Orkney Islands Local Authority\"),$F75=1),0,IF(AND(OR($E$2=\"Shetland Health Board\",$E$2=\"Western Isles Health Board\",$E$2=\"Shetland Islands Local Authority\",$E$2=\"Eilean Siar Local Authority\"),OR($F75=1,$F75=5)),0,new_yllv2(VALUE(LEFT(Options!$B$14,2)),$C75,$D75,$E75,$F75,2016,$I75+$J75,1,$H75,$G75*$H75,Options!$B$8)))","v":9117.5532240126995},{"$f":"IF(AND(OR($E$2=\"Orkney Health Board\",$E$2=\"Orkney Islands Local Authority\"),$F75=1),0,IF(AND(OR($E$2=\"Shetland Health Board\",$E$2=\"Western Isles Health Board\",$E$2=\"Shetland Islands Local Authority\",$E$2=\"Eilean Siar Local Authority\"),OR($F75=1,$F75=5)),0,hosp_count(VALUE(LEFT(Options!$B$14,2)),$C75,$E75,$F75,2016,$I75,1,$H75,$G75*$H75, Options!$B$8)))","v":12145.911451996},{"$f":"IF(AND(OR($E$2=\"Orkney Health Board\",$E$2=\"Orkney Islands Local Authority\"),$F75=1),0,IF(AND(OR($E$2=\"Shetland Health Board\",$E$2=\"Western Isles Health Board\",$E$2=\"Shetland Islands Local Authority\",$E$2=\"Eilean Siar Local Authority\"),OR($F75=1,$F75=5)),0,hosp_count(VALUE(LEFT(Options!$B$14,2)),$C75,$E75,$F75,2016,$I75+$J75,1,$H75,$G75*$H75, Options!$B$8)))","v":12135.292252512199},{"$f":"IF(AND(OR($E$2=\"Orkney Health Board\",$E$2=\"Orkney Islands Local Authority\"),$F75=1),0,IF(AND(OR($E$2=\"Shetland Health Board\",$E$2=\"Western Isles Health Board\",$E$2=\"Shetland Islands Local Authority\",$E$2=\"Eilean Siar Local Authority\"),OR($F75=1,$F75=5)),0,prem_mort(VALUE(LEFT(Options!$B$14,2)),$C75,$E75,$F75,2016,$I75,1,$H75,$G75*$H75,Options!$B$8)))","v":0},{"$f":"IF(AND(OR($E$2=\"Orkney Health Board\",$E$2=\"Orkney Islands Local Authority\"),$F75=1),0,IF(AND(OR($E$2=\"Shetland Health Board\",$E$2=\"Western Isles Health Board\",$E$2=\"Shetland Islands Local Authority\",$E$2=\"Eilean Siar Local Authority\"),OR($F75=1,$F75=5)),0,prem_mort(VALUE(LEFT(Options!$B$14,2)),$C75,$E75,$F75,2016,$I75+$J75,1,$H75,$G75*$H75,Options!$B$8)))","v":0},4833.584666780228,4826.8564624652527,47707.504829044308,47641.097418814395,63464.894200000002,63409.406690940537,0,0,19334338.667120911,19307425.849861011,190830019.31617722,190564389.67525759,253859576.80000001,253637626.76376215,0,0,4000]
[null,"Female 80-84",81.856712000000002,89.736710000000002,"female",1,{"$f":"HLOOKUP($E$2,'Prevalence Rates'!$C$3:$BC$249,'Prevalence Rates'!$BD76,FALSE)","v":0.14899999999999999},{"$f":"HLOOKUP($E$2,'Population 2016'!$C$3:$BC$249,'Population 2016'!BD76,FALSE)","v":14776},0,{"$f":"ROUND(0.807*(HLOOKUP($E$2,'Population at Risk'!$C$3:$BC$249,'Population at Risk'!$BD76,FALSE)),0)","v":1777},{"$f":"IF(AND(OR($E$2=\"Orkney Health Board\",$E$2=\"Orkney Islands Local Authority\"),$F76=1),0,IF(AND(OR($E$2=\"Shetland Health Board\",$E$2=\"Western Isles Health Board\",$E$2=\"Shetland Islands Local Authority\",$E$2=\"Eilean Siar Local Authority\"),OR($F76=1,$F76=5)),0,new_ci(VALUE(LEFT(Options!$B$14,2)),$C76,$E76,$F76,2016,$I76,1,$H76,$G76*$H76,Options!$B$8)))","v":1070.2187304704},{"$f":"IF(AND(OR($E$2=\"Orkney Health Board\",$E$2=\"Orkney Islands Local Authority\"),$F76=1),0,IF(AND(OR($E$2=\"Shetland Health Board\",$E$2=\"Western Isles Health Board\",$E$2=\"Shetland Islands Local Authority\",$E$2=\"Eilean Siar Local Authority\"),OR($F76=1,$F76=5)),0,new_ci(VALUE(LEFT(Options!$B$14,2)),$C76,$E76,$F76,2016,$I76+$J76,1,$H76,$G76*$H76,Options!$B$8)))","v":1068.7694106920001},{"$f":"IF(AND(OR($E$2=\"Orkney Health Board\",$E$2=\"Orkney Islands Local Authority\"),$F76=1),0,IF(AND(OR($E$2=\"Shetland Health Board\",$E$2=\"Western Isles Health Board\",$E$2=\"Shetland Islands Local Authority\",$E$2=\"Eilean Siar Local Authority\"),OR($F76=1,$F76=5)),0,new_yllv2(VALUE(LEFT(Options!$B$14,2)),$C76,$D76,$E76,$F76,2016,$I76,1,$H76,$G76*$H76,Options!$B$8)))","v":7363.1027251988999},{"$f":"IF(AND(OR($E$2=\"Orkney Health Board\",$E$2=\"Orkney Islands Local Authority\"),$F76=1),0,IF(AND(OR($E$2=\"Shetland Health Board\",$E$2=\"Western Isles Health Board\",$E$2=\"Shetland Islands Local Authority\",$E$2=\"Eilean Siar Local Authority\"),OR($F76=1,$F76=5)),0,new_yllv2(VALUE(LEFT(Options!$B$14,2)),$C76,$D76,$E76,$F76,2016,$I76+$J76,1,$H76,$G76*$H76,Options!$B$8)))","v":7353.1314080221},{"$f":"IF(AND(OR($E$2=\"Orkney Health Board\",$E$2=\"Orkney Islands Local Authority\"),$F76=1),0,IF(AND(OR($E$2=\"Shetland Health Board\",$E$2=\"Western Isles Health Board\",$E$2=\"Shetland Islands Local Authority\",$E$2=\"Eilean Siar Local Authority\"),OR($F76=1,$F76=5)),0,hosp_count(VALUE(LEFT(Options!$B$14,2)),$C76,$E76,$F76,2016,$I76,1,$H76,$G76*$H76, Options!$B$8)))","v":10611.3411920208},{"$f":"IF(AND(OR($E$2=\"Orkney Health Board\",$E$2=\"Orkney Islands Local Authority\"),$F76=1),0,IF(AND(OR($E$2=\"Shetland Health Board\",$E$2=\"Western Isles Health Board\",$E$2=\"Shetland Islands Local Authority\",$E$2=\"Eilean Siar Local Authority\"),OR($F76=1,$F76=5)),0,hosp_count(VALUE(LEFT(Options!$B$14,2)),$C76,$E76,$F76,2016,$I76+$J76,1,$H76,$G76*$H76, Options!$B$8)))","v":10602.061310692399},{"$f":"IF(AND(OR($E$2=\"Orkney Health Board\",$E$2=\"Orkney Islands Local Authority\"),$F76=1),0,IF(AND(OR($E$2=\"Shetland Health Board\",$E$2=\"Western Isles Health Board\",$E$2=\"Shetland Islands Local Authority\",$E$2=\"Eilean Siar Local Authority\"),OR($F76=1,$F76=5)),0,prem_mort(VALUE(LEFT(Options!$B$14,2)),$C76,$E76,$F76,2016,$I76,1,$H76,$G76*$H76,Options!$B$8)))","v":0},{"$f":"IF(AND(OR($E$2=\"Orkney Health Board\",$E$2=\"Orkney Islands Local Authority\"),$F76=1),0,IF(AND(OR($E$2=\"Shetland Health Board\",$E$2=\"Western Isles Health Board\",$E$2=\"Shetland Islands Local Authority\",$E$2=\"Eilean Siar Local Authority\"),OR($F76=1,$F76=5)),0,prem_mort(VALUE(LEFT(Options!$B$14,2)),$C76,$E76,$F76,2016,$I76+$J76,1,$H76,$G76*$H76,Options!$B$8)))","v":0},7242.952967449919,7233.1443603952357,49831.501930149563,49764.018733230238,71814.707580000002,71751.90383522198,0,0,18107382.418624796,18082860.900988091,124578754.8253739,124410046.8330756,179536768.95000002,179379759.58805496,0,0,2500]
[null,"Female 85-89",86.730819999999994,92.220819999999989,"female",1,{"$f":"HLOOKUP($E$2,'Prevalence Rates'!$C$3:$BC$249,'Prevalence Rates'!$BD77,FALSE)","v":0.14899999999999999},{"$f":"HLOOKUP($E$2,'Population 2016'!$C$3:$BC$249,'Population 2016'!BD77,FALSE)","v":8869},0,{"$f":"ROUND(0.807*(HLOOKUP($E$2,'Population at Risk'!$C$3:$BC$249,'Population at Risk'!$BD77,FALSE)),0)","v":1066},{"$f":"IF(AND(OR($E$2=\"Orkney Health Board\",$E$2=\"Orkney Islands Local Authority\"),$F77=1),0,IF(AND(OR($E$2=\"Shetland Health Board\",$E$2=\"Western Isles Health Board\",$E$2=\"Shetland Islands Local Authority\",$E$2=\"Eilean Siar Local Authority\"),OR($F77=1,$F77=5)),0,new_ci(VALUE(LEFT(Options!$B$14,2)),$C77,$E77,$F77,2016,$I77,1,$H77,$G77*$H77,Options!$B$8)))","v":952.96836866410001},{"$f":"IF(AND(OR($E$2=\"Orkney Health Board\",$E$2=\"Orkney Islands Local Authority\"),$F77=1),0,IF(AND(OR($E$2=\"Shetland Health Board\",$E$2=\"Western Isles Health Board\",$E$2=\"Shetland Islands Local Authority\",$E$2=\"Eilean Siar Local Authority\"),OR($F77=1,$F77=5)),0,new_ci(VALUE(LEFT(Options!$B$14,2)),$C77,$E77,$F77,2016,$I77+$J77,1,$H77,$G77*$H77,Options!$B$8)))","v":951.7314632801},{"$f":"IF(AND(OR($E$2=\"Orkney Health Board\",$E$2=\"Orkney Islands Local Authority\"),$F77=1),0,IF(AND(OR($E$2=\"Shetland Health Board\",$E$2=\"Western Isles Health Board\",$E$2=\"Shetland Islands Local Authority\",$E$2=\"Eilean Siar Local Authority\"),OR($F77=1,$F77=5)),0,new_yllv2(VALUE(LEFT(Options!$B$14,2)),$C77,$D77,$E77,$F77,2016,$I77,1,$H77,$G77*$H77,Options!$B$8)))","v":4278.8279753017996},{"$f":"IF(AND(OR($E$2=\"Orkney Health Board\",$E$2=\"Orkney Islands Local Authority\"),$F77=1),0,IF(AND(OR($E$2=\"Shetland Health Board\",$E$2=\"Western Isles Health Board\",$E$2=\"Shetland Islands Local Authority\",$E$2=\"Eilean Siar Local Authority\"),OR($F77=1,$F77=5)),0,new_yllv2(VALUE(LEFT(Options!$B$14,2)),$C77,$D77,$E77,$F77,2016,$I77+$J77,1,$H77,$G77*$H77,Options!$B$8)))","v":4273.2742701276002},{"$f":"IF(AND(OR($E$2=\"Orkney Health Board\",$E$2=\"Orkney Islands Local Authority\"),$F77=1),0,IF(AND(OR($E$2=\"Shetland Health Board\",$E$2=\"Western Isles Health Board\",$E$2=\"Shetland Islands Local Authority\",$E$2=\"Eilean Siar Local Authority\"),OR($F77=1,$F77=5)),0,hosp_count(VALUE(LEFT(Options!$B$14,2)),$C77,$E77,$F77,2016,$I77,1,$H77,$G77*$H77, Options!$B$8)))","v":7200.0139395590004},{"$f":"IF(AND(OR($E$2=\"Orkney Health Board\",$E$2=\"Orkney Islands Local Authority\"),$F77=1),0,IF(AND(OR($E$2=\"Shetland Health Board\",$E$2=\"Western Isles Health Board\",$E$2=\"Shetland Islands Local Authority\",$E$2=\"Eilean Siar Local Authority\"),OR($F77=1,$F77=5)),0,hosp_count(VALUE(LEFT(Options!$B$14,2)),$C77,$E77,$F77,2016,$I77+$J77,1,$H77,$G77*$H77, Options!$B$8)))","v":7193.7209430024004},{"$f":"IF(AND(OR($E$2=\"Orkney Health Board\",$E$2=\"Orkney Islands Local Authority\"),$F77=1),0,IF(AND(OR($E$2=\"Shetland Health Board\",$E$2=\"Western Isles Health Board\",$E$2=\"Shetland Islands Local Authority\",$E$2=\"Eilean Siar Local Authority\"),OR($F77=1,$F77=5)),0,prem_mort(VALUE(LEFT(Options!$B$14,2)),$C77,$E77,$F77,2016,$I77,1,$H77,$G77*$H77,Options!$B$8)))","v":0},{"$f":"IF(AND(OR($E$2=\"Orkney Health Board\",$E$2=\"Orkney Islands Local Authority\"),$F77=1),0,IF(AND(OR($E$2=\"Shetland Health Board\",$E$2=\"Western Isles Health Board\",$E$2=\"Shetland Islands Local Authority\",$E$2=\"Eilean Siar Local Authority\"),OR($F77=1,$F77=5)),0,prem_mort(VALUE(LEFT(Options!$B$14,2)),$C77,$E77,$F77,2016,$I77+$J77,1,$H77,$G77*$H77,Options!$B$8)))","v":0},10744.935941640546,10730.989551021536,48244.762377965948,48182.14308408615,81181.801100000012,81110.846126986129,0,0,16117403.912460819,16096484.326532304,72367143.56694892,72273214.626129225,121772701.65000002,121666269.19047919,0,0,1500]
[null,"Female 90+",92.779342999999997,96.279340000000005,"female",1,{"$f":"HLOOKUP($E$2,'Prevalence Rates'!$C$3:$BC$249,'Prevalence Rates'!$BD78,FALSE)","v":0.14899999999999999},{"$f":"HLOOKUP($E$2,'Population 2016'!$C$3:$BC$249,'Population 2016'!BD78,FALSE)","v":4825},0,{"$f":"ROUND(0.807*(HLOOKUP($E$2,'Population at Risk'!$C$3:$BC$249,'Population at Risk'!$BD78,FALSE)),0)","v":580},{"$f":"IF(AND(OR($E$2=\"Orkney Health Board\",$E$2=\"Orkney Islands Local Authority\"),$F78=1),0,IF(AND(OR($E$2=\"Shetland Health Board\",$E$2=\"Western Isles Health Board\",$E$2=\"Shetland Islands Local Authority\",$E$2=\"Eilean Siar Local Authority\"),OR($F78=1,$F78=5)),0,new_ci(VALUE(LEFT(Options!$B$14,2)),$C78,$E78,$F78,2016,$I78,1,$H78,$G78*$H78,Options!$B$8)))","v":833.69011878920003},{"$f":"IF(AND(OR($E$2=\"Orkney Health Board\",$E$2=\"Orkney Islands Local Authority\"),$F78=1),0,IF(AND(OR($E$2=\"Shetland Health Board\",$E$2=\"Western Isles Health Board\",$E$2=\"Shetland Islands Local Authority\",$E$2=\"Eilean Siar Local Authority\"),OR($F78=1,$F78=5)),0,new_ci(VALUE(LEFT(Options!$B$14,2)),$C78,$E78,$F78,2016,$I78+$J78,1,$H78,$G78*$H78,Options!$B$8)))","v":832.69464796919999},{"$f":"IF(AND(OR($E$2=\"Orkney Health Board\",$E$2=\"Orkney Islands Local Authority\"),$F78=1),0,IF(AND(OR($E$2=\"Shetland Health Board\",$E$2=\"Western Isles Health Board\",$E$2=\"Shetland Islands Local Authority\",$E$2=\"Eilean Siar Local Authority\"),OR($F78=1,$F78=5)),0,new_yllv2(VALUE(LEFT(Options!$B$14,2)),$C78,$D78,$E78,$F78,2016,$I78,1,$H78,$G78*$H78,Options!$B$8)))","v":2084.2227959026},{"$f":"IF(AND(OR($E$2=\"Orkney Health Board\",$E$2=\"Orkney Islands Local Authority\"),$F78=1),0,IF(AND(OR($E$2=\"Shetland Health Board\",$E$2=\"Western Isles Health Board\",$E$2=\"Shetland Islands Local Authority\",$E$2=\"Eilean Siar Local Authority\"),OR($F78=1,$F78=5)),0,new_yllv2(VALUE(LEFT(Options!$B$14,2)),$C78,$D78,$E78,$F78,2016,$I78+$J78,1,$H78,$G78*$H78,Options!$B$8)))","v":2081.7341218391002},{"$f":"IF(AND(OR($E$2=\"Orkney Health Board\",$E$2=\"Orkney Islands Local Authority\"),$F78=1),0,IF(AND(OR($E$2=\"Shetland Health Board\",$E$2=\"Western Isles Health Board\",$E$2=\"Shetland Islands Local Authority\",$E$2=\"Eilean Siar Local Authority\"),OR($F78=1,$F78=5)),0,hosp_count(VALUE(LEFT(Options!$B$14,2)),$C78,$E78,$F78,2016,$I78,1,$H78,$G78*$H78, Options!$B$8)))","v":4560.6917838575},{"$f":"IF(AND(OR($E$2=\"Orkney Health Board\",$E$2=\"Orkney Islands Local Authority\"),$F78=1),0,IF(AND(OR($E$2=\"Shetland Health Board\",$E$2=\"Western Isles Health Board\",$E$2=\"Shetland Islands Local Authority\",$E$2=\"Eilean Siar Local Authority\"),OR($F78=1,$F78=5)),0,hosp_count(VALUE(LEFT(Options!$B$14,2)),$C78,$E78,$F78,2016,$I78+$J78,1,$H78,$G78*$H78, Options!$B$8)))","v":4556.7051807172002},{"$f":"IF(AND(OR($E$2=\"Orkney Health Board\",$E$2=\"Orkney Islands Local Authority\"),$F78=1),0,IF(AND(OR($E$2=\"Shetland Health Board\",$E$2=\"Western Isles Health Board\",$E$2=\"Shetland Islands Local Authority\",$E$2=\"Eilean Siar Local Authority\"),OR($F78=1,$F78=5)),0,prem_mort(VALUE(LEFT(Options!$B$14,2)),$C78,$E78,$F78,2016,$I78,1,$H78,$G78*$H78,Options!$B$8)))","v":0},{"$f":"IF(AND(OR($E$2=\"Orkney Health Board\",$E$2=\"Orkney Islands Local Authority\"),$F78=1),0,IF(AND(OR($E$2=\"Shetland Health Board\",$E$2=\"Western Isles Health Board\",$E$2=\"Shetland Islands Local Authority\",$E$2=\"Eilean Siar Local Authority\"),OR($F78=1,$F78=5)),0,prem_mort(VALUE(LEFT(Options!$B$14,2)),$C78,$E78,$F78,2016,$I78+$J78,1,$H78,$G78*$H78,Options!$B$8)))","v":0},17278.551684750259,17257.920165164767,43196.327376219691,43144.748639152334,94522.109509999995,94439.485610719174,0,0,17278551.684750259,17257920.165164769,43196327.37621969,43144748.639152333,94522109.50999999,94439485.610719174,0,0,1000]
[null,"Male 0-4",2.0320822999999999,77.402082000000007,"male",1,{"$f":"HLOOKUP($E$2,'Prevalence Rates'!$C$3:$BC$249,'Prevalence Rates'!$BD79,FALSE)","v":0},{"$f":"HLOOKUP($E$2,'Population 2016'!$C$3:$BC$249,'Population 2016'!BD79,FALSE)","v":0},0,{"$f":"ROUND(0.807*(HLOOKUP($E$2,'Population at Risk'!$C$3:$BC$249,'Population at Risk'!$BD79,FALSE)),0)","v":0},{"$f":"IF(AND(OR($E$2=\"Orkney Health Board\",$E$2=\"Orkney Islands Local Authority\"),$F79=1),0,IF(AND(OR($E$2=\"Shetland Health Board\",$E$2=\"Western Isles Health Board\",$E$2=\"Shetland Islands Local Authority\",$E$2=\"Eilean Siar Local Authority\"),OR($F79=1,$F79=5)),0,new_ci(VALUE(LEFT(Options!$B$14,2)),$C79,$E79,$F79,2016,$I79,1,$H79,$G79*$H79,Options!$B$8)))","v":{"$error":"#VALUE!"}},{"$f":"IF(AND(OR($E$2=\"Orkney Health Board\",$E$2=\"Orkney Islands Local Authority\"),$F79=1),0,IF(AND(OR($E$2=\"Shetland Health Board\",$E$2=\"Western Isles Health Board\",$E$2=\"Shetland Islands Local Authority\",$E$2=\"Eilean Siar Local Authority\"),OR($F79=1,$F79=5)),0,new_ci(VALUE(LEFT(Options!$B$14,2)),$C79,$E79,$F79,2016,$I79+$J79,1,$H79,$G79*$H79,Options!$B$8)))","v":{"$error":"#VALUE!"}},{"$f":"IF(AND(OR($E$2=\"Orkney Health Board\",$E$2=\"Orkney Islands Local Authority\"),$F79=1),0,IF(AND(OR($E$2=\"Shetland Health Board\",$E$2=\"Western Isles Health Board\",$E$2=\"Shetland Islands Local Authority\",$E$2=\"Eilean Siar Local Authority\"),OR($F79=1,$F79=5)),0,new_yllv2(VALUE(LEFT(Options!$B$14,2)),$C79,$D79,$E79,$F79,2016,$I79,1,$H79,$G79*$H79,Options!$B$8)))","v":{"$error":"#VALUE!"}},{"$f":"IF(AND(OR($E$2=\"Orkney Health Board\",$E$2=\"Orkney Islands Local Authority\"),$F79=1),0,IF(AND(OR($E$2=\"Shetland Health Board\",$E$2=\"Western Isles Health Board\",$E$2=\"Shetland Islands Local Authority\",$E$2=\"Eilean Siar Local Authority\"),OR($F79=1,$F79=5)),0,new_yllv2(VALUE(LEFT(Options!$B$14,2)),$C79,$D79,$E79,$F79,2016,$I79+$J79,1,$H79,$G79*$H79,Options!$B$8)))","v":{"$error":"#VALUE!"}},{"$f":"IF(AND(OR($E$2=\"Orkney Health Board\",$E$2=\"Orkney Islands Local Authority\"),$F79=1),0,IF(AND(OR($E$2=\"Shetland Health Board\",$E$2=\"Western Isles Health Board\",$E$2=\"Shetland Islands Local Authority\",$E$2=\"Eilean Siar Local Authority\"),OR($F79=1,$F79=5)),0,hosp_count(VALUE(LEFT(Options!$B$14,2)),$C79,$E79,$F79,2016,$I79,1,$H79,$G79*$H79, Options!$B$8)))","v":{"$error":"#VALUE!"}},{"$f":"IF(AND(OR($E$2=\"Orkney Health Board\",$E$2=\"Orkney Islands Local Authority\"),$F79=1),0,IF(AND(OR($E$2=\"Shetland Health Board\",$E$2=\"Western Isles Health Board\",$E$2=\"Shetland Islands Local Authority\",$E$2=\"Eilean Siar Local Authority\"),OR($F79=1,$F79=5)),0,hosp_count(VALUE(LEFT(Options!$B$14,2)),$C79,$E79,$F79,2016,$I79+$J79,1,$H79,$G79*$H79, Options!$B$8)))","v":{"$error":"#VALUE!"}},{"$f":"IF(AND(OR($E$2=\"Orkney Health Board\",$E$2=\"Orkney Islands Local Authority\"),$F79=1),0,IF(AND(OR($E$2=\"Shetland Health Board\",$E$2=\"Western Isles Health Board\",$E$2=\"Shetland Islands Local Authority\",$E$2=\"Eilean Siar Local Authority\"),OR($F79=1,$F79=5)),0,prem_mort(VALUE(LEFT(Options!$B$14,2)),$C79,$E79,$F79,2016,$I79,1,$H79,$G79*$H79,Options!$B$8)))","v":{"$error":"#VALUE!"}},{"$f":"IF(AND(OR($E$2=\"Orkney Health Board\",$E$2=\"Orkney Islands Local Authority\"),$F79=1),0,IF(AND(OR($E$2=\"Shetland Health Board\",$E$2=\"Western Isles Health Board\",$E$2=\"Shetland Islands Local Authority\",$E$2=\"Eilean Siar Local Authority\"),OR($F79=1,$F79=5)),0,prem_mort(VALUE(LEFT(Options!$B$14,2)),$C79,$E79,$F79,2016,$I79+$J79,1,$H79,$G79*$H79,Options!$B$8)))","v":{"$error":"#VALUE!"}},{"$error":"#VALUE!"},{"$error":"#VALUE!"},{"$error":"#VALUE!"},{"$error":"#VALUE!"},{"$error":"#VALUE!"},{"$error":"#VALUE!"},{"$error":"#VALUE!"},{"$error":"#VALUE!"},{"$error":"#VALUE!"},{"$error":"#VALUE!"},{"$error":"#VALUE!"},{"$error":"#VALUE!"},{"$error":"#VALUE!"},{"$error":"#VALUE!"},{"$error":"#VALUE!"},{"$error":"#VALUE!"},5000]
[null,"Male 5-9",6.9784756000000003,77.398476000000002,"male",1,{"$f":"HLOOKUP($E$2,'Prevalence Rates'!$C$3:$BC$249,'Prevalence Rates'!$BD80,FALSE)","v":0},{"$f":"HLOOKUP($E$2,'Population 2016'!$C$3:$BC$249,'Population 2016'!BD80,FALSE)","v":0},0,{"$f":"ROUND(0.807*(HLOOKUP($E$2,'Population at Risk'!$C$3:$BC$249,'Population at Risk'!$BD80,FALSE)),0)","v":0},{"$f":"IF(AND(OR($E$2=\"Orkney Health Board\",$E$2=\"Orkney Islands Local Authority\"),$F80=1),0,IF(AND(OR($E$2=\"Shetland Health Board\",$E$2=\"Western Isles Health Board\",$E$2=\"Shetland Islands Local Authority\",$E$2=\"Eilean Siar Local Authority\"),OR($F80=1,$F80=5)),0,new_ci(VALUE(LEFT(Options!$B$14,2)),$C80,$E80,$F80,2016,$I80,1,$H80,$G80*$H80,Options!$B$8)))","v":{"$error":"#VALUE!"}},{"$f":"IF(AND(OR($E$2=\"Orkney Health Board\",$E$2=\"Orkney Islands Local Authority\"),$F80=1),0,IF(AND(OR($E$2=\"Shetland Health Board\",$E$2=\"Western Isles Health Board\",$E$2=\"Shetland Islands Local Authority\",$E$2=\"Eilean Siar Local Authority\"),OR($F80=1,$F80=5)),0,new_ci(VALUE(LEFT(Options!$B$14,2)),$C80,$E80,$F80,2016,$I80+$J80,1,$H80,$G80*$H80,Options!$B$8)))","v":{"$error":"#VALUE!"}},{"$f":"IF(AND(OR($E$2=\"Orkney Health Board\",$E$2=\"Orkney Islands Local Authority\"),$F80=1),0,IF(AND(OR($E$2=\"Shetland Health Board\",$E$2=\"Western Isles Health Board\",$E$2=\"Shetland Islands Local Authority\",$E$2=\"Eilean Siar Local Authority\"),OR($F80=1,$F80=5)),0,new_yllv2(VALUE(LEFT(Options!$B$14,2)),$C80,$D80,$E80,$F80,2016,$I80,1,$H80,$G80*$H80,Options!$B$8)))","v":{"$error":"#VALUE!"}},{"$f":"IF(AND(OR($E$2=\"Orkney Health Board\",$E$2=\"Orkney Islands Local Authority\"),$F80=1),0,IF(AND(OR($E$2=\"Shetland Health Board\",$E$2=\"Western Isles Health Board\",$E$2=\"Shetland Islands Local Authority\",$E$2=\"Eilean Siar Local Authority\"),OR($F80=1,$F80=5)),0,new_yllv2(VALUE(LEFT(Options!$B$14,2)),$C80,$D80,$E80,$F80,2016,$I80+$J80,1,$H80,$G80*$H80,Options!$B$8)))","v":{"$error":"#VALUE!"}},{"$f":"IF(AND(OR($E$2=\"Orkney Health Board\",$E$2=\"Orkney Islands Local Authority\"),$F80=1),0,IF(AND(OR($E$2=\"Shetland Health Board\",$E$2=\"Western Isles Health Board\",$E$2=\"Shetland Islands Local Authority\",$E$2=\"Eilean Siar Local Authority\"),OR($F80=1,$F80=5)),0,hosp_count(VALUE(LEFT(Options!$B$14,2)),$C80,$E80,$F80,2016,$I80,1,$H80,$G80*$H80, Options!$B$8)))","v":{"$error":"#VALUE!"}},{"$f":"IF(AND(OR($E$2=\"Orkney Health Board\",$E$2=\"Orkney Islands Local Authority\"),$F80=1),0,IF(AND(OR($E$2=\"Shetland Health Board\",$E$2=\"Western Isles Health Board\",$E$2=\"Shetland Islands Local Authority\",$E$2=\"Eilean Siar Local Authority\"),OR($F80=1,$F80=5)),0,hosp_count(VALUE(LEFT(Options!$B$14,2)),$C80,$E80,$F80,2016,$I80+$J80,1,$H80,$G80*$H80, Options!$B$8)))","v":{"$error":"#VALUE!"}},{"$f":"IF(AND(OR($E$2=\"Orkney Health Board\",$E$2=\"Orkney Islands Local Authority\"),$F80=1),0,IF(AND(OR($E$2=\"Shetland Health Board\",$E$2=\"Western Isles Health Board\",$E$2=\"Shetland Islands Local Authority\",$E$2=\"Eilean Siar Local Authority\"),OR($F80=1,$F80=5)),0,prem_mort(VALUE(LEFT(Options!$B$14,2)),$C80,$E80,$F80,2016,$I80,1,$H80,$G80*$H80,Options!$B$8)))","v":{"$error":"#VALUE!"}},{"$f":"IF(AND(OR($E$2=\"Orkney Health Board\",$E$2=\"Orkney Islands Local Authority\"),$F80=1),0,IF(AND(OR($E$2=\"Shetland Health Board\",$E$2=\"Western Isles Health Board\",$E$2=\"Shetland Islands Local Authority\",$E$2=\"Eilean Siar Local Authority\"),OR($F80=1,$F80=5)),0,prem_mort(VALUE(LEFT(Options!$B$14,2)),$C80,$E80,$F80,2016,$I80+$J80,1,$H80,$G80*$H80,Options!$B$8)))","v":{"$error":"#VALUE!"}},{"$error":"#VALUE!"},{"$error":"#VALUE!"},{"$error":"#VALUE!"},{"$error":"#VALUE!"},{"$error":"#VALUE!"},{"$error":"#VALUE!"},{"$error":"#VALUE!"},{"$error":"#VALUE!"},{"$error":"#VALUE!"},{"$error":"#VALUE!"},{"$error":"#VALUE!"},{"$error":"#VALUE!"},{"$error":"#VALUE!"},{"$error":"#VALUE!"},{"$error":"#VALUE!"},{"$error":"#VALUE!"},5500]
[null,"Male 10-15",12.471144000000001,77.921140000000008,"male",1,{"$f":"HLOOKUP($E$2,'Prevalence Rates'!$C$3:$BC$249,'Prevalence Rates'!$BD81,FALSE)","v":0},{"$f":"HLOOKUP($E$2,'Population 2016'!$C$3:$BC$249,'Population 2016'!BD81,FALSE)","v":0},0,{"$f":"ROUND(0.807*(HLOOKUP($E$2,'Population at Risk'!$C$3:$BC$249,'Population at Risk'!$BD81,FALSE)),0)","v":0},{"$f":"IF(AND(OR($E$2=\"Orkney Health Board\",$E$2=\"Orkney Islands Local Authority\"),$F81=1),0,IF(AND(OR($E$2=\"Shetland Health Board\",$E$2=\"Western Isles Health Board\",$E$2=\"Shetland Islands Local Authority\",$E$2=\"Eilean Siar Local Authority\"),OR($F81=1,$F81=5)),0,new_ci(VALUE(LEFT(Options!$B$14,2)),$C81,$E81,$F81,2016,$I81,1,$H81,$G81*$H81,Options!$B$8)))","v":{"$error":"#VALUE!"}},{"$f":"IF(AND(OR($E$2=\"Orkney Health Board\",$E$2=\"Orkney Islands Local Authority\"),$F81=1),0,IF(AND(OR($E$2=\"Shetland Health Board\",$E$2=\"Western Isles Health Board\",$E$2=\"Shetland Islands Local Authority\",$E$2=\"Eilean Siar Local Authority\"),OR($F81=1,$F81=5)),0,new_ci(VALUE(LEFT(Options!$B$14,2)),$C81,$E81,$F81,2016,$I81+$J81,1,$H81,$G81*$H81,Options!$B$8)))","v":{"$error":"#VALUE!"}},{"$f":"IF(AND(OR($E$2=\"Orkney Health Board\",$E$2=\"Orkney Islands Local Authority\"),$F81=1),0,IF(AND(OR($E$2=\"Shetland Health Board\",$E$2=\"Western Isles Health Board\",$E$2=\"Shetland Islands Local Authority\",$E$2=\"Eilean Siar Local Authority\"),OR($F81=1,$F81=5)),0,new_yllv2(VALUE(LEFT(Options!$B$14,2)),$C81,$D81,$E81,$F81,2016,$I81,1,$H81,$G81*$H81,Options!$B$8)))","v":{"$error":"#VALUE!"}},{"$f":"IF(AND(OR($E$2=\"Orkney Health Board\",$E$2=\"Orkney Islands Local Authority\"),$F81=1),0,IF(AND(OR($E$2=\"Shetland Health Board\",$E$2=\"Western Isles Health Board\",$E$2=\"Shetland Islands Local Authority\",$E$2=\"Eilean Siar Local Authority\"),OR($F81=1,$F81=5)),0,new_yllv2(VALUE(LEFT(Options!$B$14,2)),$C81,$D81,$E81,$F81,2016,$I81+$J81,1,$H81,$G81*$H81,Options!$B$8)))","v":{"$error":"#VALUE!"}},{"$f":"IF(AND(OR($E$2=\"Orkney Health Board\",$E$2=\"Orkney Islands Local Authority\"),$F81=1),0,IF(AND(OR($E$2=\"Shetland Health Board\",$E$2=\"Western Isles Health Board\",$E$2=\"Shetland Islands Local Authority\",$E$2=\"Eilean Siar Local Authority\"),OR($F81=1,$F81=5)),0,hosp_count(VALUE(LEFT(Options!$B$14,2)),$C81,$E81,$F81,2016,$I81,1,$H81,$G81*$H81, Options!$B$8)))","v":{"$error":"#VALUE!"}},{"$f":"IF(AND(OR($E$2=\"Orkney Health Board\",$E$2=\"Orkney Islands Local Authority\"),$F81=1),0,IF(AND(OR($E$2=\"Shetland Health Board\",$E$2=\"Western Isles Health Board\",$E$2=\"Shetland Islands Local Authority\",$E$2=\"Eilean Siar Local Authority\"),OR($F81=1,$F81=5)),0,hosp_count(VALUE(LEFT(Options!$B$14,2)),$C81,$E81,$F81,2016,$I81+$J81,1,$H81,$G81*$H81, Options!$B$8)))","v":{"$error":"#VALUE!"}},{"$f":"IF(AND(OR($E$2=\"Orkney Health Board\",$E$2=\"Orkney Islands Local Authority\"),$F81=1),0,IF(AND(OR($E$2=\"Shetland Health Board\",$E$2=\"Western Isles Health Board\",$E$2=\"Shetland Islands Local Authority\",$E$2=\"Eilean Siar Local Authority\"),OR($F81=1,$F81=5)),0,prem_mort(VALUE(LEFT(Options!$B$14,2)),$C81,$E81,$F81,2016,$I81,1,$H81,$G81*$H81,Options!$B$8)))","v":{"$error":"#VALUE!"}},{"$f":"IF(AND(OR($E$2=\"Orkney Health Board\",$E$2=\"Orkney Islands Local Authority\"),$F81=1),0,IF(AND(OR($E$2=\"Shetland Health Board\",$E$2=\"Western Isles Health Board\",$E$2=\"Shetland Islands Local Authority\",$E$2=\"Eilean Siar Local Authority\"),OR($F81=1,$F81=5)),0,prem_mort(VALUE(LEFT(Options!$B$14,2)),$C81,$E81,$F81,2016,$I81+$J81,1,$H81,$G81*$H81,Options!$B$8)))","v":{"$error":"#VALUE!"}},{"$error":"#VALUE!"},{"$error":"#VALUE!"},{"$error":"#VALUE!"},{"$error":"#VALUE!"},{"$error":"#VALUE!"},{"$error":"#VALUE!"},{"$error":"#VALUE!"},{"$error":"#VALUE!"},{"$error":"#VALUE!"},{"$error":"#VALUE!"},{"$error":"#VALUE!"},{"$error":"#VALUE!"},{"$error":"#VALUE!"},{"$error":"#VALUE!"},{"$error":"#VALUE!"},{"$error":"#VALUE!"},6600]
[null,"Male 16-19",17.556318000000001,77.07632000000001,"male",1,{"$f":"HLOOKUP($E$2,'Prevalence Rates'!$C$3:$BC$249,'Prevalence Rates'!$BD82,FALSE)","v":0.33260000000000001},{"$f":"HLOOKUP($E$2,'Population 2016'!$C$3:$BC$249,'Population 2016'!BD82,FALSE)","v":25359},0,{"$f":"ROUND(0.807*(HLOOKUP($E$2,'Population at Risk'!$C$3:$BC$249,'Population at Risk'!$BD82,FALSE)),0)","v":6807},{"$f":"IF(AND(OR($E$2=\"Orkney Health Board\",$E$2=\"Orkney Islands Local Authority\"),$F82=1),0,IF(AND(OR($E$2=\"Shetland Health Board\",$E$2=\"Western Isles Health Board\",$E$2=\"Shetland Islands Local Authority\",$E$2=\"Eilean Siar Local Authority\"),OR($F82=1,$F82=5)),0,new_ci(VALUE(LEFT(Options!$B$14,2)),$C82,$E82,$F82,2016,$I82,1,$H82,$G82*$H82,Options!$B$8)))","v":19.171681618200001},{"$f":"IF(AND(OR($E$2=\"Orkney Health Board\",$E$2=\"Orkney Islands Local Authority\"),$F82=1),0,IF(AND(OR($E$2=\"Shetland Health Board\",$E$2=\"Western Isles Health Board\",$E$2=\"Shetland Islands Local Authority\",$E$2=\"Eilean Siar Local Authority\"),OR($F82=1,$F82=5)),0,new_ci(VALUE(LEFT(Options!$B$14,2)),$C82,$E82,$F82,2016,$I82+$J82,1,$H82,$G82*$H82,Options!$B$8)))","v":19.133619596999999},{"$f":"IF(AND(OR($E$2=\"Orkney Health Board\",$E$2=\"Orkney Islands Local Authority\"),$F82=1),0,IF(AND(OR($E$2=\"Shetland Health Board\",$E$2=\"Western Isles Health Board\",$E$2=\"Shetland Islands Local Authority\",$E$2=\"Eilean Siar Local Authority\"),OR($F82=1,$F82=5)),0,new_yllv2(VALUE(LEFT(Options!$B$14,2)),$C82,$D82,$E82,$F82,2016,$I82,1,$H82,$G82*$H82,Options!$B$8)))","v":1121.9268466404001},{"$f":"IF(AND(OR($E$2=\"Orkney Health Board\",$E$2=\"Orkney Islands Local Authority\"),$F82=1),0,IF(AND(OR($E$2=\"Shetland Health Board\",$E$2=\"Western Isles Health Board\",$E$2=\"Shetland Islands Local Authority\",$E$2=\"Eilean Siar Local Authority\"),OR($F82=1,$F82=5)),0,new_yllv2(VALUE(LEFT(Options!$B$14,2)),$C82,$D82,$E82,$F82,2016,$I82+$J82,1,$H82,$G82*$H82,Options!$B$8)))","v":1119.6994570837001},{"$f":"IF(AND(OR($E$2=\"Orkney Health Board\",$E$2=\"Orkney Islands Local Authority\"),$F82=1),0,IF(AND(OR($E$2=\"Shetland Health Board\",$E$2=\"Western Isles Health Board\",$E$2=\"Shetland Islands Local Authority\",$E$2=\"Eilean Siar Local Authority\"),OR($F82=1,$F82=5)),0,hosp_count(VALUE(LEFT(Options!$B$14,2)),$C82,$E82,$F82,2016,$I82,1,$H82,$G82*$H82, Options!$B$8)))","v":2447.1256447280998},{"$f":"IF(AND(OR($E$2=\"Orkney Health Board\",$E$2=\"Orkney Islands Local Authority\"),$F82=1),0,IF(AND(OR($E$2=\"Shetland Health Board\",$E$2=\"Western Isles Health Board\",$E$2=\"Shetland Islands Local Authority\",$E$2=\"Eilean Siar Local Authority\"),OR($F82=1,$F82=5)),0,hosp_count(VALUE(LEFT(Options!$B$14,2)),$C82,$E82,$F82,2016,$I82+$J82,1,$H82,$G82*$H82, Options!$B$8)))","v":2443.9341481739998},{"$f":"IF(AND(OR($E$2=\"Orkney Health Board\",$E$2=\"Orkney Islands Local Authority\"),$F82=1),0,IF(AND(OR($E$2=\"Shetland Health Board\",$E$2=\"Western Isles Health Board\",$E$2=\"Shetland Islands Local Authority\",$E$2=\"Eilean Siar Local Authority\"),OR($F82=1,$F82=5)),0,prem_mort(VALUE(LEFT(Options!$B$14,2)),$C82,$E82,$F82,2016,$I82,1,$H82,$G82*$H82,Options!$B$8)))","v":19.171681618200001},{"$f":"IF(AND(OR($E$2=\"Orkney Health Board\",$E$2=\"Orkney Islands Local Authority\"),$F82=1),0,IF(AND(OR($E$2=\"Shetland Health Board\",$E$2=\"Western Isles Health Board\",$E$2=\"Shetland Islands Local Authority\",$E$2=\"Eilean Siar Local Authority\"),OR($F82=1,$F82=5)),0,prem_mort(VALUE(LEFT(Options!$B$14,2)),$C82,$E82,$F82,2016,$I82+$J82,1,$H82,$G82*$H82,Options!$B$8)))","v":19.133619596999999},75.601094752159,75.451001999290199,4424.1762160984272,4415.3927879005478,9649.9295899999997,9637.344328143854,75.601094752159,75.451001999290199,332644.81690949958,331984.4087968769,19466375.350833081,19427728.266762409,42459690.196000002,42404315.043832958,332644.81690949958,331984.4087968769,4400]
[null,"Male 20-24",22.054632000000002,77.704629999999995,"male",1,{"$f":"HLOOKUP($E$2,'Prevalence Rates'!$C$3:$BC$249,'Prevalence Rates'!$BD83,FALSE)","v":0.33260000000000001},{"$f":"HLOOKUP($E$2,'Population 2016'!$C$3:$BC$249,'Population 2016'!BD83,FALSE)","v":37180},0,{"$f":"ROUND(0.807*(HLOOKUP($E$2,'Population at Risk'!$C$3:$BC$249,'Population at Risk'!$BD83,FALSE)),0)","v":9979},{"$f":"IF(AND(OR($E$2=\"Orkney Health Board\",$E$2=\"Orkney Islands Local Authority\"),$F83=1),0,IF(AND(OR($E$2=\"Shetland Health Board\",$E$2=\"Western Isles Health Board\",$E$2=\"Shetland Islands Local Authority\",$E$2=\"Eilean Siar Local Authority\"),OR($F83=1,$F83=5)),0,new_ci(VALUE(LEFT(Options!$B$14,2)),$C83,$E83,$F83,2016,$I83,1,$H83,$G83*$H83,Options!$B$8)))","v":39.468973076499999},{"$f":"IF(AND(OR($E$2=\"Orkney Health Board\",$E$2=\"Orkney Islands Local Authority\"),$F83=1),0,IF(AND(OR($E$2=\"Shetland Health Board\",$E$2=\"Western Isles Health Board\",$E$2=\"Shetland Islands Local Authority\",$E$2=\"Eilean Siar Local Authority\"),OR($F83=1,$F83=5)),0,new_ci(VALUE(LEFT(Options!$B$14,2)),$C83,$E83,$F83,2016,$I83+$J83,1,$H83,$G83*$H83,Options!$B$8)))","v":39.390642915999997},{"$f":"IF(AND(OR($E$2=\"Orkney Health Board\",$E$2=\"Orkney Islands Local Authority\"),$F83=1),0,IF(AND(OR($E$2=\"Shetland Health Board\",$E$2=\"Western Isles Health Board\",$E$2=\"Shetland Islands Local Authority\",$E$2=\"Eilean Siar Local Authority\"),OR($F83=1,$F83=5)),0,new_yllv2(VALUE(LEFT(Options!$B$14,2)),$C83,$D83,$E83,$F83,2016,$I83,1,$H83,$G83*$H83,Options!$B$8)))","v":2156.9792996927999},{"$f":"IF(AND(OR($E$2=\"Orkney Health Board\",$E$2=\"Orkney Islands Local Authority\"),$F83=1),0,IF(AND(OR($E$2=\"Shetland Health Board\",$E$2=\"Western Isles Health Board\",$E$2=\"Shetland Islands Local Authority\",$E$2=\"Eilean Siar Local Authority\"),OR($F83=1,$F83=5)),0,new_yllv2(VALUE(LEFT(Options!$B$14,2)),$C83,$D83,$E83,$F83,2016,$I83+$J83,1,$H83,$G83*$H83,Options!$B$8)))","v":2152.6985565781001},{"$f":"IF(AND(OR($E$2=\"Orkney Health Board\",$E$2=\"Orkney Islands Local Authority\"),$F83=1),0,IF(AND(OR($E$2=\"Shetland Health Board\",$E$2=\"Western Isles Health Board\",$E$2=\"Shetland Islands Local Authority\",$E$2=\"Eilean Siar Local Authority\"),OR($F83=1,$F83=5)),0,hosp_count(VALUE(LEFT(Options!$B$14,2)),$C83,$E83,$F83,2016,$I83,1,$H83,$G83*$H83, Options!$B$8)))","v":4208.9782071480004},{"$f":"IF(AND(OR($E$2=\"Orkney Health Board\",$E$2=\"Orkney Islands Local Authority\"),$F83=1),0,IF(AND(OR($E$2=\"Shetland Health Board\",$E$2=\"Western Isles Health Board\",$E$2=\"Shetland Islands Local Authority\",$E$2=\"Eilean Siar Local Authority\"),OR($F83=1,$F83=5)),0,hosp_count(VALUE(LEFT(Options!$B$14,2)),$C83,$E83,$F83,2016,$I83+$J83,1,$H83,$G83*$H83, Options!$B$8)))","v":4203.4895160648002},{"$f":"IF(AND(OR($E$2=\"Orkney Health Board\",$E$2=\"Orkney Islands Local Authority\"),$F83=1),0,IF(AND(OR($E$2=\"Shetland Health Board\",$E$2=\"Western Isles Health Board\",$E$2=\"Shetland Islands Local Authority\",$E$2=\"Eilean Siar Local Authority\"),OR($F83=1,$F83=5)),0,prem_mort(VALUE(LEFT(Options!$B$14,2)),$C83,$E83,$F83,2016,$I83,1,$H83,$G83*$H83,Options!$B$8)))","v":39.468973076499999},{"$f":"IF(AND(OR($E$2=\"Orkney Health Board\",$E$2=\"Orkney Islands Local Authority\"),$F83=1),0,IF(AND(OR($E$2=\"Shetland Health Board\",$E$2=\"Western Isles Health Board\",$E$2=\"Shetland Islands Local Authority\",$E$2=\"Eilean Siar Local Authority\"),OR($F83=1,$F83=5)),0,prem_mort(VALUE(LEFT(Options!$B$14,2)),$C83,$E83,$F83,2016,$I83+$J83,1,$H83,$G83*$H83,Options!$B$8)))","v":39.390642915999997},106.15646335798816,105.94578514254975,5801.4505102011835,5789.9369461487358,11320.543860000002,11305.781377258741,106.15646335798816,105.94578514254975,636938.78014792898,635674.71085529856,34808703.061207101,34739621.676892415,67923263.160000011,67834688.263552442,636938.78014792898,635674.71085529856,6000]
[null,"Male 25-29",26.959762999999999,77.789760000000001,"male",1,{"$f":"HLOOKUP($E$2,'Prevalence Rates'!$C$3:$BC$249,'Prevalence Rates'!$BD84,FALSE)","v":0.40960000000000002},{"$f":"HLOOKUP($E$2,'Population 2016'!$C$3:$BC$249,'Population 2016'!BD84,FALSE)","v":42600},0,{"$f":"ROUND(0.807*(HLOOKUP($E$2,'Population at Risk'!$C$3:$BC$249,'Population at Risk'!$BD84,FALSE)),0)","v":14081},{"$f":"IF(AND(OR($E$2=\"Orkney Health Board\",$E$2=\"Orkney Islands Local Authority\"),$F84=1),0,IF(AND(OR($E$2=\"Shetland Health Board\",$E$2=\"Western Isles Health Board\",$E$2=\"Shetland Islands Local Authority\",$E$2=\"Eilean Siar Local Authority\"),OR($F84=1,$F84=5)),0,new_ci(VALUE(LEFT(Options!$B$14,2)),$C84,$E84,$F84,2016,$I84,1,$H84,$G84*$H84,Options!$B$8)))","v":65.474609595499999},{"$f":"IF(AND(OR($E$2=\"Orkney Health Board\",$E$2=\"Orkney Islands Local Authority\"),$F84=1),0,IF(AND(OR($E$2=\"Shetland Health Board\",$E$2=\"Western Isles Health Board\",$E$2=\"Shetland Islands Local Authority\",$E$2=\"Eilean Siar Local Authority\"),OR($F84=1,$F84=5)),0,new_ci(VALUE(LEFT(Options!$B$14,2)),$C84,$E84,$F84,2016,$I84+$J84,1,$H84,$G84*$H84,Options!$B$8)))","v":65.322736153799994},{"$f":"IF(AND(OR($E$2=\"Orkney Health Board\",$E$2=\"Orkney Islands Local Authority\"),$F84=1),0,IF(AND(OR($E$2=\"Shetland Health Board\",$E$2=\"Western Isles Health Board\",$E$2=\"Shetland Islands Local Authority\",$E$2=\"Eilean Siar Local Authority\"),OR($F84=1,$F84=5)),0,new_yllv2(VALUE(LEFT(Options!$B$14,2)),$C84,$D84,$E84,$F84,2016,$I84,1,$H84,$G84*$H84,Options!$B$8)))","v":3262.5995997199002},{"$f":"IF(AND(OR($E$2=\"Orkney Health Board\",$E$2=\"Orkney Islands Local Authority\"),$F84=1),0,IF(AND(OR($E$2=\"Shetland Health Board\",$E$2=\"Western Isles Health Board\",$E$2=\"Shetland Islands Local Authority\",$E$2=\"Eilean Siar Local Authority\"),OR($F84=1,$F84=5)),0,new_yllv2(VALUE(LEFT(Options!$B$14,2)),$C84,$D84,$E84,$F84,2016,$I84+$J84,1,$H84,$G84*$H84,Options!$B$8)))","v":3255.0317465756002},{"$f":"IF(AND(OR($E$2=\"Orkney Health Board\",$E$2=\"Orkney Islands Local Authority\"),$F84=1),0,IF(AND(OR($E$2=\"Shetland Health Board\",$E$2=\"Western Isles Health Board\",$E$2=\"Shetland Islands Local Authority\",$E$2=\"Eilean Siar Local Authority\"),OR($F84=1,$F84=5)),0,hosp_count(VALUE(LEFT(Options!$B$14,2)),$C84,$E84,$F84,2016,$I84,1,$H84,$G84*$H84, Options!$B$8)))","v":5739.7274435999998},{"$f":"IF(AND(OR($E$2=\"Orkney Health Board\",$E$2=\"Orkney Islands Local Authority\"),$F84=1),0,IF(AND(OR($E$2=\"Shetland Health Board\",$E$2=\"Western Isles Health Board\",$E$2=\"Shetland Islands Local Authority\",$E$2=\"Eilean Siar Local Authority\"),OR($F84=1,$F84=5)),0,hosp_count(VALUE(LEFT(Options!$B$14,2)),$C84,$E84,$F84,2016,$I84+$J84,1,$H84,$G84*$H84, Options!$B$8)))","v":5730.7943074617997},{"$f":"IF(AND(OR($E$2=\"Orkney Health Board\",$E$2=\"Orkney Islands Local Authority\"),$F84=1),0,IF(AND(OR($E$2=\"Shetland Health Board\",$E$2=\"Western Isles Health Board\",$E$2=\"Shetland Islands Local Authority\",$E$2=\"Eilean Siar Local Authority\"),OR($F84=1,$F84=5)),0,prem_mort(VALUE(LEFT(Options!$B$14,2)),$C84,$E84,$F84,2016,$I84,1,$H84,$G84*$H84,Options!$B$8)))","v":65.474609595499999},{"$f":"IF(AND(OR($E$2=\"Orkney Health Board\",$E$2=\"Orkney Islands Local Authority\"),$F84=1),0,IF(AND(OR($E$2=\"Shetland Health Board\",$E$2=\"Western Isles Health Board\",$E$2=\"Shetland Islands Local Authority\",$E$2=\"Eilean Siar Local Authority\"),OR($F84=1,$F84=5)),0,prem_mort(VALUE(LEFT(Options!$B$14,2)),$C84,$E84,$F84,2016,$I84+$J84,1,$H84,$G84*$H84,Options!$B$8)))","v":65.322736153799994},153.69626665610329,153.33975622957746,7658.6845063847431,7640.9195929004709,13473.5386,13452.568796858684,153.69626665610329,153.33975622957746,922177.59993661975,920038.53737746482,45952107.038308457,45845517.557402827,80841231.599999994,80715412.781152099,922177.59993661975,920038.53737746482,6000]
[null,"Male 30-34",31.981521999999998,78.061520000000002,"male",1,{"$f":"HLOOKUP($E$2,'Prevalence Rates'!$C$3:$BC$249,'Prevalence Rates'!$BD85,FALSE)","v":0.40960000000000002},{"$f":"HLOOKUP($E$2,'Population 2016'!$C$3:$BC$249,'Population 2016'!BD85,FALSE)","v":38006},0,{"$f":"ROUND(0.807*(HLOOKUP($E$2,'Population at Risk'!$C$3:$BC$249,'Population at Risk'!$BD85,FALSE)),0)","v":12563},{"$f":"IF(AND(OR($E$2=\"Orkney Health Board\",$E$2=\"Orkney Islands Local Authority\"),$F85=1),0,IF(AND(OR($E$2=\"Shetland Health Board\",$E$2=\"Western Isles Health Board\",$E$2=\"Shetland Islands Local Authority\",$E$2=\"Eilean Siar Local Authority\"),OR($F85=1,$F85=5)),0,new_ci(VALUE(LEFT(Options!$B$14,2)),$C85,$E85,$F85,2016,$I85,1,$H85,$G85*$H85,Options!$B$8)))","v":85.310031820299997},{"$f":"IF(AND(OR($E$2=\"Orkney Health Board\",$E$2=\"Orkney Islands Local Authority\"),$F85=1),0,IF(AND(OR($E$2=\"Shetland Health Board\",$E$2=\"Western Isles Health Board\",$E$2=\"Shetland Islands Local Authority\",$E$2=\"Eilean Siar Local Authority\"),OR($F85=1,$F85=5)),0,new_ci(VALUE(LEFT(Options!$B$14,2)),$C85,$E85,$F85,2016,$I85+$J85,1,$H85,$G85*$H85,Options!$B$8)))","v":85.1122562802},{"$f":"IF(AND(OR($E$2=\"Orkney Health Board\",$E$2=\"Orkney Islands Local Authority\"),$F85=1),0,IF(AND(OR($E$2=\"Shetland Health Board\",$E$2=\"Western Isles Health Board\",$E$2=\"Shetland Islands Local Authority\",$E$2=\"Eilean Siar Local Authority\"),OR($F85=1,$F85=5)),0,new_yllv2(VALUE(LEFT(Options!$B$14,2)),$C85,$D85,$E85,$F85,2016,$I85,1,$H85,$G85*$H85,Options!$B$8)))","v":3845.7760638391001},{"$f":"IF(AND(OR($E$2=\"Orkney Health Board\",$E$2=\"Orkney Islands Local Authority\"),$F85=1),0,IF(AND(OR($E$2=\"Shetland Health Board\",$E$2=\"Western Isles Health Board\",$E$2=\"Shetland Islands Local Authority\",$E$2=\"Eilean Siar Local Authority\"),OR($F85=1,$F85=5)),0,new_yllv2(VALUE(LEFT(Options!$B$14,2)),$C85,$D85,$E85,$F85,2016,$I85+$J85,1,$H85,$G85*$H85,Options!$B$8)))","v":3836.8603428869001},{"$f":"IF(AND(OR($E$2=\"Orkney Health Board\",$E$2=\"Orkney Islands Local Authority\"),$F85=1),0,IF(AND(OR($E$2=\"Shetland Health Board\",$E$2=\"Western Isles Health Board\",$E$2=\"Shetland Islands Local Authority\",$E$2=\"Eilean Siar Local Authority\"),OR($F85=1,$F85=5)),0,hosp_count(VALUE(LEFT(Options!$B$14,2)),$C85,$E85,$F85,2016,$I85,1,$H85,$G85*$H85, Options!$B$8)))","v":6119.9246785464002},{"$f":"IF(AND(OR($E$2=\"Orkney Health Board\",$E$2=\"Orkney Islands Local Authority\"),$F85=1),0,IF(AND(OR($E$2=\"Shetland Health Board\",$E$2=\"Western Isles Health Board\",$E$2=\"Shetland Islands Local Authority\",$E$2=\"Eilean Siar Local Authority\"),OR($F85=1,$F85=5)),0,hosp_count(VALUE(LEFT(Options!$B$14,2)),$C85,$E85,$F85,2016,$I85+$J85,1,$H85,$G85*$H85, Options!$B$8)))","v":6110.3994359425997},{"$f":"IF(AND(OR($E$2=\"Orkney Health Board\",$E$2=\"Orkney Islands Local Authority\"),$F85=1),0,IF(AND(OR($E$2=\"Shetland Health Board\",$E$2=\"Western Isles Health Board\",$E$2=\"Shetland Islands Local Authority\",$E$2=\"Eilean Siar Local Authority\"),OR($F85=1,$F85=5)),0,prem_mort(VALUE(LEFT(Options!$B$14,2)),$C85,$E85,$F85,2016,$I85,1,$H85,$G85*$H85,Options!$B$8)))","v":85.310031820299997},{"$f":"IF(AND(OR($E$2=\"Orkney Health Board\",$E$2=\"Orkney Islands Local Authority\"),$F85=1),0,IF(AND(OR($E$2=\"Shetland Health Board\",$E$2=\"Western Isles Health Board\",$E$2=\"Shetland Islands Local Authority\",$E$2=\"Eilean Siar Local Authority\"),OR($F85=1,$F85=5)),0,prem_mort(VALUE(LEFT(Options!$B$14,2)),$C85,$E85,$F85,2016,$I85+$J85,1,$H85,$G85*$H85,Options!$B$8)))","v":85.1122562802},224.46464195206019,223.94426216965741,10118.865610269695,10095.406890719623,16102.522440000001,16077.459969327474,224.46464195206019,223.94426216965741,1459020.1726883913,1455637.7041027732,65772626.466753021,65620144.789677553,104666395.86,104503489.80062859,1459020.1726883913,1455637.7041027732,6500]
[null,"Male 35-39",36.926009999999998,78.336009999999987,"male",1,{"$f":"HLOOKUP($E$2,'Prevalence Rates'!$C$3:$BC$249,'Prevalence Rates'!$BD86,FALSE)","v":0.47410000000000002},{"$f":"HLOOKUP($E$2,'Population 2016'!$C$3:$BC$249,'Population 2016'!BD86,FALSE)","v":32984},0,{"$f":"ROUND(0.807*(HLOOKUP($E$2,'Population at Risk'!$C$3:$BC$249,'Population at Risk'!$BD86,FALSE)),0)","v":12620},{"$f":"IF(AND(OR($E$2=\"Orkney Health Board\",$E$2=\"Orkney Islands Local Authority\"),$F86=1),0,IF(AND(OR($E$2=\"Shetland Health Board\",$E$2=\"Western Isles Health Board\",$E$2=\"Shetland Islands Local Authority\",$E$2=\"Eilean Siar Local Authority\"),OR($F86=1,$F86=5)),0,new_ci(VALUE(LEFT(Options!$B$14,2)),$C86,$E86,$F86,2016,$I86,1,$H86,$G86*$H86,Options!$B$8)))","v":107.4811574509},{"$f":"IF(AND(OR($E$2=\"Orkney Health Board\",$E$2=\"Orkney Islands Local Authority\"),$F86=1),0,IF(AND(OR($E$2=\"Shetland Health Board\",$E$2=\"Western Isles Health Board\",$E$2=\"Shetland Islands Local Authority\",$E$2=\"Eilean Siar Local Authority\"),OR($F86=1,$F86=5)),0,new_ci(VALUE(LEFT(Options!$B$14,2)),$C86,$E86,$F86,2016,$I86+$J86,1,$H86,$G86*$H86,Options!$B$8)))","v":107.20466334690001},{"$f":"IF(AND(OR($E$2=\"Orkney Health Board\",$E$2=\"Orkney Islands Local Authority\"),$F86=1),0,IF(AND(OR($E$2=\"Shetland Health Board\",$E$2=\"Western Isles Health Board\",$E$2=\"Shetland Islands Local Authority\",$E$2=\"Eilean Siar Local Authority\"),OR($F86=1,$F86=5)),0,new_yllv2(VALUE(LEFT(Options!$B$14,2)),$C86,$D86,$E86,$F86,2016,$I86,1,$H86,$G86*$H86,Options!$B$8)))","v":4343.3135725908996},{"$f":"IF(AND(OR($E$2=\"Orkney Health Board\",$E$2=\"Orkney Islands Local Authority\"),$F86=1),0,IF(AND(OR($E$2=\"Shetland Health Board\",$E$2=\"Western Isles Health Board\",$E$2=\"Shetland Islands Local Authority\",$E$2=\"Eilean Siar Local Authority\"),OR($F86=1,$F86=5)),0,new_yllv2(VALUE(LEFT(Options!$B$14,2)),$C86,$D86,$E86,$F86,2016,$I86+$J86,1,$H86,$G86*$H86,Options!$B$8)))","v":4332.1404458482002},{"$f":"IF(AND(OR($E$2=\"Orkney Health Board\",$E$2=\"Orkney Islands Local Authority\"),$F86=1),0,IF(AND(OR($E$2=\"Shetland Health Board\",$E$2=\"Western Isles Health Board\",$E$2=\"Shetland Islands Local Authority\",$E$2=\"Eilean Siar Local Authority\"),OR($F86=1,$F86=5)),0,hosp_count(VALUE(LEFT(Options!$B$14,2)),$C86,$E86,$F86,2016,$I86,1,$H86,$G86*$H86, Options!$B$8)))","v":6330.2128956528004},{"$f":"IF(AND(OR($E$2=\"Orkney Health Board\",$E$2=\"Orkney Islands Local Authority\"),$F86=1),0,IF(AND(OR($E$2=\"Shetland Health Board\",$E$2=\"Western Isles Health Board\",$E$2=\"Shetland Islands Local Authority\",$E$2=\"Eilean Siar Local Authority\"),OR($F86=1,$F86=5)),0,hosp_count(VALUE(LEFT(Options!$B$14,2)),$C86,$E86,$F86,2016,$I86+$J86,1,$H86,$G86*$H86, Options!$B$8)))","v":6319.0963589802004},{"$f":"IF(AND(OR($E$2=\"Orkney Health Board\",$E$2=\"Orkney Islands Local Authority\"),$F86=1),0,IF(AND(OR($E$2=\"Shetland Health Board\",$E$2=\"Western Isles Health Board\",$E$2=\"Shetland Islands Local Authority\",$E$2=\"Eilean Siar Local Authority\"),OR($F86=1,$F86=5)),0,prem_mort(VALUE(LEFT(Options!$B$14,2)),$C86,$E86,$F86,2016,$I86,1,$H86,$G86*$H86,Options!$B$8)))","v":107.4811574509},{"$f":"IF(AND(OR($E$2=\"Orkney Health Board\",$E$2=\"Orkney Islands Local Authority\"),$F86=1),0,IF(AND(OR($E$2=\"Shetland Health Board\",$E$2=\"Western Isles Health Board\",$E$2=\"Shetland Islands Local Authority\",$E$2=\"Eilean Siar Local Authority\"),OR($F86=1,$F86=5)),0,prem_mort(VALUE(LEFT(Options!$B$14,2)),$C86,$E86,$F86,2016,$I86+$J86,1,$H86,$G86*$H86,Options!$B$8)))","v":107.20466334690001},325.85846910896191,325.02020175509341,13167.940736693243,13134.066352923237,19191.768420000004,19158.065604475505,325.85846910896191,325.02020175509341,2281009.2837627335,2275141.4122856539,92175585.156852692,91938464.470462665,134342378.94000003,134106459.23132853,2281009.2837627335,2275141.4122856539,7000]
[null,"Male 40-44",42.067703000000002,78.907700000000006,"male",1,{"$f":"HLOOKUP($E$2,'Prevalence Rates'!$C$3:$BC$249,'Prevalence Rates'!$BD87,FALSE)","v":0.47410000000000002},{"$f":"HLOOKUP($E$2,'Population 2016'!$C$3:$BC$249,'Population 2016'!BD87,FALSE)","v":31623},0,{"$f":"ROUND(0.807*(HLOOKUP($E$2,'Population at Risk'!$C$3:$BC$249,'Population at Risk'!$BD87,FALSE)),0)","v":12099},{"$f":"IF(AND(OR($E$2=\"Orkney Health Board\",$E$2=\"Orkney Islands Local Authority\"),$F87=1),0,IF(AND(OR($E$2=\"Shetland Health Board\",$E$2=\"Western Isles Health Board\",$E$2=\"Shetland Islands Local Authority\",$E$2=\"Eilean Siar Local Authority\"),OR($F87=1,$F87=5)),0,new_ci(VALUE(LEFT(Options!$B$14,2)),$C87,$E87,$F87,2016,$I87,1,$H87,$G87*$H87,Options!$B$8)))","v":151.79236231339999},{"$f":"IF(AND(OR($E$2=\"Orkney Health Board\",$E$2=\"Orkney Islands Local Authority\"),$F87=1),0,IF(AND(OR($E$2=\"Shetland Health Board\",$E$2=\"Western Isles Health Board\",$E$2=\"Shetland Islands Local Authority\",$E$2=\"Eilean Siar Local Authority\"),OR($F87=1,$F87=5)),0,new_ci(VALUE(LEFT(Options!$B$14,2)),$C87,$E87,$F87,2016,$I87+$J87,1,$H87,$G87*$H87,Options!$B$8)))","v":151.40235467810001},{"$f":"IF(AND(OR($E$2=\"Orkney Health Board\",$E$2=\"Orkney Islands Local Authority\"),$F87=1),0,IF(AND(OR($E$2=\"Shetland Health Board\",$E$2=\"Western Isles Health Board\",$E$2=\"Shetland Islands Local Authority\",$E$2=\"Eilean Siar Local Authority\"),OR($F87=1,$F87=5)),0,new_yllv2(VALUE(LEFT(Options!$B$14,2)),$C87,$D87,$E87,$F87,2016,$I87,1,$H87,$G87*$H87,Options!$B$8)))","v":5440.2378099351999},{"$f":"IF(AND(OR($E$2=\"Orkney Health Board\",$E$2=\"Orkney Islands Local Authority\"),$F87=1),0,IF(AND(OR($E$2=\"Shetland Health Board\",$E$2=\"Western Isles Health Board\",$E$2=\"Shetland Islands Local Authority\",$E$2=\"Eilean Siar Local Authority\"),OR($F87=1,$F87=5)),0,new_yllv2(VALUE(LEFT(Options!$B$14,2)),$C87,$D87,$E87,$F87,2016,$I87+$J87,1,$H87,$G87*$H87,Options!$B$8)))","v":5426.2599374560004},{"$f":"IF(AND(OR($E$2=\"Orkney Health Board\",$E$2=\"Orkney Islands Local Authority\"),$F87=1),0,IF(AND(OR($E$2=\"Shetland Health Board\",$E$2=\"Western Isles Health Board\",$E$2=\"Shetland Islands Local Authority\",$E$2=\"Eilean Siar Local Authority\"),OR($F87=1,$F87=5)),0,hosp_count(VALUE(LEFT(Options!$B$14,2)),$C87,$E87,$F87,2016,$I87,1,$H87,$G87*$H87, Options!$B$8)))","v":7284.1542018173996},{"$f":"IF(AND(OR($E$2=\"Orkney Health Board\",$E$2=\"Orkney Islands Local Authority\"),$F87=1),0,IF(AND(OR($E$2=\"Shetland Health Board\",$E$2=\"Western Isles Health Board\",$E$2=\"Shetland Islands Local Authority\",$E$2=\"Eilean Siar Local Authority\"),OR($F87=1,$F87=5)),0,hosp_count(VALUE(LEFT(Options!$B$14,2)),$C87,$E87,$F87,2016,$I87+$J87,1,$H87,$G87*$H87, Options!$B$8)))","v":7271.3627244867002},{"$f":"IF(AND(OR($E$2=\"Orkney Health Board\",$E$2=\"Orkney Islands Local Authority\"),$F87=1),0,IF(AND(OR($E$2=\"Shetland Health Board\",$E$2=\"Western Isles Health Board\",$E$2=\"Shetland Islands Local Authority\",$E$2=\"Eilean Siar Local Authority\"),OR($F87=1,$F87=5)),0,prem_mort(VALUE(LEFT(Options!$B$14,2)),$C87,$E87,$F87,2016,$I87,1,$H87,$G87*$H87,Options!$B$8)))","v":151.79236231339999},{"$f":"IF(AND(OR($E$2=\"Orkney Health Board\",$E$2=\"Orkney Islands Local Authority\"),$F87=1),0,IF(AND(OR($E$2=\"Shetland Health Board\",$E$2=\"Western Isles Health Board\",$E$2=\"Shetland Islands Local Authority\",$E$2=\"Eilean Siar Local Authority\"),OR($F87=1,$F87=5)),0,prem_mort(VALUE(LEFT(Options!$B$14,2)),$C87,$E87,$F87,2016,$I87+$J87,1,$H87,$G87*$H87,Options!$B$8)))","v":151.40235467810001},480.00620533598959,478.77290161622875,17203.420959223349,17159.219357606806,23034.355379999997,22993.90546275401,480.00620533598959,478.77290161622875,3360043.4373519272,3351410.3113136012,120423946.71456344,120114535.50324763,161240487.65999997,160957338.23927808,3360043.4373519272,3351410.3113136012,7000]
[null,"Male 45-49",47.038155000000003,79.418149999999997,"male",1,{"$f":"HLOOKUP($E$2,'Prevalence Rates'!$C$3:$BC$249,'Prevalence Rates'!$BD88,FALSE)","v":0.43470000000000003},{"$f":"HLOOKUP($E$2,'Population 2016'!$C$3:$BC$249,'Population 2016'!BD88,FALSE)","v":35878},0,{"$f":"ROUND(0.807*(HLOOKUP($E$2,'Population at Risk'!$C$3:$BC$249,'Population at Risk'!$BD88,FALSE)),0)","v":12586},{"$f":"IF(AND(OR($E$2=\"Orkney Health Board\",$E$2=\"Orkney Islands Local Authority\"),$F88=1),0,IF(AND(OR($E$2=\"Shetland Health Board\",$E$2=\"Western Isles Health Board\",$E$2=\"Shetland Islands Local Authority\",$E$2=\"Eilean Siar Local Authority\"),OR($F88=1,$F88=5)),0,new_ci(VALUE(LEFT(Options!$B$14,2)),$C88,$E88,$F88,2016,$I88,1,$H88,$G88*$H88,Options!$B$8)))","v":250.33386353189999},{"$f":"IF(AND(OR($E$2=\"Orkney Health Board\",$E$2=\"Orkney Islands Local Authority\"),$F88=1),0,IF(AND(OR($E$2=\"Shetland Health Board\",$E$2=\"Western Isles Health Board\",$E$2=\"Shetland Islands Local Authority\",$E$2=\"Eilean Siar Local Authority\"),OR($F88=1,$F88=5)),0,new_ci(VALUE(LEFT(Options!$B$14,2)),$C88,$E88,$F88,2016,$I88+$J88,1,$H88,$G88*$H88,Options!$B$8)))","v":249.73026917830001},{"$f":"IF(AND(OR($E$2=\"Orkney Health Board\",$E$2=\"Orkney Islands Local Authority\"),$F88=1),0,IF(AND(OR($E$2=\"Shetland Health Board\",$E$2=\"Western Isles Health Board\",$E$2=\"Shetland Islands Local Authority\",$E$2=\"Eilean Siar Local Authority\"),OR($F88=1,$F88=5)),0,new_yllv2(VALUE(LEFT(Options!$B$14,2)),$C88,$D88,$E88,$F88,2016,$I88,1,$H88,$G88*$H88,Options!$B$8)))","v":7855.4753859617003},{"$f":"IF(AND(OR($E$2=\"Orkney Health Board\",$E$2=\"Orkney Islands Local Authority\"),$F88=1),0,IF(AND(OR($E$2=\"Shetland Health Board\",$E$2=\"Western Isles Health Board\",$E$2=\"Shetland Islands Local Authority\",$E$2=\"Eilean Siar Local Authority\"),OR($F88=1,$F88=5)),0,new_yllv2(VALUE(LEFT(Options!$B$14,2)),$C88,$D88,$E88,$F88,2016,$I88+$J88,1,$H88,$G88*$H88,Options!$B$8)))","v":7836.5345981637001},{"$f":"IF(AND(OR($E$2=\"Orkney Health Board\",$E$2=\"Orkney Islands Local Authority\"),$F88=1),0,IF(AND(OR($E$2=\"Shetland Health Board\",$E$2=\"Western Isles Health Board\",$E$2=\"Shetland Islands Local Authority\",$E$2=\"Eilean Siar Local Authority\"),OR($F88=1,$F88=5)),0,hosp_count(VALUE(LEFT(Options!$B$14,2)),$C88,$E88,$F88,2016,$I88,1,$H88,$G88*$H88, Options!$B$8)))","v":9858.8353716774},{"$f":"IF(AND(OR($E$2=\"Orkney Health Board\",$E$2=\"Orkney Islands Local Authority\"),$F88=1),0,IF(AND(OR($E$2=\"Shetland Health Board\",$E$2=\"Western Isles Health Board\",$E$2=\"Shetland Islands Local Authority\",$E$2=\"Eilean Siar Local Authority\"),OR($F88=1,$F88=5)),0,hosp_count(VALUE(LEFT(Options!$B$14,2)),$C88,$E88,$F88,2016,$I88+$J88,1,$H88,$G88*$H88, Options!$B$8)))","v":9842.7132168414992},{"$f":"IF(AND(OR($E$2=\"Orkney Health Board\",$E$2=\"Orkney Islands Local Authority\"),$F88=1),0,IF(AND(OR($E$2=\"Shetland Health Board\",$E$2=\"Western Isles Health Board\",$E$2=\"Shetland Islands Local Authority\",$E$2=\"Eilean Siar Local Authority\"),OR($F88=1,$F88=5)),0,prem_mort(VALUE(LEFT(Options!$B$14,2)),$C88,$E88,$F88,2016,$I88,1,$H88,$G88*$H88,Options!$B$8)))","v":250.33386353189999},{"$f":"IF(AND(OR($E$2=\"Orkney Health Board\",$E$2=\"Orkney Islands Local Authority\"),$F88=1),0,IF(AND(OR($E$2=\"Shetland Health Board\",$E$2=\"Western Isles Health Board\",$E$2=\"Shetland Islands Local Authority\",$E$2=\"Eilean Siar Local Authority\"),OR($F88=1,$F88=5)),0,prem_mort(VALUE(LEFT(Options!$B$14,2)),$C88,$E88,$F88,2016,$I88+$J88,1,$H88,$G88*$H88,Options!$B$8)))","v":249.73026917830001},697.73639425804117,696.05404197084567,21894.964563135349,21842.172356774903,27478.776330000001,27433.840283297559,697.73639425804117,696.05404197084567,4884154.7598062884,4872378.29379592,153264751.94194743,152895206.49742433,192351434.31,192036881.98308292,4884154.7598062884,4872378.29379592,7000]
[null,"Male 50-54",51.998646000000001,79.988649999999993,"male",1,{"$f":"HLOOKUP($E$2,'Prevalence Rates'!$C$3:$BC$249,'Prevalence Rates'!$BD89,FALSE)","v":0.43470000000000003},{"$f":"HLOOKUP($E$2,'Population 2016'!$C$3:$BC$249,'Population 2016'!BD89,FALSE)","v":36922},0,{"$f":"ROUND(0.807*(HLOOKUP($E$2,'Population at Risk'!$C$3:$BC$249,'Population at Risk'!$BD89,FALSE)),0)","v":12952},{"$f":"IF(AND(OR($E$2=\"Orkney Health Board\",$E$2=\"Orkney Islands Local Authority\"),$F89=1),0,IF(AND(OR($E$2=\"Shetland Health Board\",$E$2=\"Western Isles Health Board\",$E$2=\"Shetland Islands Local Authority\",$E$2=\"Eilean Siar Local Authority\"),OR($F89=1,$F89=5)),0,new_ci(VALUE(LEFT(Options!$B$14,2)),$C89,$E89,$F89,2016,$I89,1,$H89,$G89*$H89,Options!$B$8)))","v":373.99170781610002},{"$f":"IF(AND(OR($E$2=\"Orkney Health Board\",$E$2=\"Orkney Islands Local Authority\"),$F89=1),0,IF(AND(OR($E$2=\"Shetland Health Board\",$E$2=\"Western Isles Health Board\",$E$2=\"Shetland Islands Local Authority\",$E$2=\"Eilean Siar Local Authority\"),OR($F89=1,$F89=5)),0,new_ci(VALUE(LEFT(Options!$B$14,2)),$C89,$E89,$F89,2016,$I89+$J89,1,$H89,$G89*$H89,Options!$B$8)))","v":373.09229762249998},{"$f":"IF(AND(OR($E$2=\"Orkney Health Board\",$E$2=\"Orkney Islands Local Authority\"),$F89=1),0,IF(AND(OR($E$2=\"Shetland Health Board\",$E$2=\"Western Isles Health Board\",$E$2=\"Shetland Islands Local Authority\",$E$2=\"Eilean Siar Local Authority\"),OR($F89=1,$F89=5)),0,new_yllv2(VALUE(LEFT(Options!$B$14,2)),$C89,$D89,$E89,$F89,2016,$I89,1,$H89,$G89*$H89,Options!$B$8)))","v":10094.0376899234},{"$f":"IF(AND(OR($E$2=\"Orkney Health Board\",$E$2=\"Orkney Islands Local Authority\"),$F89=1),0,IF(AND(OR($E$2=\"Shetland Health Board\",$E$2=\"Western Isles Health Board\",$E$2=\"Shetland Islands Local Authority\",$E$2=\"Eilean Siar Local Authority\"),OR($F89=1,$F89=5)),0,new_yllv2(VALUE(LEFT(Options!$B$14,2)),$C89,$D89,$E89,$F89,2016,$I89+$J89,1,$H89,$G89*$H89,Options!$B$8)))","v":10069.7626052005},{"$f":"IF(AND(OR($E$2=\"Orkney Health Board\",$E$2=\"Orkney Islands Local Authority\"),$F89=1),0,IF(AND(OR($E$2=\"Shetland Health Board\",$E$2=\"Western Isles Health Board\",$E$2=\"Shetland Islands Local Authority\",$E$2=\"Eilean Siar Local Authority\"),OR($F89=1,$F89=5)),0,hosp_count(VALUE(LEFT(Options!$B$14,2)),$C89,$E89,$F89,2016,$I89,1,$H89,$G89*$H89, Options!$B$8)))","v":12099.025182703401},{"$f":"IF(AND(OR($E$2=\"Orkney Health Board\",$E$2=\"Orkney Islands Local Authority\"),$F89=1),0,IF(AND(OR($E$2=\"Shetland Health Board\",$E$2=\"Western Isles Health Board\",$E$2=\"Shetland Islands Local Authority\",$E$2=\"Eilean Siar Local Authority\"),OR($F89=1,$F89=5)),0,hosp_count(VALUE(LEFT(Options!$B$14,2)),$C89,$E89,$F89,2016,$I89+$J89,1,$H89,$G89*$H89, Options!$B$8)))","v":12079.240003926099},{"$f":"IF(AND(OR($E$2=\"Orkney Health Board\",$E$2=\"Orkney Islands Local Authority\"),$F89=1),0,IF(AND(OR($E$2=\"Shetland Health Board\",$E$2=\"Western Isles Health Board\",$E$2=\"Shetland Islands Local Authority\",$E$2=\"Eilean Siar Local Authority\"),OR($F89=1,$F89=5)),0,prem_mort(VALUE(LEFT(Options!$B$14,2)),$C89,$E89,$F89,2016,$I89,1,$H89,$G89*$H89,Options!$B$8)))","v":373.99170781610002},{"$f":"IF(AND(OR($E$2=\"Orkney Health Board\",$E$2=\"Orkney Islands Local Authority\"),$F89=1),0,IF(AND(OR($E$2=\"Shetland Health Board\",$E$2=\"Western Isles Health Board\",$E$2=\"Shetland Islands Local Authority\",$E$2=\"Eilean Siar Local Authority\"),OR($F89=1,$F89=5)),0,prem_mort(VALUE(LEFT(Options!$B$14,2)),$C89,$E89,$F89,2016,$I89+$J89,1,$H89,$G89*$H89,Options!$B$8)))","v":373.09229762249998},1012.9237522780458,1010.4877786211473,27338.816125679539,27273.069186935973,32769.148970000002,32715.562547874164,1012.9237522780458,1010.4877786211473,7090466.2659463203,7073414.4503480308,191371712.87975678,190911484.30855182,229384042.79000002,229008937.83511916,7090466.2659463203,7073414.4503480308,7000]
[null,"Male 55-59",56.950867000000002,80.660870000000003,"male",1,{"$f":"HLOOKUP($E$2,'Prevalence Rates'!$C$3:$BC$249,'Prevalence Rates'!$BD90,FALSE)","v":0.43260000000000004},{"$f":"HLOOKUP($E$2,'Population 2016'!$C$3:$BC$249,'Population 2016'!BD90,FALSE)","v":33251},0,{"$f":"ROUND(0.807*(HLOOKUP($E$2,'Population at Risk'!$C$3:$BC$249,'Population at Risk'!$BD90,FALSE)),0)","v":11608},{"$f":"IF(AND(OR($E$2=\"Orkney Health Board\",$E$2=\"Orkney Islands Local Authority\"),$F90=1),0,IF(AND(OR($E$2=\"Shetland Health Board\",$E$2=\"Western Isles Health Board\",$E$2=\"Shetland Islands Local Authority\",$E$2=\"Eilean Siar Local Authority\"),OR($F90=1,$F90=5)),0,new_ci(VALUE(LEFT(Options!$B$14,2)),$C90,$E90,$F90,2016,$I90,1,$H90,$G90*$H90,Options!$B$8)))","v":488.26209149390002},{"$f":"IF(AND(OR($E$2=\"Orkney Health Board\",$E$2=\"Orkney Islands Local Authority\"),$F90=1),0,IF(AND(OR($E$2=\"Shetland Health Board\",$E$2=\"Western Isles Health Board\",$E$2=\"Shetland Islands Local Authority\",$E$2=\"Eilean Siar Local Authority\"),OR($F90=1,$F90=5)),0,new_ci(VALUE(LEFT(Options!$B$14,2)),$C90,$E90,$F90,2016,$I90+$J90,1,$H90,$G90*$H90,Options!$B$8)))","v":487.0963557723},{"$f":"IF(AND(OR($E$2=\"Orkney Health Board\",$E$2=\"Orkney Islands Local Authority\"),$F90=1),0,IF(AND(OR($E$2=\"Shetland Health Board\",$E$2=\"Western Isles Health Board\",$E$2=\"Shetland Islands Local Authority\",$E$2=\"Eilean Siar Local Authority\"),OR($F90=1,$F90=5)),0,new_yllv2(VALUE(LEFT(Options!$B$14,2)),$C90,$D90,$E90,$F90,2016,$I90,1,$H90,$G90*$H90,Options!$B$8)))","v":11088.433562612699},{"$f":"IF(AND(OR($E$2=\"Orkney Health Board\",$E$2=\"Orkney Islands Local Authority\"),$F90=1),0,IF(AND(OR($E$2=\"Shetland Health Board\",$E$2=\"Western Isles Health Board\",$E$2=\"Shetland Islands Local Authority\",$E$2=\"Eilean Siar Local Authority\"),OR($F90=1,$F90=5)),0,new_yllv2(VALUE(LEFT(Options!$B$14,2)),$C90,$D90,$E90,$F90,2016,$I90+$J90,1,$H90,$G90*$H90,Options!$B$8)))","v":11061.959700878},{"$f":"IF(AND(OR($E$2=\"Orkney Health Board\",$E$2=\"Orkney Islands Local Authority\"),$F90=1),0,IF(AND(OR($E$2=\"Shetland Health Board\",$E$2=\"Western Isles Health Board\",$E$2=\"Shetland Islands Local Authority\",$E$2=\"Eilean Siar Local Authority\"),OR($F90=1,$F90=5)),0,hosp_count(VALUE(LEFT(Options!$B$14,2)),$C90,$E90,$F90,2016,$I90,1,$H90,$G90*$H90, Options!$B$8)))","v":12990.0302415269},{"$f":"IF(AND(OR($E$2=\"Orkney Health Board\",$E$2=\"Orkney Islands Local Authority\"),$F90=1),0,IF(AND(OR($E$2=\"Shetland Health Board\",$E$2=\"Western Isles Health Board\",$E$2=\"Shetland Islands Local Authority\",$E$2=\"Eilean Siar Local Authority\"),OR($F90=1,$F90=5)),0,hosp_count(VALUE(LEFT(Options!$B$14,2)),$C90,$E90,$F90,2016,$I90+$J90,1,$H90,$G90*$H90, Options!$B$8)))","v":12968.872797861401},{"$f":"IF(AND(OR($E$2=\"Orkney Health Board\",$E$2=\"Orkney Islands Local Authority\"),$F90=1),0,IF(AND(OR($E$2=\"Shetland Health Board\",$E$2=\"Western Isles Health Board\",$E$2=\"Shetland Islands Local Authority\",$E$2=\"Eilean Siar Local Authority\"),OR($F90=1,$F90=5)),0,prem_mort(VALUE(LEFT(Options!$B$14,2)),$C90,$E90,$F90,2016,$I90,1,$H90,$G90*$H90,Options!$B$8)))","v":488.26209149390002},{"$f":"IF(AND(OR($E$2=\"Orkney Health Board\",$E$2=\"Orkney Islands Local Authority\"),$F90=1),0,IF(AND(OR($E$2=\"Shetland Health Board\",$E$2=\"Western Isles Health Board\",$E$2=\"Shetland Islands Local Authority\",$E$2=\"Eilean Siar Local Authority\"),OR($F90=1,$F90=5)),0,prem_mort(VALUE(LEFT(Options!$B$14,2)),$C90,$E90,$F90,2016,$I90+$J90,1,$H90,$G90*$H90,Options!$B$8)))","v":487.0963557723},1468.4132552220988,1464.9073885666596,33347.669431333496,33268.051189071004,39066.585189999998,39002.955694148746,1468.4132552220988,1464.9073885666596,9544686.1589436419,9521898.0256832875,216759851.30366772,216242332.72896153,253932803.73499998,253519212.01196685,9544686.1589436419,9521898.0256832875,6500]
[null,"Male 60-64",61.942988999999997,81.612989999999996,"male",1,{"$f":"HLOOKUP($E$2,'Prevalence Rates'!$C$3:$BC$249,'Prevalence Rates'!$BD91,FALSE)","v":0.43260000000000004},{"$f":"HLOOKUP($E$2,'Population 2016'!$C$3:$BC$249,'Population 2016'!BD91,FALSE)","v":27358},0,{"$f":"ROUND(0.807*(HLOOKUP($E$2,'Population at Risk'!$C$3:$BC$249,'Population at Risk'!$BD91,FALSE)),0)","v":9551},{"$f":"IF(AND(OR($E$2=\"Orkney Health Board\",$E$2=\"Orkney Islands Local Authority\"),$F91=1),0,IF(AND(OR($E$2=\"Shetland Health Board\",$E$2=\"Western Isles Health Board\",$E$2=\"Shetland Islands Local Authority\",$E$2=\"Eilean Siar Local Authority\"),OR($F91=1,$F91=5)),0,new_ci(VALUE(LEFT(Options!$B$14,2)),$C91,$E91,$F91,2016,$I91,1,$H91,$G91*$H91,Options!$B$8)))","v":583.44463640799995},{"$f":"IF(AND(OR($E$2=\"Orkney Health Board\",$E$2=\"Orkney Islands Local Authority\"),$F91=1),0,IF(AND(OR($E$2=\"Shetland Health Board\",$E$2=\"Western Isles Health Board\",$E$2=\"Shetland Islands Local Authority\",$E$2=\"Eilean Siar Local Authority\"),OR($F91=1,$F91=5)),0,new_ci(VALUE(LEFT(Options!$B$14,2)),$C91,$E91,$F91,2016,$I91+$J91,1,$H91,$G91*$H91,Options!$B$8)))","v":582.05928678040004},{"$f":"IF(AND(OR($E$2=\"Orkney Health Board\",$E$2=\"Orkney Islands Local Authority\"),$F91=1),0,IF(AND(OR($E$2=\"Shetland Health Board\",$E$2=\"Western Isles Health Board\",$E$2=\"Shetland Islands Local Authority\",$E$2=\"Eilean Siar Local Authority\"),OR($F91=1,$F91=5)),0,new_yllv2(VALUE(LEFT(Options!$B$14,2)),$C91,$D91,$E91,$F91,2016,$I91,1,$H91,$G91*$H91,Options!$B$8)))","v":10892.911945182001},{"$f":"IF(AND(OR($E$2=\"Orkney Health Board\",$E$2=\"Orkney Islands Local Authority\"),$F91=1),0,IF(AND(OR($E$2=\"Shetland Health Board\",$E$2=\"Western Isles Health Board\",$E$2=\"Shetland Islands Local Authority\",$E$2=\"Eilean Siar Local Authority\"),OR($F91=1,$F91=5)),0,new_yllv2(VALUE(LEFT(Options!$B$14,2)),$C91,$D91,$E91,$F91,2016,$I91+$J91,1,$H91,$G91*$H91,Options!$B$8)))","v":10867.0474662494},{"$f":"IF(AND(OR($E$2=\"Orkney Health Board\",$E$2=\"Orkney Islands Local Authority\"),$F91=1),0,IF(AND(OR($E$2=\"Shetland Health Board\",$E$2=\"Western Isles Health Board\",$E$2=\"Shetland Islands Local Authority\",$E$2=\"Eilean Siar Local Authority\"),OR($F91=1,$F91=5)),0,hosp_count(VALUE(LEFT(Options!$B$14,2)),$C91,$E91,$F91,2016,$I91,1,$H91,$G91*$H91, Options!$B$8)))","v":12759.838377569},{"$f":"IF(AND(OR($E$2=\"Orkney Health Board\",$E$2=\"Orkney Islands Local Authority\"),$F91=1),0,IF(AND(OR($E$2=\"Shetland Health Board\",$E$2=\"Western Isles Health Board\",$E$2=\"Shetland Islands Local Authority\",$E$2=\"Eilean Siar Local Authority\"),OR($F91=1,$F91=5)),0,hosp_count(VALUE(LEFT(Options!$B$14,2)),$C91,$E91,$F91,2016,$I91+$J91,1,$H91,$G91*$H91, Options!$B$8)))","v":12739.055293313901},{"$f":"IF(AND(OR($E$2=\"Orkney Health Board\",$E$2=\"Orkney Islands Local Authority\"),$F91=1),0,IF(AND(OR($E$2=\"Shetland Health Board\",$E$2=\"Western Isles Health Board\",$E$2=\"Shetland Islands Local Authority\",$E$2=\"Eilean Siar Local Authority\"),OR($F91=1,$F91=5)),0,prem_mort(VALUE(LEFT(Options!$B$14,2)),$C91,$E91,$F91,2016,$I91,1,$H91,$G91*$H91,Options!$B$8)))","v":583.44463640799995},{"$f":"IF(AND(OR($E$2=\"Orkney Health Board\",$E$2=\"Orkney Islands Local Authority\"),$F91=1),0,IF(AND(OR($E$2=\"Shetland Health Board\",$E$2=\"Western Isles Health Board\",$E$2=\"Shetland Islands Local Authority\",$E$2=\"Eilean Siar Local Authority\"),OR($F91=1,$F91=5)),0,prem_mort(VALUE(LEFT(Options!$B$14,2)),$C91,$E91,$F91,2016,$I91+$J91,1,$H91,$G91*$H91,Options!$B$8)))","v":582.05928678040004},2132.6289802178517,2127.5651976767308,39816.185193296296,39721.644368189925,46640.24555,46564.278431588209,2132.6289802178517,2127.5651976767308,12795773.88130711,12765391.186060384,238897111.15977779,238329866.20913956,279841473.30000001,279385670.58952928,12795773.88130711,12765391.186060384,6000]
[null,"Male 65-69",67.054419999999993,82.954419999999999,"male",1,{"$f":"HLOOKUP($E$2,'Prevalence Rates'!$C$3:$BC$249,'Prevalence Rates'!$BD92,FALSE)","v":0.3095},{"$f":"HLOOKUP($E$2,'Population 2016'!$C$3:$BC$249,'Population 2016'!BD92,FALSE)","v":25567},0,{"$f":"ROUND(0.807*(HLOOKUP($E$2,'Population at Risk'!$C$3:$BC$249,'Population at Risk'!$BD92,FALSE)),0)","v":6386},{"$f":"IF(AND(OR($E$2=\"Orkney Health Board\",$E$2=\"Orkney Islands Local Authority\"),$F92=1),0,IF(AND(OR($E$2=\"Shetland Health Board\",$E$2=\"Western Isles Health Board\",$E$2=\"Shetland Islands Local Authority\",$E$2=\"Eilean Siar Local Authority\"),OR($F92=1,$F92=5)),0,new_ci(VALUE(LEFT(Options!$B$14,2)),$C92,$E92,$F92,2016,$I92,1,$H92,$G92*$H92,Options!$B$8)))","v":797.5414112899},{"$f":"IF(AND(OR($E$2=\"Orkney Health Board\",$E$2=\"Orkney Islands Local Authority\"),$F92=1),0,IF(AND(OR($E$2=\"Shetland Health Board\",$E$2=\"Western Isles Health Board\",$E$2=\"Shetland Islands Local Authority\",$E$2=\"Eilean Siar Local Authority\"),OR($F92=1,$F92=5)),0,new_ci(VALUE(LEFT(Options!$B$14,2)),$C92,$E92,$F92,2016,$I92+$J92,1,$H92,$G92*$H92,Options!$B$8)))","v":796.08670794969998},{"$f":"IF(AND(OR($E$2=\"Orkney Health Board\",$E$2=\"Orkney Islands Local Authority\"),$F92=1),0,IF(AND(OR($E$2=\"Shetland Health Board\",$E$2=\"Western Isles Health Board\",$E$2=\"Shetland Islands Local Authority\",$E$2=\"Eilean Siar Local Authority\"),OR($F92=1,$F92=5)),0,new_yllv2(VALUE(LEFT(Options!$B$14,2)),$C92,$D92,$E92,$F92,2016,$I92,1,$H92,$G92*$H92,Options!$B$8)))","v":11883.3670282195},{"$f":"IF(AND(OR($E$2=\"Orkney Health Board\",$E$2=\"Orkney Islands Local Authority\"),$F92=1),0,IF(AND(OR($E$2=\"Shetland Health Board\",$E$2=\"Western Isles Health Board\",$E$2=\"Shetland Islands Local Authority\",$E$2=\"Eilean Siar Local Authority\"),OR($F92=1,$F92=5)),0,new_yllv2(VALUE(LEFT(Options!$B$14,2)),$C92,$D92,$E92,$F92,2016,$I92+$J92,1,$H92,$G92*$H92,Options!$B$8)))","v":11861.6919484505},{"$f":"IF(AND(OR($E$2=\"Orkney Health Board\",$E$2=\"Orkney Islands Local Authority\"),$F92=1),0,IF(AND(OR($E$2=\"Shetland Health Board\",$E$2=\"Western Isles Health Board\",$E$2=\"Shetland Islands Local Authority\",$E$2=\"Eilean Siar Local Authority\"),OR($F92=1,$F92=5)),0,hosp_count(VALUE(LEFT(Options!$B$14,2)),$C92,$E92,$F92,2016,$I92,1,$H92,$G92*$H92, Options!$B$8)))","v":14296.6790701768},{"$f":"IF(AND(OR($E$2=\"Orkney Health Board\",$E$2=\"Orkney Islands Local Authority\"),$F92=1),0,IF(AND(OR($E$2=\"Shetland Health Board\",$E$2=\"Western Isles Health Board\",$E$2=\"Shetland Islands Local Authority\",$E$2=\"Eilean Siar Local Authority\"),OR($F92=1,$F92=5)),0,hosp_count(VALUE(LEFT(Options!$B$14,2)),$C92,$E92,$F92,2016,$I92+$J92,1,$H92,$G92*$H92, Options!$B$8)))","v":14279.1616021072},{"$f":"IF(AND(OR($E$2=\"Orkney Health Board\",$E$2=\"Orkney Islands Local Authority\"),$F92=1),0,IF(AND(OR($E$2=\"Shetland Health Board\",$E$2=\"Western Isles Health Board\",$E$2=\"Shetland Islands Local Authority\",$E$2=\"Eilean Siar Local Authority\"),OR($F92=1,$F92=5)),0,prem_mort(VALUE(LEFT(Options!$B$14,2)),$C92,$E92,$F92,2016,$I92,1,$H92,$G92*$H92,Options!$B$8)))","v":797.5414112899},{"$f":"IF(AND(OR($E$2=\"Orkney Health Board\",$E$2=\"Orkney Islands Local Authority\"),$F92=1),0,IF(AND(OR($E$2=\"Shetland Health Board\",$E$2=\"Western Isles Health Board\",$E$2=\"Shetland Islands Local Authority\",$E$2=\"Eilean Siar Local Authority\"),OR($F92=1,$F92=5)),0,prem_mort(VALUE(LEFT(Options!$B$14,2)),$C92,$E92,$F92,2016,$I92+$J92,1,$H92,$G92*$H92,Options!$B$8)))","v":796.08670794969998},3119.4172616650367,3113.7274922740253,46479.317198809011,46394.539634882851,55918.48504,55849.969109035868,3119.4172616650367,3113.7274922740253,17156794.939157702,17125501.207507137,255636244.59344956,255169967.99185568,{"$f":"W92*$AI92","v":307551667.71999997},{"$f":"X92*$AI92","v":307174830.09969729},{"$f":"Y92*$AI92","v":17156794.939157702},{"$f":"Z92*$AI92","v":17125501.207507137},5500]
[null,"Male 70-74",71.891098,84.341099999999997,"male",1,{"$f":"HLOOKUP($E$2,'Prevalence Rates'!$C$3:$BC$249,'Prevalence Rates'!$BD93,FALSE)","v":0.3095},{"$f":"HLOOKUP($E$2,'Population 2016'!$C$3:$BC$249,'Population 2016'!BD93,FALSE)","v":18358},0,{"$f":"ROUND(0.807*(HLOOKUP($E$2,'Population at Risk'!$C$3:$BC$249,'Population at Risk'!$BD93,FALSE)),0)","v":4585},{"$f":"IF(AND(OR($E$2=\"Orkney Health Board\",$E$2=\"Orkney Islands Local Authority\"),$F93=1),0,IF(AND(OR($E$2=\"Shetland Health Board\",$E$2=\"Western Isles Health Board\",$E$2=\"Shetland Islands Local Authority\",$E$2=\"Eilean Siar Local Authority\"),OR($F93=1,$F93=5)),0,new_ci(VALUE(LEFT(Options!$B$14,2)),$C93,$E93,$F93,2016,$I93,1,$H93,$G93*$H93,Options!$B$8)))","v":818.76381283030003},{"$f":"IF(AND(OR($E$2=\"Orkney Health Board\",$E$2=\"Orkney Islands Local Authority\"),$F93=1),0,IF(AND(OR($E$2=\"Shetland Health Board\",$E$2=\"Western Isles Health Board\",$E$2=\"Shetland Islands Local Authority\",$E$2=\"Eilean Siar Local Authority\"),OR($F93=1,$F93=5)),0,new_ci(VALUE(LEFT(Options!$B$14,2)),$C93,$E93,$F93,2016,$I93+$J93,1,$H93,$G93*$H93,Options!$B$8)))","v":817.28992514929996},{"$f":"IF(AND(OR($E$2=\"Orkney Health Board\",$E$2=\"Orkney Islands Local Authority\"),$F93=1),0,IF(AND(OR($E$2=\"Shetland Health Board\",$E$2=\"Western Isles Health Board\",$E$2=\"Shetland Islands Local Authority\",$E$2=\"Eilean Siar Local Authority\"),OR($F93=1,$F93=5)),0,new_yllv2(VALUE(LEFT(Options!$B$14,2)),$C93,$D93,$E93,$F93,2016,$I93,1,$H93,$G93*$H93,Options!$B$8)))","v":9374.8472944345995},{"$f":"IF(AND(OR($E$2=\"Orkney Health Board\",$E$2=\"Orkney Islands Local Authority\"),$F93=1),0,IF(AND(OR($E$2=\"Shetland Health Board\",$E$2=\"Western Isles Health Board\",$E$2=\"Shetland Islands Local Authority\",$E$2=\"Eilean Siar Local Authority\"),OR($F93=1,$F93=5)),0,new_yllv2(VALUE(LEFT(Options!$B$14,2)),$C93,$D93,$E93,$F93,2016,$I93+$J93,1,$H93,$G93*$H93,Options!$B$8)))","v":9357.9712775393},{"$f":"IF(AND(OR($E$2=\"Orkney Health Board\",$E$2=\"Orkney Islands Local Authority\"),$F93=1),0,IF(AND(OR($E$2=\"Shetland Health Board\",$E$2=\"Western Isles Health Board\",$E$2=\"Shetland Islands Local Authority\",$E$2=\"Eilean Siar Local Authority\"),OR($F93=1,$F93=5)),0,hosp_count(VALUE(LEFT(Options!$B$14,2)),$C93,$E93,$F93,2016,$I93,1,$H93,$G93*$H93, Options!$B$8)))","v":12188.209584951601},{"$f":"IF(AND(OR($E$2=\"Orkney Health Board\",$E$2=\"Orkney Islands Local Authority\"),$F93=1),0,IF(AND(OR($E$2=\"Shetland Health Board\",$E$2=\"Western Isles Health Board\",$E$2=\"Shetland Islands Local Authority\",$E$2=\"Eilean Siar Local Authority\"),OR($F93=1,$F93=5)),0,hosp_count(VALUE(LEFT(Options!$B$14,2)),$C93,$E93,$F93,2016,$I93+$J93,1,$H93,$G93*$H93, Options!$B$8)))","v":12173.276796813399},{"$f":"IF(AND(OR($E$2=\"Orkney Health Board\",$E$2=\"Orkney Islands Local Authority\"),$F93=1),0,IF(AND(OR($E$2=\"Shetland Health Board\",$E$2=\"Western Isles Health Board\",$E$2=\"Shetland Islands Local Authority\",$E$2=\"Eilean Siar Local Authority\"),OR($F93=1,$F93=5)),0,prem_mort(VALUE(LEFT(Options!$B$14,2)),$C93,$E93,$F93,2016,$I93,1,$H93,$G93*$H93,Options!$B$8)))","v":818.76381283030003},{"$f":"IF(AND(OR($E$2=\"Orkney Health Board\",$E$2=\"Orkney Islands Local Authority\"),$F93=1),0,IF(AND(OR($E$2=\"Shetland Health Board\",$E$2=\"Western Isles Health Board\",$E$2=\"Shetland Islands Local Authority\",$E$2=\"Eilean Siar Local Authority\"),OR($F93=1,$F93=5)),0,prem_mort(VALUE(LEFT(Options!$B$14,2)),$C93,$E93,$F93,2016,$I93+$J93,1,$H93,$G93*$H93,Options!$B$8)))","v":817.28992514929996},4459.9837282400049,4451.9551429856192,51066.822608315721,50974.895291095432,66391.816019999998,66310.473890474997,4459.9837282400049,4451.9551429856192,22299918.641200025,22259775.714928094,255334113.04157859,254874476.45547715,331959080.09999996,331552369.45237499,22299918.641200025,22259775.714928094,5000]
[null,"Male 75-79",76.907700000000006,86.357700000000008,"male",1,{"$f":"HLOOKUP($E$2,'Prevalence Rates'!$C$3:$BC$249,'Prevalence Rates'!$BD94,FALSE)","v":0.17050000000000001},{"$f":"HLOOKUP($E$2,'Population 2016'!$C$3:$BC$249,'Population 2016'!BD94,FALSE)","v":13914},0,{"$f":"ROUND(0.807*(HLOOKUP($E$2,'Population at Risk'!$C$3:$BC$249,'Population at Risk'!$BD94,FALSE)),0)","v":1914},{"$f":"IF(AND(OR($E$2=\"Orkney Health Board\",$E$2=\"Orkney Islands Local Authority\"),$F94=1),0,IF(AND(OR($E$2=\"Shetland Health Board\",$E$2=\"Western Isles Health Board\",$E$2=\"Shetland Islands Local Authority\",$E$2=\"Eilean Siar Local Authority\"),OR($F94=1,$F94=5)),0,new_ci(VALUE(LEFT(Options!$B$14,2)),$C94,$E94,$F94,2016,$I94,1,$H94,$G94*$H94,Options!$B$8)))","v":896.54089720750005},{"$f":"IF(AND(OR($E$2=\"Orkney Health Board\",$E$2=\"Orkney Islands Local Authority\"),$F94=1),0,IF(AND(OR($E$2=\"Shetland Health Board\",$E$2=\"Western Isles Health Board\",$E$2=\"Shetland Islands Local Authority\",$E$2=\"Eilean Siar Local Authority\"),OR($F94=1,$F94=5)),0,new_ci(VALUE(LEFT(Options!$B$14,2)),$C94,$E94,$F94,2016,$I94+$J94,1,$H94,$G94*$H94,Options!$B$8)))","v":895.58579187609996},{"$f":"IF(AND(OR($E$2=\"Orkney Health Board\",$E$2=\"Orkney Islands Local Authority\"),$F94=1),0,IF(AND(OR($E$2=\"Shetland Health Board\",$E$2=\"Western Isles Health Board\",$E$2=\"Shetland Islands Local Authority\",$E$2=\"Eilean Siar Local Authority\"),OR($F94=1,$F94=5)),0,new_yllv2(VALUE(LEFT(Options!$B$14,2)),$C94,$D94,$E94,$F94,2016,$I94,1,$H94,$G94*$H94,Options!$B$8)))","v":7575.7705814033998},{"$f":"IF(AND(OR($E$2=\"Orkney Health Board\",$E$2=\"Orkney Islands Local Authority\"),$F94=1),0,IF(AND(OR($E$2=\"Shetland Health Board\",$E$2=\"Western Isles Health Board\",$E$2=\"Shetland Islands Local Authority\",$E$2=\"Eilean Siar Local Authority\"),OR($F94=1,$F94=5)),0,new_yllv2(VALUE(LEFT(Options!$B$14,2)),$C94,$D94,$E94,$F94,2016,$I94+$J94,1,$H94,$G94*$H94,Options!$B$8)))","v":7567.6999413530002},{"$f":"IF(AND(OR($E$2=\"Orkney Health Board\",$E$2=\"Orkney Islands Local Authority\"),$F94=1),0,IF(AND(OR($E$2=\"Shetland Health Board\",$E$2=\"Western Isles Health Board\",$E$2=\"Shetland Islands Local Authority\",$E$2=\"Eilean Siar Local Authority\"),OR($F94=1,$F94=5)),0,hosp_count(VALUE(LEFT(Options!$B$14,2)),$C94,$E94,$F94,2016,$I94,1,$H94,$G94*$H94, Options!$B$8)))","v":11038.2262665822},{"$f":"IF(AND(OR($E$2=\"Orkney Health Board\",$E$2=\"Orkney Islands Local Authority\"),$F94=1),0,IF(AND(OR($E$2=\"Shetland Health Board\",$E$2=\"Western Isles Health Board\",$E$2=\"Shetland Islands Local Authority\",$E$2=\"Eilean Siar Local Authority\"),OR($F94=1,$F94=5)),0,hosp_count(VALUE(LEFT(Options!$B$14,2)),$C94,$E94,$F94,2016,$I94+$J94,1,$H94,$G94*$H94, Options!$B$8)))","v":11030.3182622555},{"$f":"IF(AND(OR($E$2=\"Orkney Health Board\",$E$2=\"Orkney Islands Local Authority\"),$F94=1),0,IF(AND(OR($E$2=\"Shetland Health Board\",$E$2=\"Western Isles Health Board\",$E$2=\"Shetland Islands Local Authority\",$E$2=\"Eilean Siar Local Authority\"),OR($F94=1,$F94=5)),0,prem_mort(VALUE(LEFT(Options!$B$14,2)),$C94,$E94,$F94,2016,$I94,1,$H94,$G94*$H94,Options!$B$8)))","v":0},{"$f":"IF(AND(OR($E$2=\"Orkney Health Board\",$E$2=\"Orkney Islands Local Authority\"),$F94=1),0,IF(AND(OR($E$2=\"Shetland Health Board\",$E$2=\"Western Isles Health Board\",$E$2=\"Shetland Islands Local Authority\",$E$2=\"Eilean Siar Local Authority\"),OR($F94=1,$F94=5)),0,prem_mort(VALUE(LEFT(Options!$B$14,2)),$C94,$E94,$F94,2016,$I94+$J94,1,$H94,$G94*$H94,Options!$B$8)))","v":0},6443.444711854967,6436.5803642094297,54447.107815174641,54389.104077569355,79331.797230000011,79274.962356299409,0,0,25773778.847419869,25746321.456837717,217788431.26069856,217556416.31027743,317327188.92000002,317099849.42519766,0,0,4000]
[null,"Male 80-84",81.797089,88.627089999999995,"male",1,{"$f":"HLOOKUP($E$2,'Prevalence Rates'!$C$3:$BC$249,'Prevalence Rates'!$BD95,FALSE)","v":0.17050000000000001},{"$f":"HLOOKUP($E$2,'Population 2016'!$C$3:$BC$249,'Population 2016'!BD95,FALSE)","v":9236},0,{"$f":"ROUND(0.807*(HLOOKUP($E$2,'Population at Risk'!$C$3:$BC$249,'Population at Risk'!$BD95,FALSE)),0)","v":1271},{"$f":"IF(AND(OR($E$2=\"Orkney Health Board\",$E$2=\"Orkney Islands Local Authority\"),$F95=1),0,IF(AND(OR($E$2=\"Shetland Health Board\",$E$2=\"Western Isles Health Board\",$E$2=\"Shetland Islands Local Authority\",$E$2=\"Eilean Siar Local Authority\"),OR($F95=1,$F95=5)),0,new_ci(VALUE(LEFT(Options!$B$14,2)),$C95,$E95,$F95,2016,$I95,1,$H95,$G95*$H95,Options!$B$8)))","v":847.28296067919996},{"$f":"IF(AND(OR($E$2=\"Orkney Health Board\",$E$2=\"Orkney Islands Local Authority\"),$F95=1),0,IF(AND(OR($E$2=\"Shetland Health Board\",$E$2=\"Western Isles Health Board\",$E$2=\"Shetland Islands Local Authority\",$E$2=\"Eilean Siar Local Authority\"),OR($F95=1,$F95=5)),0,new_ci(VALUE(LEFT(Options!$B$14,2)),$C95,$E95,$F95,2016,$I95+$J95,1,$H95,$G95*$H95,Options!$B$8)))","v":846.40940873420004},{"$f":"IF(AND(OR($E$2=\"Orkney Health Board\",$E$2=\"Orkney Islands Local Authority\"),$F95=1),0,IF(AND(OR($E$2=\"Shetland Health Board\",$E$2=\"Western Isles Health Board\",$E$2=\"Shetland Islands Local Authority\",$E$2=\"Eilean Siar Local Authority\"),OR($F95=1,$F95=5)),0,new_yllv2(VALUE(LEFT(Options!$B$14,2)),$C95,$D95,$E95,$F95,2016,$I95,1,$H95,$G95*$H95,Options!$B$8)))","v":4939.6605080426998},{"$f":"IF(AND(OR($E$2=\"Orkney Health Board\",$E$2=\"Orkney Islands Local Authority\"),$F95=1),0,IF(AND(OR($E$2=\"Shetland Health Board\",$E$2=\"Western Isles Health Board\",$E$2=\"Shetland Islands Local Authority\",$E$2=\"Eilean Siar Local Authority\"),OR($F95=1,$F95=5)),0,new_yllv2(VALUE(LEFT(Options!$B$14,2)),$C95,$D95,$E95,$F95,2016,$I95+$J95,1,$H95,$G95*$H95,Options!$B$8)))","v":4934.5676993298002},{"$f":"IF(AND(OR($E$2=\"Orkney Health Board\",$E$2=\"Orkney Islands Local Authority\"),$F95=1),0,IF(AND(OR($E$2=\"Shetland Health Board\",$E$2=\"Western Isles Health Board\",$E$2=\"Shetland Islands Local Authority\",$E$2=\"Eilean Siar Local Authority\"),OR($F95=1,$F95=5)),0,hosp_count(VALUE(LEFT(Options!$B$14,2)),$C95,$E95,$F95,2016,$I95,1,$H95,$G95*$H95, Options!$B$8)))","v":8715.7131399083992},{"$f":"IF(AND(OR($E$2=\"Orkney Health Board\",$E$2=\"Orkney Islands Local Authority\"),$F95=1),0,IF(AND(OR($E$2=\"Shetland Health Board\",$E$2=\"Western Isles Health Board\",$E$2=\"Shetland Islands Local Authority\",$E$2=\"Eilean Siar Local Authority\"),OR($F95=1,$F95=5)),0,hosp_count(VALUE(LEFT(Options!$B$14,2)),$C95,$E95,$F95,2016,$I95+$J95,1,$H95,$G95*$H95, Options!$B$8)))","v":8709.4665611992004},{"$f":"IF(AND(OR($E$2=\"Orkney Health Board\",$E$2=\"Orkney Islands Local Authority\"),$F95=1),0,IF(AND(OR($E$2=\"Shetland Health Board\",$E$2=\"Western Isles Health Board\",$E$2=\"Shetland Islands Local Authority\",$E$2=\"Eilean Siar Local Authority\"),OR($F95=1,$F95=5)),0,prem_mort(VALUE(LEFT(Options!$B$14,2)),$C95,$E95,$F95,2016,$I95,1,$H95,$G95*$H95,Options!$B$8)))","v":0},{"$f":"IF(AND(OR($E$2=\"Orkney Health Board\",$E$2=\"Orkney Islands Local Authority\"),$F95=1),0,IF(AND(OR($E$2=\"Shetland Health Board\",$E$2=\"Western Isles Health Board\",$E$2=\"Shetland Islands Local Authority\",$E$2=\"Eilean Siar Local Authority\"),OR($F95=1,$F95=5)),0,prem_mort(VALUE(LEFT(Options!$B$14,2)),$C95,$E95,$F95,2016,$I95+$J95,1,$H95,$G95*$H95,Options!$B$8)))","v":0},9173.7003105153744,9164.2421907124299,53482.681984004979,53427.541136095715,94366.751189999995,94299.118245985272,0,0,22934250.776288435,22910605.476781074,133706704.96001245,133568852.84023929,235916877.97499999,235747795.61496317,0,0,2500]
[null,"Male 85-89",86.630752999999999,91.420750000000012,"male",1,{"$f":"HLOOKUP($E$2,'Prevalence Rates'!$C$3:$BC$249,'Prevalence Rates'!$BD96,FALSE)","v":0.17050000000000001},{"$f":"HLOOKUP($E$2,'Population 2016'!$C$3:$BC$249,'Population 2016'!BD96,FALSE)","v":4449},0,{"$f":"ROUND(0.807*(HLOOKUP($E$2,'Population at Risk'!$C$3:$BC$249,'Population at Risk'!$BD96,FALSE)),0)","v":612},{"$f":"IF(AND(OR($E$2=\"Orkney Health Board\",$E$2=\"Orkney Islands Local Authority\"),$F96=1),0,IF(AND(OR($E$2=\"Shetland Health Board\",$E$2=\"Western Isles Health Board\",$E$2=\"Shetland Islands Local Authority\",$E$2=\"Eilean Siar Local Authority\"),OR($F96=1,$F96=5)),0,new_ci(VALUE(LEFT(Options!$B$14,2)),$C96,$E96,$F96,2016,$I96,1,$H96,$G96*$H96,Options!$B$8)))","v":574.852725448},{"$f":"IF(AND(OR($E$2=\"Orkney Health Board\",$E$2=\"Orkney Islands Local Authority\"),$F96=1),0,IF(AND(OR($E$2=\"Shetland Health Board\",$E$2=\"Western Isles Health Board\",$E$2=\"Shetland Islands Local Authority\",$E$2=\"Eilean Siar Local Authority\"),OR($F96=1,$F96=5)),0,new_ci(VALUE(LEFT(Options!$B$14,2)),$C96,$E96,$F96,2016,$I96+$J96,1,$H96,$G96*$H96,Options!$B$8)))","v":574.28776438},{"$f":"IF(AND(OR($E$2=\"Orkney Health Board\",$E$2=\"Orkney Islands Local Authority\"),$F96=1),0,IF(AND(OR($E$2=\"Shetland Health Board\",$E$2=\"Western Isles Health Board\",$E$2=\"Shetland Islands Local Authority\",$E$2=\"Eilean Siar Local Authority\"),OR($F96=1,$F96=5)),0,new_yllv2(VALUE(LEFT(Options!$B$14,2)),$C96,$D96,$E96,$F96,2016,$I96,1,$H96,$G96*$H96,Options!$B$8)))","v":2178.6901048897998},{"$f":"IF(AND(OR($E$2=\"Orkney Health Board\",$E$2=\"Orkney Islands Local Authority\"),$F96=1),0,IF(AND(OR($E$2=\"Shetland Health Board\",$E$2=\"Western Isles Health Board\",$E$2=\"Shetland Islands Local Authority\",$E$2=\"Eilean Siar Local Authority\"),OR($F96=1,$F96=5)),0,new_yllv2(VALUE(LEFT(Options!$B$14,2)),$C96,$D96,$E96,$F96,2016,$I96+$J96,1,$H96,$G96*$H96,Options!$B$8)))","v":2176.5489041369001},{"$f":"IF(AND(OR($E$2=\"Orkney Health Board\",$E$2=\"Orkney Islands Local Authority\"),$F96=1),0,IF(AND(OR($E$2=\"Shetland Health Board\",$E$2=\"Western Isles Health Board\",$E$2=\"Shetland Islands Local Authority\",$E$2=\"Eilean Siar Local Authority\"),OR($F96=1,$F96=5)),0,hosp_count(VALUE(LEFT(Options!$B$14,2)),$C96,$E96,$F96,2016,$I96,1,$H96,$G96*$H96, Options!$B$8)))","v":4984.1843667180001},{"$f":"IF(AND(OR($E$2=\"Orkney Health Board\",$E$2=\"Orkney Islands Local Authority\"),$F96=1),0,IF(AND(OR($E$2=\"Shetland Health Board\",$E$2=\"Western Isles Health Board\",$E$2=\"Shetland Islands Local Authority\",$E$2=\"Eilean Siar Local Authority\"),OR($F96=1,$F96=5)),0,hosp_count(VALUE(LEFT(Options!$B$14,2)),$C96,$E96,$F96,2016,$I96+$J96,1,$H96,$G96*$H96, Options!$B$8)))","v":4980.6136057578997},{"$f":"IF(AND(OR($E$2=\"Orkney Health Board\",$E$2=\"Orkney Islands Local Authority\"),$F96=1),0,IF(AND(OR($E$2=\"Shetland Health Board\",$E$2=\"Western Isles Health Board\",$E$2=\"Shetland Islands Local Authority\",$E$2=\"Eilean Siar Local Authority\"),OR($F96=1,$F96=5)),0,prem_mort(VALUE(LEFT(Options!$B$14,2)),$C96,$E96,$F96,2016,$I96,1,$H96,$G96*$H96,Options!$B$8)))","v":0},{"$f":"IF(AND(OR($E$2=\"Orkney Health Board\",$E$2=\"Orkney Islands Local Authority\"),$F96=1),0,IF(AND(OR($E$2=\"Shetland Health Board\",$E$2=\"Western Isles Health Board\",$E$2=\"Shetland Islands Local Authority\",$E$2=\"Eilean Siar Local Authority\"),OR($F96=1,$F96=5)),0,prem_mort(VALUE(LEFT(Options!$B$14,2)),$C96,$E96,$F96,2016,$I96+$J96,1,$H96,$G96*$H96,Options!$B$8)))","v":0},12920.942356664418,12908.243748707575,48970.332768932341,48922.205082870307,112029.31820000001,111949.05834474938,0,0,19381413.534996629,19362365.623061363,73455499.153398514,73383307.624305457,168043977.30000001,167923587.51712409,0,0,1500]
[null,"Male 90+",92.215477000000007,95.515479999999997,"male",1,{"$f":"HLOOKUP($E$2,'Prevalence Rates'!$C$3:$BC$249,'Prevalence Rates'!$BD97,FALSE)","v":0.17050000000000001},{"$f":"HLOOKUP($E$2,'Population 2016'!$C$3:$BC$249,'Population 2016'!BD97,FALSE)","v":1916},0,{"$f":"ROUND(0.807*(HLOOKUP($E$2,'Population at Risk'!$C$3:$BC$249,'Population at Risk'!$BD97,FALSE)),0)","v":264},{"$f":"IF(AND(OR($E$2=\"Orkney Health Board\",$E$2=\"Orkney Islands Local Authority\"),$F97=1),0,IF(AND(OR($E$2=\"Shetland Health Board\",$E$2=\"Western Isles Health Board\",$E$2=\"Shetland Islands Local Authority\",$E$2=\"Eilean Siar Local Authority\"),OR($F97=1,$F97=5)),0,new_ci(VALUE(LEFT(Options!$B$14,2)),$C97,$E97,$F97,2016,$I97,1,$H97,$G97*$H97,Options!$B$8)))","v":363.3653416944},{"$f":"IF(AND(OR($E$2=\"Orkney Health Board\",$E$2=\"Orkney Islands Local Authority\"),$F97=1),0,IF(AND(OR($E$2=\"Shetland Health Board\",$E$2=\"Western Isles Health Board\",$E$2=\"Shetland Islands Local Authority\",$E$2=\"Eilean Siar Local Authority\"),OR($F97=1,$F97=5)),0,new_ci(VALUE(LEFT(Options!$B$14,2)),$C97,$E97,$F97,2016,$I97+$J97,1,$H97,$G97*$H97,Options!$B$8)))","v":363.03580562159999},{"$f":"IF(AND(OR($E$2=\"Orkney Health Board\",$E$2=\"Orkney Islands Local Authority\"),$F97=1),0,IF(AND(OR($E$2=\"Shetland Health Board\",$E$2=\"Western Isles Health Board\",$E$2=\"Shetland Islands Local Authority\",$E$2=\"Eilean Siar Local Authority\"),OR($F97=1,$F97=5)),0,new_yllv2(VALUE(LEFT(Options!$B$14,2)),$C97,$D97,$E97,$F97,2016,$I97,1,$H97,$G97*$H97,Options!$B$8)))","v":835.74137599309995},{"$f":"IF(AND(OR($E$2=\"Orkney Health Board\",$E$2=\"Orkney Islands Local Authority\"),$F97=1),0,IF(AND(OR($E$2=\"Shetland Health Board\",$E$2=\"Western Isles Health Board\",$E$2=\"Shetland Islands Local Authority\",$E$2=\"Eilean Siar Local Authority\"),OR($F97=1,$F97=5)),0,new_yllv2(VALUE(LEFT(Options!$B$14,2)),$C97,$D97,$E97,$F97,2016,$I97+$J97,1,$H97,$G97*$H97,Options!$B$8)))","v":834.98344203709996},{"$f":"IF(AND(OR($E$2=\"Orkney Health Board\",$E$2=\"Orkney Islands Local Authority\"),$F97=1),0,IF(AND(OR($E$2=\"Shetland Health Board\",$E$2=\"Western Isles Health Board\",$E$2=\"Shetland Islands Local Authority\",$E$2=\"Eilean Siar Local Authority\"),OR($F97=1,$F97=5)),0,hosp_count(VALUE(LEFT(Options!$B$14,2)),$C97,$E97,$F97,2016,$I97,1,$H97,$G97*$H97, Options!$B$8)))","v":2617.0845289212002},{"$f":"IF(AND(OR($E$2=\"Orkney Health Board\",$E$2=\"Orkney Islands Local Authority\"),$F97=1),0,IF(AND(OR($E$2=\"Shetland Health Board\",$E$2=\"Western Isles Health Board\",$E$2=\"Shetland Islands Local Authority\",$E$2=\"Eilean Siar Local Authority\"),OR($F97=1,$F97=5)),0,hosp_count(VALUE(LEFT(Options!$B$14,2)),$C97,$E97,$F97,2016,$I97+$J97,1,$H97,$G97*$H97, Options!$B$8)))","v":2615.2064932460999},{"$f":"IF(AND(OR($E$2=\"Orkney Health Board\",$E$2=\"Orkney Islands Local Authority\"),$F97=1),0,IF(AND(OR($E$2=\"Shetland Health Board\",$E$2=\"Western Isles Health Board\",$E$2=\"Shetland Islands Local Authority\",$E$2=\"Eilean Siar Local Authority\"),OR($F97=1,$F97=5)),0,prem_mort(VALUE(LEFT(Options!$B$14,2)),$C97,$E97,$F97,2016,$I97,1,$H97,$G97*$H97,Options!$B$8)))","v":0},{"$f":"IF(AND(OR($E$2=\"Orkney Health Board\",$E$2=\"Orkney Islands Local Authority\"),$F97=1),0,IF(AND(OR($E$2=\"Shetland Health Board\",$E$2=\"Western Isles Health Board\",$E$2=\"Shetland Islands Local Authority\",$E$2=\"Eilean Siar Local Authority\"),OR($F97=1,$F97=5)),0,prem_mort(VALUE(LEFT(Options!$B$14,2)),$C97,$E97,$F97,2016,$I97+$J97,1,$H97,$G97*$H97,Options!$B$8)))","v":0},18964.788188643008,18947.589019916493,43619.069728241127,43579.511588575151,136591.05057000002,136493.03200658143,0,0,18964788.188643008,18947589.019916493,43619069.728241131,43579511.588575155,136591050.57000002,136493032.00658143,0,0,1000]
[null,"Female 0-4",2.0384007,81.468401,"female",2,{"$f":"HLOOKUP($E$2,'Prevalence Rates'!$C$3:$BC$249,'Prevalence Rates'!$BD98,FALSE)","v":0},{"$f":"HLOOKUP($E$2,'Population 2016'!$C$3:$BC$249,'Population 2016'!BD98,FALSE)","v":0},0,{"$f":"ROUND(0.807*(HLOOKUP($E$2,'Population at Risk'!$C$3:$BC$249,'Population at Risk'!$BD98,FALSE)),0)","v":0},{"$f":"IF(AND(OR($E$2=\"Orkney Health Board\",$E$2=\"Orkney Islands Local Authority\"),$F98=1),0,IF(AND(OR($E$2=\"Shetland Health Board\",$E$2=\"Western Isles Health Board\",$E$2=\"Shetland Islands Local Authority\",$E$2=\"Eilean Siar Local Authority\"),OR($F98=1,$F98=5)),0,new_ci(VALUE(LEFT(Options!$B$14,2)),$C98,$E98,$F98,2016,$I98,1,$H98,$G98*$H98,Options!$B$8)))","v":{"$error":"#VALUE!"}},{"$f":"IF(AND(OR($E$2=\"Orkney Health Board\",$E$2=\"Orkney Islands Local Authority\"),$F98=1),0,IF(AND(OR($E$2=\"Shetland Health Board\",$E$2=\"Western Isles Health Board\",$E$2=\"Shetland Islands Local Authority\",$E$2=\"Eilean Siar Local Authority\"),OR($F98=1,$F98=5)),0,new_ci(VALUE(LEFT(Options!$B$14,2)),$C98,$E98,$F98,2016,$I98+$J98,1,$H98,$G98*$H98,Options!$B$8)))","v":{"$error":"#VALUE!"}},{"$f":"IF(AND(OR($E$2=\"Orkney Health Board\",$E$2=\"Orkney Islands Local Authority\"),$F98=1),0,IF(AND(OR($E$2=\"Shetland Health Board\",$E$2=\"Western Isles Health Board\",$E$2=\"Shetland Islands Local Authority\",$E$2=\"Eilean Siar Local Authority\"),OR($F98=1,$F98=5)),0,new_yllv2(VALUE(LEFT(Options!$B$14,2)),$C98,$D98,$E98,$F98,2016,$I98,1,$H98,$G98*$H98,Options!$B$8)))","v":{"$error":"#VALUE!"}},{"$f":"IF(AND(OR($E$2=\"Orkney Health Board\",$E$2=\"Orkney Islands Local Authority\"),$F98=1),0,IF(AND(OR($E$2=\"Shetland Health Board\",$E$2=\"Western Isles Health Board\",$E$2=\"Shetland Islands Local Authority\",$E$2=\"Eilean Siar Local Authority\"),OR($F98=1,$F98=5)),0,new_yllv2(VALUE(LEFT(Options!$B$14,2)),$C98,$D98,$E98,$F98,2016,$I98+$J98,1,$H98,$G98*$H98,Options!$B$8)))","v":{"$error":"#VALUE!"}},{"$f":"IF(AND(OR($E$2=\"Orkney Health Board\",$E$2=\"Orkney Islands Local Authority\"),$F98=1),0,IF(AND(OR($E$2=\"Shetland Health Board\",$E$2=\"Western Isles Health Board\",$E$2=\"Shetland Islands Local Authority\",$E$2=\"Eilean Siar Local Authority\"),OR($F98=1,$F98=5)),0,hosp_count(VALUE(LEFT(Options!$B$14,2)),$C98,$E98,$F98,2016,$I98,1,$H98,$G98*$H98, Options!$B$8)))","v":{"$error":"#VALUE!"}},{"$f":"IF(AND(OR($E$2=\"Orkney Health Board\",$E$2=\"Orkney Islands Local Authority\"),$F98=1),0,IF(AND(OR($E$2=\"Shetland Health Board\",$E$2=\"Western Isles Health Board\",$E$2=\"Shetland Islands Local Authority\",$E$2=\"Eilean Siar Local Authority\"),OR($F98=1,$F98=5)),0,hosp_count(VALUE(LEFT(Options!$B$14,2)),$C98,$E98,$F98,2016,$I98+$J98,1,$H98,$G98*$H98, Options!$B$8)))","v":{"$error":"#VALUE!"}},{"$f":"IF(AND(OR($E$2=\"Orkney Health Board\",$E$2=\"Orkney Islands Local Authority\"),$F98=1),0,IF(AND(OR($E$2=\"Shetland Health Board\",$E$2=\"Western Isles Health Board\",$E$2=\"Shetland Islands Local Authority\",$E$2=\"Eilean Siar Local Authority\"),OR($F98=1,$F98=5)),0,prem_mort(VALUE(LEFT(Options!$B$14,2)),$C98,$E98,$F98,2016,$I98,1,$H98,$G98*$H98,Options!$B$8)))","v":{"$error":"#VALUE!"}},{"$f":"IF(AND(OR($E$2=\"Orkney Health Board\",$E$2=\"Orkney Islands Local Authority\"),$F98=1),0,IF(AND(OR($E$2=\"Shetland Health Board\",$E$2=\"Western Isles Health Board\",$E$2=\"Shetland Islands Local Authority\",$E$2=\"Eilean Siar Local Authority\"),OR($F98=1,$F98=5)),0,prem_mort(VALUE(LEFT(Options!$B$14,2)),$C98,$E98,$F98,2016,$I98+$J98,1,$H98,$G98*$H98,Options!$B$8)))","v":{"$error":"#VALUE!"}},{"$error":"#VALUE!"},{"$error":"#VALUE!"},{"$error":"#VALUE!"},{"$error":"#VALUE!"},{"$error":"#VALUE!"},{"$error":"#VALUE!"},{"$error":"#VALUE!"},{"$error":"#VALUE!"},{"$error":"#VALUE!"},{"$error":"#VALUE!"},{"$error":"#VALUE!"},{"$error":"#VALUE!"},{"$error":"#VALUE!"},{"$error":"#VALUE!"},{"$error":"#VALUE!"},{"$error":"#VALUE!"},5000]
[null,"Female 5-9",6.9792794999999996,81.439279999999997,"female",2,{"$f":"HLOOKUP($E$2,'Prevalence Rates'!$C$3:$BC$249,'Prevalence Rates'!$BD99,FALSE)","v":0},{"$f":"HLOOKUP($E$2,'Population 2016'!$C$3:$BC$249,'Population 2016'!BD99,FALSE)","v":0},0,{"$f":"ROUND(0.807*(HLOOKUP($E$2,'Population at Risk'!$C$3:$BC$249,'Population at Risk'!$BD99,FALSE)),0)","v":0},{"$f":"IF(AND(OR($E$2=\"Orkney Health Board\",$E$2=\"Orkney Islands Local Authority\"),$F99=1),0,IF(AND(OR($E$2=\"Shetland Health Board\",$E$2=\"Western Isles Health Board\",$E$2=\"Shetland Islands Local Authority\",$E$2=\"Eilean Siar Local Authority\"),OR($F99=1,$F99=5)),0,new_ci(VALUE(LEFT(Options!$B$14,2)),$C99,$E99,$F99,2016,$I99,1,$H99,$G99*$H99,Options!$B$8)))","v":{"$error":"#VALUE!"}},{"$f":"IF(AND(OR($E$2=\"Orkney Health Board\",$E$2=\"Orkney Islands Local Authority\"),$F99=1),0,IF(AND(OR($E$2=\"Shetland Health Board\",$E$2=\"Western Isles Health Board\",$E$2=\"Shetland Islands Local Authority\",$E$2=\"Eilean Siar Local Authority\"),OR($F99=1,$F99=5)),0,new_ci(VALUE(LEFT(Options!$B$14,2)),$C99,$E99,$F99,2016,$I99+$J99,1,$H99,$G99*$H99,Options!$B$8)))","v":{"$error":"#VALUE!"}},{"$f":"IF(AND(OR($E$2=\"Orkney Health Board\",$E$2=\"Orkney Islands Local Authority\"),$F99=1),0,IF(AND(OR($E$2=\"Shetland Health Board\",$E$2=\"Western Isles Health Board\",$E$2=\"Shetland Islands Local Authority\",$E$2=\"Eilean Siar Local Authority\"),OR($F99=1,$F99=5)),0,new_yllv2(VALUE(LEFT(Options!$B$14,2)),$C99,$D99,$E99,$F99,2016,$I99,1,$H99,$G99*$H99,Options!$B$8)))","v":{"$error":"#VALUE!"}},{"$f":"IF(AND(OR($E$2=\"Orkney Health Board\",$E$2=\"Orkney Islands Local Authority\"),$F99=1),0,IF(AND(OR($E$2=\"Shetland Health Board\",$E$2=\"Western Isles Health Board\",$E$2=\"Shetland Islands Local Authority\",$E$2=\"Eilean Siar Local Authority\"),OR($F99=1,$F99=5)),0,new_yllv2(VALUE(LEFT(Options!$B$14,2)),$C99,$D99,$E99,$F99,2016,$I99+$J99,1,$H99,$G99*$H99,Options!$B$8)))","v":{"$error":"#VALUE!"}},{"$f":"IF(AND(OR($E$2=\"Orkney Health Board\",$E$2=\"Orkney Islands Local Authority\"),$F99=1),0,IF(AND(OR($E$2=\"Shetland Health Board\",$E$2=\"Western Isles Health Board\",$E$2=\"Shetland Islands Local Authority\",$E$2=\"Eilean Siar Local Authority\"),OR($F99=1,$F99=5)),0,hosp_count(VALUE(LEFT(Options!$B$14,2)),$C99,$E99,$F99,2016,$I99,1,$H99,$G99*$H99, Options!$B$8)))","v":{"$error":"#VALUE!"}},{"$f":"IF(AND(OR($E$2=\"Orkney Health Board\",$E$2=\"Orkney Islands Local Authority\"),$F99=1),0,IF(AND(OR($E$2=\"Shetland Health Board\",$E$2=\"Western Isles Health Board\",$E$2=\"Shetland Islands Local Authority\",$E$2=\"Eilean Siar Local Authority\"),OR($F99=1,$F99=5)),0,hosp_count(VALUE(LEFT(Options!$B$14,2)),$C99,$E99,$F99,2016,$I99+$J99,1,$H99,$G99*$H99, Options!$B$8)))","v":{"$error":"#VALUE!"}},{"$f":"IF(AND(OR($E$2=\"Orkney Health Board\",$E$2=\"Orkney Islands Local Authority\"),$F99=1),0,IF(AND(OR($E$2=\"Shetland Health Board\",$E$2=\"Western Isles Health Board\",$E$2=\"Shetland Islands Local Authority\",$E$2=\"Eilean Siar Local Authority\"),OR($F99=1,$F99=5)),0,prem_mort(VALUE(LEFT(Options!$B$14,2)),$C99,$E99,$F99,2016,$I99,1,$H99,$G99*$H99,Options!$B$8)))","v":{"$error":"#VALUE!"}},{"$f":"IF(AND(OR($E$2=\"Orkney Health Board\",$E$2=\"Orkney Islands Local Authority\"),$F99=1),0,IF(AND(OR($E$2=\"Shetland Health Board\",$E$2=\"Western Isles Health Board\",$E$2=\"Shetland Islands Local Authority\",$E$2=\"Eilean Siar Local Authority\"),OR($F99=1,$F99=5)),0,prem_mort(VALUE(LEFT(Options!$B$14,2)),$C99,$E99,$F99,2016,$I99+$J99,1,$H99,$G99*$H99,Options!$B$8)))","v":{"$error":"#VALUE!"}},{"$error":"#VALUE!"},{"$error":"#VALUE!"},{"$error":"#VALUE!"},{"$error":"#VALUE!"},{"$error":"#VALUE!"},{"$error":"#VALUE!"},{"$error":"#VALUE!"},{"$error":"#VALUE!"},{"$error":"#VALUE!"},{"$error":"#VALUE!"},{"$error":"#VALUE!"},{"$error":"#VALUE!"},{"$error":"#VALUE!"},{"$error":"#VALUE!"},{"$error":"#VALUE!"},{"$error":"#VALUE!"},5500]
[null,"Female 10-15",12.478312000000001,81.948309999999992,"female",2,{"$f":"HLOOKUP($E$2,'Prevalence Rates'!$C$3:$BC$249,'Prevalence Rates'!$BD100,FALSE)","v":0},{"$f":"HLOOKUP($E$2,'Population 2016'!$C$3:$BC$249,'Population 2016'!BD100,FALSE)","v":0},0,{"$f":"ROUND(0.807*(HLOOKUP($E$2,'Population at Risk'!$C$3:$BC$249,'Population at Risk'!$BD100,FALSE)),0)","v":0},{"$f":"IF(AND(OR($E$2=\"Orkney Health Board\",$E$2=\"Orkney Islands Local Authority\"),$F100=1),0,IF(AND(OR($E$2=\"Shetland Health Board\",$E$2=\"Western Isles Health Board\",$E$2=\"Shetland Islands Local Authority\",$E$2=\"Eilean Siar Local Authority\"),OR($F100=1,$F100=5)),0,new_ci(VALUE(LEFT(Options!$B$14,2)),$C100,$E100,$F100,2016,$I100,1,$H100,$G100*$H100,Options!$B$8)))","v":{"$error":"#VALUE!"}},{"$f":"IF(AND(OR($E$2=\"Orkney Health Board\",$E$2=\"Orkney Islands Local Authority\"),$F100=1),0,IF(AND(OR($E$2=\"Shetland Health Board\",$E$2=\"Western Isles Health Board\",$E$2=\"Shetland Islands Local Authority\",$E$2=\"Eilean Siar Local Authority\"),OR($F100=1,$F100=5)),0,new_ci(VALUE(LEFT(Options!$B$14,2)),$C100,$E100,$F100,2016,$I100+$J100,1,$H100,$G100*$H100,Options!$B$8)))","v":{"$error":"#VALUE!"}},{"$f":"IF(AND(OR($E$2=\"Orkney Health Board\",$E$2=\"Orkney Islands Local Authority\"),$F100=1),0,IF(AND(OR($E$2=\"Shetland Health Board\",$E$2=\"Western Isles Health Board\",$E$2=\"Shetland Islands Local Authority\",$E$2=\"Eilean Siar Local Authority\"),OR($F100=1,$F100=5)),0,new_yllv2(VALUE(LEFT(Options!$B$14,2)),$C100,$D100,$E100,$F100,2016,$I100,1,$H100,$G100*$H100,Options!$B$8)))","v":{"$error":"#VALUE!"}},{"$f":"IF(AND(OR($E$2=\"Orkney Health Board\",$E$2=\"Orkney Islands Local Authority\"),$F100=1),0,IF(AND(OR($E$2=\"Shetland Health Board\",$E$2=\"Western Isles Health Board\",$E$2=\"Shetland Islands Local Authority\",$E$2=\"Eilean Siar Local Authority\"),OR($F100=1,$F100=5)),0,new_yllv2(VALUE(LEFT(Options!$B$14,2)),$C100,$D100,$E100,$F100,2016,$I100+$J100,1,$H100,$G100*$H100,Options!$B$8)))","v":{"$error":"#VALUE!"}},{"$f":"IF(AND(OR($E$2=\"Orkney Health Board\",$E$2=\"Orkney Islands Local Authority\"),$F100=1),0,IF(AND(OR($E$2=\"Shetland Health Board\",$E$2=\"Western Isles Health Board\",$E$2=\"Shetland Islands Local Authority\",$E$2=\"Eilean Siar Local Authority\"),OR($F100=1,$F100=5)),0,hosp_count(VALUE(LEFT(Options!$B$14,2)),$C100,$E100,$F100,2016,$I100,1,$H100,$G100*$H100, Options!$B$8)))","v":{"$error":"#VALUE!"}},{"$f":"IF(AND(OR($E$2=\"Orkney Health Board\",$E$2=\"Orkney Islands Local Authority\"),$F100=1),0,IF(AND(OR($E$2=\"Shetland Health Board\",$E$2=\"Western Isles Health Board\",$E$2=\"Shetland Islands Local Authority\",$E$2=\"Eilean Siar Local Authority\"),OR($F100=1,$F100=5)),0,hosp_count(VALUE(LEFT(Options!$B$14,2)),$C100,$E100,$F100,2016,$I100+$J100,1,$H100,$G100*$H100, Options!$B$8)))","v":{"$error":"#VALUE!"}},{"$f":"IF(AND(OR($E$2=\"Orkney Health Board\",$E$2=\"Orkney Islands Local Authority\"),$F100=1),0,IF(AND(OR($E$2=\"Shetland Health Board\",$E$2=\"Western Isles Health Board\",$E$2=\"Shetland Islands Local Authority\",$E$2=\"Eilean Siar Local Authority\"),OR($F100=1,$F100=5)),0,prem_mort(VALUE(LEFT(Options!$B$14,2)),$C100,$E100,$F100,2016,$I100,1,$H100,$G100*$H100,Options!$B$8)))","v":{"$error":"#VALUE!"}},{"$f":"IF(AND(OR($E$2=\"Orkney Health Board\",$E$2=\"Orkney Islands Local Authority\"),$F100=1),0,IF(AND(OR($E$2=\"Shetland Health Board\",$E$2=\"Western Isles Health Board\",$E$2=\"Shetland Islands Local Authority\",$E$2=\"Eilean Siar Local Authority\"),OR($F100=1,$F100=5)),0,prem_mort(VALUE(LEFT(Options!$B$14,2)),$C100,$E100,$F100,2016,$I100+$J100,1,$H100,$G100*$H100,Options!$B$8)))","v":{"$error":"#VALUE!"}},{"$error":"#VALUE!"},{"$error":"#VALUE!"},{"$error":"#VALUE!"},{"$error":"#VALUE!"},{"$error":"#VALUE!"},{"$error":"#VALUE!"},{"$error":"#VALUE!"},{"$error":"#VALUE!"},{"$error":"#VALUE!"},{"$error":"#VALUE!"},{"$error":"#VALUE!"},{"$error":"#VALUE!"},{"$error":"#VALUE!"},{"$error":"#VALUE!"},{"$error":"#VALUE!"},{"$error":"#VALUE!"},6600]
["SIMD Q2","Female 16-19",17.570053000000001,81.100049999999996,"female",2,{"$f":"HLOOKUP($E$2,'Prevalence Rates'!$C$3:$BC$249,'Prevalence Rates'!$BD101,FALSE)","v":0.26369999999999999},{"$f":"HLOOKUP($E$2,'Population 2016'!$C$3:$BC$249,'Population 2016'!BD101,FALSE)","v":23121},0,{"$f":"ROUND(0.807*(HLOOKUP($E$2,'Population at Risk'!$C$3:$BC$249,'Population at Risk'!$BD101,FALSE)),0)","v":4920},{"$f":"IF(AND(OR($E$2=\"Orkney Health Board\",$E$2=\"Orkney Islands Local Authority\"),$F101=1),0,IF(AND(OR($E$2=\"Shetland Health Board\",$E$2=\"Western Isles Health Board\",$E$2=\"Shetland Islands Local Authority\",$E$2=\"Eilean Siar Local Authority\"),OR($F101=1,$F101=5)),0,new_ci(VALUE(LEFT(Options!$B$14,2)),$C101,$E101,$F101,2016,$I101,1,$H101,$G101*$H101,Options!$B$8)))","v":5.1474288176999998},{"$f":"IF(AND(OR($E$2=\"Orkney Health Board\",$E$2=\"Orkney Islands Local Authority\"),$F101=1),0,IF(AND(OR($E$2=\"Shetland Health Board\",$E$2=\"Western Isles Health Board\",$E$2=\"Shetland Islands Local Authority\",$E$2=\"Eilean Siar Local Authority\"),OR($F101=1,$F101=5)),0,new_ci(VALUE(LEFT(Options!$B$14,2)),$C101,$E101,$F101,2016,$I101+$J101,1,$H101,$G101*$H101,Options!$B$8)))","v":5.1350707616999998},{"$f":"IF(AND(OR($E$2=\"Orkney Health Board\",$E$2=\"Orkney Islands Local Authority\"),$F101=1),0,IF(AND(OR($E$2=\"Shetland Health Board\",$E$2=\"Western Isles Health Board\",$E$2=\"Shetland Islands Local Authority\",$E$2=\"Eilean Siar Local Authority\"),OR($F101=1,$F101=5)),0,new_yllv2(VALUE(LEFT(Options!$B$14,2)),$C101,$D101,$E101,$F101,2016,$I101,1,$H101,$G101*$H101,Options!$B$8)))","v":321.86870852850001},{"$f":"IF(AND(OR($E$2=\"Orkney Health Board\",$E$2=\"Orkney Islands Local Authority\"),$F101=1),0,IF(AND(OR($E$2=\"Shetland Health Board\",$E$2=\"Western Isles Health Board\",$E$2=\"Shetland Islands Local Authority\",$E$2=\"Eilean Siar Local Authority\"),OR($F101=1,$F101=5)),0,new_yllv2(VALUE(LEFT(Options!$B$14,2)),$C101,$D101,$E101,$F101,2016,$I101+$J101,1,$H101,$G101*$H101,Options!$B$8)))","v":321.09595932389999},{"$f":"IF(AND(OR($E$2=\"Orkney Health Board\",$E$2=\"Orkney Islands Local Authority\"),$F101=1),0,IF(AND(OR($E$2=\"Shetland Health Board\",$E$2=\"Western Isles Health Board\",$E$2=\"Shetland Islands Local Authority\",$E$2=\"Eilean Siar Local Authority\"),OR($F101=1,$F101=5)),0,hosp_count(VALUE(LEFT(Options!$B$14,2)),$C101,$E101,$F101,2016,$I101,1,$H101,$G101*$H101, Options!$B$8)))","v":2679.1393826232002},{"$f":"IF(AND(OR($E$2=\"Orkney Health Board\",$E$2=\"Orkney Islands Local Authority\"),$F101=1),0,IF(AND(OR($E$2=\"Shetland Health Board\",$E$2=\"Western Isles Health Board\",$E$2=\"Shetland Islands Local Authority\",$E$2=\"Eilean Siar Local Authority\"),OR($F101=1,$F101=5)),0,hosp_count(VALUE(LEFT(Options!$B$14,2)),$C101,$E101,$F101,2016,$I101+$J101,1,$H101,$G101*$H101, Options!$B$8)))","v":2675.2221094185002},{"$f":"IF(AND(OR($E$2=\"Orkney Health Board\",$E$2=\"Orkney Islands Local Authority\"),$F101=1),0,IF(AND(OR($E$2=\"Shetland Health Board\",$E$2=\"Western Isles Health Board\",$E$2=\"Shetland Islands Local Authority\",$E$2=\"Eilean Siar Local Authority\"),OR($F101=1,$F101=5)),0,prem_mort(VALUE(LEFT(Options!$B$14,2)),$C101,$E101,$F101,2016,$I101,1,$H101,$G101*$H101,Options!$B$8)))","v":5.1474288176999998},{"$f":"IF(AND(OR($E$2=\"Orkney Health Board\",$E$2=\"Orkney Islands Local Authority\"),$F101=1),0,IF(AND(OR($E$2=\"Shetland Health Board\",$E$2=\"Western Isles Health Board\",$E$2=\"Shetland Islands Local Authority\",$E$2=\"Eilean Siar Local Authority\"),OR($F101=1,$F101=5)),0,prem_mort(VALUE(LEFT(Options!$B$14,2)),$C101,$E101,$F101,2016,$I101+$J101,1,$H101,$G101*$H101,Options!$B$8)))","v":5.1350707616999998},22.263002541845076,22.209553054366157,1392.1054821525886,1388.7632858609056,11587.47192,11570.529429602959,22.263002541845076,22.209553054366157,97957.211184118336,97722.033439211096,6125264.1214713901,6110558.457787985,50984876.447999999,50910329.490253016,97957.211184118336,97722.033439211096,4400]
[null,"Female 20-24",22.077057,81.667060000000006,"female",2,{"$f":"HLOOKUP($E$2,'Prevalence Rates'!$C$3:$BC$249,'Prevalence Rates'!$BD102,FALSE)","v":0.26369999999999999},{"$f":"HLOOKUP($E$2,'Population 2016'!$C$3:$BC$249,'Population 2016'!BD102,FALSE)","v":36899},0,{"$f":"ROUND(0.807*(HLOOKUP($E$2,'Population at Risk'!$C$3:$BC$249,'Population at Risk'!$BD102,FALSE)),0)","v":7852},{"$f":"IF(AND(OR($E$2=\"Orkney Health Board\",$E$2=\"Orkney Islands Local Authority\"),$F102=1),0,IF(AND(OR($E$2=\"Shetland Health Board\",$E$2=\"Western Isles Health Board\",$E$2=\"Shetland Islands Local Authority\",$E$2=\"Eilean Siar Local Authority\"),OR($F102=1,$F102=5)),0,new_ci(VALUE(LEFT(Options!$B$14,2)),$C102,$E102,$F102,2016,$I102,1,$H102,$G102*$H102,Options!$B$8)))","v":12.051923881800001},{"$f":"IF(AND(OR($E$2=\"Orkney Health Board\",$E$2=\"Orkney Islands Local Authority\"),$F102=1),0,IF(AND(OR($E$2=\"Shetland Health Board\",$E$2=\"Western Isles Health Board\",$E$2=\"Shetland Islands Local Authority\",$E$2=\"Eilean Siar Local Authority\"),OR($F102=1,$F102=5)),0,new_ci(VALUE(LEFT(Options!$B$14,2)),$C102,$E102,$F102,2016,$I102+$J102,1,$H102,$G102*$H102,Options!$B$8)))","v":12.0229908322},{"$f":"IF(AND(OR($E$2=\"Orkney Health Board\",$E$2=\"Orkney Islands Local Authority\"),$F102=1),0,IF(AND(OR($E$2=\"Shetland Health Board\",$E$2=\"Western Isles Health Board\",$E$2=\"Shetland Islands Local Authority\",$E$2=\"Eilean Siar Local Authority\"),OR($F102=1,$F102=5)),0,new_yllv2(VALUE(LEFT(Options!$B$14,2)),$C102,$D102,$E102,$F102,2016,$I102,1,$H102,$G102*$H102,Options!$B$8)))","v":706.12225639040003},{"$f":"IF(AND(OR($E$2=\"Orkney Health Board\",$E$2=\"Orkney Islands Local Authority\"),$F102=1),0,IF(AND(OR($E$2=\"Shetland Health Board\",$E$2=\"Western Isles Health Board\",$E$2=\"Shetland Islands Local Authority\",$E$2=\"Eilean Siar Local Authority\"),OR($F102=1,$F102=5)),0,new_yllv2(VALUE(LEFT(Options!$B$14,2)),$C102,$D102,$E102,$F102,2016,$I102+$J102,1,$H102,$G102*$H102,Options!$B$8)))","v":704.42706892759998},{"$f":"IF(AND(OR($E$2=\"Orkney Health Board\",$E$2=\"Orkney Islands Local Authority\"),$F102=1),0,IF(AND(OR($E$2=\"Shetland Health Board\",$E$2=\"Western Isles Health Board\",$E$2=\"Shetland Islands Local Authority\",$E$2=\"Eilean Siar Local Authority\"),OR($F102=1,$F102=5)),0,hosp_count(VALUE(LEFT(Options!$B$14,2)),$C102,$E102,$F102,2016,$I102,1,$H102,$G102*$H102, Options!$B$8)))","v":4788.9278407905003},{"$f":"IF(AND(OR($E$2=\"Orkney Health Board\",$E$2=\"Orkney Islands Local Authority\"),$F102=1),0,IF(AND(OR($E$2=\"Shetland Health Board\",$E$2=\"Western Isles Health Board\",$E$2=\"Shetland Islands Local Authority\",$E$2=\"Eilean Siar Local Authority\"),OR($F102=1,$F102=5)),0,hosp_count(VALUE(LEFT(Options!$B$14,2)),$C102,$E102,$F102,2016,$I102+$J102,1,$H102,$G102*$H102, Options!$B$8)))","v":4781.9256485690003},{"$f":"IF(AND(OR($E$2=\"Orkney Health Board\",$E$2=\"Orkney Islands Local Authority\"),$F102=1),0,IF(AND(OR($E$2=\"Shetland Health Board\",$E$2=\"Western Isles Health Board\",$E$2=\"Shetland Islands Local Authority\",$E$2=\"Eilean Siar Local Authority\"),OR($F102=1,$F102=5)),0,prem_mort(VALUE(LEFT(Options!$B$14,2)),$C102,$E102,$F102,2016,$I102,1,$H102,$G102*$H102,Options!$B$8)))","v":12.051923881800001},{"$f":"IF(AND(OR($E$2=\"Orkney Health Board\",$E$2=\"Orkney Islands Local Authority\"),$F102=1),0,IF(AND(OR($E$2=\"Shetland Health Board\",$E$2=\"Western Isles Health Board\",$E$2=\"Shetland Islands Local Authority\",$E$2=\"Eilean Siar Local Authority\"),OR($F102=1,$F102=5)),0,prem_mort(VALUE(LEFT(Options!$B$14,2)),$C102,$E102,$F102,2016,$I102+$J102,1,$H102,$G102*$H102,Options!$B$8)))","v":12.0229908322},32.661925477113201,32.583514003631535,1913.6623116897479,1909.0681832233934,12978.47595,12959.499305046209,32.661925477113201,32.583514003631535,195971.55286267921,195501.0840217892,11481973.870138487,11454409.099340361,77870855.700000003,77756995.830277249,195971.55286267921,195501.0840217892,6000]
[null,"Female 25-29",26.975186999999998,81.645189999999999,"female",2,{"$f":"HLOOKUP($E$2,'Prevalence Rates'!$C$3:$BC$249,'Prevalence Rates'!$BD103,FALSE)","v":0.28010000000000002},{"$f":"HLOOKUP($E$2,'Population 2016'!$C$3:$BC$249,'Population 2016'!BD103,FALSE)","v":40610},0,{"$f":"ROUND(0.807*(HLOOKUP($E$2,'Population at Risk'!$C$3:$BC$249,'Population at Risk'!$BD103,FALSE)),0)","v":9180},{"$f":"IF(AND(OR($E$2=\"Orkney Health Board\",$E$2=\"Orkney Islands Local Authority\"),$F103=1),0,IF(AND(OR($E$2=\"Shetland Health Board\",$E$2=\"Western Isles Health Board\",$E$2=\"Shetland Islands Local Authority\",$E$2=\"Eilean Siar Local Authority\"),OR($F103=1,$F103=5)),0,new_ci(VALUE(LEFT(Options!$B$14,2)),$C103,$E103,$F103,2016,$I103,1,$H103,$G103*$H103,Options!$B$8)))","v":20.117085572400001},{"$f":"IF(AND(OR($E$2=\"Orkney Health Board\",$E$2=\"Orkney Islands Local Authority\"),$F103=1),0,IF(AND(OR($E$2=\"Shetland Health Board\",$E$2=\"Western Isles Health Board\",$E$2=\"Shetland Islands Local Authority\",$E$2=\"Eilean Siar Local Authority\"),OR($F103=1,$F103=5)),0,new_ci(VALUE(LEFT(Options!$B$14,2)),$C103,$E103,$F103,2016,$I103+$J103,1,$H103,$G103*$H103,Options!$B$8)))","v":20.066339450400001},{"$f":"IF(AND(OR($E$2=\"Orkney Health Board\",$E$2=\"Orkney Islands Local Authority\"),$F103=1),0,IF(AND(OR($E$2=\"Shetland Health Board\",$E$2=\"Western Isles Health Board\",$E$2=\"Shetland Islands Local Authority\",$E$2=\"Eilean Siar Local Authority\"),OR($F103=1,$F103=5)),0,new_yllv2(VALUE(LEFT(Options!$B$14,2)),$C103,$D103,$E103,$F103,2016,$I103,1,$H103,$G103*$H103,Options!$B$8)))","v":1079.684043022},{"$f":"IF(AND(OR($E$2=\"Orkney Health Board\",$E$2=\"Orkney Islands Local Authority\"),$F103=1),0,IF(AND(OR($E$2=\"Shetland Health Board\",$E$2=\"Western Isles Health Board\",$E$2=\"Shetland Islands Local Authority\",$E$2=\"Eilean Siar Local Authority\"),OR($F103=1,$F103=5)),0,new_yllv2(VALUE(LEFT(Options!$B$14,2)),$C103,$D103,$E103,$F103,2016,$I103+$J103,1,$H103,$G103*$H103,Options!$B$8)))","v":1076.9604985020001},{"$f":"IF(AND(OR($E$2=\"Orkney Health Board\",$E$2=\"Orkney Islands Local Authority\"),$F103=1),0,IF(AND(OR($E$2=\"Shetland Health Board\",$E$2=\"Western Isles Health Board\",$E$2=\"Shetland Islands Local Authority\",$E$2=\"Eilean Siar Local Authority\"),OR($F103=1,$F103=5)),0,hosp_count(VALUE(LEFT(Options!$B$14,2)),$C103,$E103,$F103,2016,$I103,1,$H103,$G103*$H103, Options!$B$8)))","v":5961.6213822700001},{"$f":"IF(AND(OR($E$2=\"Orkney Health Board\",$E$2=\"Orkney Islands Local Authority\"),$F103=1),0,IF(AND(OR($E$2=\"Shetland Health Board\",$E$2=\"Western Isles Health Board\",$E$2=\"Shetland Islands Local Authority\",$E$2=\"Eilean Siar Local Authority\"),OR($F103=1,$F103=5)),0,hosp_count(VALUE(LEFT(Options!$B$14,2)),$C103,$E103,$F103,2016,$I103+$J103,1,$H103,$G103*$H103, Options!$B$8)))","v":5952.4339033128999},{"$f":"IF(AND(OR($E$2=\"Orkney Health Board\",$E$2=\"Orkney Islands Local Authority\"),$F103=1),0,IF(AND(OR($E$2=\"Shetland Health Board\",$E$2=\"Western Isles Health Board\",$E$2=\"Shetland Islands Local Authority\",$E$2=\"Eilean Siar Local Authority\"),OR($F103=1,$F103=5)),0,prem_mort(VALUE(LEFT(Options!$B$14,2)),$C103,$E103,$F103,2016,$I103,1,$H103,$G103*$H103,Options!$B$8)))","v":20.117085572400001},{"$f":"IF(AND(OR($E$2=\"Orkney Health Board\",$E$2=\"Orkney Islands Local Authority\"),$F103=1),0,IF(AND(OR($E$2=\"Shetland Health Board\",$E$2=\"Western Isles Health Board\",$E$2=\"Shetland Islands Local Authority\",$E$2=\"Eilean Siar Local Authority\"),OR($F103=1,$F103=5)),0,prem_mort(VALUE(LEFT(Options!$B$14,2)),$C103,$E103,$F103,2016,$I103+$J103,1,$H103,$G103*$H103,Options!$B$8)))","v":20.066339450400001},49.537270555035704,49.412310885003699,2658.6654593006647,2651.9588734351146,14680.180700000001,14657.557013821473,49.537270555035704,49.412310885003699,297223.62333021424,296473.8653100222,15951992.755803987,15911753.240610687,88081084.200000003,87945342.082928836,297223.62333021424,296473.8653100222,6000]
[null,"Female 30-34",31.999904999999998,81.799899999999994,"female",2,{"$f":"HLOOKUP($E$2,'Prevalence Rates'!$C$3:$BC$249,'Prevalence Rates'!$BD104,FALSE)","v":0.28010000000000002},{"$f":"HLOOKUP($E$2,'Population 2016'!$C$3:$BC$249,'Population 2016'!BD104,FALSE)","v":38102},0,{"$f":"ROUND(0.807*(HLOOKUP($E$2,'Population at Risk'!$C$3:$BC$249,'Population at Risk'!$BD104,FALSE)),0)","v":8613},{"$f":"IF(AND(OR($E$2=\"Orkney Health Board\",$E$2=\"Orkney Islands Local Authority\"),$F104=1),0,IF(AND(OR($E$2=\"Shetland Health Board\",$E$2=\"Western Isles Health Board\",$E$2=\"Shetland Islands Local Authority\",$E$2=\"Eilean Siar Local Authority\"),OR($F104=1,$F104=5)),0,new_ci(VALUE(LEFT(Options!$B$14,2)),$C104,$E104,$F104,2016,$I104,1,$H104,$G104*$H104,Options!$B$8)))","v":28.935016833399999},{"$f":"IF(AND(OR($E$2=\"Orkney Health Board\",$E$2=\"Orkney Islands Local Authority\"),$F104=1),0,IF(AND(OR($E$2=\"Shetland Health Board\",$E$2=\"Western Isles Health Board\",$E$2=\"Shetland Islands Local Authority\",$E$2=\"Eilean Siar Local Authority\"),OR($F104=1,$F104=5)),0,new_ci(VALUE(LEFT(Options!$B$14,2)),$C104,$E104,$F104,2016,$I104+$J104,1,$H104,$G104*$H104,Options!$B$8)))","v":28.8620449135},{"$f":"IF(AND(OR($E$2=\"Orkney Health Board\",$E$2=\"Orkney Islands Local Authority\"),$F104=1),0,IF(AND(OR($E$2=\"Shetland Health Board\",$E$2=\"Western Isles Health Board\",$E$2=\"Shetland Islands Local Authority\",$E$2=\"Eilean Siar Local Authority\"),OR($F104=1,$F104=5)),0,new_yllv2(VALUE(LEFT(Options!$B$14,2)),$C104,$D104,$E104,$F104,2016,$I104,1,$H104,$G104*$H104,Options!$B$8)))","v":1412.0286767948},{"$f":"IF(AND(OR($E$2=\"Orkney Health Board\",$E$2=\"Orkney Islands Local Authority\"),$F104=1),0,IF(AND(OR($E$2=\"Shetland Health Board\",$E$2=\"Western Isles Health Board\",$E$2=\"Shetland Islands Local Authority\",$E$2=\"Eilean Siar Local Authority\"),OR($F104=1,$F104=5)),0,new_yllv2(VALUE(LEFT(Options!$B$14,2)),$C104,$D104,$E104,$F104,2016,$I104+$J104,1,$H104,$G104*$H104,Options!$B$8)))","v":1408.4676474686},{"$f":"IF(AND(OR($E$2=\"Orkney Health Board\",$E$2=\"Orkney Islands Local Authority\"),$F104=1),0,IF(AND(OR($E$2=\"Shetland Health Board\",$E$2=\"Western Isles Health Board\",$E$2=\"Shetland Islands Local Authority\",$E$2=\"Eilean Siar Local Authority\"),OR($F104=1,$F104=5)),0,hosp_count(VALUE(LEFT(Options!$B$14,2)),$C104,$E104,$F104,2016,$I104,1,$H104,$G104*$H104, Options!$B$8)))","v":6347.0181481669997},{"$f":"IF(AND(OR($E$2=\"Orkney Health Board\",$E$2=\"Orkney Islands Local Authority\"),$F104=1),0,IF(AND(OR($E$2=\"Shetland Health Board\",$E$2=\"Western Isles Health Board\",$E$2=\"Shetland Islands Local Authority\",$E$2=\"Eilean Siar Local Authority\"),OR($F104=1,$F104=5)),0,hosp_count(VALUE(LEFT(Options!$B$14,2)),$C104,$E104,$F104,2016,$I104+$J104,1,$H104,$G104*$H104, Options!$B$8)))","v":6337.2367997975998},{"$f":"IF(AND(OR($E$2=\"Orkney Health Board\",$E$2=\"Orkney Islands Local Authority\"),$F104=1),0,IF(AND(OR($E$2=\"Shetland Health Board\",$E$2=\"Western Isles Health Board\",$E$2=\"Shetland Islands Local Authority\",$E$2=\"Eilean Siar Local Authority\"),OR($F104=1,$F104=5)),0,prem_mort(VALUE(LEFT(Options!$B$14,2)),$C104,$E104,$F104,2016,$I104,1,$H104,$G104*$H104,Options!$B$8)))","v":28.935016833399999},{"$f":"IF(AND(OR($E$2=\"Orkney Health Board\",$E$2=\"Orkney Islands Local Authority\"),$F104=1),0,IF(AND(OR($E$2=\"Shetland Health Board\",$E$2=\"Western Isles Health Board\",$E$2=\"Shetland Islands Local Authority\",$E$2=\"Eilean Siar Local Authority\"),OR($F104=1,$F104=5)),0,prem_mort(VALUE(LEFT(Options!$B$14,2)),$C104,$E104,$F104,2016,$I104+$J104,1,$H104,$G104*$H104,Options!$B$8)))","v":28.8620449135},75.940939670883424,75.749422375465855,3705.9174762343187,3696.5714331756863,16657.965850000001,16632.294367218517,75.940939670883424,75.749422375465855,493616.10786074225,492371.24544052803,24088463.595523071,24027714.315641962,108276778.02500001,108109913.38692036,493616.10786074225,492371.24544052803,6500]
[null,"Female 35-39",36.918118,81.898120000000006,"female",2,{"$f":"HLOOKUP($E$2,'Prevalence Rates'!$C$3:$BC$249,'Prevalence Rates'!$BD105,FALSE)","v":0.30299999999999999},{"$f":"HLOOKUP($E$2,'Population 2016'!$C$3:$BC$249,'Population 2016'!BD105,FALSE)","v":33014},0,{"$f":"ROUND(0.807*(HLOOKUP($E$2,'Population at Risk'!$C$3:$BC$249,'Population at Risk'!$BD105,FALSE)),0)","v":8073},{"$f":"IF(AND(OR($E$2=\"Orkney Health Board\",$E$2=\"Orkney Islands Local Authority\"),$F105=1),0,IF(AND(OR($E$2=\"Shetland Health Board\",$E$2=\"Western Isles Health Board\",$E$2=\"Shetland Islands Local Authority\",$E$2=\"Eilean Siar Local Authority\"),OR($F105=1,$F105=5)),0,new_ci(VALUE(LEFT(Options!$B$14,2)),$C105,$E105,$F105,2016,$I105,1,$H105,$G105*$H105,Options!$B$8)))","v":38.084893556499999},{"$f":"IF(AND(OR($E$2=\"Orkney Health Board\",$E$2=\"Orkney Islands Local Authority\"),$F105=1),0,IF(AND(OR($E$2=\"Shetland Health Board\",$E$2=\"Western Isles Health Board\",$E$2=\"Shetland Islands Local Authority\",$E$2=\"Eilean Siar Local Authority\"),OR($F105=1,$F105=5)),0,new_ci(VALUE(LEFT(Options!$B$14,2)),$C105,$E105,$F105,2016,$I105+$J105,1,$H105,$G105*$H105,Options!$B$8)))","v":37.982561015800002},{"$f":"IF(AND(OR($E$2=\"Orkney Health Board\",$E$2=\"Orkney Islands Local Authority\"),$F105=1),0,IF(AND(OR($E$2=\"Shetland Health Board\",$E$2=\"Western Isles Health Board\",$E$2=\"Shetland Islands Local Authority\",$E$2=\"Eilean Siar Local Authority\"),OR($F105=1,$F105=5)),0,new_yllv2(VALUE(LEFT(Options!$B$14,2)),$C105,$D105,$E105,$F105,2016,$I105,1,$H105,$G105*$H105,Options!$B$8)))","v":1674.9736947847},{"$f":"IF(AND(OR($E$2=\"Orkney Health Board\",$E$2=\"Orkney Islands Local Authority\"),$F105=1),0,IF(AND(OR($E$2=\"Shetland Health Board\",$E$2=\"Western Isles Health Board\",$E$2=\"Shetland Islands Local Authority\",$E$2=\"Eilean Siar Local Authority\"),OR($F105=1,$F105=5)),0,new_yllv2(VALUE(LEFT(Options!$B$14,2)),$C105,$D105,$E105,$F105,2016,$I105+$J105,1,$H105,$G105*$H105,Options!$B$8)))","v":1670.4731094399999},{"$f":"IF(AND(OR($E$2=\"Orkney Health Board\",$E$2=\"Orkney Islands Local Authority\"),$F105=1),0,IF(AND(OR($E$2=\"Shetland Health Board\",$E$2=\"Western Isles Health Board\",$E$2=\"Shetland Islands Local Authority\",$E$2=\"Eilean Siar Local Authority\"),OR($F105=1,$F105=5)),0,hosp_count(VALUE(LEFT(Options!$B$14,2)),$C105,$E105,$F105,2016,$I105,1,$H105,$G105*$H105, Options!$B$8)))","v":6223.6793335352004},{"$f":"IF(AND(OR($E$2=\"Orkney Health Board\",$E$2=\"Orkney Islands Local Authority\"),$F105=1),0,IF(AND(OR($E$2=\"Shetland Health Board\",$E$2=\"Western Isles Health Board\",$E$2=\"Shetland Islands Local Authority\",$E$2=\"Eilean Siar Local Authority\"),OR($F105=1,$F105=5)),0,hosp_count(VALUE(LEFT(Options!$B$14,2)),$C105,$E105,$F105,2016,$I105+$J105,1,$H105,$G105*$H105, Options!$B$8)))","v":6213.4159109378998},{"$f":"IF(AND(OR($E$2=\"Orkney Health Board\",$E$2=\"Orkney Islands Local Authority\"),$F105=1),0,IF(AND(OR($E$2=\"Shetland Health Board\",$E$2=\"Western Isles Health Board\",$E$2=\"Shetland Islands Local Authority\",$E$2=\"Eilean Siar Local Authority\"),OR($F105=1,$F105=5)),0,prem_mort(VALUE(LEFT(Options!$B$14,2)),$C105,$E105,$F105,2016,$I105,1,$H105,$G105*$H105,Options!$B$8)))","v":38.084893556499999},{"$f":"IF(AND(OR($E$2=\"Orkney Health Board\",$E$2=\"Orkney Islands Local Authority\"),$F105=1),0,IF(AND(OR($E$2=\"Shetland Health Board\",$E$2=\"Western Isles Health Board\",$E$2=\"Shetland Islands Local Authority\",$E$2=\"Eilean Siar Local Authority\"),OR($F105=1,$F105=5)),0,prem_mort(VALUE(LEFT(Options!$B$14,2)),$C105,$E105,$F105,2016,$I105+$J105,1,$H105,$G105*$H105,Options!$B$8)))","v":37.982561015800002},115.35982782001574,115.04986071303084,5073.5254582440784,5059.8931042587992,18851.63668,18820.548588289512,115.35982782001574,115.04986071303084,807518.79474011017,805349.02499121591,35514678.207708552,35419251.729811594,131961456.75999999,131743840.11802658,807518.79474011017,805349.02499121591,7000]
[null,"Female 40-44",42.077438000000001,82.30744,"female",2,{"$f":"HLOOKUP($E$2,'Prevalence Rates'!$C$3:$BC$249,'Prevalence Rates'!$BD106,FALSE)","v":0.30299999999999999},{"$f":"HLOOKUP($E$2,'Population 2016'!$C$3:$BC$249,'Population 2016'!BD106,FALSE)","v":33442},0,{"$f":"ROUND(0.807*(HLOOKUP($E$2,'Population at Risk'!$C$3:$BC$249,'Population at Risk'!$BD106,FALSE)),0)","v":8177},{"$f":"IF(AND(OR($E$2=\"Orkney Health Board\",$E$2=\"Orkney Islands Local Authority\"),$F106=1),0,IF(AND(OR($E$2=\"Shetland Health Board\",$E$2=\"Western Isles Health Board\",$E$2=\"Shetland Islands Local Authority\",$E$2=\"Eilean Siar Local Authority\"),OR($F106=1,$F106=5)),0,new_ci(VALUE(LEFT(Options!$B$14,2)),$C106,$E106,$F106,2016,$I106,1,$H106,$G106*$H106,Options!$B$8)))","v":59.810155895299999},{"$f":"IF(AND(OR($E$2=\"Orkney Health Board\",$E$2=\"Orkney Islands Local Authority\"),$F106=1),0,IF(AND(OR($E$2=\"Shetland Health Board\",$E$2=\"Western Isles Health Board\",$E$2=\"Shetland Islands Local Authority\",$E$2=\"Eilean Siar Local Authority\"),OR($F106=1,$F106=5)),0,new_ci(VALUE(LEFT(Options!$B$14,2)),$C106,$E106,$F106,2016,$I106+$J106,1,$H106,$G106*$H106,Options!$B$8)))","v":59.649552256},{"$f":"IF(AND(OR($E$2=\"Orkney Health Board\",$E$2=\"Orkney Islands Local Authority\"),$F106=1),0,IF(AND(OR($E$2=\"Shetland Health Board\",$E$2=\"Western Isles Health Board\",$E$2=\"Shetland Islands Local Authority\",$E$2=\"Eilean Siar Local Authority\"),OR($F106=1,$F106=5)),0,new_yllv2(VALUE(LEFT(Options!$B$14,2)),$C106,$D106,$E106,$F106,2016,$I106,1,$H106,$G106*$H106,Options!$B$8)))","v":2346.3525353928999},{"$f":"IF(AND(OR($E$2=\"Orkney Health Board\",$E$2=\"Orkney Islands Local Authority\"),$F106=1),0,IF(AND(OR($E$2=\"Shetland Health Board\",$E$2=\"Western Isles Health Board\",$E$2=\"Shetland Islands Local Authority\",$E$2=\"Eilean Siar Local Authority\"),OR($F106=1,$F106=5)),0,new_yllv2(VALUE(LEFT(Options!$B$14,2)),$C106,$D106,$E106,$F106,2016,$I106+$J106,1,$H106,$G106*$H106,Options!$B$8)))","v":2340.0520543020002},{"$f":"IF(AND(OR($E$2=\"Orkney Health Board\",$E$2=\"Orkney Islands Local Authority\"),$F106=1),0,IF(AND(OR($E$2=\"Shetland Health Board\",$E$2=\"Western Isles Health Board\",$E$2=\"Shetland Islands Local Authority\",$E$2=\"Eilean Siar Local Authority\"),OR($F106=1,$F106=5)),0,hosp_count(VALUE(LEFT(Options!$B$14,2)),$C106,$E106,$F106,2016,$I106,1,$H106,$G106*$H106, Options!$B$8)))","v":7177.9805397336004},{"$f":"IF(AND(OR($E$2=\"Orkney Health Board\",$E$2=\"Orkney Islands Local Authority\"),$F106=1),0,IF(AND(OR($E$2=\"Shetland Health Board\",$E$2=\"Western Isles Health Board\",$E$2=\"Shetland Islands Local Authority\",$E$2=\"Eilean Siar Local Authority\"),OR($F106=1,$F106=5)),0,hosp_count(VALUE(LEFT(Options!$B$14,2)),$C106,$E106,$F106,2016,$I106+$J106,1,$H106,$G106*$H106, Options!$B$8)))","v":7166.1443416255997},{"$f":"IF(AND(OR($E$2=\"Orkney Health Board\",$E$2=\"Orkney Islands Local Authority\"),$F106=1),0,IF(AND(OR($E$2=\"Shetland Health Board\",$E$2=\"Western Isles Health Board\",$E$2=\"Shetland Islands Local Authority\",$E$2=\"Eilean Siar Local Authority\"),OR($F106=1,$F106=5)),0,prem_mort(VALUE(LEFT(Options!$B$14,2)),$C106,$E106,$F106,2016,$I106,1,$H106,$G106*$H106,Options!$B$8)))","v":59.810155895299999},{"$f":"IF(AND(OR($E$2=\"Orkney Health Board\",$E$2=\"Orkney Islands Local Authority\"),$F106=1),0,IF(AND(OR($E$2=\"Shetland Health Board\",$E$2=\"Western Isles Health Board\",$E$2=\"Shetland Islands Local Authority\",$E$2=\"Eilean Siar Local Authority\"),OR($F106=1,$F106=5)),0,prem_mort(VALUE(LEFT(Options!$B$14,2)),$C106,$E106,$F106,2016,$I106+$J106,1,$H106,$G106*$H106,Options!$B$8)))","v":59.649552256},178.84742508013872,178.36717976197593,7016.1848435886004,6997.3448187967233,21463.969080000003,21428.575867548592,178.84742508013872,178.36717976197593,1251931.9755609711,1248570.2583338316,49113293.905120201,48981413.731577061,150247783.56000003,150000031.07284015,1251931.9755609711,1248570.2583338316,7000]
[null,"Female 45-49",47.025772000000003,82.585769999999997,"female",2,{"$f":"HLOOKUP($E$2,'Prevalence Rates'!$C$3:$BC$249,'Prevalence Rates'!$BD107,FALSE)","v":0.31280000000000002},{"$f":"HLOOKUP($E$2,'Population 2016'!$C$3:$BC$249,'Population 2016'!BD107,FALSE)","v":39170},0,{"$f":"ROUND(0.807*(HLOOKUP($E$2,'Population at Risk'!$C$3:$BC$249,'Population at Risk'!$BD107,FALSE)),0)","v":9888},{"$f":"IF(AND(OR($E$2=\"Orkney Health Board\",$E$2=\"Orkney Islands Local Authority\"),$F107=1),0,IF(AND(OR($E$2=\"Shetland Health Board\",$E$2=\"Western Isles Health Board\",$E$2=\"Shetland Islands Local Authority\",$E$2=\"Eilean Siar Local Authority\"),OR($F107=1,$F107=5)),0,new_ci(VALUE(LEFT(Options!$B$14,2)),$C107,$E107,$F107,2016,$I107,1,$H107,$G107*$H107,Options!$B$8)))","v":106.65949747409999},{"$f":"IF(AND(OR($E$2=\"Orkney Health Board\",$E$2=\"Orkney Islands Local Authority\"),$F107=1),0,IF(AND(OR($E$2=\"Shetland Health Board\",$E$2=\"Western Isles Health Board\",$E$2=\"Shetland Islands Local Authority\",$E$2=\"Eilean Siar Local Authority\"),OR($F107=1,$F107=5)),0,new_ci(VALUE(LEFT(Options!$B$14,2)),$C107,$E107,$F107,2016,$I107+$J107,1,$H107,$G107*$H107,Options!$B$8)))","v":106.36590396690001},{"$f":"IF(AND(OR($E$2=\"Orkney Health Board\",$E$2=\"Orkney Islands Local Authority\"),$F107=1),0,IF(AND(OR($E$2=\"Shetland Health Board\",$E$2=\"Western Isles Health Board\",$E$2=\"Shetland Islands Local Authority\",$E$2=\"Eilean Siar Local Authority\"),OR($F107=1,$F107=5)),0,new_yllv2(VALUE(LEFT(Options!$B$14,2)),$C107,$D107,$E107,$F107,2016,$I107,1,$H107,$G107*$H107,Options!$B$8)))","v":3686.1520193859001},{"$f":"IF(AND(OR($E$2=\"Orkney Health Board\",$E$2=\"Orkney Islands Local Authority\"),$F107=1),0,IF(AND(OR($E$2=\"Shetland Health Board\",$E$2=\"Western Isles Health Board\",$E$2=\"Shetland Islands Local Authority\",$E$2=\"Eilean Siar Local Authority\"),OR($F107=1,$F107=5)),0,new_yllv2(VALUE(LEFT(Options!$B$14,2)),$C107,$D107,$E107,$F107,2016,$I107+$J107,1,$H107,$G107*$H107,Options!$B$8)))","v":3676.0054283642999},{"$f":"IF(AND(OR($E$2=\"Orkney Health Board\",$E$2=\"Orkney Islands Local Authority\"),$F107=1),0,IF(AND(OR($E$2=\"Shetland Health Board\",$E$2=\"Western Isles Health Board\",$E$2=\"Shetland Islands Local Authority\",$E$2=\"Eilean Siar Local Authority\"),OR($F107=1,$F107=5)),0,hosp_count(VALUE(LEFT(Options!$B$14,2)),$C107,$E107,$F107,2016,$I107,1,$H107,$G107*$H107, Options!$B$8)))","v":9521.8151117819998},{"$f":"IF(AND(OR($E$2=\"Orkney Health Board\",$E$2=\"Orkney Islands Local Authority\"),$F107=1),0,IF(AND(OR($E$2=\"Shetland Health Board\",$E$2=\"Western Isles Health Board\",$E$2=\"Shetland Islands Local Authority\",$E$2=\"Eilean Siar Local Authority\"),OR($F107=1,$F107=5)),0,hosp_count(VALUE(LEFT(Options!$B$14,2)),$C107,$E107,$F107,2016,$I107+$J107,1,$H107,$G107*$H107, Options!$B$8)))","v":9505.6796650154993},{"$f":"IF(AND(OR($E$2=\"Orkney Health Board\",$E$2=\"Orkney Islands Local Authority\"),$F107=1),0,IF(AND(OR($E$2=\"Shetland Health Board\",$E$2=\"Western Isles Health Board\",$E$2=\"Shetland Islands Local Authority\",$E$2=\"Eilean Siar Local Authority\"),OR($F107=1,$F107=5)),0,prem_mort(VALUE(LEFT(Options!$B$14,2)),$C107,$E107,$F107,2016,$I107,1,$H107,$G107*$H107,Options!$B$8)))","v":106.65949747409999},{"$f":"IF(AND(OR($E$2=\"Orkney Health Board\",$E$2=\"Orkney Islands Local Authority\"),$F107=1),0,IF(AND(OR($E$2=\"Shetland Health Board\",$E$2=\"Western Isles Health Board\",$E$2=\"Shetland Islands Local Authority\",$E$2=\"Eilean Siar Local Authority\"),OR($F107=1,$F107=5)),0,prem_mort(VALUE(LEFT(Options!$B$14,2)),$C107,$E107,$F107,2016,$I107+$J107,1,$H107,$G107*$H107,Options!$B$8)))","v":106.36590396690001},272.29894683201428,271.54941017845289,9410.6510579165169,9384.7470726686242,24308.94846,24267.755080458257,272.29894683201428,271.54941017845289,1906092.6278241,1900845.8712491703,65874557.405415617,65693229.508680366,170162639.22,169874285.56320781,1906092.6278241,1900845.8712491703,7000]
[null,"Female 50-54",51.990825999999998,82.980829999999997,"female",2,{"$f":"HLOOKUP($E$2,'Prevalence Rates'!$C$3:$BC$249,'Prevalence Rates'!$BD108,FALSE)","v":0.31280000000000002},{"$f":"HLOOKUP($E$2,'Population 2016'!$C$3:$BC$249,'Population 2016'!BD108,FALSE)","v":40518},0,{"$f":"ROUND(0.807*(HLOOKUP($E$2,'Population at Risk'!$C$3:$BC$249,'Population at Risk'!$BD108,FALSE)),0)","v":10228},{"$f":"IF(AND(OR($E$2=\"Orkney Health Board\",$E$2=\"Orkney Islands Local Authority\"),$F108=1),0,IF(AND(OR($E$2=\"Shetland Health Board\",$E$2=\"Western Isles Health Board\",$E$2=\"Shetland Islands Local Authority\",$E$2=\"Eilean Siar Local Authority\"),OR($F108=1,$F108=5)),0,new_ci(VALUE(LEFT(Options!$B$14,2)),$C108,$E108,$F108,2016,$I108,1,$H108,$G108*$H108,Options!$B$8)))","v":168.17365869860001},{"$f":"IF(AND(OR($E$2=\"Orkney Health Board\",$E$2=\"Orkney Islands Local Authority\"),$F108=1),0,IF(AND(OR($E$2=\"Shetland Health Board\",$E$2=\"Western Isles Health Board\",$E$2=\"Shetland Islands Local Authority\",$E$2=\"Eilean Siar Local Authority\"),OR($F108=1,$F108=5)),0,new_ci(VALUE(LEFT(Options!$B$14,2)),$C108,$E108,$F108,2016,$I108+$J108,1,$H108,$G108*$H108,Options!$B$8)))","v":167.7113438934},{"$f":"IF(AND(OR($E$2=\"Orkney Health Board\",$E$2=\"Orkney Islands Local Authority\"),$F108=1),0,IF(AND(OR($E$2=\"Shetland Health Board\",$E$2=\"Western Isles Health Board\",$E$2=\"Shetland Islands Local Authority\",$E$2=\"Eilean Siar Local Authority\"),OR($F108=1,$F108=5)),0,new_yllv2(VALUE(LEFT(Options!$B$14,2)),$C108,$D108,$E108,$F108,2016,$I108,1,$H108,$G108*$H108,Options!$B$8)))","v":5043.5286970655998},{"$f":"IF(AND(OR($E$2=\"Orkney Health Board\",$E$2=\"Orkney Islands Local Authority\"),$F108=1),0,IF(AND(OR($E$2=\"Shetland Health Board\",$E$2=\"Western Isles Health Board\",$E$2=\"Shetland Islands Local Authority\",$E$2=\"Eilean Siar Local Authority\"),OR($F108=1,$F108=5)),0,new_yllv2(VALUE(LEFT(Options!$B$14,2)),$C108,$D108,$E108,$F108,2016,$I108+$J108,1,$H108,$G108*$H108,Options!$B$8)))","v":5029.6638742083996},{"$f":"IF(AND(OR($E$2=\"Orkney Health Board\",$E$2=\"Orkney Islands Local Authority\"),$F108=1),0,IF(AND(OR($E$2=\"Shetland Health Board\",$E$2=\"Western Isles Health Board\",$E$2=\"Shetland Islands Local Authority\",$E$2=\"Eilean Siar Local Authority\"),OR($F108=1,$F108=5)),0,hosp_count(VALUE(LEFT(Options!$B$14,2)),$C108,$E108,$F108,2016,$I108,1,$H108,$G108*$H108, Options!$B$8)))","v":11159.7113811168},{"$f":"IF(AND(OR($E$2=\"Orkney Health Board\",$E$2=\"Orkney Islands Local Authority\"),$F108=1),0,IF(AND(OR($E$2=\"Shetland Health Board\",$E$2=\"Western Isles Health Board\",$E$2=\"Shetland Islands Local Authority\",$E$2=\"Eilean Siar Local Authority\"),OR($F108=1,$F108=5)),0,hosp_count(VALUE(LEFT(Options!$B$14,2)),$C108,$E108,$F108,2016,$I108+$J108,1,$H108,$G108*$H108, Options!$B$8)))","v":11140.800923642801},{"$f":"IF(AND(OR($E$2=\"Orkney Health Board\",$E$2=\"Orkney Islands Local Authority\"),$F108=1),0,IF(AND(OR($E$2=\"Shetland Health Board\",$E$2=\"Western Isles Health Board\",$E$2=\"Shetland Islands Local Authority\",$E$2=\"Eilean Siar Local Authority\"),OR($F108=1,$F108=5)),0,prem_mort(VALUE(LEFT(Options!$B$14,2)),$C108,$E108,$F108,2016,$I108,1,$H108,$G108*$H108,Options!$B$8)))","v":168.17365869860001},{"$f":"IF(AND(OR($E$2=\"Orkney Health Board\",$E$2=\"Orkney Islands Local Authority\"),$F108=1),0,IF(AND(OR($E$2=\"Shetland Health Board\",$E$2=\"Western Isles Health Board\",$E$2=\"Shetland Islands Local Authority\",$E$2=\"Eilean Siar Local Authority\"),OR($F108=1,$F108=5)),0,prem_mort(VALUE(LEFT(Options!$B$14,2)),$C108,$E108,$F108,2016,$I108+$J108,1,$H108,$G108*$H108,Options!$B$8)))","v":167.7113438934},415.05913100004938,413.91812007848364,12447.624998927882,12413.406076826101,27542.601760000001,27495.930015407474,415.05913100004938,413.91812007848364,2905413.9170003454,2897426.8405493856,87133374.992495179,86893842.537782699,192798212.32000002,192471510.10785231,2905413.9170003454,2897426.8405493856,7000]
[null,"Female 55-59",56.953040999999999,83.473039999999997,"female",2,{"$f":"HLOOKUP($E$2,'Prevalence Rates'!$C$3:$BC$249,'Prevalence Rates'!$BD109,FALSE)","v":0.29300000000000004},{"$f":"HLOOKUP($E$2,'Population 2016'!$C$3:$BC$249,'Population 2016'!BD109,FALSE)","v":37275},0,{"$f":"ROUND(0.807*(HLOOKUP($E$2,'Population at Risk'!$C$3:$BC$249,'Population at Risk'!$BD109,FALSE)),0)","v":8814},{"$f":"IF(AND(OR($E$2=\"Orkney Health Board\",$E$2=\"Orkney Islands Local Authority\"),$F109=1),0,IF(AND(OR($E$2=\"Shetland Health Board\",$E$2=\"Western Isles Health Board\",$E$2=\"Shetland Islands Local Authority\",$E$2=\"Eilean Siar Local Authority\"),OR($F109=1,$F109=5)),0,new_ci(VALUE(LEFT(Options!$B$14,2)),$C109,$E109,$F109,2016,$I109,1,$H109,$G109*$H109,Options!$B$8)))","v":235.6736339142},{"$f":"IF(AND(OR($E$2=\"Orkney Health Board\",$E$2=\"Orkney Islands Local Authority\"),$F109=1),0,IF(AND(OR($E$2=\"Shetland Health Board\",$E$2=\"Western Isles Health Board\",$E$2=\"Shetland Islands Local Authority\",$E$2=\"Eilean Siar Local Authority\"),OR($F109=1,$F109=5)),0,new_ci(VALUE(LEFT(Options!$B$14,2)),$C109,$E109,$F109,2016,$I109+$J109,1,$H109,$G109*$H109,Options!$B$8)))","v":235.06023416100001},{"$f":"IF(AND(OR($E$2=\"Orkney Health Board\",$E$2=\"Orkney Islands Local Authority\"),$F109=1),0,IF(AND(OR($E$2=\"Shetland Health Board\",$E$2=\"Western Isles Health Board\",$E$2=\"Shetland Islands Local Authority\",$E$2=\"Eilean Siar Local Authority\"),OR($F109=1,$F109=5)),0,new_yllv2(VALUE(LEFT(Options!$B$14,2)),$C109,$D109,$E109,$F109,2016,$I109,1,$H109,$G109*$H109,Options!$B$8)))","v":6014.3909018167997},{"$f":"IF(AND(OR($E$2=\"Orkney Health Board\",$E$2=\"Orkney Islands Local Authority\"),$F109=1),0,IF(AND(OR($E$2=\"Shetland Health Board\",$E$2=\"Western Isles Health Board\",$E$2=\"Shetland Islands Local Authority\",$E$2=\"Eilean Siar Local Authority\"),OR($F109=1,$F109=5)),0,new_yllv2(VALUE(LEFT(Options!$B$14,2)),$C109,$D109,$E109,$F109,2016,$I109+$J109,1,$H109,$G109*$H109,Options!$B$8)))","v":5998.7369407284996},{"$f":"IF(AND(OR($E$2=\"Orkney Health Board\",$E$2=\"Orkney Islands Local Authority\"),$F109=1),0,IF(AND(OR($E$2=\"Shetland Health Board\",$E$2=\"Western Isles Health Board\",$E$2=\"Shetland Islands Local Authority\",$E$2=\"Eilean Siar Local Authority\"),OR($F109=1,$F109=5)),0,hosp_count(VALUE(LEFT(Options!$B$14,2)),$C109,$E109,$F109,2016,$I109,1,$H109,$G109*$H109, Options!$B$8)))","v":11631.357148215},{"$f":"IF(AND(OR($E$2=\"Orkney Health Board\",$E$2=\"Orkney Islands Local Authority\"),$F109=1),0,IF(AND(OR($E$2=\"Shetland Health Board\",$E$2=\"Western Isles Health Board\",$E$2=\"Shetland Islands Local Authority\",$E$2=\"Eilean Siar Local Authority\"),OR($F109=1,$F109=5)),0,hosp_count(VALUE(LEFT(Options!$B$14,2)),$C109,$E109,$F109,2016,$I109+$J109,1,$H109,$G109*$H109, Options!$B$8)))","v":11612.721424614299},{"$f":"IF(AND(OR($E$2=\"Orkney Health Board\",$E$2=\"Orkney Islands Local Authority\"),$F109=1),0,IF(AND(OR($E$2=\"Shetland Health Board\",$E$2=\"Western Isles Health Board\",$E$2=\"Shetland Islands Local Authority\",$E$2=\"Eilean Siar Local Authority\"),OR($F109=1,$F109=5)),0,prem_mort(VALUE(LEFT(Options!$B$14,2)),$C109,$E109,$F109,2016,$I109,1,$H109,$G109*$H109,Options!$B$8)))","v":235.6736339142},{"$f":"IF(AND(OR($E$2=\"Orkney Health Board\",$E$2=\"Orkney Islands Local Authority\"),$F109=1),0,IF(AND(OR($E$2=\"Shetland Health Board\",$E$2=\"Western Isles Health Board\",$E$2=\"Shetland Islands Local Authority\",$E$2=\"Eilean Siar Local Authority\"),OR($F109=1,$F109=5)),0,prem_mort(VALUE(LEFT(Options!$B$14,2)),$C109,$E109,$F109,2016,$I109+$J109,1,$H109,$G109*$H109,Options!$B$8)))","v":235.06023416100001},632.25656315010053,630.61095683702217,16135.186859334137,16093.190987869886,31204.177460000003,31154.182225658747,632.25656315010053,630.61095683702217,4109667.6604756536,4098971.2194406441,104878714.58567189,104605741.42115426,202827153.49000001,202502184.46678185,4109667.6604756536,4098971.2194406441,6500]
[null,"Female 60-64",61.947387999999997,84.167389999999997,"female",2,{"$f":"HLOOKUP($E$2,'Prevalence Rates'!$C$3:$BC$249,'Prevalence Rates'!$BD110,FALSE)","v":0.29300000000000004},{"$f":"HLOOKUP($E$2,'Population 2016'!$C$3:$BC$249,'Population 2016'!BD110,FALSE)","v":32644},0,{"$f":"ROUND(0.807*(HLOOKUP($E$2,'Population at Risk'!$C$3:$BC$249,'Population at Risk'!$BD110,FALSE)),0)","v":7719},{"$f":"IF(AND(OR($E$2=\"Orkney Health Board\",$E$2=\"Orkney Islands Local Authority\"),$F110=1),0,IF(AND(OR($E$2=\"Shetland Health Board\",$E$2=\"Western Isles Health Board\",$E$2=\"Shetland Islands Local Authority\",$E$2=\"Eilean Siar Local Authority\"),OR($F110=1,$F110=5)),0,new_ci(VALUE(LEFT(Options!$B$14,2)),$C110,$E110,$F110,2016,$I110,1,$H110,$G110*$H110,Options!$B$8)))","v":315.05761837419999},{"$f":"IF(AND(OR($E$2=\"Orkney Health Board\",$E$2=\"Orkney Islands Local Authority\"),$F110=1),0,IF(AND(OR($E$2=\"Shetland Health Board\",$E$2=\"Western Isles Health Board\",$E$2=\"Shetland Islands Local Authority\",$E$2=\"Eilean Siar Local Authority\"),OR($F110=1,$F110=5)),0,new_ci(VALUE(LEFT(Options!$B$14,2)),$C110,$E110,$F110,2016,$I110+$J110,1,$H110,$G110*$H110,Options!$B$8)))","v":314.24010062799999},{"$f":"IF(AND(OR($E$2=\"Orkney Health Board\",$E$2=\"Orkney Islands Local Authority\"),$F110=1),0,IF(AND(OR($E$2=\"Shetland Health Board\",$E$2=\"Western Isles Health Board\",$E$2=\"Shetland Islands Local Authority\",$E$2=\"Eilean Siar Local Authority\"),OR($F110=1,$F110=5)),0,new_yllv2(VALUE(LEFT(Options!$B$14,2)),$C110,$D110,$E110,$F110,2016,$I110,1,$H110,$G110*$H110,Options!$B$8)))","v":6685.5232920157996},{"$f":"IF(AND(OR($E$2=\"Orkney Health Board\",$E$2=\"Orkney Islands Local Authority\"),$F110=1),0,IF(AND(OR($E$2=\"Shetland Health Board\",$E$2=\"Western Isles Health Board\",$E$2=\"Shetland Islands Local Authority\",$E$2=\"Eilean Siar Local Authority\"),OR($F110=1,$F110=5)),0,new_yllv2(VALUE(LEFT(Options!$B$14,2)),$C110,$D110,$E110,$F110,2016,$I110+$J110,1,$H110,$G110*$H110,Options!$B$8)))","v":6668.1755638063996},{"$f":"IF(AND(OR($E$2=\"Orkney Health Board\",$E$2=\"Orkney Islands Local Authority\"),$F110=1),0,IF(AND(OR($E$2=\"Shetland Health Board\",$E$2=\"Western Isles Health Board\",$E$2=\"Shetland Islands Local Authority\",$E$2=\"Eilean Siar Local Authority\"),OR($F110=1,$F110=5)),0,hosp_count(VALUE(LEFT(Options!$B$14,2)),$C110,$E110,$F110,2016,$I110,1,$H110,$G110*$H110, Options!$B$8)))","v":11549.811549477199},{"$f":"IF(AND(OR($E$2=\"Orkney Health Board\",$E$2=\"Orkney Islands Local Authority\"),$F110=1),0,IF(AND(OR($E$2=\"Shetland Health Board\",$E$2=\"Western Isles Health Board\",$E$2=\"Shetland Islands Local Authority\",$E$2=\"Eilean Siar Local Authority\"),OR($F110=1,$F110=5)),0,hosp_count(VALUE(LEFT(Options!$B$14,2)),$C110,$E110,$F110,2016,$I110+$J110,1,$H110,$G110*$H110, Options!$B$8)))","v":11531.3063809785},{"$f":"IF(AND(OR($E$2=\"Orkney Health Board\",$E$2=\"Orkney Islands Local Authority\"),$F110=1),0,IF(AND(OR($E$2=\"Shetland Health Board\",$E$2=\"Western Isles Health Board\",$E$2=\"Shetland Islands Local Authority\",$E$2=\"Eilean Siar Local Authority\"),OR($F110=1,$F110=5)),0,prem_mort(VALUE(LEFT(Options!$B$14,2)),$C110,$E110,$F110,2016,$I110,1,$H110,$G110*$H110,Options!$B$8)))","v":315.05761837419999},{"$f":"IF(AND(OR($E$2=\"Orkney Health Board\",$E$2=\"Orkney Islands Local Authority\"),$F110=1),0,IF(AND(OR($E$2=\"Shetland Health Board\",$E$2=\"Western Isles Health Board\",$E$2=\"Shetland Islands Local Authority\",$E$2=\"Eilean Siar Local Authority\"),OR($F110=1,$F110=5)),0,prem_mort(VALUE(LEFT(Options!$B$14,2)),$C110,$E110,$F110,2016,$I110+$J110,1,$H110,$G110*$H110,Options!$B$8)))","v":314.24010062799999},965.13178034003181,962.62743728709711,20480.098309079156,20426.956144487194,35381.116129999995,35324.428320605628,965.13178034003181,962.62743728709711,5790790.6820401913,5775764.6237225831,122880589.85447493,122561736.86692317,212286696.77999997,211946569.92363375,5790790.6820401913,5775764.6237225831,6000]
[null,"Female 65-69",67.063927000000007,85.193929999999995,"female",2,{"$f":"HLOOKUP($E$2,'Prevalence Rates'!$C$3:$BC$249,'Prevalence Rates'!$BD111,FALSE)","v":0.21100000000000002},{"$f":"HLOOKUP($E$2,'Population 2016'!$C$3:$BC$249,'Population 2016'!BD111,FALSE)","v":32580},0,{"$f":"ROUND(0.807*(HLOOKUP($E$2,'Population at Risk'!$C$3:$BC$249,'Population at Risk'!$BD111,FALSE)),0)","v":5548},{"$f":"IF(AND(OR($E$2=\"Orkney Health Board\",$E$2=\"Orkney Islands Local Authority\"),$F111=1),0,IF(AND(OR($E$2=\"Shetland Health Board\",$E$2=\"Western Isles Health Board\",$E$2=\"Shetland Islands Local Authority\",$E$2=\"Eilean Siar Local Authority\"),OR($F111=1,$F111=5)),0,new_ci(VALUE(LEFT(Options!$B$14,2)),$C111,$E111,$F111,2016,$I111,1,$H111,$G111*$H111,Options!$B$8)))","v":484.52920217500002},{"$f":"IF(AND(OR($E$2=\"Orkney Health Board\",$E$2=\"Orkney Islands Local Authority\"),$F111=1),0,IF(AND(OR($E$2=\"Shetland Health Board\",$E$2=\"Western Isles Health Board\",$E$2=\"Shetland Islands Local Authority\",$E$2=\"Eilean Siar Local Authority\"),OR($F111=1,$F111=5)),0,new_ci(VALUE(LEFT(Options!$B$14,2)),$C111,$E111,$F111,2016,$I111+$J111,1,$H111,$G111*$H111,Options!$B$8)))","v":483.5787765142},{"$f":"IF(AND(OR($E$2=\"Orkney Health Board\",$E$2=\"Orkney Islands Local Authority\"),$F111=1),0,IF(AND(OR($E$2=\"Shetland Health Board\",$E$2=\"Western Isles Health Board\",$E$2=\"Shetland Islands Local Authority\",$E$2=\"Eilean Siar Local Authority\"),OR($F111=1,$F111=5)),0,new_yllv2(VALUE(LEFT(Options!$B$14,2)),$C111,$D111,$E111,$F111,2016,$I111,1,$H111,$G111*$H111,Options!$B$8)))","v":8299.9866868453992},{"$f":"IF(AND(OR($E$2=\"Orkney Health Board\",$E$2=\"Orkney Islands Local Authority\"),$F111=1),0,IF(AND(OR($E$2=\"Shetland Health Board\",$E$2=\"Western Isles Health Board\",$E$2=\"Shetland Islands Local Authority\",$E$2=\"Eilean Siar Local Authority\"),OR($F111=1,$F111=5)),0,new_yllv2(VALUE(LEFT(Options!$B$14,2)),$C111,$D111,$E111,$F111,2016,$I111+$J111,1,$H111,$G111*$H111,Options!$B$8)))","v":8283.7058924245994},{"$f":"IF(AND(OR($E$2=\"Orkney Health Board\",$E$2=\"Orkney Islands Local Authority\"),$F111=1),0,IF(AND(OR($E$2=\"Shetland Health Board\",$E$2=\"Western Isles Health Board\",$E$2=\"Shetland Islands Local Authority\",$E$2=\"Eilean Siar Local Authority\"),OR($F111=1,$F111=5)),0,hosp_count(VALUE(LEFT(Options!$B$14,2)),$C111,$E111,$F111,2016,$I111,1,$H111,$G111*$H111, Options!$B$8)))","v":13110.408911123999},{"$f":"IF(AND(OR($E$2=\"Orkney Health Board\",$E$2=\"Orkney Islands Local Authority\"),$F111=1),0,IF(AND(OR($E$2=\"Shetland Health Board\",$E$2=\"Western Isles Health Board\",$E$2=\"Shetland Islands Local Authority\",$E$2=\"Eilean Siar Local Authority\"),OR($F111=1,$F111=5)),0,hosp_count(VALUE(LEFT(Options!$B$14,2)),$C111,$E111,$F111,2016,$I111+$J111,1,$H111,$G111*$H111, Options!$B$8)))","v":13094.67028778},{"$f":"IF(AND(OR($E$2=\"Orkney Health Board\",$E$2=\"Orkney Islands Local Authority\"),$F111=1),0,IF(AND(OR($E$2=\"Shetland Health Board\",$E$2=\"Western Isles Health Board\",$E$2=\"Shetland Islands Local Authority\",$E$2=\"Eilean Siar Local Authority\"),OR($F111=1,$F111=5)),0,prem_mort(VALUE(LEFT(Options!$B$14,2)),$C111,$E111,$F111,2016,$I111,1,$H111,$G111*$H111,Options!$B$8)))","v":484.52920217500002},{"$f":"IF(AND(OR($E$2=\"Orkney Health Board\",$E$2=\"Orkney Islands Local Authority\"),$F111=1),0,IF(AND(OR($E$2=\"Shetland Health Board\",$E$2=\"Western Isles Health Board\",$E$2=\"Shetland Islands Local Authority\",$E$2=\"Eilean Siar Local Authority\"),OR($F111=1,$F111=5)),0,prem_mort(VALUE(LEFT(Options!$B$14,2)),$C111,$E111,$F111,2016,$I111+$J111,1,$H111,$G111*$H111,Options!$B$8)))","v":483.5787765142},1487.1982878299571,1484.2810819957028,25475.711132122156,25425.739387429709,40240.665779999996,40192.358157704111,1487.1982878299571,1484.2810819957028,8179590.5830647638,8163545.9509763652,140116411.22667187,139841566.6308634,221323661.78999996,221057969.8673726,8179590.5830647638,8163545.9509763652,5500]
[null,"Female 70-74",71.938164,86.248159999999999,"female",2,{"$f":"HLOOKUP($E$2,'Prevalence Rates'!$C$3:$BC$249,'Prevalence Rates'!$BD112,FALSE)","v":0.21100000000000002},{"$f":"HLOOKUP($E$2,'Population 2016'!$C$3:$BC$249,'Population 2016'!BD112,FALSE)","v":25764},0,{"$f":"ROUND(0.807*(HLOOKUP($E$2,'Population at Risk'!$C$3:$BC$249,'Population at Risk'!$BD112,FALSE)),0)","v":4387},{"$f":"IF(AND(OR($E$2=\"Orkney Health Board\",$E$2=\"Orkney Islands Local Authority\"),$F112=1),0,IF(AND(OR($E$2=\"Shetland Health Board\",$E$2=\"Western Isles Health Board\",$E$2=\"Shetland Islands Local Authority\",$E$2=\"Eilean Siar Local Authority\"),OR($F112=1,$F112=5)),0,new_ci(VALUE(LEFT(Options!$B$14,2)),$C112,$E112,$F112,2016,$I112,1,$H112,$G112*$H112,Options!$B$8)))","v":577.61055170680004},{"$f":"IF(AND(OR($E$2=\"Orkney Health Board\",$E$2=\"Orkney Islands Local Authority\"),$F112=1),0,IF(AND(OR($E$2=\"Shetland Health Board\",$E$2=\"Western Isles Health Board\",$E$2=\"Shetland Islands Local Authority\",$E$2=\"Eilean Siar Local Authority\"),OR($F112=1,$F112=5)),0,new_ci(VALUE(LEFT(Options!$B$14,2)),$C112,$E112,$F112,2016,$I112+$J112,1,$H112,$G112*$H112,Options!$B$8)))","v":576.48629653290004},{"$f":"IF(AND(OR($E$2=\"Orkney Health Board\",$E$2=\"Orkney Islands Local Authority\"),$F112=1),0,IF(AND(OR($E$2=\"Shetland Health Board\",$E$2=\"Western Isles Health Board\",$E$2=\"Shetland Islands Local Authority\",$E$2=\"Eilean Siar Local Authority\"),OR($F112=1,$F112=5)),0,new_yllv2(VALUE(LEFT(Options!$B$14,2)),$C112,$D112,$E112,$F112,2016,$I112,1,$H112,$G112*$H112,Options!$B$8)))","v":7687.9941327753004},{"$f":"IF(AND(OR($E$2=\"Orkney Health Board\",$E$2=\"Orkney Islands Local Authority\"),$F112=1),0,IF(AND(OR($E$2=\"Shetland Health Board\",$E$2=\"Western Isles Health Board\",$E$2=\"Shetland Islands Local Authority\",$E$2=\"Eilean Siar Local Authority\"),OR($F112=1,$F112=5)),0,new_yllv2(VALUE(LEFT(Options!$B$14,2)),$C112,$D112,$E112,$F112,2016,$I112+$J112,1,$H112,$G112*$H112,Options!$B$8)))","v":7673.0303009076997},{"$f":"IF(AND(OR($E$2=\"Orkney Health Board\",$E$2=\"Orkney Islands Local Authority\"),$F112=1),0,IF(AND(OR($E$2=\"Shetland Health Board\",$E$2=\"Western Isles Health Board\",$E$2=\"Shetland Islands Local Authority\",$E$2=\"Eilean Siar Local Authority\"),OR($F112=1,$F112=5)),0,hosp_count(VALUE(LEFT(Options!$B$14,2)),$C112,$E112,$F112,2016,$I112,1,$H112,$G112*$H112, Options!$B$8)))","v":11719.9333841844},{"$f":"IF(AND(OR($E$2=\"Orkney Health Board\",$E$2=\"Orkney Islands Local Authority\"),$F112=1),0,IF(AND(OR($E$2=\"Shetland Health Board\",$E$2=\"Western Isles Health Board\",$E$2=\"Shetland Islands Local Authority\",$E$2=\"Eilean Siar Local Authority\"),OR($F112=1,$F112=5)),0,hosp_count(VALUE(LEFT(Options!$B$14,2)),$C112,$E112,$F112,2016,$I112+$J112,1,$H112,$G112*$H112, Options!$B$8)))","v":11705.8649865266},{"$f":"IF(AND(OR($E$2=\"Orkney Health Board\",$E$2=\"Orkney Islands Local Authority\"),$F112=1),0,IF(AND(OR($E$2=\"Shetland Health Board\",$E$2=\"Western Isles Health Board\",$E$2=\"Shetland Islands Local Authority\",$E$2=\"Eilean Siar Local Authority\"),OR($F112=1,$F112=5)),0,prem_mort(VALUE(LEFT(Options!$B$14,2)),$C112,$E112,$F112,2016,$I112,1,$H112,$G112*$H112,Options!$B$8)))","v":577.61055170680004},{"$f":"IF(AND(OR($E$2=\"Orkney Health Board\",$E$2=\"Orkney Islands Local Authority\"),$F112=1),0,IF(AND(OR($E$2=\"Shetland Health Board\",$E$2=\"Western Isles Health Board\",$E$2=\"Shetland Islands Local Authority\",$E$2=\"Eilean Siar Local Authority\"),OR($F112=1,$F112=5)),0,prem_mort(VALUE(LEFT(Options!$B$14,2)),$C112,$E112,$F112,2016,$I112+$J112,1,$H112,$G112*$H112,Options!$B$8)))","v":576.48629653290004},2241.9288608399315,2237.5651938088031,29840.064170064044,29781.983779334343,45489.572210000006,45434.967344071571,2241.9288608399315,2237.5651938088031,11209644.304199658,11187825.969044015,149200320.85032022,148909918.89667171,227447861.05000004,227174836.72035787,11209644.304199658,11187825.969044015,5000]
[null,"Female 75-79",76.942824999999999,87.812830000000005,"female",2,{"$f":"HLOOKUP($E$2,'Prevalence Rates'!$C$3:$BC$249,'Prevalence Rates'!$BD113,FALSE)","v":9.6500000000000002E-2},{"$f":"HLOOKUP($E$2,'Population 2016'!$C$3:$BC$249,'Population 2016'!BD113,FALSE)","v":22167},0,{"$f":"ROUND(0.807*(HLOOKUP($E$2,'Population at Risk'!$C$3:$BC$249,'Population at Risk'!$BD113,FALSE)),0)","v":1726},{"$f":"IF(AND(OR($E$2=\"Orkney Health Board\",$E$2=\"Orkney Islands Local Authority\"),$F113=1),0,IF(AND(OR($E$2=\"Shetland Health Board\",$E$2=\"Western Isles Health Board\",$E$2=\"Shetland Islands Local Authority\",$E$2=\"Eilean Siar Local Authority\"),OR($F113=1,$F113=5)),0,new_ci(VALUE(LEFT(Options!$B$14,2)),$C113,$E113,$F113,2016,$I113,1,$H113,$G113*$H113,Options!$B$8)))","v":756.16502267359999},{"$f":"IF(AND(OR($E$2=\"Orkney Health Board\",$E$2=\"Orkney Islands Local Authority\"),$F113=1),0,IF(AND(OR($E$2=\"Shetland Health Board\",$E$2=\"Western Isles Health Board\",$E$2=\"Shetland Islands Local Authority\",$E$2=\"Eilean Siar Local Authority\"),OR($F113=1,$F113=5)),0,new_ci(VALUE(LEFT(Options!$B$14,2)),$C113,$E113,$F113,2016,$I113+$J113,1,$H113,$G113*$H113,Options!$B$8)))","v":755.44713629620003},{"$f":"IF(AND(OR($E$2=\"Orkney Health Board\",$E$2=\"Orkney Islands Local Authority\"),$F113=1),0,IF(AND(OR($E$2=\"Shetland Health Board\",$E$2=\"Western Isles Health Board\",$E$2=\"Shetland Islands Local Authority\",$E$2=\"Eilean Siar Local Authority\"),OR($F113=1,$F113=5)),0,new_yllv2(VALUE(LEFT(Options!$B$14,2)),$C113,$D113,$E113,$F113,2016,$I113,1,$H113,$G113*$H113,Options!$B$8)))","v":7463.3525546135998},{"$f":"IF(AND(OR($E$2=\"Orkney Health Board\",$E$2=\"Orkney Islands Local Authority\"),$F113=1),0,IF(AND(OR($E$2=\"Shetland Health Board\",$E$2=\"Western Isles Health Board\",$E$2=\"Shetland Islands Local Authority\",$E$2=\"Eilean Siar Local Authority\"),OR($F113=1,$F113=5)),0,new_yllv2(VALUE(LEFT(Options!$B$14,2)),$C113,$D113,$E113,$F113,2016,$I113+$J113,1,$H113,$G113*$H113,Options!$B$8)))","v":7456.2670124792003},{"$f":"IF(AND(OR($E$2=\"Orkney Health Board\",$E$2=\"Orkney Islands Local Authority\"),$F113=1),0,IF(AND(OR($E$2=\"Shetland Health Board\",$E$2=\"Western Isles Health Board\",$E$2=\"Shetland Islands Local Authority\",$E$2=\"Eilean Siar Local Authority\"),OR($F113=1,$F113=5)),0,hosp_count(VALUE(LEFT(Options!$B$14,2)),$C113,$E113,$F113,2016,$I113,1,$H113,$G113*$H113, Options!$B$8)))","v":11436.4236510261},{"$f":"IF(AND(OR($E$2=\"Orkney Health Board\",$E$2=\"Orkney Islands Local Authority\"),$F113=1),0,IF(AND(OR($E$2=\"Shetland Health Board\",$E$2=\"Western Isles Health Board\",$E$2=\"Shetland Islands Local Authority\",$E$2=\"Eilean Siar Local Authority\"),OR($F113=1,$F113=5)),0,hosp_count(VALUE(LEFT(Options!$B$14,2)),$C113,$E113,$F113,2016,$I113+$J113,1,$H113,$G113*$H113, Options!$B$8)))","v":11429.770711200799},{"$f":"IF(AND(OR($E$2=\"Orkney Health Board\",$E$2=\"Orkney Islands Local Authority\"),$F113=1),0,IF(AND(OR($E$2=\"Shetland Health Board\",$E$2=\"Western Isles Health Board\",$E$2=\"Shetland Islands Local Authority\",$E$2=\"Eilean Siar Local Authority\"),OR($F113=1,$F113=5)),0,prem_mort(VALUE(LEFT(Options!$B$14,2)),$C113,$E113,$F113,2016,$I113,1,$H113,$G113*$H113,Options!$B$8)))","v":0},{"$f":"IF(AND(OR($E$2=\"Orkney Health Board\",$E$2=\"Orkney Islands Local Authority\"),$F113=1),0,IF(AND(OR($E$2=\"Shetland Health Board\",$E$2=\"Western Isles Health Board\",$E$2=\"Shetland Islands Local Authority\",$E$2=\"Eilean Siar Local Authority\"),OR($F113=1,$F113=5)),0,prem_mort(VALUE(LEFT(Options!$B$14,2)),$C113,$E113,$F113,2016,$I113+$J113,1,$H113,$G113*$H113,Options!$B$8)))","v":0},3411.2194824450762,3407.9809459836692,33668.753347830556,33636.788976763659,51592.112829999991,51562.100018950696,0,0,13644877.929780304,13631923.783934677,134675013.39132223,134547155.90705463,206368451.31999996,206248400.07580277,0,0,4000]
[null,"Female 80-84",81.856712000000002,89.736710000000002,"female",2,{"$f":"HLOOKUP($E$2,'Prevalence Rates'!$C$3:$BC$249,'Prevalence Rates'!$BD114,FALSE)","v":9.6500000000000002E-2},{"$f":"HLOOKUP($E$2,'Population 2016'!$C$3:$BC$249,'Population 2016'!BD114,FALSE)","v":17470},0,{"$f":"ROUND(0.807*(HLOOKUP($E$2,'Population at Risk'!$C$3:$BC$249,'Population at Risk'!$BD114,FALSE)),0)","v":1360},{"$f":"IF(AND(OR($E$2=\"Orkney Health Board\",$E$2=\"Orkney Islands Local Authority\"),$F114=1),0,IF(AND(OR($E$2=\"Shetland Health Board\",$E$2=\"Western Isles Health Board\",$E$2=\"Shetland Islands Local Authority\",$E$2=\"Eilean Siar Local Authority\"),OR($F114=1,$F114=5)),0,new_ci(VALUE(LEFT(Options!$B$14,2)),$C114,$E114,$F114,2016,$I114,1,$H114,$G114*$H114,Options!$B$8)))","v":896.71137433889999},{"$f":"IF(AND(OR($E$2=\"Orkney Health Board\",$E$2=\"Orkney Islands Local Authority\"),$F114=1),0,IF(AND(OR($E$2=\"Shetland Health Board\",$E$2=\"Western Isles Health Board\",$E$2=\"Shetland Islands Local Authority\",$E$2=\"Eilean Siar Local Authority\"),OR($F114=1,$F114=5)),0,new_ci(VALUE(LEFT(Options!$B$14,2)),$C114,$E114,$F114,2016,$I114+$J114,1,$H114,$G114*$H114,Options!$B$8)))","v":895.8776229389},{"$f":"IF(AND(OR($E$2=\"Orkney Health Board\",$E$2=\"Orkney Islands Local Authority\"),$F114=1),0,IF(AND(OR($E$2=\"Shetland Health Board\",$E$2=\"Western Isles Health Board\",$E$2=\"Shetland Islands Local Authority\",$E$2=\"Eilean Siar Local Authority\"),OR($F114=1,$F114=5)),0,new_yllv2(VALUE(LEFT(Options!$B$14,2)),$C114,$D114,$E114,$F114,2016,$I114,1,$H114,$G114*$H114,Options!$B$8)))","v":6169.3724620289004},{"$f":"IF(AND(OR($E$2=\"Orkney Health Board\",$E$2=\"Orkney Islands Local Authority\"),$F114=1),0,IF(AND(OR($E$2=\"Shetland Health Board\",$E$2=\"Western Isles Health Board\",$E$2=\"Shetland Islands Local Authority\",$E$2=\"Eilean Siar Local Authority\"),OR($F114=1,$F114=5)),0,new_yllv2(VALUE(LEFT(Options!$B$14,2)),$C114,$D114,$E114,$F114,2016,$I114+$J114,1,$H114,$G114*$H114,Options!$B$8)))","v":6163.6362540644004},{"$f":"IF(AND(OR($E$2=\"Orkney Health Board\",$E$2=\"Orkney Islands Local Authority\"),$F114=1),0,IF(AND(OR($E$2=\"Shetland Health Board\",$E$2=\"Western Isles Health Board\",$E$2=\"Shetland Islands Local Authority\",$E$2=\"Eilean Siar Local Authority\"),OR($F114=1,$F114=5)),0,hosp_count(VALUE(LEFT(Options!$B$14,2)),$C114,$E114,$F114,2016,$I114,1,$H114,$G114*$H114, Options!$B$8)))","v":10198.963905691},{"$f":"IF(AND(OR($E$2=\"Orkney Health Board\",$E$2=\"Orkney Islands Local Authority\"),$F114=1),0,IF(AND(OR($E$2=\"Shetland Health Board\",$E$2=\"Western Isles Health Board\",$E$2=\"Shetland Islands Local Authority\",$E$2=\"Eilean Siar Local Authority\"),OR($F114=1,$F114=5)),0,hosp_count(VALUE(LEFT(Options!$B$14,2)),$C114,$E114,$F114,2016,$I114+$J114,1,$H114,$G114*$H114, Options!$B$8)))","v":10193.0320366287},{"$f":"IF(AND(OR($E$2=\"Orkney Health Board\",$E$2=\"Orkney Islands Local Authority\"),$F114=1),0,IF(AND(OR($E$2=\"Shetland Health Board\",$E$2=\"Western Isles Health Board\",$E$2=\"Shetland Islands Local Authority\",$E$2=\"Eilean Siar Local Authority\"),OR($F114=1,$F114=5)),0,prem_mort(VALUE(LEFT(Options!$B$14,2)),$C114,$E114,$F114,2016,$I114,1,$H114,$G114*$H114,Options!$B$8)))","v":0},{"$f":"IF(AND(OR($E$2=\"Orkney Health Board\",$E$2=\"Orkney Islands Local Authority\"),$F114=1),0,IF(AND(OR($E$2=\"Shetland Health Board\",$E$2=\"Western Isles Health Board\",$E$2=\"Shetland Islands Local Authority\",$E$2=\"Eilean Siar Local Authority\"),OR($F114=1,$F114=5)),0,prem_mort(VALUE(LEFT(Options!$B$14,2)),$C114,$E114,$F114,2016,$I114+$J114,1,$H114,$G114*$H114,Options!$B$8)))","v":0},5132.8641919799657,5128.0917168797941,35314.095375093879,35281.260755949632,58379.873530000004,58345.918927468229,0,0,12832160.479949914,12820229.292199485,88285238.437734693,88203151.889874086,145949683.82500002,145864797.31867057,0,0,2500]
[null,"Female 85-89",86.730819999999994,92.220819999999989,"female",2,{"$f":"HLOOKUP($E$2,'Prevalence Rates'!$C$3:$BC$249,'Prevalence Rates'!$BD115,FALSE)","v":9.6500000000000002E-2},{"$f":"HLOOKUP($E$2,'Population 2016'!$C$3:$BC$249,'Population 2016'!BD115,FALSE)","v":10411},0,{"$f":"ROUND(0.807*(HLOOKUP($E$2,'Population at Risk'!$C$3:$BC$249,'Population at Risk'!$BD115,FALSE)),0)","v":811},{"$f":"IF(AND(OR($E$2=\"Orkney Health Board\",$E$2=\"Orkney Islands Local Authority\"),$F115=1),0,IF(AND(OR($E$2=\"Shetland Health Board\",$E$2=\"Western Isles Health Board\",$E$2=\"Shetland Islands Local Authority\",$E$2=\"Eilean Siar Local Authority\"),OR($F115=1,$F115=5)),0,new_ci(VALUE(LEFT(Options!$B$14,2)),$C115,$E115,$F115,2016,$I115,1,$H115,$G115*$H115,Options!$B$8)))","v":797.65821816640005},{"$f":"IF(AND(OR($E$2=\"Orkney Health Board\",$E$2=\"Orkney Islands Local Authority\"),$F115=1),0,IF(AND(OR($E$2=\"Shetland Health Board\",$E$2=\"Western Isles Health Board\",$E$2=\"Shetland Islands Local Authority\",$E$2=\"Eilean Siar Local Authority\"),OR($F115=1,$F115=5)),0,new_ci(VALUE(LEFT(Options!$B$14,2)),$C115,$E115,$F115,2016,$I115+$J115,1,$H115,$G115*$H115,Options!$B$8)))","v":796.93882345489999},{"$f":"IF(AND(OR($E$2=\"Orkney Health Board\",$E$2=\"Orkney Islands Local Authority\"),$F115=1),0,IF(AND(OR($E$2=\"Shetland Health Board\",$E$2=\"Western Isles Health Board\",$E$2=\"Shetland Islands Local Authority\",$E$2=\"Eilean Siar Local Authority\"),OR($F115=1,$F115=5)),0,new_yllv2(VALUE(LEFT(Options!$B$14,2)),$C115,$D115,$E115,$F115,2016,$I115,1,$H115,$G115*$H115,Options!$B$8)))","v":3581.4853995671001},{"$f":"IF(AND(OR($E$2=\"Orkney Health Board\",$E$2=\"Orkney Islands Local Authority\"),$F115=1),0,IF(AND(OR($E$2=\"Shetland Health Board\",$E$2=\"Western Isles Health Board\",$E$2=\"Shetland Islands Local Authority\",$E$2=\"Eilean Siar Local Authority\"),OR($F115=1,$F115=5)),0,new_yllv2(VALUE(LEFT(Options!$B$14,2)),$C115,$D115,$E115,$F115,2016,$I115+$J115,1,$H115,$G115*$H115,Options!$B$8)))","v":3578.2553173125002},{"$f":"IF(AND(OR($E$2=\"Orkney Health Board\",$E$2=\"Orkney Islands Local Authority\"),$F115=1),0,IF(AND(OR($E$2=\"Shetland Health Board\",$E$2=\"Western Isles Health Board\",$E$2=\"Shetland Islands Local Authority\",$E$2=\"Eilean Siar Local Authority\"),OR($F115=1,$F115=5)),0,hosp_count(VALUE(LEFT(Options!$B$14,2)),$C115,$E115,$F115,2016,$I115,1,$H115,$G115*$H115, Options!$B$8)))","v":6870.6983567419002},{"$f":"IF(AND(OR($E$2=\"Orkney Health Board\",$E$2=\"Orkney Islands Local Authority\"),$F115=1),0,IF(AND(OR($E$2=\"Shetland Health Board\",$E$2=\"Western Isles Health Board\",$E$2=\"Shetland Islands Local Authority\",$E$2=\"Eilean Siar Local Authority\"),OR($F115=1,$F115=5)),0,hosp_count(VALUE(LEFT(Options!$B$14,2)),$C115,$E115,$F115,2016,$I115+$J115,1,$H115,$G115*$H115, Options!$B$8)))","v":6866.6996571462996},{"$f":"IF(AND(OR($E$2=\"Orkney Health Board\",$E$2=\"Orkney Islands Local Authority\"),$F115=1),0,IF(AND(OR($E$2=\"Shetland Health Board\",$E$2=\"Western Isles Health Board\",$E$2=\"Shetland Islands Local Authority\",$E$2=\"Eilean Siar Local Authority\"),OR($F115=1,$F115=5)),0,prem_mort(VALUE(LEFT(Options!$B$14,2)),$C115,$E115,$F115,2016,$I115,1,$H115,$G115*$H115,Options!$B$8)))","v":0},{"$f":"IF(AND(OR($E$2=\"Orkney Health Board\",$E$2=\"Orkney Islands Local Authority\"),$F115=1),0,IF(AND(OR($E$2=\"Shetland Health Board\",$E$2=\"Western Isles Health Board\",$E$2=\"Shetland Islands Local Authority\",$E$2=\"Eilean Siar Local Authority\"),OR($F115=1,$F115=5)),0,prem_mort(VALUE(LEFT(Options!$B$14,2)),$C115,$E115,$F115,2016,$I115+$J115,1,$H115,$G115*$H115,Options!$B$8)))","v":0},7661.6868520449525,7654.7769038027081,34400.973965681485,34369.94829807416,65994.605290000007,65956.196879707044,0,0,11492530.278067429,11482165.355704062,51601460.948522225,51554922.447111242,98991907.935000017,98934295.319560573,0,0,1500]
[null,"Female 90+",92.779342999999997,96.279340000000005,"female",2,{"$f":"HLOOKUP($E$2,'Prevalence Rates'!$C$3:$BC$249,'Prevalence Rates'!$BD116,FALSE)","v":9.6500000000000002E-2},{"$f":"HLOOKUP($E$2,'Population 2016'!$C$3:$BC$249,'Population 2016'!BD116,FALSE)","v":5892},0,{"$f":"ROUND(0.807*(HLOOKUP($E$2,'Population at Risk'!$C$3:$BC$249,'Population at Risk'!$BD116,FALSE)),0)","v":459},{"$f":"IF(AND(OR($E$2=\"Orkney Health Board\",$E$2=\"Orkney Islands Local Authority\"),$F116=1),0,IF(AND(OR($E$2=\"Shetland Health Board\",$E$2=\"Western Isles Health Board\",$E$2=\"Shetland Islands Local Authority\",$E$2=\"Eilean Siar Local Authority\"),OR($F116=1,$F116=5)),0,new_ci(VALUE(LEFT(Options!$B$14,2)),$C116,$E116,$F116,2016,$I116,1,$H116,$G116*$H116,Options!$B$8)))","v":734.63226856740005},{"$f":"IF(AND(OR($E$2=\"Orkney Health Board\",$E$2=\"Orkney Islands Local Authority\"),$F116=1),0,IF(AND(OR($E$2=\"Shetland Health Board\",$E$2=\"Western Isles Health Board\",$E$2=\"Shetland Islands Local Authority\",$E$2=\"Eilean Siar Local Authority\"),OR($F116=1,$F116=5)),0,new_ci(VALUE(LEFT(Options!$B$14,2)),$C116,$E116,$F116,2016,$I116+$J116,1,$H116,$G116*$H116,Options!$B$8)))","v":734.00947694189995},{"$f":"IF(AND(OR($E$2=\"Orkney Health Board\",$E$2=\"Orkney Islands Local Authority\"),$F116=1),0,IF(AND(OR($E$2=\"Shetland Health Board\",$E$2=\"Western Isles Health Board\",$E$2=\"Shetland Islands Local Authority\",$E$2=\"Eilean Siar Local Authority\"),OR($F116=1,$F116=5)),0,new_yllv2(VALUE(LEFT(Options!$B$14,2)),$C116,$D116,$E116,$F116,2016,$I116,1,$H116,$G116*$H116,Options!$B$8)))","v":1836.5784675217001},{"$f":"IF(AND(OR($E$2=\"Orkney Health Board\",$E$2=\"Orkney Islands Local Authority\"),$F116=1),0,IF(AND(OR($E$2=\"Shetland Health Board\",$E$2=\"Western Isles Health Board\",$E$2=\"Shetland Islands Local Authority\",$E$2=\"Eilean Siar Local Authority\"),OR($F116=1,$F116=5)),0,new_yllv2(VALUE(LEFT(Options!$B$14,2)),$C116,$D116,$E116,$F116,2016,$I116+$J116,1,$H116,$G116*$H116,Options!$B$8)))","v":1835.0214903263},{"$f":"IF(AND(OR($E$2=\"Orkney Health Board\",$E$2=\"Orkney Islands Local Authority\"),$F116=1),0,IF(AND(OR($E$2=\"Shetland Health Board\",$E$2=\"Western Isles Health Board\",$E$2=\"Shetland Islands Local Authority\",$E$2=\"Eilean Siar Local Authority\"),OR($F116=1,$F116=5)),0,hosp_count(VALUE(LEFT(Options!$B$14,2)),$C116,$E116,$F116,2016,$I116,1,$H116,$G116*$H116, Options!$B$8)))","v":4527.3690442404004},{"$f":"IF(AND(OR($E$2=\"Orkney Health Board\",$E$2=\"Orkney Islands Local Authority\"),$F116=1),0,IF(AND(OR($E$2=\"Shetland Health Board\",$E$2=\"Western Isles Health Board\",$E$2=\"Shetland Islands Local Authority\",$E$2=\"Eilean Siar Local Authority\"),OR($F116=1,$F116=5)),0,hosp_count(VALUE(LEFT(Options!$B$14,2)),$C116,$E116,$F116,2016,$I116+$J116,1,$H116,$G116*$H116, Options!$B$8)))","v":4524.7340156478003},{"$f":"IF(AND(OR($E$2=\"Orkney Health Board\",$E$2=\"Orkney Islands Local Authority\"),$F116=1),0,IF(AND(OR($E$2=\"Shetland Health Board\",$E$2=\"Western Isles Health Board\",$E$2=\"Shetland Islands Local Authority\",$E$2=\"Eilean Siar Local Authority\"),OR($F116=1,$F116=5)),0,prem_mort(VALUE(LEFT(Options!$B$14,2)),$C116,$E116,$F116,2016,$I116,1,$H116,$G116*$H116,Options!$B$8)))","v":0},{"$f":"IF(AND(OR($E$2=\"Orkney Health Board\",$E$2=\"Orkney Islands Local Authority\"),$F116=1),0,IF(AND(OR($E$2=\"Shetland Health Board\",$E$2=\"Western Isles Health Board\",$E$2=\"Shetland Islands Local Authority\",$E$2=\"Eilean Siar Local Authority\"),OR($F116=1,$F116=5)),0,prem_mort(VALUE(LEFT(Options!$B$14,2)),$C116,$E116,$F116,2016,$I116+$J116,1,$H116,$G116*$H116,Options!$B$8)))","v":0},12468.300552739307,12457.730430106923,31170.713976946707,31144.288702075697,76839.257370000007,76794.535228238296,0,0,12468300.552739307,12457730.430106923,31170713.976946708,31144288.702075697,76839257.370000005,76794535.228238299,0,0,1000]
[null,"Male 0-4",2.0320822999999999,77.402082000000007,"male",2,{"$f":"HLOOKUP($E$2,'Prevalence Rates'!$C$3:$BC$249,'Prevalence Rates'!$BD117,FALSE)","v":0},{"$f":"HLOOKUP($E$2,'Population 2016'!$C$3:$BC$249,'Population 2016'!BD117,FALSE)","v":0},0,{"$f":"ROUND(0.807*(HLOOKUP($E$2,'Population at Risk'!$C$3:$BC$249,'Population at Risk'!$BD117,FALSE)),0)","v":0},{"$f":"IF(AND(OR($E$2=\"Orkney Health Board\",$E$2=\"Orkney Islands Local Authority\"),$F117=1),0,IF(AND(OR($E$2=\"Shetland Health Board\",$E$2=\"Western Isles Health Board\",$E$2=\"Shetland Islands Local Authority\",$E$2=\"Eilean Siar Local Authority\"),OR($F117=1,$F117=5)),0,new_ci(VALUE(LEFT(Options!$B$14,2)),$C117,$E117,$F117,2016,$I117,1,$H117,$G117*$H117,Options!$B$8)))","v":{"$error":"#VALUE!"}},{"$f":"IF(AND(OR($E$2=\"Orkney Health Board\",$E$2=\"Orkney Islands Local Authority\"),$F117=1),0,IF(AND(OR($E$2=\"Shetland Health Board\",$E$2=\"Western Isles Health Board\",$E$2=\"Shetland Islands Local Authority\",$E$2=\"Eilean Siar Local Authority\"),OR($F117=1,$F117=5)),0,new_ci(VALUE(LEFT(Options!$B$14,2)),$C117,$E117,$F117,2016,$I117+$J117,1,$H117,$G117*$H117,Options!$B$8)))","v":{"$error":"#VALUE!"}},{"$f":"IF(AND(OR($E$2=\"Orkney Health Board\",$E$2=\"Orkney Islands Local Authority\"),$F117=1),0,IF(AND(OR($E$2=\"Shetland Health Board\",$E$2=\"Western Isles Health Board\",$E$2=\"Shetland Islands Local Authority\",$E$2=\"Eilean Siar Local Authority\"),OR($F117=1,$F117=5)),0,new_yllv2(VALUE(LEFT(Options!$B$14,2)),$C117,$D117,$E117,$F117,2016,$I117,1,$H117,$G117*$H117,Options!$B$8)))","v":{"$error":"#VALUE!"}},{"$f":"IF(AND(OR($E$2=\"Orkney Health Board\",$E$2=\"Orkney Islands Local Authority\"),$F117=1),0,IF(AND(OR($E$2=\"Shetland Health Board\",$E$2=\"Western Isles Health Board\",$E$2=\"Shetland Islands Local Authority\",$E$2=\"Eilean Siar Local Authority\"),OR($F117=1,$F117=5)),0,new_yllv2(VALUE(LEFT(Options!$B$14,2)),$C117,$D117,$E117,$F117,2016,$I117+$J117,1,$H117,$G117*$H117,Options!$B$8)))","v":{"$error":"#VALUE!"}},{"$f":"IF(AND(OR($E$2=\"Orkney Health Board\",$E$2=\"Orkney Islands Local Authority\"),$F117=1),0,IF(AND(OR($E$2=\"Shetland Health Board\",$E$2=\"Western Isles Health Board\",$E$2=\"Shetland Islands Local Authority\",$E$2=\"Eilean Siar Local Authority\"),OR($F117=1,$F117=5)),0,hosp_count(VALUE(LEFT(Options!$B$14,2)),$C117,$E117,$F117,2016,$I117,1,$H117,$G117*$H117, Options!$B$8)))","v":{"$error":"#VALUE!"}},{"$f":"IF(AND(OR($E$2=\"Orkney Health Board\",$E$2=\"Orkney Islands Local Authority\"),$F117=1),0,IF(AND(OR($E$2=\"Shetland Health Board\",$E$2=\"Western Isles Health Board\",$E$2=\"Shetland Islands Local Authority\",$E$2=\"Eilean Siar Local Authority\"),OR($F117=1,$F117=5)),0,hosp_count(VALUE(LEFT(Options!$B$14,2)),$C117,$E117,$F117,2016,$I117+$J117,1,$H117,$G117*$H117, Options!$B$8)))","v":{"$error":"#VALUE!"}},{"$f":"IF(AND(OR($E$2=\"Orkney Health Board\",$E$2=\"Orkney Islands Local Authority\"),$F117=1),0,IF(AND(OR($E$2=\"Shetland Health Board\",$E$2=\"Western Isles Health Board\",$E$2=\"Shetland Islands Local Authority\",$E$2=\"Eilean Siar Local Authority\"),OR($F117=1,$F117=5)),0,prem_mort(VALUE(LEFT(Options!$B$14,2)),$C117,$E117,$F117,2016,$I117,1,$H117,$G117*$H117,Options!$B$8)))","v":{"$error":"#VALUE!"}},{"$f":"IF(AND(OR($E$2=\"Orkney Health Board\",$E$2=\"Orkney Islands Local Authority\"),$F117=1),0,IF(AND(OR($E$2=\"Shetland Health Board\",$E$2=\"Western Isles Health Board\",$E$2=\"Shetland Islands Local Authority\",$E$2=\"Eilean Siar Local Authority\"),OR($F117=1,$F117=5)),0,prem_mort(VALUE(LEFT(Options!$B$14,2)),$C117,$E117,$F117,2016,$I117+$J117,1,$H117,$G117*$H117,Options!$B$8)))","v":{"$error":"#VALUE!"}},{"$error":"#VALUE!"},{"$error":"#VALUE!"},{"$error":"#VALUE!"},{"$error":"#VALUE!"},{"$error":"#VALUE!"},{"$error":"#VALUE!"},{"$error":"#VALUE!"},{"$error":"#VALUE!"},{"$error":"#VALUE!"},{"$error":"#VALUE!"},{"$error":"#VALUE!"},{"$error":"#VALUE!"},{"$error":"#VALUE!"},{"$error":"#VALUE!"},{"$error":"#VALUE!"},{"$error":"#VALUE!"},5000]
[null,"Male 5-9",6.9784756000000003,77.398476000000002,"male",2,{"$f":"HLOOKUP($E$2,'Prevalence Rates'!$C$3:$BC$249,'Prevalence Rates'!$BD118,FALSE)","v":0},{"$f":"HLOOKUP($E$2,'Population 2016'!$C$3:$BC$249,'Population 2016'!BD118,FALSE)","v":0},0,{"$f":"ROUND(0.807*(HLOOKUP($E$2,'Population at Risk'!$C$3:$BC$249,'Population at Risk'!$BD118,FALSE)),0)","v":0},{"$f":"IF(AND(OR($E$2=\"Orkney Health Board\",$E$2=\"Orkney Islands Local Authority\"),$F118=1),0,IF(AND(OR($E$2=\"Shetland Health Board\",$E$2=\"Western Isles Health Board\",$E$2=\"Shetland Islands Local Authority\",$E$2=\"Eilean Siar Local Authority\"),OR($F118=1,$F118=5)),0,new_ci(VALUE(LEFT(Options!$B$14,2)),$C118,$E118,$F118,2016,$I118,1,$H118,$G118*$H118,Options!$B$8)))","v":{"$error":"#VALUE!"}},{"$f":"IF(AND(OR($E$2=\"Orkney Health Board\",$E$2=\"Orkney Islands Local Authority\"),$F118=1),0,IF(AND(OR($E$2=\"Shetland Health Board\",$E$2=\"Western Isles Health Board\",$E$2=\"Shetland Islands Local Authority\",$E$2=\"Eilean Siar Local Authority\"),OR($F118=1,$F118=5)),0,new_ci(VALUE(LEFT(Options!$B$14,2)),$C118,$E118,$F118,2016,$I118+$J118,1,$H118,$G118*$H118,Options!$B$8)))","v":{"$error":"#VALUE!"}},{"$f":"IF(AND(OR($E$2=\"Orkney Health Board\",$E$2=\"Orkney Islands Local Authority\"),$F118=1),0,IF(AND(OR($E$2=\"Shetland Health Board\",$E$2=\"Western Isles Health Board\",$E$2=\"Shetland Islands Local Authority\",$E$2=\"Eilean Siar Local Authority\"),OR($F118=1,$F118=5)),0,new_yllv2(VALUE(LEFT(Options!$B$14,2)),$C118,$D118,$E118,$F118,2016,$I118,1,$H118,$G118*$H118,Options!$B$8)))","v":{"$error":"#VALUE!"}},{"$f":"IF(AND(OR($E$2=\"Orkney Health Board\",$E$2=\"Orkney Islands Local Authority\"),$F118=1),0,IF(AND(OR($E$2=\"Shetland Health Board\",$E$2=\"Western Isles Health Board\",$E$2=\"Shetland Islands Local Authority\",$E$2=\"Eilean Siar Local Authority\"),OR($F118=1,$F118=5)),0,new_yllv2(VALUE(LEFT(Options!$B$14,2)),$C118,$D118,$E118,$F118,2016,$I118+$J118,1,$H118,$G118*$H118,Options!$B$8)))","v":{"$error":"#VALUE!"}},{"$f":"IF(AND(OR($E$2=\"Orkney Health Board\",$E$2=\"Orkney Islands Local Authority\"),$F118=1),0,IF(AND(OR($E$2=\"Shetland Health Board\",$E$2=\"Western Isles Health Board\",$E$2=\"Shetland Islands Local Authority\",$E$2=\"Eilean Siar Local Authority\"),OR($F118=1,$F118=5)),0,hosp_count(VALUE(LEFT(Options!$B$14,2)),$C118,$E118,$F118,2016,$I118,1,$H118,$G118*$H118, Options!$B$8)))","v":{"$error":"#VALUE!"}},{"$f":"IF(AND(OR($E$2=\"Orkney Health Board\",$E$2=\"Orkney Islands Local Authority\"),$F118=1),0,IF(AND(OR($E$2=\"Shetland Health Board\",$E$2=\"Western Isles Health Board\",$E$2=\"Shetland Islands Local Authority\",$E$2=\"Eilean Siar Local Authority\"),OR($F118=1,$F118=5)),0,hosp_count(VALUE(LEFT(Options!$B$14,2)),$C118,$E118,$F118,2016,$I118+$J118,1,$H118,$G118*$H118, Options!$B$8)))","v":{"$error":"#VALUE!"}},{"$f":"IF(AND(OR($E$2=\"Orkney Health Board\",$E$2=\"Orkney Islands Local Authority\"),$F118=1),0,IF(AND(OR($E$2=\"Shetland Health Board\",$E$2=\"Western Isles Health Board\",$E$2=\"Shetland Islands Local Authority\",$E$2=\"Eilean Siar Local Authority\"),OR($F118=1,$F118=5)),0,prem_mort(VALUE(LEFT(Options!$B$14,2)),$C118,$E118,$F118,2016,$I118,1,$H118,$G118*$H118,Options!$B$8)))","v":{"$error":"#VALUE!"}},{"$f":"IF(AND(OR($E$2=\"Orkney Health Board\",$E$2=\"Orkney Islands Local Authority\"),$F118=1),0,IF(AND(OR($E$2=\"Shetland Health Board\",$E$2=\"Western Isles Health Board\",$E$2=\"Shetland Islands Local Authority\",$E$2=\"Eilean Siar Local Authority\"),OR($F118=1,$F118=5)),0,prem_mort(VALUE(LEFT(Options!$B$14,2)),$C118,$E118,$F118,2016,$I118+$J118,1,$H118,$G118*$H118,Options!$B$8)))","v":{"$error":"#VALUE!"}},{"$error":"#VALUE!"},{"$error":"#VALUE!"},{"$error":"#VALUE!"},{"$error":"#VALUE!"},{"$error":"#VALUE!"},{"$error":"#VALUE!"},{"$error":"#VALUE!"},{"$error":"#VALUE!"},{"$error":"#VALUE!"},{"$error":"#VALUE!"},{"$error":"#VALUE!"},{"$error":"#VALUE!"},{"$error":"#VALUE!"},{"$error":"#VALUE!"},{"$error":"#VALUE!"},{"$error":"#VALUE!"},5500]
[null,"Male 10-15",12.471144000000001,77.921140000000008,"male",2,{"$f":"HLOOKUP($E$2,'Prevalence Rates'!$C$3:$BC$249,'Prevalence Rates'!$BD119,FALSE)","v":0},{"$f":"HLOOKUP($E$2,'Population 2016'!$C$3:$BC$249,'Population 2016'!BD119,FALSE)","v":0},0,{"$f":"ROUND(0.807*(HLOOKUP($E$2,'Population at Risk'!$C$3:$BC$249,'Population at Risk'!$BD119,FALSE)),0)","v":0},{"$f":"IF(AND(OR($E$2=\"Orkney Health Board\",$E$2=\"Orkney Islands Local Authority\"),$F119=1),0,IF(AND(OR($E$2=\"Shetland Health Board\",$E$2=\"Western Isles Health Board\",$E$2=\"Shetland Islands Local Authority\",$E$2=\"Eilean Siar Local Authority\"),OR($F119=1,$F119=5)),0,new_ci(VALUE(LEFT(Options!$B$14,2)),$C119,$E119,$F119,2016,$I119,1,$H119,$G119*$H119,Options!$B$8)))","v":{"$error":"#VALUE!"}},{"$f":"IF(AND(OR($E$2=\"Orkney Health Board\",$E$2=\"Orkney Islands Local Authority\"),$F119=1),0,IF(AND(OR($E$2=\"Shetland Health Board\",$E$2=\"Western Isles Health Board\",$E$2=\"Shetland Islands Local Authority\",$E$2=\"Eilean Siar Local Authority\"),OR($F119=1,$F119=5)),0,new_ci(VALUE(LEFT(Options!$B$14,2)),$C119,$E119,$F119,2016,$I119+$J119,1,$H119,$G119*$H119,Options!$B$8)))","v":{"$error":"#VALUE!"}},{"$f":"IF(AND(OR($E$2=\"Orkney Health Board\",$E$2=\"Orkney Islands Local Authority\"),$F119=1),0,IF(AND(OR($E$2=\"Shetland Health Board\",$E$2=\"Western Isles Health Board\",$E$2=\"Shetland Islands Local Authority\",$E$2=\"Eilean Siar Local Authority\"),OR($F119=1,$F119=5)),0,new_yllv2(VALUE(LEFT(Options!$B$14,2)),$C119,$D119,$E119,$F119,2016,$I119,1,$H119,$G119*$H119,Options!$B$8)))","v":{"$error":"#VALUE!"}},{"$f":"IF(AND(OR($E$2=\"Orkney Health Board\",$E$2=\"Orkney Islands Local Authority\"),$F119=1),0,IF(AND(OR($E$2=\"Shetland Health Board\",$E$2=\"Western Isles Health Board\",$E$2=\"Shetland Islands Local Authority\",$E$2=\"Eilean Siar Local Authority\"),OR($F119=1,$F119=5)),0,new_yllv2(VALUE(LEFT(Options!$B$14,2)),$C119,$D119,$E119,$F119,2016,$I119+$J119,1,$H119,$G119*$H119,Options!$B$8)))","v":{"$error":"#VALUE!"}},{"$f":"IF(AND(OR($E$2=\"Orkney Health Board\",$E$2=\"Orkney Islands Local Authority\"),$F119=1),0,IF(AND(OR($E$2=\"Shetland Health Board\",$E$2=\"Western Isles Health Board\",$E$2=\"Shetland Islands Local Authority\",$E$2=\"Eilean Siar Local Authority\"),OR($F119=1,$F119=5)),0,hosp_count(VALUE(LEFT(Options!$B$14,2)),$C119,$E119,$F119,2016,$I119,1,$H119,$G119*$H119, Options!$B$8)))","v":{"$error":"#VALUE!"}},{"$f":"IF(AND(OR($E$2=\"Orkney Health Board\",$E$2=\"Orkney Islands Local Authority\"),$F119=1),0,IF(AND(OR($E$2=\"Shetland Health Board\",$E$2=\"Western Isles Health Board\",$E$2=\"Shetland Islands Local Authority\",$E$2=\"Eilean Siar Local Authority\"),OR($F119=1,$F119=5)),0,hosp_count(VALUE(LEFT(Options!$B$14,2)),$C119,$E119,$F119,2016,$I119+$J119,1,$H119,$G119*$H119, Options!$B$8)))","v":{"$error":"#VALUE!"}},{"$f":"IF(AND(OR($E$2=\"Orkney Health Board\",$E$2=\"Orkney Islands Local Authority\"),$F119=1),0,IF(AND(OR($E$2=\"Shetland Health Board\",$E$2=\"Western Isles Health Board\",$E$2=\"Shetland Islands Local Authority\",$E$2=\"Eilean Siar Local Authority\"),OR($F119=1,$F119=5)),0,prem_mort(VALUE(LEFT(Options!$B$14,2)),$C119,$E119,$F119,2016,$I119,1,$H119,$G119*$H119,Options!$B$8)))","v":{"$error":"#VALUE!"}},{"$f":"IF(AND(OR($E$2=\"Orkney Health Board\",$E$2=\"Orkney Islands Local Authority\"),$F119=1),0,IF(AND(OR($E$2=\"Shetland Health Board\",$E$2=\"Western Isles Health Board\",$E$2=\"Shetland Islands Local Authority\",$E$2=\"Eilean Siar Local Authority\"),OR($F119=1,$F119=5)),0,prem_mort(VALUE(LEFT(Options!$B$14,2)),$C119,$E119,$F119,2016,$I119+$J119,1,$H119,$G119*$H119,Options!$B$8)))","v":{"$error":"#VALUE!"}},{"$error":"#VALUE!"},{"$error":"#VALUE!"},{"$error":"#VALUE!"},{"$error":"#VALUE!"},{"$error":"#VALUE!"},{"$error":"#VALUE!"},{"$error":"#VALUE!"},{"$error":"#VALUE!"},{"$error":"#VALUE!"},{"$error":"#VALUE!"},{"$error":"#VALUE!"},{"$error":"#VALUE!"},{"$error":"#VALUE!"},{"$error":"#VALUE!"},{"$error":"#VALUE!"},{"$error":"#VALUE!"},6600]
[null,"Male 16-19",17.556318000000001,77.07632000000001,"male",2,{"$f":"HLOOKUP($E$2,'Prevalence Rates'!$C$3:$BC$249,'Prevalence Rates'!$BD120,FALSE)","v":0.2858},{"$f":"HLOOKUP($E$2,'Population 2016'!$C$3:$BC$249,'Population 2016'!BD120,FALSE)","v":23693},0,{"$f":"ROUND(0.807*(HLOOKUP($E$2,'Population at Risk'!$C$3:$BC$249,'Population at Risk'!$BD120,FALSE)),0)","v":5465},{"$f":"IF(AND(OR($E$2=\"Orkney Health Board\",$E$2=\"Orkney Islands Local Authority\"),$F120=1),0,IF(AND(OR($E$2=\"Shetland Health Board\",$E$2=\"Western Isles Health Board\",$E$2=\"Shetland Islands Local Authority\",$E$2=\"Eilean Siar Local Authority\"),OR($F120=1,$F120=5)),0,new_ci(VALUE(LEFT(Options!$B$14,2)),$C120,$E120,$F120,2016,$I120,1,$H120,$G120*$H120,Options!$B$8)))","v":12.540413025499999},{"$f":"IF(AND(OR($E$2=\"Orkney Health Board\",$E$2=\"Orkney Islands Local Authority\"),$F120=1),0,IF(AND(OR($E$2=\"Shetland Health Board\",$E$2=\"Western Isles Health Board\",$E$2=\"Shetland Islands Local Authority\",$E$2=\"Eilean Siar Local Authority\"),OR($F120=1,$F120=5)),0,new_ci(VALUE(LEFT(Options!$B$14,2)),$C120,$E120,$F120,2016,$I120+$J120,1,$H120,$G120*$H120,Options!$B$8)))","v":12.518298356500001},{"$f":"IF(AND(OR($E$2=\"Orkney Health Board\",$E$2=\"Orkney Islands Local Authority\"),$F120=1),0,IF(AND(OR($E$2=\"Shetland Health Board\",$E$2=\"Western Isles Health Board\",$E$2=\"Shetland Islands Local Authority\",$E$2=\"Eilean Siar Local Authority\"),OR($F120=1,$F120=5)),0,new_yllv2(VALUE(LEFT(Options!$B$14,2)),$C120,$D120,$E120,$F120,2016,$I120,1,$H120,$G120*$H120,Options!$B$8)))","v":733.86499533309996},{"$f":"IF(AND(OR($E$2=\"Orkney Health Board\",$E$2=\"Orkney Islands Local Authority\"),$F120=1),0,IF(AND(OR($E$2=\"Shetland Health Board\",$E$2=\"Western Isles Health Board\",$E$2=\"Shetland Islands Local Authority\",$E$2=\"Eilean Siar Local Authority\"),OR($F120=1,$F120=5)),0,new_yllv2(VALUE(LEFT(Options!$B$14,2)),$C120,$D120,$E120,$F120,2016,$I120+$J120,1,$H120,$G120*$H120,Options!$B$8)))","v":732.57084485899998},{"$f":"IF(AND(OR($E$2=\"Orkney Health Board\",$E$2=\"Orkney Islands Local Authority\"),$F120=1),0,IF(AND(OR($E$2=\"Shetland Health Board\",$E$2=\"Western Isles Health Board\",$E$2=\"Shetland Islands Local Authority\",$E$2=\"Eilean Siar Local Authority\"),OR($F120=1,$F120=5)),0,hosp_count(VALUE(LEFT(Options!$B$14,2)),$C120,$E120,$F120,2016,$I120,1,$H120,$G120*$H120, Options!$B$8)))","v":1858.6343223870001},{"$f":"IF(AND(OR($E$2=\"Orkney Health Board\",$E$2=\"Orkney Islands Local Authority\"),$F120=1),0,IF(AND(OR($E$2=\"Shetland Health Board\",$E$2=\"Western Isles Health Board\",$E$2=\"Shetland Islands Local Authority\",$E$2=\"Eilean Siar Local Authority\"),OR($F120=1,$F120=5)),0,hosp_count(VALUE(LEFT(Options!$B$14,2)),$C120,$E120,$F120,2016,$I120+$J120,1,$H120,$G120*$H120, Options!$B$8)))","v":1856.5102267719999},{"$f":"IF(AND(OR($E$2=\"Orkney Health Board\",$E$2=\"Orkney Islands Local Authority\"),$F120=1),0,IF(AND(OR($E$2=\"Shetland Health Board\",$E$2=\"Western Isles Health Board\",$E$2=\"Shetland Islands Local Authority\",$E$2=\"Eilean Siar Local Authority\"),OR($F120=1,$F120=5)),0,prem_mort(VALUE(LEFT(Options!$B$14,2)),$C120,$E120,$F120,2016,$I120,1,$H120,$G120*$H120,Options!$B$8)))","v":12.540413025499999},{"$f":"IF(AND(OR($E$2=\"Orkney Health Board\",$E$2=\"Orkney Islands Local Authority\"),$F120=1),0,IF(AND(OR($E$2=\"Shetland Health Board\",$E$2=\"Western Isles Health Board\",$E$2=\"Shetland Islands Local Authority\",$E$2=\"Eilean Siar Local Authority\"),OR($F120=1,$F120=5)),0,prem_mort(VALUE(LEFT(Options!$B$14,2)),$C120,$E120,$F120,2016,$I120+$J120,1,$H120,$G120*$H120,Options!$B$8)))","v":12.518298356500001},52.928768098172455,52.83542969020386,3097.3916149626471,3091.9294511416874,7844.6558999999997,7835.6908233317854,52.928768098172455,52.83542969020386,232886.5796319588,232475.89063689698,13628523.105835646,13604489.585023426,34516485.960000001,34477039.622659855,232886.5796319588,232475.89063689698,4400]
[null,"Male 20-24",22.054632000000002,77.704629999999995,"male",2,{"$f":"HLOOKUP($E$2,'Prevalence Rates'!$C$3:$BC$249,'Prevalence Rates'!$BD121,FALSE)","v":0.2858},{"$f":"HLOOKUP($E$2,'Population 2016'!$C$3:$BC$249,'Population 2016'!BD121,FALSE)","v":35964},0,{"$f":"ROUND(0.807*(HLOOKUP($E$2,'Population at Risk'!$C$3:$BC$249,'Population at Risk'!$BD121,FALSE)),0)","v":8295},{"$f":"IF(AND(OR($E$2=\"Orkney Health Board\",$E$2=\"Orkney Islands Local Authority\"),$F121=1),0,IF(AND(OR($E$2=\"Shetland Health Board\",$E$2=\"Western Isles Health Board\",$E$2=\"Shetland Islands Local Authority\",$E$2=\"Eilean Siar Local Authority\"),OR($F121=1,$F121=5)),0,new_ci(VALUE(LEFT(Options!$B$14,2)),$C121,$E121,$F121,2016,$I121,1,$H121,$G121*$H121,Options!$B$8)))","v":26.730078056100002},{"$f":"IF(AND(OR($E$2=\"Orkney Health Board\",$E$2=\"Orkney Islands Local Authority\"),$F121=1),0,IF(AND(OR($E$2=\"Shetland Health Board\",$E$2=\"Western Isles Health Board\",$E$2=\"Shetland Islands Local Authority\",$E$2=\"Eilean Siar Local Authority\"),OR($F121=1,$F121=5)),0,new_ci(VALUE(LEFT(Options!$B$14,2)),$C121,$E121,$F121,2016,$I121+$J121,1,$H121,$G121*$H121,Options!$B$8)))","v":26.682950843099999},{"$f":"IF(AND(OR($E$2=\"Orkney Health Board\",$E$2=\"Orkney Islands Local Authority\"),$F121=1),0,IF(AND(OR($E$2=\"Shetland Health Board\",$E$2=\"Western Isles Health Board\",$E$2=\"Shetland Islands Local Authority\",$E$2=\"Eilean Siar Local Authority\"),OR($F121=1,$F121=5)),0,new_yllv2(VALUE(LEFT(Options!$B$14,2)),$C121,$D121,$E121,$F121,2016,$I121,1,$H121,$G121*$H121,Options!$B$8)))","v":1460.7987123057001},{"$f":"IF(AND(OR($E$2=\"Orkney Health Board\",$E$2=\"Orkney Islands Local Authority\"),$F121=1),0,IF(AND(OR($E$2=\"Shetland Health Board\",$E$2=\"Western Isles Health Board\",$E$2=\"Shetland Islands Local Authority\",$E$2=\"Eilean Siar Local Authority\"),OR($F121=1,$F121=5)),0,new_yllv2(VALUE(LEFT(Options!$B$14,2)),$C121,$D121,$E121,$F121,2016,$I121+$J121,1,$H121,$G121*$H121,Options!$B$8)))","v":1458.2232102094999},{"$f":"IF(AND(OR($E$2=\"Orkney Health Board\",$E$2=\"Orkney Islands Local Authority\"),$F121=1),0,IF(AND(OR($E$2=\"Shetland Health Board\",$E$2=\"Western Isles Health Board\",$E$2=\"Shetland Islands Local Authority\",$E$2=\"Eilean Siar Local Authority\"),OR($F121=1,$F121=5)),0,hosp_count(VALUE(LEFT(Options!$B$14,2)),$C121,$E121,$F121,2016,$I121,1,$H121,$G121*$H121, Options!$B$8)))","v":3309.6725972171998},{"$f":"IF(AND(OR($E$2=\"Orkney Health Board\",$E$2=\"Orkney Islands Local Authority\"),$F121=1),0,IF(AND(OR($E$2=\"Shetland Health Board\",$E$2=\"Western Isles Health Board\",$E$2=\"Shetland Islands Local Authority\",$E$2=\"Eilean Siar Local Authority\"),OR($F121=1,$F121=5)),0,hosp_count(VALUE(LEFT(Options!$B$14,2)),$C121,$E121,$F121,2016,$I121+$J121,1,$H121,$G121*$H121, Options!$B$8)))","v":3305.8904066001001},{"$f":"IF(AND(OR($E$2=\"Orkney Health Board\",$E$2=\"Orkney Islands Local Authority\"),$F121=1),0,IF(AND(OR($E$2=\"Shetland Health Board\",$E$2=\"Western Isles Health Board\",$E$2=\"Shetland Islands Local Authority\",$E$2=\"Eilean Siar Local Authority\"),OR($F121=1,$F121=5)),0,prem_mort(VALUE(LEFT(Options!$B$14,2)),$C121,$E121,$F121,2016,$I121,1,$H121,$G121*$H121,Options!$B$8)))","v":26.730078056100002},{"$f":"IF(AND(OR($E$2=\"Orkney Health Board\",$E$2=\"Orkney Islands Local Authority\"),$F121=1),0,IF(AND(OR($E$2=\"Shetland Health Board\",$E$2=\"Western Isles Health Board\",$E$2=\"Shetland Islands Local Authority\",$E$2=\"Eilean Siar Local Authority\"),OR($F121=1,$F121=5)),0,prem_mort(VALUE(LEFT(Options!$B$14,2)),$C121,$E121,$F121,2016,$I121+$J121,1,$H121,$G121*$H121,Options!$B$8)))","v":26.682950843099999},74.324541363863872,74.193501398898889,4061.8360368860531,4054.6747030627848,9202.7377299999989,9192.2211283508495,74.324541363863872,74.193501398898889,445947.24818318326,445161.00839339331,24371016.221316319,24328048.218376707,55216426.379999995,55153326.770105094,445947.24818318326,445161.00839339331,6000]
[null,"Male 25-29",26.959762999999999,77.789760000000001,"male",2,{"$f":"HLOOKUP($E$2,'Prevalence Rates'!$C$3:$BC$249,'Prevalence Rates'!$BD122,FALSE)","v":0.31980000000000003},{"$f":"HLOOKUP($E$2,'Population 2016'!$C$3:$BC$249,'Population 2016'!BD122,FALSE)","v":39611},0,{"$f":"ROUND(0.807*(HLOOKUP($E$2,'Population at Risk'!$C$3:$BC$249,'Population at Risk'!$BD122,FALSE)),0)","v":10223},{"$f":"IF(AND(OR($E$2=\"Orkney Health Board\",$E$2=\"Orkney Islands Local Authority\"),$F122=1),0,IF(AND(OR($E$2=\"Shetland Health Board\",$E$2=\"Western Isles Health Board\",$E$2=\"Shetland Islands Local Authority\",$E$2=\"Eilean Siar Local Authority\"),OR($F122=1,$F122=5)),0,new_ci(VALUE(LEFT(Options!$B$14,2)),$C122,$E122,$F122,2016,$I122,1,$H122,$G122*$H122,Options!$B$8)))","v":42.628333175100003},{"$f":"IF(AND(OR($E$2=\"Orkney Health Board\",$E$2=\"Orkney Islands Local Authority\"),$F122=1),0,IF(AND(OR($E$2=\"Shetland Health Board\",$E$2=\"Western Isles Health Board\",$E$2=\"Shetland Islands Local Authority\",$E$2=\"Eilean Siar Local Authority\"),OR($F122=1,$F122=5)),0,new_ci(VALUE(LEFT(Options!$B$14,2)),$C122,$E122,$F122,2016,$I122+$J122,1,$H122,$G122*$H122,Options!$B$8)))","v":42.546257819600001},{"$f":"IF(AND(OR($E$2=\"Orkney Health Board\",$E$2=\"Orkney Islands Local Authority\"),$F122=1),0,IF(AND(OR($E$2=\"Shetland Health Board\",$E$2=\"Western Isles Health Board\",$E$2=\"Shetland Islands Local Authority\",$E$2=\"Eilean Siar Local Authority\"),OR($F122=1,$F122=5)),0,new_yllv2(VALUE(LEFT(Options!$B$14,2)),$C122,$D122,$E122,$F122,2016,$I122,1,$H122,$G122*$H122,Options!$B$8)))","v":2124.1697142302},{"$f":"IF(AND(OR($E$2=\"Orkney Health Board\",$E$2=\"Orkney Islands Local Authority\"),$F122=1),0,IF(AND(OR($E$2=\"Shetland Health Board\",$E$2=\"Western Isles Health Board\",$E$2=\"Shetland Islands Local Authority\",$E$2=\"Eilean Siar Local Authority\"),OR($F122=1,$F122=5)),0,new_yllv2(VALUE(LEFT(Options!$B$14,2)),$C122,$D122,$E122,$F122,2016,$I122+$J122,1,$H122,$G122*$H122,Options!$B$8)))","v":2120.0798995118998},{"$f":"IF(AND(OR($E$2=\"Orkney Health Board\",$E$2=\"Orkney Islands Local Authority\"),$F122=1),0,IF(AND(OR($E$2=\"Shetland Health Board\",$E$2=\"Western Isles Health Board\",$E$2=\"Shetland Islands Local Authority\",$E$2=\"Eilean Siar Local Authority\"),OR($F122=1,$F122=5)),0,hosp_count(VALUE(LEFT(Options!$B$14,2)),$C122,$E122,$F122,2016,$I122,1,$H122,$G122*$H122, Options!$B$8)))","v":4338.5762131854999},{"$f":"IF(AND(OR($E$2=\"Orkney Health Board\",$E$2=\"Orkney Islands Local Authority\"),$F122=1),0,IF(AND(OR($E$2=\"Shetland Health Board\",$E$2=\"Western Isles Health Board\",$E$2=\"Shetland Islands Local Authority\",$E$2=\"Eilean Siar Local Authority\"),OR($F122=1,$F122=5)),0,hosp_count(VALUE(LEFT(Options!$B$14,2)),$C122,$E122,$F122,2016,$I122+$J122,1,$H122,$G122*$H122, Options!$B$8)))","v":4333.1069174735003},{"$f":"IF(AND(OR($E$2=\"Orkney Health Board\",$E$2=\"Orkney Islands Local Authority\"),$F122=1),0,IF(AND(OR($E$2=\"Shetland Health Board\",$E$2=\"Western Isles Health Board\",$E$2=\"Shetland Islands Local Authority\",$E$2=\"Eilean Siar Local Authority\"),OR($F122=1,$F122=5)),0,prem_mort(VALUE(LEFT(Options!$B$14,2)),$C122,$E122,$F122,2016,$I122,1,$H122,$G122*$H122,Options!$B$8)))","v":42.628333175100003},{"$f":"IF(AND(OR($E$2=\"Orkney Health Board\",$E$2=\"Orkney Islands Local Authority\"),$F122=1),0,IF(AND(OR($E$2=\"Shetland Health Board\",$E$2=\"Western Isles Health Board\",$E$2=\"Shetland Islands Local Authority\",$E$2=\"Eilean Siar Local Authority\"),OR($F122=1,$F122=5)),0,prem_mort(VALUE(LEFT(Options!$B$14,2)),$C122,$E122,$F122,2016,$I122+$J122,1,$H122,$G122*$H122,Options!$B$8)))","v":42.546257819600001},107.61741227209615,107.4102088298705,5362.5753306662291,5352.2503837618333,10952.958049999999,10939.150532613416,107.61741227209615,107.4102088298705,645704.47363257688,644461.25297922303,32175451.983997375,32113502.302570999,65717748.299999997,65634903.195680492,645704.47363257688,644461.25297922303,6000]
[null,"Male 30-34",31.981521999999998,78.061520000000002,"male",2,{"$f":"HLOOKUP($E$2,'Prevalence Rates'!$C$3:$BC$249,'Prevalence Rates'!$BD123,FALSE)","v":0.31980000000000003},{"$f":"HLOOKUP($E$2,'Population 2016'!$C$3:$BC$249,'Population 2016'!BD123,FALSE)","v":37146},0,{"$f":"ROUND(0.807*(HLOOKUP($E$2,'Population at Risk'!$C$3:$BC$249,'Population at Risk'!$BD123,FALSE)),0)","v":9587},{"$f":"IF(AND(OR($E$2=\"Orkney Health Board\",$E$2=\"Orkney Islands Local Authority\"),$F123=1),0,IF(AND(OR($E$2=\"Shetland Health Board\",$E$2=\"Western Isles Health Board\",$E$2=\"Shetland Islands Local Authority\",$E$2=\"Eilean Siar Local Authority\"),OR($F123=1,$F123=5)),0,new_ci(VALUE(LEFT(Options!$B$14,2)),$C123,$E123,$F123,2016,$I123,1,$H123,$G123*$H123,Options!$B$8)))","v":58.388864265000002},{"$f":"IF(AND(OR($E$2=\"Orkney Health Board\",$E$2=\"Orkney Islands Local Authority\"),$F123=1),0,IF(AND(OR($E$2=\"Shetland Health Board\",$E$2=\"Western Isles Health Board\",$E$2=\"Shetland Islands Local Authority\",$E$2=\"Eilean Siar Local Authority\"),OR($F123=1,$F123=5)),0,new_ci(VALUE(LEFT(Options!$B$14,2)),$C123,$E123,$F123,2016,$I123+$J123,1,$H123,$G123*$H123,Options!$B$8)))","v":58.276494079300001},{"$f":"IF(AND(OR($E$2=\"Orkney Health Board\",$E$2=\"Orkney Islands Local Authority\"),$F123=1),0,IF(AND(OR($E$2=\"Shetland Health Board\",$E$2=\"Western Isles Health Board\",$E$2=\"Shetland Islands Local Authority\",$E$2=\"Eilean Siar Local Authority\"),OR($F123=1,$F123=5)),0,new_yllv2(VALUE(LEFT(Options!$B$14,2)),$C123,$D123,$E123,$F123,2016,$I123,1,$H123,$G123*$H123,Options!$B$8)))","v":2632.1698842884998},{"$f":"IF(AND(OR($E$2=\"Orkney Health Board\",$E$2=\"Orkney Islands Local Authority\"),$F123=1),0,IF(AND(OR($E$2=\"Shetland Health Board\",$E$2=\"Western Isles Health Board\",$E$2=\"Shetland Islands Local Authority\",$E$2=\"Eilean Siar Local Authority\"),OR($F123=1,$F123=5)),0,new_yllv2(VALUE(LEFT(Options!$B$14,2)),$C123,$D123,$E123,$F123,2016,$I123+$J123,1,$H123,$G123*$H123,Options!$B$8)))","v":2627.1042365418998},{"$f":"IF(AND(OR($E$2=\"Orkney Health Board\",$E$2=\"Orkney Islands Local Authority\"),$F123=1),0,IF(AND(OR($E$2=\"Shetland Health Board\",$E$2=\"Western Isles Health Board\",$E$2=\"Shetland Islands Local Authority\",$E$2=\"Eilean Siar Local Authority\"),OR($F123=1,$F123=5)),0,hosp_count(VALUE(LEFT(Options!$B$14,2)),$C123,$E123,$F123,2016,$I123,1,$H123,$G123*$H123, Options!$B$8)))","v":4862.4564060936},{"$f":"IF(AND(OR($E$2=\"Orkney Health Board\",$E$2=\"Orkney Islands Local Authority\"),$F123=1),0,IF(AND(OR($E$2=\"Shetland Health Board\",$E$2=\"Western Isles Health Board\",$E$2=\"Shetland Islands Local Authority\",$E$2=\"Eilean Siar Local Authority\"),OR($F123=1,$F123=5)),0,hosp_count(VALUE(LEFT(Options!$B$14,2)),$C123,$E123,$F123,2016,$I123+$J123,1,$H123,$G123*$H123, Options!$B$8)))","v":4856.3265828949998},{"$f":"IF(AND(OR($E$2=\"Orkney Health Board\",$E$2=\"Orkney Islands Local Authority\"),$F123=1),0,IF(AND(OR($E$2=\"Shetland Health Board\",$E$2=\"Western Isles Health Board\",$E$2=\"Shetland Islands Local Authority\",$E$2=\"Eilean Siar Local Authority\"),OR($F123=1,$F123=5)),0,prem_mort(VALUE(LEFT(Options!$B$14,2)),$C123,$E123,$F123,2016,$I123,1,$H123,$G123*$H123,Options!$B$8)))","v":58.388864265000002},{"$f":"IF(AND(OR($E$2=\"Orkney Health Board\",$E$2=\"Orkney Islands Local Authority\"),$F123=1),0,IF(AND(OR($E$2=\"Shetland Health Board\",$E$2=\"Western Isles Health Board\",$E$2=\"Shetland Islands Local Authority\",$E$2=\"Eilean Siar Local Authority\"),OR($F123=1,$F123=5)),0,prem_mort(VALUE(LEFT(Options!$B$14,2)),$C123,$E123,$F123,2016,$I123+$J123,1,$H123,$G123*$H123,Options!$B$8)))","v":58.276494079300001},157.18748792602165,156.88497840763472,7086.0116413301566,7072.3745128463352,13090.121159999999,13073.619186170785,157.18748792602165,156.88497840763472,1021718.6715191407,1019752.3596496257,46059075.668646015,45970434.333501175,85085787.539999992,84978524.710110098,1021718.6715191407,1019752.3596496257,6500]
[null,"Male 35-39",36.926009999999998,78.336009999999987,"male",2,{"$f":"HLOOKUP($E$2,'Prevalence Rates'!$C$3:$BC$249,'Prevalence Rates'!$BD124,FALSE)","v":0.34090000000000004},{"$f":"HLOOKUP($E$2,'Population 2016'!$C$3:$BC$249,'Population 2016'!BD124,FALSE)","v":32341},0,{"$f":"ROUND(0.807*(HLOOKUP($E$2,'Population at Risk'!$C$3:$BC$249,'Population at Risk'!$BD124,FALSE)),0)","v":8897},{"$f":"IF(AND(OR($E$2=\"Orkney Health Board\",$E$2=\"Orkney Islands Local Authority\"),$F124=1),0,IF(AND(OR($E$2=\"Shetland Health Board\",$E$2=\"Western Isles Health Board\",$E$2=\"Shetland Islands Local Authority\",$E$2=\"Eilean Siar Local Authority\"),OR($F124=1,$F124=5)),0,new_ci(VALUE(LEFT(Options!$B$14,2)),$C124,$E124,$F124,2016,$I124,1,$H124,$G124*$H124,Options!$B$8)))","v":73.811050172600005},{"$f":"IF(AND(OR($E$2=\"Orkney Health Board\",$E$2=\"Orkney Islands Local Authority\"),$F124=1),0,IF(AND(OR($E$2=\"Shetland Health Board\",$E$2=\"Western Isles Health Board\",$E$2=\"Shetland Islands Local Authority\",$E$2=\"Eilean Siar Local Authority\"),OR($F124=1,$F124=5)),0,new_ci(VALUE(LEFT(Options!$B$14,2)),$C124,$E124,$F124,2016,$I124+$J124,1,$H124,$G124*$H124,Options!$B$8)))","v":73.661927555600002},{"$f":"IF(AND(OR($E$2=\"Orkney Health Board\",$E$2=\"Orkney Islands Local Authority\"),$F124=1),0,IF(AND(OR($E$2=\"Shetland Health Board\",$E$2=\"Western Isles Health Board\",$E$2=\"Shetland Islands Local Authority\",$E$2=\"Eilean Siar Local Authority\"),OR($F124=1,$F124=5)),0,new_yllv2(VALUE(LEFT(Options!$B$14,2)),$C124,$D124,$E124,$F124,2016,$I124,1,$H124,$G124*$H124,Options!$B$8)))","v":2982.7045374748},{"$f":"IF(AND(OR($E$2=\"Orkney Health Board\",$E$2=\"Orkney Islands Local Authority\"),$F124=1),0,IF(AND(OR($E$2=\"Shetland Health Board\",$E$2=\"Western Isles Health Board\",$E$2=\"Shetland Islands Local Authority\",$E$2=\"Eilean Siar Local Authority\"),OR($F124=1,$F124=5)),0,new_yllv2(VALUE(LEFT(Options!$B$14,2)),$C124,$D124,$E124,$F124,2016,$I124+$J124,1,$H124,$G124*$H124,Options!$B$8)))","v":2976.6784925217999},{"$f":"IF(AND(OR($E$2=\"Orkney Health Board\",$E$2=\"Orkney Islands Local Authority\"),$F124=1),0,IF(AND(OR($E$2=\"Shetland Health Board\",$E$2=\"Western Isles Health Board\",$E$2=\"Shetland Islands Local Authority\",$E$2=\"Eilean Siar Local Authority\"),OR($F124=1,$F124=5)),0,hosp_count(VALUE(LEFT(Options!$B$14,2)),$C124,$E124,$F124,2016,$I124,1,$H124,$G124*$H124, Options!$B$8)))","v":5045.6624380724998},{"$f":"IF(AND(OR($E$2=\"Orkney Health Board\",$E$2=\"Orkney Islands Local Authority\"),$F124=1),0,IF(AND(OR($E$2=\"Shetland Health Board\",$E$2=\"Western Isles Health Board\",$E$2=\"Shetland Islands Local Authority\",$E$2=\"Eilean Siar Local Authority\"),OR($F124=1,$F124=5)),0,hosp_count(VALUE(LEFT(Options!$B$14,2)),$C124,$E124,$F124,2016,$I124+$J124,1,$H124,$G124*$H124, Options!$B$8)))","v":5038.9414458218998},{"$f":"IF(AND(OR($E$2=\"Orkney Health Board\",$E$2=\"Orkney Islands Local Authority\"),$F124=1),0,IF(AND(OR($E$2=\"Shetland Health Board\",$E$2=\"Western Isles Health Board\",$E$2=\"Shetland Islands Local Authority\",$E$2=\"Eilean Siar Local Authority\"),OR($F124=1,$F124=5)),0,prem_mort(VALUE(LEFT(Options!$B$14,2)),$C124,$E124,$F124,2016,$I124,1,$H124,$G124*$H124,Options!$B$8)))","v":73.811050172600005},{"$f":"IF(AND(OR($E$2=\"Orkney Health Board\",$E$2=\"Orkney Islands Local Authority\"),$F124=1),0,IF(AND(OR($E$2=\"Shetland Health Board\",$E$2=\"Western Isles Health Board\",$E$2=\"Shetland Islands Local Authority\",$E$2=\"Eilean Siar Local Authority\"),OR($F124=1,$F124=5)),0,prem_mort(VALUE(LEFT(Options!$B$14,2)),$C124,$E124,$F124,2016,$I124+$J124,1,$H124,$G124*$H124,Options!$B$8)))","v":73.661927555600002},228.22748267709719,227.76638803871248,9222.6725749816014,9204.0397406443826,15601.442249999998,15580.660603635941,228.22748267709719,227.76638803871248,1597592.3787396804,1594364.7162709874,{"$f":"U124*$AI124","v":64558708.024871208},{"$f":"V124*$AI124","v":64428278.184510678},{"$f":"W124*$AI124","v":109210095.74999999},{"$f":"X124*$AI124","v":109064624.22545159},{"$f":"Y124*$AI124","v":1597592.3787396804},{"$f":"Z124*$AI124","v":1594364.7162709874},7000]
[null,"Male 40-44",42.067703000000002,78.907700000000006,"male",2,{"$f":"HLOOKUP($E$2,'Prevalence Rates'!$C$3:$BC$249,'Prevalence Rates'!$BD125,FALSE)","v":0.34090000000000004},{"$f":"HLOOKUP($E$2,'Population 2016'!$C$3:$BC$249,'Population 2016'!BD125,FALSE)","v":32014},0,{"$f":"ROUND(0.807*(HLOOKUP($E$2,'Population at Risk'!$C$3:$BC$249,'Population at Risk'!$BD125,FALSE)),0)","v":8807},{"$f":"IF(AND(OR($E$2=\"Orkney Health Board\",$E$2=\"Orkney Islands Local Authority\"),$F125=1),0,IF(AND(OR($E$2=\"Shetland Health Board\",$E$2=\"Western Isles Health Board\",$E$2=\"Shetland Islands Local Authority\",$E$2=\"Eilean Siar Local Authority\"),OR($F125=1,$F125=5)),0,new_ci(VALUE(LEFT(Options!$B$14,2)),$C125,$E125,$F125,2016,$I125,1,$H125,$G125*$H125,Options!$B$8)))","v":107.6551198013},{"$f":"IF(AND(OR($E$2=\"Orkney Health Board\",$E$2=\"Orkney Islands Local Authority\"),$F125=1),0,IF(AND(OR($E$2=\"Shetland Health Board\",$E$2=\"Western Isles Health Board\",$E$2=\"Shetland Islands Local Authority\",$E$2=\"Eilean Siar Local Authority\"),OR($F125=1,$F125=5)),0,new_ci(VALUE(LEFT(Options!$B$14,2)),$C125,$E125,$F125,2016,$I125+$J125,1,$H125,$G125*$H125,Options!$B$8)))","v":107.43783349730001},{"$f":"IF(AND(OR($E$2=\"Orkney Health Board\",$E$2=\"Orkney Islands Local Authority\"),$F125=1),0,IF(AND(OR($E$2=\"Shetland Health Board\",$E$2=\"Western Isles Health Board\",$E$2=\"Shetland Islands Local Authority\",$E$2=\"Eilean Siar Local Authority\"),OR($F125=1,$F125=5)),0,new_yllv2(VALUE(LEFT(Options!$B$14,2)),$C125,$D125,$E125,$F125,2016,$I125,1,$H125,$G125*$H125,Options!$B$8)))","v":3858.3591707132},{"$f":"IF(AND(OR($E$2=\"Orkney Health Board\",$E$2=\"Orkney Islands Local Authority\"),$F125=1),0,IF(AND(OR($E$2=\"Shetland Health Board\",$E$2=\"Western Isles Health Board\",$E$2=\"Shetland Islands Local Authority\",$E$2=\"Eilean Siar Local Authority\"),OR($F125=1,$F125=5)),0,new_yllv2(VALUE(LEFT(Options!$B$14,2)),$C125,$D125,$E125,$F125,2016,$I125+$J125,1,$H125,$G125*$H125,Options!$B$8)))","v":3850.5716302297001},{"$f":"IF(AND(OR($E$2=\"Orkney Health Board\",$E$2=\"Orkney Islands Local Authority\"),$F125=1),0,IF(AND(OR($E$2=\"Shetland Health Board\",$E$2=\"Western Isles Health Board\",$E$2=\"Shetland Islands Local Authority\",$E$2=\"Eilean Siar Local Authority\"),OR($F125=1,$F125=5)),0,hosp_count(VALUE(LEFT(Options!$B$14,2)),$C125,$E125,$F125,2016,$I125,1,$H125,$G125*$H125, Options!$B$8)))","v":5994.6765736841999},{"$f":"IF(AND(OR($E$2=\"Orkney Health Board\",$E$2=\"Orkney Islands Local Authority\"),$F125=1),0,IF(AND(OR($E$2=\"Shetland Health Board\",$E$2=\"Western Isles Health Board\",$E$2=\"Shetland Islands Local Authority\",$E$2=\"Eilean Siar Local Authority\"),OR($F125=1,$F125=5)),0,hosp_count(VALUE(LEFT(Options!$B$14,2)),$C125,$E125,$F125,2016,$I125+$J125,1,$H125,$G125*$H125, Options!$B$8)))","v":5986.6915014271999},{"$f":"IF(AND(OR($E$2=\"Orkney Health Board\",$E$2=\"Orkney Islands Local Authority\"),$F125=1),0,IF(AND(OR($E$2=\"Shetland Health Board\",$E$2=\"Western Isles Health Board\",$E$2=\"Shetland Islands Local Authority\",$E$2=\"Eilean Siar Local Authority\"),OR($F125=1,$F125=5)),0,prem_mort(VALUE(LEFT(Options!$B$14,2)),$C125,$E125,$F125,2016,$I125,1,$H125,$G125*$H125,Options!$B$8)))","v":107.6551198013},{"$f":"IF(AND(OR($E$2=\"Orkney Health Board\",$E$2=\"Orkney Islands Local Authority\"),$F125=1),0,IF(AND(OR($E$2=\"Shetland Health Board\",$E$2=\"Western Isles Health Board\",$E$2=\"Shetland Islands Local Authority\",$E$2=\"Eilean Siar Local Authority\"),OR($F125=1,$F125=5)),0,prem_mort(VALUE(LEFT(Options!$B$14,2)),$C125,$E125,$F125,2016,$I125+$J125,1,$H125,$G125*$H125,Options!$B$8)))","v":107.43783349730001},{"$f":"K125*100000/$H125","v":336.27512901012057},{"$f":"L125*100000/$H125","v":335.59640625132755},{"$f":"M125*100000/$H125","v":12052.099614897232},{"$f":"N125*100000/$H125","v":12027.774193258263},{"$f":"O125*100000/$H125","v":18725.172030000002},{"$f":"P125*100000/$H125","v":18700.229591513711},{"$f":"Q125*100000/$H125","v":336.27512901012057},{"$f":"R125*100000/$H125","v":335.59640625132755},{"$f":"S125*$AI125","v":2353925.9030708438},{"$f":"T125*$AI125","v":2349174.8437592927},84364697.304280624,84194419.352807835,131076204.21000001,130901607.14059597,2353925.9030708438,2349174.8437592927,7000]
[null,"Male 45-49",47.038155000000003,79.418149999999997,"male",2,{"$f":"HLOOKUP($E$2,'Prevalence Rates'!$C$3:$BC$249,'Prevalence Rates'!$BD126,FALSE)","v":0.36699999999999999},{"$f":"HLOOKUP($E$2,'Population 2016'!$C$3:$BC$249,'Population 2016'!BD126,FALSE)","v":36688},0,{"$f":"ROUND(0.807*(HLOOKUP($E$2,'Population at Risk'!$C$3:$BC$249,'Population at Risk'!$BD126,FALSE)),0)","v":10866},{"$f":"IF(AND(OR($E$2=\"Orkney Health Board\",$E$2=\"Orkney Islands Local Authority\"),$F126=1),0,IF(AND(OR($E$2=\"Shetland Health Board\",$E$2=\"Western Isles Health Board\",$E$2=\"Shetland Islands Local Authority\",$E$2=\"Eilean Siar Local Authority\"),OR($F126=1,$F126=5)),0,new_ci(VALUE(LEFT(Options!$B$14,2)),$C126,$E126,$F126,2016,$I126,1,$H126,$G126*$H126,Options!$B$8)))","v":179.4002942514},{"$f":"IF(AND(OR($E$2=\"Orkney Health Board\",$E$2=\"Orkney Islands Local Authority\"),$F126=1),0,IF(AND(OR($E$2=\"Shetland Health Board\",$E$2=\"Western Isles Health Board\",$E$2=\"Shetland Islands Local Authority\",$E$2=\"Eilean Siar Local Authority\"),OR($F126=1,$F126=5)),0,new_ci(VALUE(LEFT(Options!$B$14,2)),$C126,$E126,$F126,2016,$I126+$J126,1,$H126,$G126*$H126,Options!$B$8)))","v":179.01782409059999},{"$f":"IF(AND(OR($E$2=\"Orkney Health Board\",$E$2=\"Orkney Islands Local Authority\"),$F126=1),0,IF(AND(OR($E$2=\"Shetland Health Board\",$E$2=\"Western Isles Health Board\",$E$2=\"Shetland Islands Local Authority\",$E$2=\"Eilean Siar Local Authority\"),OR($F126=1,$F126=5)),0,new_yllv2(VALUE(LEFT(Options!$B$14,2)),$C126,$D126,$E126,$F126,2016,$I126,1,$H126,$G126*$H126,Options!$B$8)))","v":5629.5803366074997},{"$f":"IF(AND(OR($E$2=\"Orkney Health Board\",$E$2=\"Orkney Islands Local Authority\"),$F126=1),0,IF(AND(OR($E$2=\"Shetland Health Board\",$E$2=\"Western Isles Health Board\",$E$2=\"Shetland Islands Local Authority\",$E$2=\"Eilean Siar Local Authority\"),OR($F126=1,$F126=5)),0,new_yllv2(VALUE(LEFT(Options!$B$14,2)),$C126,$D126,$E126,$F126,2016,$I126+$J126,1,$H126,$G126*$H126,Options!$B$8)))","v":5617.5784248739001},{"$f":"IF(AND(OR($E$2=\"Orkney Health Board\",$E$2=\"Orkney Islands Local Authority\"),$F126=1),0,IF(AND(OR($E$2=\"Shetland Health Board\",$E$2=\"Western Isles Health Board\",$E$2=\"Shetland Islands Local Authority\",$E$2=\"Eilean Siar Local Authority\"),OR($F126=1,$F126=5)),0,hosp_count(VALUE(LEFT(Options!$B$14,2)),$C126,$E126,$F126,2016,$I126,1,$H126,$G126*$H126, Options!$B$8)))","v":8195.4193310032006},{"$f":"IF(AND(OR($E$2=\"Orkney Health Board\",$E$2=\"Orkney Islands Local Authority\"),$F126=1),0,IF(AND(OR($E$2=\"Shetland Health Board\",$E$2=\"Western Isles Health Board\",$E$2=\"Shetland Islands Local Authority\",$E$2=\"Eilean Siar Local Authority\"),OR($F126=1,$F126=5)),0,hosp_count(VALUE(LEFT(Options!$B$14,2)),$C126,$E126,$F126,2016,$I126+$J126,1,$H126,$G126*$H126, Options!$B$8)))","v":8183.7917031895004},{"$f":"IF(AND(OR($E$2=\"Orkney Health Board\",$E$2=\"Orkney Islands Local Authority\"),$F126=1),0,IF(AND(OR($E$2=\"Shetland Health Board\",$E$2=\"Western Isles Health Board\",$E$2=\"Shetland Islands Local Authority\",$E$2=\"Eilean Siar Local Authority\"),OR($F126=1,$F126=5)),0,prem_mort(VALUE(LEFT(Options!$B$14,2)),$C126,$E126,$F126,2016,$I126,1,$H126,$G126*$H126,Options!$B$8)))","v":179.4002942514},{"$f":"IF(AND(OR($E$2=\"Orkney Health Board\",$E$2=\"Orkney Islands Local Authority\"),$F126=1),0,IF(AND(OR($E$2=\"Shetland Health Board\",$E$2=\"Western Isles Health Board\",$E$2=\"Shetland Islands Local Authority\",$E$2=\"Eilean Siar Local Authority\"),OR($F126=1,$F126=5)),0,prem_mort(VALUE(LEFT(Options!$B$14,2)),$C126,$E126,$F126,2016,$I126+$J126,1,$H126,$G126*$H126,Options!$B$8)))","v":179.01782409059999},488.98902706988662,487.94653317324457,15344.47322450801,15311.759771243733,22338.146890000004,22306.453617503001,488.98902706988662,487.94653317324457,3422923.1894892063,3415625.7322127121,107411312.57155608,107182318.39870612,156367028.23000002,156145175.322521,3422923.1894892063,3415625.7322127121,7000]
[null,"Male 50-54",51.998646000000001,79.988649999999993,"male",2,{"$f":"HLOOKUP($E$2,'Prevalence Rates'!$C$3:$BC$249,'Prevalence Rates'!$BD127,FALSE)","v":0.36699999999999999},{"$f":"HLOOKUP($E$2,'Population 2016'!$C$3:$BC$249,'Population 2016'!BD127,FALSE)","v":37819},0,{"$f":"ROUND(0.807*(HLOOKUP($E$2,'Population at Risk'!$C$3:$BC$249,'Population at Risk'!$BD127,FALSE)),0)","v":11201},{"$f":"IF(AND(OR($E$2=\"Orkney Health Board\",$E$2=\"Orkney Islands Local Authority\"),$F127=1),0,IF(AND(OR($E$2=\"Shetland Health Board\",$E$2=\"Western Isles Health Board\",$E$2=\"Shetland Islands Local Authority\",$E$2=\"Eilean Siar Local Authority\"),OR($F127=1,$F127=5)),0,new_ci(VALUE(LEFT(Options!$B$14,2)),$C127,$E127,$F127,2016,$I127,1,$H127,$G127*$H127,Options!$B$8)))","v":268.6090457601},{"$f":"IF(AND(OR($E$2=\"Orkney Health Board\",$E$2=\"Orkney Islands Local Authority\"),$F127=1),0,IF(AND(OR($E$2=\"Shetland Health Board\",$E$2=\"Western Isles Health Board\",$E$2=\"Shetland Islands Local Authority\",$E$2=\"Eilean Siar Local Authority\"),OR($F127=1,$F127=5)),0,new_ci(VALUE(LEFT(Options!$B$14,2)),$C127,$E127,$F127,2016,$I127+$J127,1,$H127,$G127*$H127,Options!$B$8)))","v":268.03750017380003},{"$f":"IF(AND(OR($E$2=\"Orkney Health Board\",$E$2=\"Orkney Islands Local Authority\"),$F127=1),0,IF(AND(OR($E$2=\"Shetland Health Board\",$E$2=\"Western Isles Health Board\",$E$2=\"Shetland Islands Local Authority\",$E$2=\"Eilean Siar Local Authority\"),OR($F127=1,$F127=5)),0,new_yllv2(VALUE(LEFT(Options!$B$14,2)),$C127,$D127,$E127,$F127,2016,$I127,1,$H127,$G127*$H127,Options!$B$8)))","v":7249.7592195013003},{"$f":"IF(AND(OR($E$2=\"Orkney Health Board\",$E$2=\"Orkney Islands Local Authority\"),$F127=1),0,IF(AND(OR($E$2=\"Shetland Health Board\",$E$2=\"Western Isles Health Board\",$E$2=\"Shetland Islands Local Authority\",$E$2=\"Eilean Siar Local Authority\"),OR($F127=1,$F127=5)),0,new_yllv2(VALUE(LEFT(Options!$B$14,2)),$C127,$D127,$E127,$F127,2016,$I127+$J127,1,$H127,$G127*$H127,Options!$B$8)))","v":7234.3332018409001},{"$f":"IF(AND(OR($E$2=\"Orkney Health Board\",$E$2=\"Orkney Islands Local Authority\"),$F127=1),0,IF(AND(OR($E$2=\"Shetland Health Board\",$E$2=\"Western Isles Health Board\",$E$2=\"Shetland Islands Local Authority\",$E$2=\"Eilean Siar Local Authority\"),OR($F127=1,$F127=5)),0,hosp_count(VALUE(LEFT(Options!$B$14,2)),$C127,$E127,$F127,2016,$I127,1,$H127,$G127*$H127, Options!$B$8)))","v":10074.533773875301},{"$f":"IF(AND(OR($E$2=\"Orkney Health Board\",$E$2=\"Orkney Islands Local Authority\"),$F127=1),0,IF(AND(OR($E$2=\"Shetland Health Board\",$E$2=\"Western Isles Health Board\",$E$2=\"Shetland Islands Local Authority\",$E$2=\"Eilean Siar Local Authority\"),OR($F127=1,$F127=5)),0,hosp_count(VALUE(LEFT(Options!$B$14,2)),$C127,$E127,$F127,2016,$I127+$J127,1,$H127,$G127*$H127, Options!$B$8)))","v":10060.240030048901},{"$f":"IF(AND(OR($E$2=\"Orkney Health Board\",$E$2=\"Orkney Islands Local Authority\"),$F127=1),0,IF(AND(OR($E$2=\"Shetland Health Board\",$E$2=\"Western Isles Health Board\",$E$2=\"Shetland Islands Local Authority\",$E$2=\"Eilean Siar Local Authority\"),OR($F127=1,$F127=5)),0,prem_mort(VALUE(LEFT(Options!$B$14,2)),$C127,$E127,$F127,2016,$I127,1,$H127,$G127*$H127,Options!$B$8)))","v":268.6090457601},{"$f":"IF(AND(OR($E$2=\"Orkney Health Board\",$E$2=\"Orkney Islands Local Authority\"),$F127=1),0,IF(AND(OR($E$2=\"Shetland Health Board\",$E$2=\"Western Isles Health Board\",$E$2=\"Shetland Islands Local Authority\",$E$2=\"Eilean Siar Local Authority\"),OR($F127=1,$F127=5)),0,prem_mort(VALUE(LEFT(Options!$B$14,2)),$C127,$E127,$F127,2016,$I127+$J127,1,$H127,$G127*$H127,Options!$B$8)))","v":268.03750017380003},710.248937729977,708.73767200031739,19169.621670327877,19128.832602239352,26638.815870000002,26601.02073045004,710.248937729977,708.73767200031739,4971742.5641098386,4961163.704002222,134187351.69229513,133901828.21567546,186471711.09,186207145.11315027,4971742.5641098386,4961163.704002222,7000]
[null,"Male 55-59",56.950867000000002,80.660870000000003,"male",2,{"$f":"HLOOKUP($E$2,'Prevalence Rates'!$C$3:$BC$249,'Prevalence Rates'!$BD128,FALSE)","v":0.2838},{"$f":"HLOOKUP($E$2,'Population 2016'!$C$3:$BC$249,'Population 2016'!BD128,FALSE)","v":35036},0,{"$f":"ROUND(0.807*(HLOOKUP($E$2,'Population at Risk'!$C$3:$BC$249,'Population at Risk'!$BD128,FALSE)),0)","v":8024},{"$f":"IF(AND(OR($E$2=\"Orkney Health Board\",$E$2=\"Orkney Islands Local Authority\"),$F128=1),0,IF(AND(OR($E$2=\"Shetland Health Board\",$E$2=\"Western Isles Health Board\",$E$2=\"Shetland Islands Local Authority\",$E$2=\"Eilean Siar Local Authority\"),OR($F128=1,$F128=5)),0,new_ci(VALUE(LEFT(Options!$B$14,2)),$C128,$E128,$F128,2016,$I128,1,$H128,$G128*$H128,Options!$B$8)))","v":361.0182041466},{"$f":"IF(AND(OR($E$2=\"Orkney Health Board\",$E$2=\"Orkney Islands Local Authority\"),$F128=1),0,IF(AND(OR($E$2=\"Shetland Health Board\",$E$2=\"Western Isles Health Board\",$E$2=\"Shetland Islands Local Authority\",$E$2=\"Eilean Siar Local Authority\"),OR($F128=1,$F128=5)),0,new_ci(VALUE(LEFT(Options!$B$14,2)),$C128,$E128,$F128,2016,$I128+$J128,1,$H128,$G128*$H128,Options!$B$8)))","v":360.39110286980002},{"$f":"IF(AND(OR($E$2=\"Orkney Health Board\",$E$2=\"Orkney Islands Local Authority\"),$F128=1),0,IF(AND(OR($E$2=\"Shetland Health Board\",$E$2=\"Western Isles Health Board\",$E$2=\"Shetland Islands Local Authority\",$E$2=\"Eilean Siar Local Authority\"),OR($F128=1,$F128=5)),0,new_yllv2(VALUE(LEFT(Options!$B$14,2)),$C128,$D128,$E128,$F128,2016,$I128,1,$H128,$G128*$H128,Options!$B$8)))","v":8198.7244992238993},{"$f":"IF(AND(OR($E$2=\"Orkney Health Board\",$E$2=\"Orkney Islands Local Authority\"),$F128=1),0,IF(AND(OR($E$2=\"Shetland Health Board\",$E$2=\"Western Isles Health Board\",$E$2=\"Shetland Islands Local Authority\",$E$2=\"Eilean Siar Local Authority\"),OR($F128=1,$F128=5)),0,new_yllv2(VALUE(LEFT(Options!$B$14,2)),$C128,$D128,$E128,$F128,2016,$I128+$J128,1,$H128,$G128*$H128,Options!$B$8)))","v":8184.4830273465004},{"$f":"IF(AND(OR($E$2=\"Orkney Health Board\",$E$2=\"Orkney Islands Local Authority\"),$F128=1),0,IF(AND(OR($E$2=\"Shetland Health Board\",$E$2=\"Western Isles Health Board\",$E$2=\"Shetland Islands Local Authority\",$E$2=\"Eilean Siar Local Authority\"),OR($F128=1,$F128=5)),0,hosp_count(VALUE(LEFT(Options!$B$14,2)),$C128,$E128,$F128,2016,$I128,1,$H128,$G128*$H128, Options!$B$8)))","v":11126.785665237599},{"$f":"IF(AND(OR($E$2=\"Orkney Health Board\",$E$2=\"Orkney Islands Local Authority\"),$F128=1),0,IF(AND(OR($E$2=\"Shetland Health Board\",$E$2=\"Western Isles Health Board\",$E$2=\"Shetland Islands Local Authority\",$E$2=\"Eilean Siar Local Authority\"),OR($F128=1,$F128=5)),0,hosp_count(VALUE(LEFT(Options!$B$14,2)),$C128,$E128,$F128,2016,$I128+$J128,1,$H128,$G128*$H128, Options!$B$8)))","v":11114.14927933},{"$f":"IF(AND(OR($E$2=\"Orkney Health Board\",$E$2=\"Orkney Islands Local Authority\"),$F128=1),0,IF(AND(OR($E$2=\"Shetland Health Board\",$E$2=\"Western Isles Health Board\",$E$2=\"Shetland Islands Local Authority\",$E$2=\"Eilean Siar Local Authority\"),OR($F128=1,$F128=5)),0,prem_mort(VALUE(LEFT(Options!$B$14,2)),$C128,$E128,$F128,2016,$I128,1,$H128,$G128*$H128,Options!$B$8)))","v":361.0182041466},{"$f":"IF(AND(OR($E$2=\"Orkney Health Board\",$E$2=\"Orkney Islands Local Authority\"),$F128=1),0,IF(AND(OR($E$2=\"Shetland Health Board\",$E$2=\"Western Isles Health Board\",$E$2=\"Shetland Islands Local Authority\",$E$2=\"Eilean Siar Local Authority\"),OR($F128=1,$F128=5)),0,prem_mort(VALUE(LEFT(Options!$B$14,2)),$C128,$E128,$F128,2016,$I128+$J128,1,$H128,$G128*$H128,Options!$B$8)))","v":360.39110286980002},1030.4207219619821,1028.6308450445258,23400.857687018779,23360.209576853809,31758.150659999996,31722.083797608178,1030.4207219619821,1028.6308450445258,6697734.6927528838,6686100.4927894175,152105574.96562207,151841362.24954975,206427979.28999996,206193544.68445316,6697734.6927528838,6686100.4927894175,6500]
[null,"Male 60-64",61.942988999999997,81.612989999999996,"male",2,{"$f":"HLOOKUP($E$2,'Prevalence Rates'!$C$3:$BC$249,'Prevalence Rates'!$BD129,FALSE)","v":0.2838},{"$f":"HLOOKUP($E$2,'Population 2016'!$C$3:$BC$249,'Population 2016'!BD129,FALSE)","v":29980},0,{"$f":"ROUND(0.807*(HLOOKUP($E$2,'Population at Risk'!$C$3:$BC$249,'Population at Risk'!$BD129,FALSE)),0)","v":6866},{"$f":"IF(AND(OR($E$2=\"Orkney Health Board\",$E$2=\"Orkney Islands Local Authority\"),$F129=1),0,IF(AND(OR($E$2=\"Shetland Health Board\",$E$2=\"Western Isles Health Board\",$E$2=\"Shetland Islands Local Authority\",$E$2=\"Eilean Siar Local Authority\"),OR($F129=1,$F129=5)),0,new_ci(VALUE(LEFT(Options!$B$14,2)),$C129,$E129,$F129,2016,$I129,1,$H129,$G129*$H129,Options!$B$8)))","v":449.15388691390001},{"$f":"IF(AND(OR($E$2=\"Orkney Health Board\",$E$2=\"Orkney Islands Local Authority\"),$F129=1),0,IF(AND(OR($E$2=\"Shetland Health Board\",$E$2=\"Western Isles Health Board\",$E$2=\"Shetland Islands Local Authority\",$E$2=\"Eilean Siar Local Authority\"),OR($F129=1,$F129=5)),0,new_ci(VALUE(LEFT(Options!$B$14,2)),$C129,$E129,$F129,2016,$I129+$J129,1,$H129,$G129*$H129,Options!$B$8)))","v":448.37724069709998},{"$f":"IF(AND(OR($E$2=\"Orkney Health Board\",$E$2=\"Orkney Islands Local Authority\"),$F129=1),0,IF(AND(OR($E$2=\"Shetland Health Board\",$E$2=\"Western Isles Health Board\",$E$2=\"Shetland Islands Local Authority\",$E$2=\"Eilean Siar Local Authority\"),OR($F129=1,$F129=5)),0,new_yllv2(VALUE(LEFT(Options!$B$14,2)),$C129,$D129,$E129,$F129,2016,$I129,1,$H129,$G129*$H129,Options!$B$8)))","v":8385.7035178364004},{"$f":"IF(AND(OR($E$2=\"Orkney Health Board\",$E$2=\"Orkney Islands Local Authority\"),$F129=1),0,IF(AND(OR($E$2=\"Shetland Health Board\",$E$2=\"Western Isles Health Board\",$E$2=\"Shetland Islands Local Authority\",$E$2=\"Eilean Siar Local Authority\"),OR($F129=1,$F129=5)),0,new_yllv2(VALUE(LEFT(Options!$B$14,2)),$C129,$D129,$E129,$F129,2016,$I129+$J129,1,$H129,$G129*$H129,Options!$B$8)))","v":8371.2035321920994},{"$f":"IF(AND(OR($E$2=\"Orkney Health Board\",$E$2=\"Orkney Islands Local Authority\"),$F129=1),0,IF(AND(OR($E$2=\"Shetland Health Board\",$E$2=\"Western Isles Health Board\",$E$2=\"Shetland Islands Local Authority\",$E$2=\"Eilean Siar Local Authority\"),OR($F129=1,$F129=5)),0,hosp_count(VALUE(LEFT(Options!$B$14,2)),$C129,$E129,$F129,2016,$I129,1,$H129,$G129*$H129, Options!$B$8)))","v":11366.904471358001},{"$f":"IF(AND(OR($E$2=\"Orkney Health Board\",$E$2=\"Orkney Islands Local Authority\"),$F129=1),0,IF(AND(OR($E$2=\"Shetland Health Board\",$E$2=\"Western Isles Health Board\",$E$2=\"Shetland Islands Local Authority\",$E$2=\"Eilean Siar Local Authority\"),OR($F129=1,$F129=5)),0,hosp_count(VALUE(LEFT(Options!$B$14,2)),$C129,$E129,$F129,2016,$I129+$J129,1,$H129,$G129*$H129, Options!$B$8)))","v":11353.9955155113},{"$f":"IF(AND(OR($E$2=\"Orkney Health Board\",$E$2=\"Orkney Islands Local Authority\"),$F129=1),0,IF(AND(OR($E$2=\"Shetland Health Board\",$E$2=\"Western Isles Health Board\",$E$2=\"Shetland Islands Local Authority\",$E$2=\"Eilean Siar Local Authority\"),OR($F129=1,$F129=5)),0,prem_mort(VALUE(LEFT(Options!$B$14,2)),$C129,$E129,$F129,2016,$I129,1,$H129,$G129*$H129,Options!$B$8)))","v":449.15388691390001},{"$f":"IF(AND(OR($E$2=\"Orkney Health Board\",$E$2=\"Orkney Islands Local Authority\"),$F129=1),0,IF(AND(OR($E$2=\"Shetland Health Board\",$E$2=\"Western Isles Health Board\",$E$2=\"Shetland Islands Local Authority\",$E$2=\"Eilean Siar Local Authority\"),OR($F129=1,$F129=5)),0,prem_mort(VALUE(LEFT(Options!$B$14,2)),$C129,$E129,$F129,2016,$I129+$J129,1,$H129,$G129*$H129,Options!$B$8)))","v":448.37724069709998},1498.1784086521013,1495.5878608975984,27970.992387713144,27922.626858546028,37914.958210000004,37871.899651471984,1498.1784086521013,1495.5878608975984,8989070.451912608,8973527.1653855909,167825954.32627887,167535761.15127617,227489749.26000002,227231397.90883189,8989070.451912608,8973527.1653855909,6000]
[null,"Male 65-69",67.054419999999993,82.954419999999999,"male",2,{"$f":"HLOOKUP($E$2,'Prevalence Rates'!$C$3:$BC$249,'Prevalence Rates'!$BD130,FALSE)","v":0.21840000000000001},{"$f":"HLOOKUP($E$2,'Population 2016'!$C$3:$BC$249,'Population 2016'!BD130,FALSE)","v":29727},0,{"$f":"ROUND(0.807*(HLOOKUP($E$2,'Population at Risk'!$C$3:$BC$249,'Population at Risk'!$BD130,FALSE)),0)","v":5239},{"$f":"IF(AND(OR($E$2=\"Orkney Health Board\",$E$2=\"Orkney Islands Local Authority\"),$F130=1),0,IF(AND(OR($E$2=\"Shetland Health Board\",$E$2=\"Western Isles Health Board\",$E$2=\"Shetland Islands Local Authority\",$E$2=\"Eilean Siar Local Authority\"),OR($F130=1,$F130=5)),0,new_ci(VALUE(LEFT(Options!$B$14,2)),$C130,$E130,$F130,2016,$I130,1,$H130,$G130*$H130,Options!$B$8)))","v":652.60351460460004},{"$f":"IF(AND(OR($E$2=\"Orkney Health Board\",$E$2=\"Orkney Islands Local Authority\"),$F130=1),0,IF(AND(OR($E$2=\"Shetland Health Board\",$E$2=\"Western Isles Health Board\",$E$2=\"Shetland Islands Local Authority\",$E$2=\"Eilean Siar Local Authority\"),OR($F130=1,$F130=5)),0,new_ci(VALUE(LEFT(Options!$B$14,2)),$C130,$E130,$F130,2016,$I130+$J130,1,$H130,$G130*$H130,Options!$B$8)))","v":651.70020517679995},{"$f":"IF(AND(OR($E$2=\"Orkney Health Board\",$E$2=\"Orkney Islands Local Authority\"),$F130=1),0,IF(AND(OR($E$2=\"Shetland Health Board\",$E$2=\"Western Isles Health Board\",$E$2=\"Shetland Islands Local Authority\",$E$2=\"Eilean Siar Local Authority\"),OR($F130=1,$F130=5)),0,new_yllv2(VALUE(LEFT(Options!$B$14,2)),$C130,$D130,$E130,$F130,2016,$I130,1,$H130,$G130*$H130,Options!$B$8)))","v":9723.7923676084993},{"$f":"IF(AND(OR($E$2=\"Orkney Health Board\",$E$2=\"Orkney Islands Local Authority\"),$F130=1),0,IF(AND(OR($E$2=\"Shetland Health Board\",$E$2=\"Western Isles Health Board\",$E$2=\"Shetland Islands Local Authority\",$E$2=\"Eilean Siar Local Authority\"),OR($F130=1,$F130=5)),0,new_yllv2(VALUE(LEFT(Options!$B$14,2)),$C130,$D130,$E130,$F130,2016,$I130+$J130,1,$H130,$G130*$H130,Options!$B$8)))","v":9710.3330571342995},{"$f":"IF(AND(OR($E$2=\"Orkney Health Board\",$E$2=\"Orkney Islands Local Authority\"),$F130=1),0,IF(AND(OR($E$2=\"Shetland Health Board\",$E$2=\"Western Isles Health Board\",$E$2=\"Shetland Islands Local Authority\",$E$2=\"Eilean Siar Local Authority\"),OR($F130=1,$F130=5)),0,hosp_count(VALUE(LEFT(Options!$B$14,2)),$C130,$E130,$F130,2016,$I130,1,$H130,$G130*$H130, Options!$B$8)))","v":13513.138667486101},{"$f":"IF(AND(OR($E$2=\"Orkney Health Board\",$E$2=\"Orkney Islands Local Authority\"),$F130=1),0,IF(AND(OR($E$2=\"Shetland Health Board\",$E$2=\"Western Isles Health Board\",$E$2=\"Shetland Islands Local Authority\",$E$2=\"Eilean Siar Local Authority\"),OR($F130=1,$F130=5)),0,hosp_count(VALUE(LEFT(Options!$B$14,2)),$C130,$E130,$F130,2016,$I130+$J130,1,$H130,$G130*$H130, Options!$B$8)))","v":13500.993654153201},{"$f":"IF(AND(OR($E$2=\"Orkney Health Board\",$E$2=\"Orkney Islands Local Authority\"),$F130=1),0,IF(AND(OR($E$2=\"Shetland Health Board\",$E$2=\"Western Isles Health Board\",$E$2=\"Shetland Islands Local Authority\",$E$2=\"Eilean Siar Local Authority\"),OR($F130=1,$F130=5)),0,prem_mort(VALUE(LEFT(Options!$B$14,2)),$C130,$E130,$F130,2016,$I130,1,$H130,$G130*$H130,Options!$B$8)))","v":652.60351460460004},{"$f":"IF(AND(OR($E$2=\"Orkney Health Board\",$E$2=\"Orkney Islands Local Authority\"),$F130=1),0,IF(AND(OR($E$2=\"Shetland Health Board\",$E$2=\"Western Isles Health Board\",$E$2=\"Shetland Islands Local Authority\",$E$2=\"Eilean Siar Local Authority\"),OR($F130=1,$F130=5)),0,prem_mort(VALUE(LEFT(Options!$B$14,2)),$C130,$E130,$F130,2016,$I130+$J130,1,$H130,$G130*$H130,Options!$B$8)))","v":651.70020517679995},2195.3224832798469,2192.2837998344939,32710.305000869579,32665.028617533888,45457.458429999999,45416.603270270127,2195.3224832798469,2192.2837998344939,12074273.658039158,12057560.899089716,179906677.50478268,179657657.39643639,250016021.36499998,249791317.98648569,12074273.658039158,12057560.899089716,5500]
[null,"Male 70-74",71.891098,84.341099999999997,"male",2,{"$f":"HLOOKUP($E$2,'Prevalence Rates'!$C$3:$BC$249,'Prevalence Rates'!$BD131,FALSE)","v":0.21840000000000001},{"$f":"HLOOKUP($E$2,'Population 2016'!$C$3:$BC$249,'Population 2016'!BD131,FALSE)","v":22052},0,{"$f":"ROUND(0.807*(HLOOKUP($E$2,'Population at Risk'!$C$3:$BC$249,'Population at Risk'!$BD131,FALSE)),0)","v":3887},{"$f":"IF(AND(OR($E$2=\"Orkney Health Board\",$E$2=\"Orkney Islands Local Authority\"),$F131=1),0,IF(AND(OR($E$2=\"Shetland Health Board\",$E$2=\"Western Isles Health Board\",$E$2=\"Shetland Islands Local Authority\",$E$2=\"Eilean Siar Local Authority\"),OR($F131=1,$F131=5)),0,new_ci(VALUE(LEFT(Options!$B$14,2)),$C131,$E131,$F131,2016,$I131,1,$H131,$G131*$H131,Options!$B$8)))","v":693.7719925614},{"$f":"IF(AND(OR($E$2=\"Orkney Health Board\",$E$2=\"Orkney Islands Local Authority\"),$F131=1),0,IF(AND(OR($E$2=\"Shetland Health Board\",$E$2=\"Western Isles Health Board\",$E$2=\"Shetland Islands Local Authority\",$E$2=\"Eilean Siar Local Authority\"),OR($F131=1,$F131=5)),0,new_ci(VALUE(LEFT(Options!$B$14,2)),$C131,$E131,$F131,2016,$I131+$J131,1,$H131,$G131*$H131,Options!$B$8)))","v":692.82127511839997},{"$f":"IF(AND(OR($E$2=\"Orkney Health Board\",$E$2=\"Orkney Islands Local Authority\"),$F131=1),0,IF(AND(OR($E$2=\"Shetland Health Board\",$E$2=\"Western Isles Health Board\",$E$2=\"Shetland Islands Local Authority\",$E$2=\"Eilean Siar Local Authority\"),OR($F131=1,$F131=5)),0,new_yllv2(VALUE(LEFT(Options!$B$14,2)),$C131,$D131,$E131,$F131,2016,$I131,1,$H131,$G131*$H131,Options!$B$8)))","v":7943.6907023719996},{"$f":"IF(AND(OR($E$2=\"Orkney Health Board\",$E$2=\"Orkney Islands Local Authority\"),$F131=1),0,IF(AND(OR($E$2=\"Shetland Health Board\",$E$2=\"Western Isles Health Board\",$E$2=\"Shetland Islands Local Authority\",$E$2=\"Eilean Siar Local Authority\"),OR($F131=1,$F131=5)),0,new_yllv2(VALUE(LEFT(Options!$B$14,2)),$C131,$D131,$E131,$F131,2016,$I131+$J131,1,$H131,$G131*$H131,Options!$B$8)))","v":7932.8049857482001},{"$f":"IF(AND(OR($E$2=\"Orkney Health Board\",$E$2=\"Orkney Islands Local Authority\"),$F131=1),0,IF(AND(OR($E$2=\"Shetland Health Board\",$E$2=\"Western Isles Health Board\",$E$2=\"Shetland Islands Local Authority\",$E$2=\"Eilean Siar Local Authority\"),OR($F131=1,$F131=5)),0,hosp_count(VALUE(LEFT(Options!$B$14,2)),$C131,$E131,$F131,2016,$I131,1,$H131,$G131*$H131, Options!$B$8)))","v":11901.790057320401},{"$f":"IF(AND(OR($E$2=\"Orkney Health Board\",$E$2=\"Orkney Islands Local Authority\"),$F131=1),0,IF(AND(OR($E$2=\"Shetland Health Board\",$E$2=\"Western Isles Health Board\",$E$2=\"Shetland Islands Local Authority\",$E$2=\"Eilean Siar Local Authority\"),OR($F131=1,$F131=5)),0,hosp_count(VALUE(LEFT(Options!$B$14,2)),$C131,$E131,$F131,2016,$I131+$J131,1,$H131,$G131*$H131, Options!$B$8)))","v":11891.0915473389},{"$f":"IF(AND(OR($E$2=\"Orkney Health Board\",$E$2=\"Orkney Islands Local Authority\"),$F131=1),0,IF(AND(OR($E$2=\"Shetland Health Board\",$E$2=\"Western Isles Health Board\",$E$2=\"Shetland Islands Local Authority\",$E$2=\"Eilean Siar Local Authority\"),OR($F131=1,$F131=5)),0,prem_mort(VALUE(LEFT(Options!$B$14,2)),$C131,$E131,$F131,2016,$I131,1,$H131,$G131*$H131,Options!$B$8)))","v":693.7719925614},{"$f":"IF(AND(OR($E$2=\"Orkney Health Board\",$E$2=\"Orkney Islands Local Authority\"),$F131=1),0,IF(AND(OR($E$2=\"Shetland Health Board\",$E$2=\"Western Isles Health Board\",$E$2=\"Shetland Islands Local Authority\",$E$2=\"Eilean Siar Local Authority\"),OR($F131=1,$F131=5)),0,prem_mort(VALUE(LEFT(Options!$B$14,2)),$C131,$E131,$F131,2016,$I131+$J131,1,$H131,$G131*$H131,Options!$B$8)))","v":692.82127511839997},3146.0728848240519,3141.7616321349537,36022.540823381096,35973.176971468347,53971.476770000008,53922.961850802196,3146.0728848240519,3141.7616321349537,15730364.42412026,15708808.160674769,180112704.11690548,179865884.85734174,269857383.85000002,269614809.25401098,15730364.42412026,15708808.160674769,5000]
[null,"Male 75-79",76.907700000000006,86.357700000000008,"male",2,{"$f":"HLOOKUP($E$2,'Prevalence Rates'!$C$3:$BC$249,'Prevalence Rates'!$BD132,FALSE)","v":0.10050000000000001},{"$f":"HLOOKUP($E$2,'Population 2016'!$C$3:$BC$249,'Population 2016'!BD132,FALSE)","v":16695},0,{"$f":"ROUND(0.807*(HLOOKUP($E$2,'Population at Risk'!$C$3:$BC$249,'Population at Risk'!$BD132,FALSE)),0)","v":1354},{"$f":"IF(AND(OR($E$2=\"Orkney Health Board\",$E$2=\"Orkney Islands Local Authority\"),$F132=1),0,IF(AND(OR($E$2=\"Shetland Health Board\",$E$2=\"Western Isles Health Board\",$E$2=\"Shetland Islands Local Authority\",$E$2=\"Eilean Siar Local Authority\"),OR($F132=1,$F132=5)),0,new_ci(VALUE(LEFT(Options!$B$14,2)),$C132,$E132,$F132,2016,$I132,1,$H132,$G132*$H132,Options!$B$8)))","v":761.57730014629999},{"$f":"IF(AND(OR($E$2=\"Orkney Health Board\",$E$2=\"Orkney Islands Local Authority\"),$F132=1),0,IF(AND(OR($E$2=\"Shetland Health Board\",$E$2=\"Western Isles Health Board\",$E$2=\"Shetland Islands Local Authority\",$E$2=\"Eilean Siar Local Authority\"),OR($F132=1,$F132=5)),0,new_ci(VALUE(LEFT(Options!$B$14,2)),$C132,$E132,$F132,2016,$I132+$J132,1,$H132,$G132*$H132,Options!$B$8)))","v":761.06254549810001},{"$f":"IF(AND(OR($E$2=\"Orkney Health Board\",$E$2=\"Orkney Islands Local Authority\"),$F132=1),0,IF(AND(OR($E$2=\"Shetland Health Board\",$E$2=\"Western Isles Health Board\",$E$2=\"Shetland Islands Local Authority\",$E$2=\"Eilean Siar Local Authority\"),OR($F132=1,$F132=5)),0,new_yllv2(VALUE(LEFT(Options!$B$14,2)),$C132,$D132,$E132,$F132,2016,$I132,1,$H132,$G132*$H132,Options!$B$8)))","v":6435.3281862362001},{"$f":"IF(AND(OR($E$2=\"Orkney Health Board\",$E$2=\"Orkney Islands Local Authority\"),$F132=1),0,IF(AND(OR($E$2=\"Shetland Health Board\",$E$2=\"Western Isles Health Board\",$E$2=\"Shetland Islands Local Authority\",$E$2=\"Eilean Siar Local Authority\"),OR($F132=1,$F132=5)),0,new_yllv2(VALUE(LEFT(Options!$B$14,2)),$C132,$D132,$E132,$F132,2016,$I132+$J132,1,$H132,$G132*$H132,Options!$B$8)))","v":6430.9785094588997},{"$f":"IF(AND(OR($E$2=\"Orkney Health Board\",$E$2=\"Orkney Islands Local Authority\"),$F132=1),0,IF(AND(OR($E$2=\"Shetland Health Board\",$E$2=\"Western Isles Health Board\",$E$2=\"Shetland Islands Local Authority\",$E$2=\"Eilean Siar Local Authority\"),OR($F132=1,$F132=5)),0,hosp_count(VALUE(LEFT(Options!$B$14,2)),$C132,$E132,$F132,2016,$I132,1,$H132,$G132*$H132, Options!$B$8)))","v":10766.7212647995},{"$f":"IF(AND(OR($E$2=\"Orkney Health Board\",$E$2=\"Orkney Islands Local Authority\"),$F132=1),0,IF(AND(OR($E$2=\"Shetland Health Board\",$E$2=\"Western Isles Health Board\",$E$2=\"Shetland Islands Local Authority\",$E$2=\"Eilean Siar Local Authority\"),OR($F132=1,$F132=5)),0,hosp_count(VALUE(LEFT(Options!$B$14,2)),$C132,$E132,$F132,2016,$I132+$J132,1,$H132,$G132*$H132, Options!$B$8)))","v":10762.027777102299},{"$f":"IF(AND(OR($E$2=\"Orkney Health Board\",$E$2=\"Orkney Islands Local Authority\"),$F132=1),0,IF(AND(OR($E$2=\"Shetland Health Board\",$E$2=\"Western Isles Health Board\",$E$2=\"Shetland Islands Local Authority\",$E$2=\"Eilean Siar Local Authority\"),OR($F132=1,$F132=5)),0,prem_mort(VALUE(LEFT(Options!$B$14,2)),$C132,$E132,$F132,2016,$I132,1,$H132,$G132*$H132,Options!$B$8)))","v":0},{"$f":"IF(AND(OR($E$2=\"Orkney Health Board\",$E$2=\"Orkney Islands Local Authority\"),$F132=1),0,IF(AND(OR($E$2=\"Shetland Health Board\",$E$2=\"Western Isles Health Board\",$E$2=\"Shetland Islands Local Authority\",$E$2=\"Eilean Siar Local Authority\"),OR($F132=1,$F132=5)),0,prem_mort(VALUE(LEFT(Options!$B$14,2)),$C132,$E132,$F132,2016,$I132+$J132,1,$H132,$G132*$H132,Options!$B$8)))","v":0},4561.7088957550168,4558.6256094525315,38546.440169129681,38520.386399873612,64490.69341,64462.580276144348,0,0,18246835.583020069,18234502.437810127,154185760.67651871,154081545.59949446,257962773.63999999,257850321.10457739,0,0,4000]
[null,"Male 80-84",81.797089,88.627089999999995,"male",2,{"$f":"HLOOKUP($E$2,'Prevalence Rates'!$C$3:$BC$249,'Prevalence Rates'!$BD133,FALSE)","v":0.10050000000000001},{"$f":"HLOOKUP($E$2,'Population 2016'!$C$3:$BC$249,'Population 2016'!BD133,FALSE)","v":11333},0,{"$f":"ROUND(0.807*(HLOOKUP($E$2,'Population at Risk'!$C$3:$BC$249,'Population at Risk'!$BD133,FALSE)),0)","v":919},{"$f":"IF(AND(OR($E$2=\"Orkney Health Board\",$E$2=\"Orkney Islands Local Authority\"),$F133=1),0,IF(AND(OR($E$2=\"Shetland Health Board\",$E$2=\"Western Isles Health Board\",$E$2=\"Shetland Islands Local Authority\",$E$2=\"Eilean Siar Local Authority\"),OR($F133=1,$F133=5)),0,new_ci(VALUE(LEFT(Options!$B$14,2)),$C133,$E133,$F133,2016,$I133,1,$H133,$G133*$H133,Options!$B$8)))","v":739.67277299720001},{"$f":"IF(AND(OR($E$2=\"Orkney Health Board\",$E$2=\"Orkney Islands Local Authority\"),$F133=1),0,IF(AND(OR($E$2=\"Shetland Health Board\",$E$2=\"Western Isles Health Board\",$E$2=\"Shetland Islands Local Authority\",$E$2=\"Eilean Siar Local Authority\"),OR($F133=1,$F133=5)),0,new_ci(VALUE(LEFT(Options!$B$14,2)),$C133,$E133,$F133,2016,$I133+$J133,1,$H133,$G133*$H133,Options!$B$8)))","v":739.18540827389995},{"$f":"IF(AND(OR($E$2=\"Orkney Health Board\",$E$2=\"Orkney Islands Local Authority\"),$F133=1),0,IF(AND(OR($E$2=\"Shetland Health Board\",$E$2=\"Western Isles Health Board\",$E$2=\"Shetland Islands Local Authority\",$E$2=\"Eilean Siar Local Authority\"),OR($F133=1,$F133=5)),0,new_yllv2(VALUE(LEFT(Options!$B$14,2)),$C133,$D133,$E133,$F133,2016,$I133,1,$H133,$G133*$H133,Options!$B$8)))","v":4312.2930062464002},{"$f":"IF(AND(OR($E$2=\"Orkney Health Board\",$E$2=\"Orkney Islands Local Authority\"),$F133=1),0,IF(AND(OR($E$2=\"Shetland Health Board\",$E$2=\"Western Isles Health Board\",$E$2=\"Shetland Islands Local Authority\",$E$2=\"Eilean Siar Local Authority\"),OR($F133=1,$F133=5)),0,new_yllv2(VALUE(LEFT(Options!$B$14,2)),$C133,$D133,$E133,$F133,2016,$I133+$J133,1,$H133,$G133*$H133,Options!$B$8)))","v":4309.4516694222002},{"$f":"IF(AND(OR($E$2=\"Orkney Health Board\",$E$2=\"Orkney Islands Local Authority\"),$F133=1),0,IF(AND(OR($E$2=\"Shetland Health Board\",$E$2=\"Western Isles Health Board\",$E$2=\"Shetland Islands Local Authority\",$E$2=\"Eilean Siar Local Authority\"),OR($F133=1,$F133=5)),0,hosp_count(VALUE(LEFT(Options!$B$14,2)),$C133,$E133,$F133,2016,$I133,1,$H133,$G133*$H133, Options!$B$8)))","v":8693.8800865902995},{"$f":"IF(AND(OR($E$2=\"Orkney Health Board\",$E$2=\"Orkney Islands Local Authority\"),$F133=1),0,IF(AND(OR($E$2=\"Shetland Health Board\",$E$2=\"Western Isles Health Board\",$E$2=\"Shetland Islands Local Authority\",$E$2=\"Eilean Siar Local Authority\"),OR($F133=1,$F133=5)),0,hosp_count(VALUE(LEFT(Options!$B$14,2)),$C133,$E133,$F133,2016,$I133+$J133,1,$H133,$G133*$H133, Options!$B$8)))","v":8690.0907408103994},{"$f":"IF(AND(OR($E$2=\"Orkney Health Board\",$E$2=\"Orkney Islands Local Authority\"),$F133=1),0,IF(AND(OR($E$2=\"Shetland Health Board\",$E$2=\"Western Isles Health Board\",$E$2=\"Shetland Islands Local Authority\",$E$2=\"Eilean Siar Local Authority\"),OR($F133=1,$F133=5)),0,prem_mort(VALUE(LEFT(Options!$B$14,2)),$C133,$E133,$F133,2016,$I133,1,$H133,$G133*$H133,Options!$B$8)))","v":0},{"$f":"IF(AND(OR($E$2=\"Orkney Health Board\",$E$2=\"Orkney Islands Local Authority\"),$F133=1),0,IF(AND(OR($E$2=\"Shetland Health Board\",$E$2=\"Western Isles Health Board\",$E$2=\"Shetland Islands Local Authority\",$E$2=\"Eilean Siar Local Authority\"),OR($F133=1,$F133=5)),0,prem_mort(VALUE(LEFT(Options!$B$14,2)),$C133,$E133,$F133,2016,$I133+$J133,1,$H133,$G133*$H133,Options!$B$8)))","v":0},6526.716429870291,6522.4160264175416,38050.763312859795,38025.691956429895,76712.962910000002,76679.526522636545,0,0,16316791.074675728,16306040.066043854,95126908.282149494,95064229.891074732,191782407.27500001,191698816.30659136,0,0,2500]
[null,"Male 85-89",86.630752999999999,91.420750000000012,"male",2,{"$f":"HLOOKUP($E$2,'Prevalence Rates'!$C$3:$BC$249,'Prevalence Rates'!$BD134,FALSE)","v":0.10050000000000001},{"$f":"HLOOKUP($E$2,'Population 2016'!$C$3:$BC$249,'Population 2016'!BD134,FALSE)","v":5568},0,{"$f":"ROUND(0.807*(HLOOKUP($E$2,'Population at Risk'!$C$3:$BC$249,'Population at Risk'!$BD134,FALSE)),0)","v":452},{"$f":"IF(AND(OR($E$2=\"Orkney Health Board\",$E$2=\"Orkney Islands Local Authority\"),$F134=1),0,IF(AND(OR($E$2=\"Shetland Health Board\",$E$2=\"Western Isles Health Board\",$E$2=\"Shetland Islands Local Authority\",$E$2=\"Eilean Siar Local Authority\"),OR($F134=1,$F134=5)),0,new_ci(VALUE(LEFT(Options!$B$14,2)),$C134,$E134,$F134,2016,$I134,1,$H134,$G134*$H134,Options!$B$8)))","v":515.40478740670005},{"$f":"IF(AND(OR($E$2=\"Orkney Health Board\",$E$2=\"Orkney Islands Local Authority\"),$F134=1),0,IF(AND(OR($E$2=\"Shetland Health Board\",$E$2=\"Western Isles Health Board\",$E$2=\"Shetland Islands Local Authority\",$E$2=\"Eilean Siar Local Authority\"),OR($F134=1,$F134=5)),0,new_ci(VALUE(LEFT(Options!$B$14,2)),$C134,$E134,$F134,2016,$I134+$J134,1,$H134,$G134*$H134,Options!$B$8)))","v":515.07693273229995},{"$f":"IF(AND(OR($E$2=\"Orkney Health Board\",$E$2=\"Orkney Islands Local Authority\"),$F134=1),0,IF(AND(OR($E$2=\"Shetland Health Board\",$E$2=\"Western Isles Health Board\",$E$2=\"Shetland Islands Local Authority\",$E$2=\"Eilean Siar Local Authority\"),OR($F134=1,$F134=5)),0,new_yllv2(VALUE(LEFT(Options!$B$14,2)),$C134,$D134,$E134,$F134,2016,$I134,1,$H134,$G134*$H134,Options!$B$8)))","v":1953.382598057},{"$f":"IF(AND(OR($E$2=\"Orkney Health Board\",$E$2=\"Orkney Islands Local Authority\"),$F134=1),0,IF(AND(OR($E$2=\"Shetland Health Board\",$E$2=\"Western Isles Health Board\",$E$2=\"Shetland Islands Local Authority\",$E$2=\"Eilean Siar Local Authority\"),OR($F134=1,$F134=5)),0,new_yllv2(VALUE(LEFT(Options!$B$14,2)),$C134,$D134,$E134,$F134,2016,$I134+$J134,1,$H134,$G134*$H134,Options!$B$8)))","v":1952.1400298246001},{"$f":"IF(AND(OR($E$2=\"Orkney Health Board\",$E$2=\"Orkney Islands Local Authority\"),$F134=1),0,IF(AND(OR($E$2=\"Shetland Health Board\",$E$2=\"Western Isles Health Board\",$E$2=\"Shetland Islands Local Authority\",$E$2=\"Eilean Siar Local Authority\"),OR($F134=1,$F134=5)),0,hosp_count(VALUE(LEFT(Options!$B$14,2)),$C134,$E134,$F134,2016,$I134,1,$H134,$G134*$H134, Options!$B$8)))","v":5070.8489366592003},{"$f":"IF(AND(OR($E$2=\"Orkney Health Board\",$E$2=\"Orkney Islands Local Authority\"),$F134=1),0,IF(AND(OR($E$2=\"Shetland Health Board\",$E$2=\"Western Isles Health Board\",$E$2=\"Shetland Islands Local Authority\",$E$2=\"Eilean Siar Local Authority\"),OR($F134=1,$F134=5)),0,hosp_count(VALUE(LEFT(Options!$B$14,2)),$C134,$E134,$F134,2016,$I134+$J134,1,$H134,$G134*$H134, Options!$B$8)))","v":5068.6363522250003},{"$f":"IF(AND(OR($E$2=\"Orkney Health Board\",$E$2=\"Orkney Islands Local Authority\"),$F134=1),0,IF(AND(OR($E$2=\"Shetland Health Board\",$E$2=\"Western Isles Health Board\",$E$2=\"Shetland Islands Local Authority\",$E$2=\"Eilean Siar Local Authority\"),OR($F134=1,$F134=5)),0,prem_mort(VALUE(LEFT(Options!$B$14,2)),$C134,$E134,$F134,2016,$I134,1,$H134,$G134*$H134,Options!$B$8)))","v":0},{"$f":"IF(AND(OR($E$2=\"Orkney Health Board\",$E$2=\"Orkney Islands Local Authority\"),$F134=1),0,IF(AND(OR($E$2=\"Shetland Health Board\",$E$2=\"Western Isles Health Board\",$E$2=\"Shetland Islands Local Authority\",$E$2=\"Eilean Siar Local Authority\"),OR($F134=1,$F134=5)),0,prem_mort(VALUE(LEFT(Options!$B$14,2)),$C134,$E134,$F134,2016,$I134+$J134,1,$H134,$G134*$H134,Options!$B$8)))","v":0},9256.551497965158,9250.6633033818234,35082.302407632902,35059.986167826872,91071.281190000009,91031.543682201867,0,0,13884827.246947737,13875994.955072735,52623453.611449353,52589979.251740307,136606921.78500003,136547315.52330279,0,0,1500]
[null,"Male 90+",92.215477000000007,95.515479999999997,"male",2,{"$f":"HLOOKUP($E$2,'Prevalence Rates'!$C$3:$BC$249,'Prevalence Rates'!$BD135,FALSE)","v":0.10050000000000001},{"$f":"HLOOKUP($E$2,'Population 2016'!$C$3:$BC$249,'Population 2016'!BD135,FALSE)","v":2286},0,{"$f":"ROUND(0.807*(HLOOKUP($E$2,'Population at Risk'!$C$3:$BC$249,'Population at Risk'!$BD135,FALSE)),0)","v":185},{"$f":"IF(AND(OR($E$2=\"Orkney Health Board\",$E$2=\"Orkney Islands Local Authority\"),$F135=1),0,IF(AND(OR($E$2=\"Shetland Health Board\",$E$2=\"Western Isles Health Board\",$E$2=\"Shetland Islands Local Authority\",$E$2=\"Eilean Siar Local Authority\"),OR($F135=1,$F135=5)),0,new_ci(VALUE(LEFT(Options!$B$14,2)),$C135,$E135,$F135,2016,$I135,1,$H135,$G135*$H135,Options!$B$8)))","v":314.19566539850001},{"$f":"IF(AND(OR($E$2=\"Orkney Health Board\",$E$2=\"Orkney Islands Local Authority\"),$F135=1),0,IF(AND(OR($E$2=\"Shetland Health Board\",$E$2=\"Western Isles Health Board\",$E$2=\"Shetland Islands Local Authority\",$E$2=\"Eilean Siar Local Authority\"),OR($F135=1,$F135=5)),0,new_ci(VALUE(LEFT(Options!$B$14,2)),$C135,$E135,$F135,2016,$I135+$J135,1,$H135,$G135*$H135,Options!$B$8)))","v":314.00848349},{"$f":"IF(AND(OR($E$2=\"Orkney Health Board\",$E$2=\"Orkney Islands Local Authority\"),$F135=1),0,IF(AND(OR($E$2=\"Shetland Health Board\",$E$2=\"Western Isles Health Board\",$E$2=\"Shetland Islands Local Authority\",$E$2=\"Eilean Siar Local Authority\"),OR($F135=1,$F135=5)),0,new_yllv2(VALUE(LEFT(Options!$B$14,2)),$C135,$D135,$E135,$F135,2016,$I135,1,$H135,$G135*$H135,Options!$B$8)))","v":722.65097300349998},{"$f":"IF(AND(OR($E$2=\"Orkney Health Board\",$E$2=\"Orkney Islands Local Authority\"),$F135=1),0,IF(AND(OR($E$2=\"Shetland Health Board\",$E$2=\"Western Isles Health Board\",$E$2=\"Shetland Islands Local Authority\",$E$2=\"Eilean Siar Local Authority\"),OR($F135=1,$F135=5)),0,new_yllv2(VALUE(LEFT(Options!$B$14,2)),$C135,$D135,$E135,$F135,2016,$I135+$J135,1,$H135,$G135*$H135,Options!$B$8)))","v":722.22045405239999},{"$f":"IF(AND(OR($E$2=\"Orkney Health Board\",$E$2=\"Orkney Islands Local Authority\"),$F135=1),0,IF(AND(OR($E$2=\"Shetland Health Board\",$E$2=\"Western Isles Health Board\",$E$2=\"Shetland Islands Local Authority\",$E$2=\"Eilean Siar Local Authority\"),OR($F135=1,$F135=5)),0,hosp_count(VALUE(LEFT(Options!$B$14,2)),$C135,$E135,$F135,2016,$I135,1,$H135,$G135*$H135, Options!$B$8)))","v":2538.3308308974001},{"$f":"IF(AND(OR($E$2=\"Orkney Health Board\",$E$2=\"Orkney Islands Local Authority\"),$F135=1),0,IF(AND(OR($E$2=\"Shetland Health Board\",$E$2=\"Western Isles Health Board\",$E$2=\"Shetland Islands Local Authority\",$E$2=\"Eilean Siar Local Authority\"),OR($F135=1,$F135=5)),0,hosp_count(VALUE(LEFT(Options!$B$14,2)),$C135,$E135,$F135,2016,$I135+$J135,1,$H135,$G135*$H135, Options!$B$8)))","v":2537.2266920159},{"$f":"IF(AND(OR($E$2=\"Orkney Health Board\",$E$2=\"Orkney Islands Local Authority\"),$F135=1),0,IF(AND(OR($E$2=\"Shetland Health Board\",$E$2=\"Western Isles Health Board\",$E$2=\"Shetland Islands Local Authority\",$E$2=\"Eilean Siar Local Authority\"),OR($F135=1,$F135=5)),0,prem_mort(VALUE(LEFT(Options!$B$14,2)),$C135,$E135,$F135,2016,$I135,1,$H135,$G135*$H135,Options!$B$8)))","v":0},{"$f":"IF(AND(OR($E$2=\"Orkney Health Board\",$E$2=\"Orkney Islands Local Authority\"),$F135=1),0,IF(AND(OR($E$2=\"Shetland Health Board\",$E$2=\"Western Isles Health Board\",$E$2=\"Shetland Islands Local Authority\",$E$2=\"Eilean Siar Local Authority\"),OR($F135=1,$F135=5)),0,prem_mort(VALUE(LEFT(Options!$B$14,2)),$C135,$E135,$F135,2016,$I135+$J135,1,$H135,$G135*$H135,Options!$B$8)))","v":0},13744.342318394576,13736.154133420821,31612.028565332457,31593.195715328085,111038.09409,110989.7940514392,0,0,13744342.318394575,13736154.133420821,31612028.565332457,31593195.715328086,111038094.09,110989794.0514392,0,0,1000]
[null,"Female 0-4",2.0384007,81.468401,"female",3,{"$f":"HLOOKUP($E$2,'Prevalence Rates'!$C$3:$BC$249,'Prevalence Rates'!$BD136,FALSE)","v":0},{"$f":"HLOOKUP($E$2,'Population 2016'!$C$3:$BC$249,'Population 2016'!BD136,FALSE)","v":0},0,{"$f":"ROUND(0.807*(HLOOKUP($E$2,'Population at Risk'!$C$3:$BC$249,'Population at Risk'!$BD136,FALSE)),0)","v":0},{"$f":"IF(AND(OR($E$2=\"Orkney Health Board\",$E$2=\"Orkney Islands Local Authority\"),$F136=1),0,IF(AND(OR($E$2=\"Shetland Health Board\",$E$2=\"Western Isles Health Board\",$E$2=\"Shetland Islands Local Authority\",$E$2=\"Eilean Siar Local Authority\"),OR($F136=1,$F136=5)),0,new_ci(VALUE(LEFT(Options!$B$14,2)),$C136,$E136,$F136,2016,$I136,1,$H136,$G136*$H136,Options!$B$8)))","v":{"$error":"#VALUE!"}},{"$f":"IF(AND(OR($E$2=\"Orkney Health Board\",$E$2=\"Orkney Islands Local Authority\"),$F136=1),0,IF(AND(OR($E$2=\"Shetland Health Board\",$E$2=\"Western Isles Health Board\",$E$2=\"Shetland Islands Local Authority\",$E$2=\"Eilean Siar Local Authority\"),OR($F136=1,$F136=5)),0,new_ci(VALUE(LEFT(Options!$B$14,2)),$C136,$E136,$F136,2016,$I136+$J136,1,$H136,$G136*$H136,Options!$B$8)))","v":{"$error":"#VALUE!"}},{"$f":"IF(AND(OR($E$2=\"Orkney Health Board\",$E$2=\"Orkney Islands Local Authority\"),$F136=1),0,IF(AND(OR($E$2=\"Shetland Health Board\",$E$2=\"Western Isles Health Board\",$E$2=\"Shetland Islands Local Authority\",$E$2=\"Eilean Siar Local Authority\"),OR($F136=1,$F136=5)),0,new_yllv2(VALUE(LEFT(Options!$B$14,2)),$C136,$D136,$E136,$F136,2016,$I136,1,$H136,$G136*$H136,Options!$B$8)))","v":{"$error":"#VALUE!"}},{"$f":"IF(AND(OR($E$2=\"Orkney Health Board\",$E$2=\"Orkney Islands Local Authority\"),$F136=1),0,IF(AND(OR($E$2=\"Shetland Health Board\",$E$2=\"Western Isles Health Board\",$E$2=\"Shetland Islands Local Authority\",$E$2=\"Eilean Siar Local Authority\"),OR($F136=1,$F136=5)),0,new_yllv2(VALUE(LEFT(Options!$B$14,2)),$C136,$D136,$E136,$F136,2016,$I136+$J136,1,$H136,$G136*$H136,Options!$B$8)))","v":{"$error":"#VALUE!"}},{"$f":"IF(AND(OR($E$2=\"Orkney Health Board\",$E$2=\"Orkney Islands Local Authority\"),$F136=1),0,IF(AND(OR($E$2=\"Shetland Health Board\",$E$2=\"Western Isles Health Board\",$E$2=\"Shetland Islands Local Authority\",$E$2=\"Eilean Siar Local Authority\"),OR($F136=1,$F136=5)),0,hosp_count(VALUE(LEFT(Options!$B$14,2)),$C136,$E136,$F136,2016,$I136,1,$H136,$G136*$H136, Options!$B$8)))","v":{"$error":"#VALUE!"}},{"$f":"IF(AND(OR($E$2=\"Orkney Health Board\",$E$2=\"Orkney Islands Local Authority\"),$F136=1),0,IF(AND(OR($E$2=\"Shetland Health Board\",$E$2=\"Western Isles Health Board\",$E$2=\"Shetland Islands Local Authority\",$E$2=\"Eilean Siar Local Authority\"),OR($F136=1,$F136=5)),0,hosp_count(VALUE(LEFT(Options!$B$14,2)),$C136,$E136,$F136,2016,$I136+$J136,1,$H136,$G136*$H136, Options!$B$8)))","v":{"$error":"#VALUE!"}},{"$f":"IF(AND(OR($E$2=\"Orkney Health Board\",$E$2=\"Orkney Islands Local Authority\"),$F136=1),0,IF(AND(OR($E$2=\"Shetland Health Board\",$E$2=\"Western Isles Health Board\",$E$2=\"Shetland Islands Local Authority\",$E$2=\"Eilean Siar Local Authority\"),OR($F136=1,$F136=5)),0,prem_mort(VALUE(LEFT(Options!$B$14,2)),$C136,$E136,$F136,2016,$I136,1,$H136,$G136*$H136,Options!$B$8)))","v":{"$error":"#VALUE!"}},{"$f":"IF(AND(OR($E$2=\"Orkney Health Board\",$E$2=\"Orkney Islands Local Authority\"),$F136=1),0,IF(AND(OR($E$2=\"Shetland Health Board\",$E$2=\"Western Isles Health Board\",$E$2=\"Shetland Islands Local Authority\",$E$2=\"Eilean Siar Local Authority\"),OR($F136=1,$F136=5)),0,prem_mort(VALUE(LEFT(Options!$B$14,2)),$C136,$E136,$F136,2016,$I136+$J136,1,$H136,$G136*$H136,Options!$B$8)))","v":{"$error":"#VALUE!"}},{"$error":"#VALUE!"},{"$error":"#VALUE!"},{"$error":"#VALUE!"},{"$error":"#VALUE!"},{"$error":"#VALUE!"},{"$error":"#VALUE!"},{"$error":"#VALUE!"},{"$error":"#VALUE!"},{"$error":"#VALUE!"},{"$error":"#VALUE!"},{"$error":"#VALUE!"},{"$error":"#VALUE!"},{"$error":"#VALUE!"},{"$error":"#VALUE!"},{"$error":"#VALUE!"},{"$error":"#VALUE!"},5000]
[null,"Female 5-9",6.9792794999999996,81.439279999999997,"female",3,{"$f":"HLOOKUP($E$2,'Prevalence Rates'!$C$3:$BC$249,'Prevalence Rates'!$BD137,FALSE)","v":0},{"$f":"HLOOKUP($E$2,'Population 2016'!$C$3:$BC$249,'Population 2016'!BD137,FALSE)","v":0},0,{"$f":"ROUND(0.807*(HLOOKUP($E$2,'Population at Risk'!$C$3:$BC$249,'Population at Risk'!$BD137,FALSE)),0)","v":0},{"$f":"IF(AND(OR($E$2=\"Orkney Health Board\",$E$2=\"Orkney Islands Local Authority\"),$F137=1),0,IF(AND(OR($E$2=\"Shetland Health Board\",$E$2=\"Western Isles Health Board\",$E$2=\"Shetland Islands Local Authority\",$E$2=\"Eilean Siar Local Authority\"),OR($F137=1,$F137=5)),0,new_ci(VALUE(LEFT(Options!$B$14,2)),$C137,$E137,$F137,2016,$I137,1,$H137,$G137*$H137,Options!$B$8)))","v":{"$error":"#VALUE!"}},{"$f":"IF(AND(OR($E$2=\"Orkney Health Board\",$E$2=\"Orkney Islands Local Authority\"),$F137=1),0,IF(AND(OR($E$2=\"Shetland Health Board\",$E$2=\"Western Isles Health Board\",$E$2=\"Shetland Islands Local Authority\",$E$2=\"Eilean Siar Local Authority\"),OR($F137=1,$F137=5)),0,new_ci(VALUE(LEFT(Options!$B$14,2)),$C137,$E137,$F137,2016,$I137+$J137,1,$H137,$G137*$H137,Options!$B$8)))","v":{"$error":"#VALUE!"}},{"$f":"IF(AND(OR($E$2=\"Orkney Health Board\",$E$2=\"Orkney Islands Local Authority\"),$F137=1),0,IF(AND(OR($E$2=\"Shetland Health Board\",$E$2=\"Western Isles Health Board\",$E$2=\"Shetland Islands Local Authority\",$E$2=\"Eilean Siar Local Authority\"),OR($F137=1,$F137=5)),0,new_yllv2(VALUE(LEFT(Options!$B$14,2)),$C137,$D137,$E137,$F137,2016,$I137,1,$H137,$G137*$H137,Options!$B$8)))","v":{"$error":"#VALUE!"}},{"$f":"IF(AND(OR($E$2=\"Orkney Health Board\",$E$2=\"Orkney Islands Local Authority\"),$F137=1),0,IF(AND(OR($E$2=\"Shetland Health Board\",$E$2=\"Western Isles Health Board\",$E$2=\"Shetland Islands Local Authority\",$E$2=\"Eilean Siar Local Authority\"),OR($F137=1,$F137=5)),0,new_yllv2(VALUE(LEFT(Options!$B$14,2)),$C137,$D137,$E137,$F137,2016,$I137+$J137,1,$H137,$G137*$H137,Options!$B$8)))","v":{"$error":"#VALUE!"}},{"$f":"IF(AND(OR($E$2=\"Orkney Health Board\",$E$2=\"Orkney Islands Local Authority\"),$F137=1),0,IF(AND(OR($E$2=\"Shetland Health Board\",$E$2=\"Western Isles Health Board\",$E$2=\"Shetland Islands Local Authority\",$E$2=\"Eilean Siar Local Authority\"),OR($F137=1,$F137=5)),0,hosp_count(VALUE(LEFT(Options!$B$14,2)),$C137,$E137,$F137,2016,$I137,1,$H137,$G137*$H137, Options!$B$8)))","v":{"$error":"#VALUE!"}},{"$f":"IF(AND(OR($E$2=\"Orkney Health Board\",$E$2=\"Orkney Islands Local Authority\"),$F137=1),0,IF(AND(OR($E$2=\"Shetland Health Board\",$E$2=\"Western Isles Health Board\",$E$2=\"Shetland Islands Local Authority\",$E$2=\"Eilean Siar Local Authority\"),OR($F137=1,$F137=5)),0,hosp_count(VALUE(LEFT(Options!$B$14,2)),$C137,$E137,$F137,2016,$I137+$J137,1,$H137,$G137*$H137, Options!$B$8)))","v":{"$error":"#VALUE!"}},{"$f":"IF(AND(OR($E$2=\"Orkney Health Board\",$E$2=\"Orkney Islands Local Authority\"),$F137=1),0,IF(AND(OR($E$2=\"Shetland Health Board\",$E$2=\"Western Isles Health Board\",$E$2=\"Shetland Islands Local Authority\",$E$2=\"Eilean Siar Local Authority\"),OR($F137=1,$F137=5)),0,prem_mort(VALUE(LEFT(Options!$B$14,2)),$C137,$E137,$F137,2016,$I137,1,$H137,$G137*$H137,Options!$B$8)))","v":{"$error":"#VALUE!"}},{"$f":"IF(AND(OR($E$2=\"Orkney Health Board\",$E$2=\"Orkney Islands Local Authority\"),$F137=1),0,IF(AND(OR($E$2=\"Shetland Health Board\",$E$2=\"Western Isles Health Board\",$E$2=\"Shetland Islands Local Authority\",$E$2=\"Eilean Siar Local Authority\"),OR($F137=1,$F137=5)),0,prem_mort(VALUE(LEFT(Options!$B$14,2)),$C137,$E137,$F137,2016,$I137+$J137,1,$H137,$G137*$H137,Options!$B$8)))","v":{"$error":"#VALUE!"}},{"$error":"#VALUE!"},{"$error":"#VALUE!"},{"$error":"#VALUE!"},{"$error":"#VALUE!"},{"$error":"#VALUE!"},{"$error":"#VALUE!"},{"$error":"#VALUE!"},{"$error":"#VALUE!"},{"$error":"#VALUE!"},{"$error":"#VALUE!"},{"$error":"#VALUE!"},{"$error":"#VALUE!"},{"$error":"#VALUE!"},{"$error":"#VALUE!"},{"$error":"#VALUE!"},{"$error":"#VALUE!"},5500]
[null,"Female 10-15",12.478312000000001,81.948309999999992,"female",3,{"$f":"HLOOKUP($E$2,'Prevalence Rates'!$C$3:$BC$249,'Prevalence Rates'!$BD138,FALSE)","v":0},{"$f":"HLOOKUP($E$2,'Population 2016'!$C$3:$BC$249,'Population 2016'!BD138,FALSE)","v":0},0,{"$f":"ROUND(0.807*(HLOOKUP($E$2,'Population at Risk'!$C$3:$BC$249,'Population at Risk'!$BD138,FALSE)),0)","v":0},{"$f":"IF(AND(OR($E$2=\"Orkney Health Board\",$E$2=\"Orkney Islands Local Authority\"),$F138=1),0,IF(AND(OR($E$2=\"Shetland Health Board\",$E$2=\"Western Isles Health Board\",$E$2=\"Shetland Islands Local Authority\",$E$2=\"Eilean Siar Local Authority\"),OR($F138=1,$F138=5)),0,new_ci(VALUE(LEFT(Options!$B$14,2)),$C138,$E138,$F138,2016,$I138,1,$H138,$G138*$H138,Options!$B$8)))","v":{"$error":"#VALUE!"}},{"$f":"IF(AND(OR($E$2=\"Orkney Health Board\",$E$2=\"Orkney Islands Local Authority\"),$F138=1),0,IF(AND(OR($E$2=\"Shetland Health Board\",$E$2=\"Western Isles Health Board\",$E$2=\"Shetland Islands Local Authority\",$E$2=\"Eilean Siar Local Authority\"),OR($F138=1,$F138=5)),0,new_ci(VALUE(LEFT(Options!$B$14,2)),$C138,$E138,$F138,2016,$I138+$J138,1,$H138,$G138*$H138,Options!$B$8)))","v":{"$error":"#VALUE!"}},{"$f":"IF(AND(OR($E$2=\"Orkney Health Board\",$E$2=\"Orkney Islands Local Authority\"),$F138=1),0,IF(AND(OR($E$2=\"Shetland Health Board\",$E$2=\"Western Isles Health Board\",$E$2=\"Shetland Islands Local Authority\",$E$2=\"Eilean Siar Local Authority\"),OR($F138=1,$F138=5)),0,new_yllv2(VALUE(LEFT(Options!$B$14,2)),$C138,$D138,$E138,$F138,2016,$I138,1,$H138,$G138*$H138,Options!$B$8)))","v":{"$error":"#VALUE!"}},{"$f":"IF(AND(OR($E$2=\"Orkney Health Board\",$E$2=\"Orkney Islands Local Authority\"),$F138=1),0,IF(AND(OR($E$2=\"Shetland Health Board\",$E$2=\"Western Isles Health Board\",$E$2=\"Shetland Islands Local Authority\",$E$2=\"Eilean Siar Local Authority\"),OR($F138=1,$F138=5)),0,new_yllv2(VALUE(LEFT(Options!$B$14,2)),$C138,$D138,$E138,$F138,2016,$I138+$J138,1,$H138,$G138*$H138,Options!$B$8)))","v":{"$error":"#VALUE!"}},{"$f":"IF(AND(OR($E$2=\"Orkney Health Board\",$E$2=\"Orkney Islands Local Authority\"),$F138=1),0,IF(AND(OR($E$2=\"Shetland Health Board\",$E$2=\"Western Isles Health Board\",$E$2=\"Shetland Islands Local Authority\",$E$2=\"Eilean Siar Local Authority\"),OR($F138=1,$F138=5)),0,hosp_count(VALUE(LEFT(Options!$B$14,2)),$C138,$E138,$F138,2016,$I138,1,$H138,$G138*$H138, Options!$B$8)))","v":{"$error":"#VALUE!"}},{"$f":"IF(AND(OR($E$2=\"Orkney Health Board\",$E$2=\"Orkney Islands Local Authority\"),$F138=1),0,IF(AND(OR($E$2=\"Shetland Health Board\",$E$2=\"Western Isles Health Board\",$E$2=\"Shetland Islands Local Authority\",$E$2=\"Eilean Siar Local Authority\"),OR($F138=1,$F138=5)),0,hosp_count(VALUE(LEFT(Options!$B$14,2)),$C138,$E138,$F138,2016,$I138+$J138,1,$H138,$G138*$H138, Options!$B$8)))","v":{"$error":"#VALUE!"}},{"$f":"IF(AND(OR($E$2=\"Orkney Health Board\",$E$2=\"Orkney Islands Local Authority\"),$F138=1),0,IF(AND(OR($E$2=\"Shetland Health Board\",$E$2=\"Western Isles Health Board\",$E$2=\"Shetland Islands Local Authority\",$E$2=\"Eilean Siar Local Authority\"),OR($F138=1,$F138=5)),0,prem_mort(VALUE(LEFT(Options!$B$14,2)),$C138,$E138,$F138,2016,$I138,1,$H138,$G138*$H138,Options!$B$8)))","v":{"$error":"#VALUE!"}},{"$f":"IF(AND(OR($E$2=\"Orkney Health Board\",$E$2=\"Orkney Islands Local Authority\"),$F138=1),0,IF(AND(OR($E$2=\"Shetland Health Board\",$E$2=\"Western Isles Health Board\",$E$2=\"Shetland Islands Local Authority\",$E$2=\"Eilean Siar Local Authority\"),OR($F138=1,$F138=5)),0,prem_mort(VALUE(LEFT(Options!$B$14,2)),$C138,$E138,$F138,2016,$I138+$J138,1,$H138,$G138*$H138,Options!$B$8)))","v":{"$error":"#VALUE!"}},{"$error":"#VALUE!"},{"$error":"#VALUE!"},{"$error":"#VALUE!"},{"$error":"#VALUE!"},{"$error":"#VALUE!"},{"$error":"#VALUE!"},{"$error":"#VALUE!"},{"$error":"#VALUE!"},{"$error":"#VALUE!"},{"$error":"#VALUE!"},{"$error":"#VALUE!"},{"$error":"#VALUE!"},{"$error":"#VALUE!"},{"$error":"#VALUE!"},{"$error":"#VALUE!"},{"$error":"#VALUE!"},6600]
["SIMD Q3","Female 16-19",17.570053000000001,81.100049999999996,"female",3,{"$f":"HLOOKUP($E$2,'Prevalence Rates'!$C$3:$BC$249,'Prevalence Rates'!$BD139,FALSE)","v":0.1986},{"$f":"HLOOKUP($E$2,'Population 2016'!$C$3:$BC$249,'Population 2016'!BD139,FALSE)","v":22864},0,{"$f":"ROUND(0.807*(HLOOKUP($E$2,'Population at Risk'!$C$3:$BC$249,'Population at Risk'!$BD139,FALSE)),0)","v":3664},{"$f":"IF(AND(OR($E$2=\"Orkney Health Board\",$E$2=\"Orkney Islands Local Authority\"),$F139=1),0,IF(AND(OR($E$2=\"Shetland Health Board\",$E$2=\"Western Isles Health Board\",$E$2=\"Shetland Islands Local Authority\",$E$2=\"Eilean Siar Local Authority\"),OR($F139=1,$F139=5)),0,new_ci(VALUE(LEFT(Options!$B$14,2)),$C139,$E139,$F139,2016,$I139,1,$H139,$G139*$H139,Options!$B$8)))","v":4.1158155706999997},{"$f":"IF(AND(OR($E$2=\"Orkney Health Board\",$E$2=\"Orkney Islands Local Authority\"),$F139=1),0,IF(AND(OR($E$2=\"Shetland Health Board\",$E$2=\"Western Isles Health Board\",$E$2=\"Shetland Islands Local Authority\",$E$2=\"Eilean Siar Local Authority\"),OR($F139=1,$F139=5)),0,new_ci(VALUE(LEFT(Options!$B$14,2)),$C139,$E139,$F139,2016,$I139+$J139,1,$H139,$G139*$H139,Options!$B$8)))","v":4.1080390970999998},{"$f":"IF(AND(OR($E$2=\"Orkney Health Board\",$E$2=\"Orkney Islands Local Authority\"),$F139=1),0,IF(AND(OR($E$2=\"Shetland Health Board\",$E$2=\"Western Isles Health Board\",$E$2=\"Shetland Islands Local Authority\",$E$2=\"Eilean Siar Local Authority\"),OR($F139=1,$F139=5)),0,new_yllv2(VALUE(LEFT(Options!$B$14,2)),$C139,$D139,$E139,$F139,2016,$I139,1,$H139,$G139*$H139,Options!$B$8)))","v":257.36193528839999},{"$f":"IF(AND(OR($E$2=\"Orkney Health Board\",$E$2=\"Orkney Islands Local Authority\"),$F139=1),0,IF(AND(OR($E$2=\"Shetland Health Board\",$E$2=\"Western Isles Health Board\",$E$2=\"Shetland Islands Local Authority\",$E$2=\"Eilean Siar Local Authority\"),OR($F139=1,$F139=5)),0,new_yllv2(VALUE(LEFT(Options!$B$14,2)),$C139,$D139,$E139,$F139,2016,$I139+$J139,1,$H139,$G139*$H139,Options!$B$8)))","v":256.87567241750003},{"$f":"IF(AND(OR($E$2=\"Orkney Health Board\",$E$2=\"Orkney Islands Local Authority\"),$F139=1),0,IF(AND(OR($E$2=\"Shetland Health Board\",$E$2=\"Western Isles Health Board\",$E$2=\"Shetland Islands Local Authority\",$E$2=\"Eilean Siar Local Authority\"),OR($F139=1,$F139=5)),0,hosp_count(VALUE(LEFT(Options!$B$14,2)),$C139,$E139,$F139,2016,$I139,1,$H139,$G139*$H139, Options!$B$8)))","v":2290.5686582223998},{"$f":"IF(AND(OR($E$2=\"Orkney Health Board\",$E$2=\"Orkney Islands Local Authority\"),$F139=1),0,IF(AND(OR($E$2=\"Shetland Health Board\",$E$2=\"Western Isles Health Board\",$E$2=\"Shetland Islands Local Authority\",$E$2=\"Eilean Siar Local Authority\"),OR($F139=1,$F139=5)),0,hosp_count(VALUE(LEFT(Options!$B$14,2)),$C139,$E139,$F139,2016,$I139+$J139,1,$H139,$G139*$H139, Options!$B$8)))","v":2287.9650612047999},{"$f":"IF(AND(OR($E$2=\"Orkney Health Board\",$E$2=\"Orkney Islands Local Authority\"),$F139=1),0,IF(AND(OR($E$2=\"Shetland Health Board\",$E$2=\"Western Isles Health Board\",$E$2=\"Shetland Islands Local Authority\",$E$2=\"Eilean Siar Local Authority\"),OR($F139=1,$F139=5)),0,prem_mort(VALUE(LEFT(Options!$B$14,2)),$C139,$E139,$F139,2016,$I139,1,$H139,$G139*$H139,Options!$B$8)))","v":4.1158155706999997},{"$f":"IF(AND(OR($E$2=\"Orkney Health Board\",$E$2=\"Orkney Islands Local Authority\"),$F139=1),0,IF(AND(OR($E$2=\"Shetland Health Board\",$E$2=\"Western Isles Health Board\",$E$2=\"Shetland Islands Local Authority\",$E$2=\"Eilean Siar Local Authority\"),OR($F139=1,$F139=5)),0,prem_mort(VALUE(LEFT(Options!$B$14,2)),$C139,$E139,$F139,2016,$I139+$J139,1,$H139,$G139*$H139,Options!$B$8)))","v":4.1080390970999998},18.001292733992301,17.967280865552834,1125.6207806525542,1123.4940186209762,10018.232409999999,10006.845089244227,18.001292733992301,17.967280865552834,79205.688029566125,79056.035808432469,4952731.4348712387,4943373.6819322957,44080222.603999995,44030118.392674595,79205.688029566125,79056.035808432469,4400]
[null,"Female 20-24",22.077057,81.667060000000006,"female",3,{"$f":"HLOOKUP($E$2,'Prevalence Rates'!$C$3:$BC$249,'Prevalence Rates'!$BD140,FALSE)","v":0.1986},{"$f":"HLOOKUP($E$2,'Population 2016'!$C$3:$BC$249,'Population 2016'!BD140,FALSE)","v":34910},0,{"$f":"ROUND(0.807*(HLOOKUP($E$2,'Population at Risk'!$C$3:$BC$249,'Population at Risk'!$BD140,FALSE)),0)","v":5595},{"$f":"IF(AND(OR($E$2=\"Orkney Health Board\",$E$2=\"Orkney Islands Local Authority\"),$F140=1),0,IF(AND(OR($E$2=\"Shetland Health Board\",$E$2=\"Western Isles Health Board\",$E$2=\"Shetland Islands Local Authority\",$E$2=\"Eilean Siar Local Authority\"),OR($F140=1,$F140=5)),0,new_ci(VALUE(LEFT(Options!$B$14,2)),$C140,$E140,$F140,2016,$I140,1,$H140,$G140*$H140,Options!$B$8)))","v":9.2196935227000001},{"$f":"IF(AND(OR($E$2=\"Orkney Health Board\",$E$2=\"Orkney Islands Local Authority\"),$F140=1),0,IF(AND(OR($E$2=\"Shetland Health Board\",$E$2=\"Western Isles Health Board\",$E$2=\"Shetland Islands Local Authority\",$E$2=\"Eilean Siar Local Authority\"),OR($F140=1,$F140=5)),0,new_ci(VALUE(LEFT(Options!$B$14,2)),$C140,$E140,$F140,2016,$I140+$J140,1,$H140,$G140*$H140,Options!$B$8)))","v":9.2022729306999995},{"$f":"IF(AND(OR($E$2=\"Orkney Health Board\",$E$2=\"Orkney Islands Local Authority\"),$F140=1),0,IF(AND(OR($E$2=\"Shetland Health Board\",$E$2=\"Western Isles Health Board\",$E$2=\"Shetland Islands Local Authority\",$E$2=\"Eilean Siar Local Authority\"),OR($F140=1,$F140=5)),0,new_yllv2(VALUE(LEFT(Options!$B$14,2)),$C140,$D140,$E140,$F140,2016,$I140,1,$H140,$G140*$H140,Options!$B$8)))","v":540.18187115410001},{"$f":"IF(AND(OR($E$2=\"Orkney Health Board\",$E$2=\"Orkney Islands Local Authority\"),$F140=1),0,IF(AND(OR($E$2=\"Shetland Health Board\",$E$2=\"Western Isles Health Board\",$E$2=\"Shetland Islands Local Authority\",$E$2=\"Eilean Siar Local Authority\"),OR($F140=1,$F140=5)),0,new_yllv2(VALUE(LEFT(Options!$B$14,2)),$C140,$D140,$E140,$F140,2016,$I140+$J140,1,$H140,$G140*$H140,Options!$B$8)))","v":539.16119861649997},{"$f":"IF(AND(OR($E$2=\"Orkney Health Board\",$E$2=\"Orkney Islands Local Authority\"),$F140=1),0,IF(AND(OR($E$2=\"Shetland Health Board\",$E$2=\"Western Isles Health Board\",$E$2=\"Shetland Islands Local Authority\",$E$2=\"Eilean Siar Local Authority\"),OR($F140=1,$F140=5)),0,hosp_count(VALUE(LEFT(Options!$B$14,2)),$C140,$E140,$F140,2016,$I140,1,$H140,$G140*$H140, Options!$B$8)))","v":3917.2018699179998},{"$f":"IF(AND(OR($E$2=\"Orkney Health Board\",$E$2=\"Orkney Islands Local Authority\"),$F140=1),0,IF(AND(OR($E$2=\"Shetland Health Board\",$E$2=\"Western Isles Health Board\",$E$2=\"Shetland Islands Local Authority\",$E$2=\"Eilean Siar Local Authority\"),OR($F140=1,$F140=5)),0,hosp_count(VALUE(LEFT(Options!$B$14,2)),$C140,$E140,$F140,2016,$I140+$J140,1,$H140,$G140*$H140, Options!$B$8)))","v":3912.7488626930999},{"$f":"IF(AND(OR($E$2=\"Orkney Health Board\",$E$2=\"Orkney Islands Local Authority\"),$F140=1),0,IF(AND(OR($E$2=\"Shetland Health Board\",$E$2=\"Western Isles Health Board\",$E$2=\"Shetland Islands Local Authority\",$E$2=\"Eilean Siar Local Authority\"),OR($F140=1,$F140=5)),0,prem_mort(VALUE(LEFT(Options!$B$14,2)),$C140,$E140,$F140,2016,$I140,1,$H140,$G140*$H140,Options!$B$8)))","v":9.2196935227000001},{"$f":"IF(AND(OR($E$2=\"Orkney Health Board\",$E$2=\"Orkney Islands Local Authority\"),$F140=1),0,IF(AND(OR($E$2=\"Shetland Health Board\",$E$2=\"Western Isles Health Board\",$E$2=\"Shetland Islands Local Authority\",$E$2=\"Eilean Siar Local Authority\"),OR($F140=1,$F140=5)),0,prem_mort(VALUE(LEFT(Options!$B$14,2)),$C140,$E140,$F140,2016,$I140+$J140,1,$H140,$G140*$H140,Options!$B$8)))","v":9.2022729306999995},26.409892645946719,26.359991207963333,1547.355689355772,1544.4319639544542,11220.858980000001,11208.103301899455,26.409892645946719,26.359991207963333,158459.35587568031,158159.94724777999,9284134.1361346319,9266591.7837267257,67325153.88000001,67248619.811396733,158459.35587568031,158159.94724777999,6000]
[null,"Female 25-29",26.975186999999998,81.645189999999999,"female",3,{"$f":"HLOOKUP($E$2,'Prevalence Rates'!$C$3:$BC$249,'Prevalence Rates'!$BD141,FALSE)","v":0.23120000000000002},{"$f":"HLOOKUP($E$2,'Population 2016'!$C$3:$BC$249,'Population 2016'!BD141,FALSE)","v":36432},0,{"$f":"ROUND(0.807*(HLOOKUP($E$2,'Population at Risk'!$C$3:$BC$249,'Population at Risk'!$BD141,FALSE)),0)","v":6797},{"$f":"IF(AND(OR($E$2=\"Orkney Health Board\",$E$2=\"Orkney Islands Local Authority\"),$F141=1),0,IF(AND(OR($E$2=\"Shetland Health Board\",$E$2=\"Western Isles Health Board\",$E$2=\"Shetland Islands Local Authority\",$E$2=\"Eilean Siar Local Authority\"),OR($F141=1,$F141=5)),0,new_ci(VALUE(LEFT(Options!$B$14,2)),$C141,$E141,$F141,2016,$I141,1,$H141,$G141*$H141,Options!$B$8)))","v":14.5930988029},{"$f":"IF(AND(OR($E$2=\"Orkney Health Board\",$E$2=\"Orkney Islands Local Authority\"),$F141=1),0,IF(AND(OR($E$2=\"Shetland Health Board\",$E$2=\"Western Isles Health Board\",$E$2=\"Shetland Islands Local Authority\",$E$2=\"Eilean Siar Local Authority\"),OR($F141=1,$F141=5)),0,new_ci(VALUE(LEFT(Options!$B$14,2)),$C141,$E141,$F141,2016,$I141+$J141,1,$H141,$G141*$H141,Options!$B$8)))","v":14.561712296},{"$f":"IF(AND(OR($E$2=\"Orkney Health Board\",$E$2=\"Orkney Islands Local Authority\"),$F141=1),0,IF(AND(OR($E$2=\"Shetland Health Board\",$E$2=\"Western Isles Health Board\",$E$2=\"Shetland Islands Local Authority\",$E$2=\"Eilean Siar Local Authority\"),OR($F141=1,$F141=5)),0,new_yllv2(VALUE(LEFT(Options!$B$14,2)),$C141,$D141,$E141,$F141,2016,$I141,1,$H141,$G141*$H141,Options!$B$8)))","v":783.21165653089997},{"$f":"IF(AND(OR($E$2=\"Orkney Health Board\",$E$2=\"Orkney Islands Local Authority\"),$F141=1),0,IF(AND(OR($E$2=\"Shetland Health Board\",$E$2=\"Western Isles Health Board\",$E$2=\"Shetland Islands Local Authority\",$E$2=\"Eilean Siar Local Authority\"),OR($F141=1,$F141=5)),0,new_yllv2(VALUE(LEFT(Options!$B$14,2)),$C141,$D141,$E141,$F141,2016,$I141+$J141,1,$H141,$G141*$H141,Options!$B$8)))","v":781.52714261150004},{"$f":"IF(AND(OR($E$2=\"Orkney Health Board\",$E$2=\"Orkney Islands Local Authority\"),$F141=1),0,IF(AND(OR($E$2=\"Shetland Health Board\",$E$2=\"Western Isles Health Board\",$E$2=\"Shetland Islands Local Authority\",$E$2=\"Eilean Siar Local Authority\"),OR($F141=1,$F141=5)),0,hosp_count(VALUE(LEFT(Options!$B$14,2)),$C141,$E141,$F141,2016,$I141,1,$H141,$G141*$H141, Options!$B$8)))","v":4623.9893221104003},{"$f":"IF(AND(OR($E$2=\"Orkney Health Board\",$E$2=\"Orkney Islands Local Authority\"),$F141=1),0,IF(AND(OR($E$2=\"Shetland Health Board\",$E$2=\"Western Isles Health Board\",$E$2=\"Shetland Islands Local Authority\",$E$2=\"Eilean Siar Local Authority\"),OR($F141=1,$F141=5)),0,hosp_count(VALUE(LEFT(Options!$B$14,2)),$C141,$E141,$F141,2016,$I141+$J141,1,$H141,$G141*$H141, Options!$B$8)))","v":4617.9676885768004},{"$f":"IF(AND(OR($E$2=\"Orkney Health Board\",$E$2=\"Orkney Islands Local Authority\"),$F141=1),0,IF(AND(OR($E$2=\"Shetland Health Board\",$E$2=\"Western Isles Health Board\",$E$2=\"Shetland Islands Local Authority\",$E$2=\"Eilean Siar Local Authority\"),OR($F141=1,$F141=5)),0,prem_mort(VALUE(LEFT(Options!$B$14,2)),$C141,$E141,$F141,2016,$I141,1,$H141,$G141*$H141,Options!$B$8)))","v":14.5930988029},{"$f":"IF(AND(OR($E$2=\"Orkney Health Board\",$E$2=\"Orkney Islands Local Authority\"),$F141=1),0,IF(AND(OR($E$2=\"Shetland Health Board\",$E$2=\"Western Isles Health Board\",$E$2=\"Shetland Islands Local Authority\",$E$2=\"Eilean Siar Local Authority\"),OR($F141=1,$F141=5)),0,prem_mort(VALUE(LEFT(Options!$B$14,2)),$C141,$E141,$F141,2016,$I141+$J141,1,$H141,$G141*$H141,Options!$B$8)))","v":14.561712296},40.055716960090031,39.969566029863856,2149.7904494150748,2145.1667287316095,12692.109470000001,12675.581051209925,40.055716960090031,39.969566029863856,240334.3017605402,239817.39617918312,12898742.69649045,12871000.372389657,76152656.820000008,76053486.307259545,240334.3017605402,239817.39617918312,6000]
[null,"Female 30-34",31.999904999999998,81.799899999999994,"female",3,{"$f":"HLOOKUP($E$2,'Prevalence Rates'!$C$3:$BC$249,'Prevalence Rates'!$BD142,FALSE)","v":0.23120000000000002},{"$f":"HLOOKUP($E$2,'Population 2016'!$C$3:$BC$249,'Population 2016'!BD142,FALSE)","v":34795},0,{"$f":"ROUND(0.807*(HLOOKUP($E$2,'Population at Risk'!$C$3:$BC$249,'Population at Risk'!$BD142,FALSE)),0)","v":6492},{"$f":"IF(AND(OR($E$2=\"Orkney Health Board\",$E$2=\"Orkney Islands Local Authority\"),$F142=1),0,IF(AND(OR($E$2=\"Shetland Health Board\",$E$2=\"Western Isles Health Board\",$E$2=\"Shetland Islands Local Authority\",$E$2=\"Eilean Siar Local Authority\"),OR($F142=1,$F142=5)),0,new_ci(VALUE(LEFT(Options!$B$14,2)),$C142,$E142,$F142,2016,$I142,1,$H142,$G142*$H142,Options!$B$8)))","v":21.366699279500001},{"$f":"IF(AND(OR($E$2=\"Orkney Health Board\",$E$2=\"Orkney Islands Local Authority\"),$F142=1),0,IF(AND(OR($E$2=\"Shetland Health Board\",$E$2=\"Western Isles Health Board\",$E$2=\"Shetland Islands Local Authority\",$E$2=\"Eilean Siar Local Authority\"),OR($F142=1,$F142=5)),0,new_ci(VALUE(LEFT(Options!$B$14,2)),$C142,$E142,$F142,2016,$I142+$J142,1,$H142,$G142*$H142,Options!$B$8)))","v":21.320750201900001},{"$f":"IF(AND(OR($E$2=\"Orkney Health Board\",$E$2=\"Orkney Islands Local Authority\"),$F142=1),0,IF(AND(OR($E$2=\"Shetland Health Board\",$E$2=\"Western Isles Health Board\",$E$2=\"Shetland Islands Local Authority\",$E$2=\"Eilean Siar Local Authority\"),OR($F142=1,$F142=5)),0,new_yllv2(VALUE(LEFT(Options!$B$14,2)),$C142,$D142,$E142,$F142,2016,$I142,1,$H142,$G142*$H142,Options!$B$8)))","v":1042.6948180060999},{"$f":"IF(AND(OR($E$2=\"Orkney Health Board\",$E$2=\"Orkney Islands Local Authority\"),$F142=1),0,IF(AND(OR($E$2=\"Shetland Health Board\",$E$2=\"Western Isles Health Board\",$E$2=\"Shetland Islands Local Authority\",$E$2=\"Eilean Siar Local Authority\"),OR($F142=1,$F142=5)),0,new_yllv2(VALUE(LEFT(Options!$B$14,2)),$C142,$D142,$E142,$F142,2016,$I142+$J142,1,$H142,$G142*$H142,Options!$B$8)))","v":1040.4525032490001},{"$f":"IF(AND(OR($E$2=\"Orkney Health Board\",$E$2=\"Orkney Islands Local Authority\"),$F142=1),0,IF(AND(OR($E$2=\"Shetland Health Board\",$E$2=\"Western Isles Health Board\",$E$2=\"Shetland Islands Local Authority\",$E$2=\"Eilean Siar Local Authority\"),OR($F142=1,$F142=5)),0,hosp_count(VALUE(LEFT(Options!$B$14,2)),$C142,$E142,$F142,2016,$I142,1,$H142,$G142*$H142, Options!$B$8)))","v":5011.1939968795004},{"$f":"IF(AND(OR($E$2=\"Orkney Health Board\",$E$2=\"Orkney Islands Local Authority\"),$F142=1),0,IF(AND(OR($E$2=\"Shetland Health Board\",$E$2=\"Western Isles Health Board\",$E$2=\"Shetland Islands Local Authority\",$E$2=\"Eilean Siar Local Authority\"),OR($F142=1,$F142=5)),0,hosp_count(VALUE(LEFT(Options!$B$14,2)),$C142,$E142,$F142,2016,$I142+$J142,1,$H142,$G142*$H142, Options!$B$8)))","v":5004.6677103349002},{"$f":"IF(AND(OR($E$2=\"Orkney Health Board\",$E$2=\"Orkney Islands Local Authority\"),$F142=1),0,IF(AND(OR($E$2=\"Shetland Health Board\",$E$2=\"Western Isles Health Board\",$E$2=\"Shetland Islands Local Authority\",$E$2=\"Eilean Siar Local Authority\"),OR($F142=1,$F142=5)),0,prem_mort(VALUE(LEFT(Options!$B$14,2)),$C142,$E142,$F142,2016,$I142,1,$H142,$G142*$H142,Options!$B$8)))","v":21.366699279500001},{"$f":"IF(AND(OR($E$2=\"Orkney Health Board\",$E$2=\"Orkney Islands Local Authority\"),$F142=1),0,IF(AND(OR($E$2=\"Shetland Health Board\",$E$2=\"Western Isles Health Board\",$E$2=\"Shetland Islands Local Authority\",$E$2=\"Eilean Siar Local Authority\"),OR($F142=1,$F142=5)),0,prem_mort(VALUE(LEFT(Options!$B$14,2)),$C142,$E142,$F142,2016,$I142+$J142,1,$H142,$G142*$H142,Options!$B$8)))","v":21.320750201900001},61.4073840479954,61.27532749504239,2996.6800345052447,2990.2356753815202,14402.052010000001,14383.295618148872,61.4073840479954,61.27532749504239,399147.99631197011,398289.62871777551,19478420.22428409,19436531.88997988,93613338.065000013,93491421.517967671,399147.99631197011,398289.62871777551,6500]
[null,"Female 35-39",36.918118,81.898120000000006,"female",3,{"$f":"HLOOKUP($E$2,'Prevalence Rates'!$C$3:$BC$249,'Prevalence Rates'!$BD143,FALSE)","v":0.22220000000000001},{"$f":"HLOOKUP($E$2,'Population 2016'!$C$3:$BC$249,'Population 2016'!BD143,FALSE)","v":31957},0,{"$f":"ROUND(0.807*(HLOOKUP($E$2,'Population at Risk'!$C$3:$BC$249,'Population at Risk'!$BD143,FALSE)),0)","v":5730},{"$f":"IF(AND(OR($E$2=\"Orkney Health Board\",$E$2=\"Orkney Islands Local Authority\"),$F143=1),0,IF(AND(OR($E$2=\"Shetland Health Board\",$E$2=\"Western Isles Health Board\",$E$2=\"Shetland Islands Local Authority\",$E$2=\"Eilean Siar Local Authority\"),OR($F143=1,$F143=5)),0,new_ci(VALUE(LEFT(Options!$B$14,2)),$C143,$E143,$F143,2016,$I143,1,$H143,$G143*$H143,Options!$B$8)))","v":29.811510866799999},{"$f":"IF(AND(OR($E$2=\"Orkney Health Board\",$E$2=\"Orkney Islands Local Authority\"),$F143=1),0,IF(AND(OR($E$2=\"Shetland Health Board\",$E$2=\"Western Isles Health Board\",$E$2=\"Shetland Islands Local Authority\",$E$2=\"Eilean Siar Local Authority\"),OR($F143=1,$F143=5)),0,new_ci(VALUE(LEFT(Options!$B$14,2)),$C143,$E143,$F143,2016,$I143+$J143,1,$H143,$G143*$H143,Options!$B$8)))","v":29.749544927799999},{"$f":"IF(AND(OR($E$2=\"Orkney Health Board\",$E$2=\"Orkney Islands Local Authority\"),$F143=1),0,IF(AND(OR($E$2=\"Shetland Health Board\",$E$2=\"Western Isles Health Board\",$E$2=\"Shetland Islands Local Authority\",$E$2=\"Eilean Siar Local Authority\"),OR($F143=1,$F143=5)),0,new_yllv2(VALUE(LEFT(Options!$B$14,2)),$C143,$D143,$E143,$F143,2016,$I143,1,$H143,$G143*$H143,Options!$B$8)))","v":1311.1103075449},{"$f":"IF(AND(OR($E$2=\"Orkney Health Board\",$E$2=\"Orkney Islands Local Authority\"),$F143=1),0,IF(AND(OR($E$2=\"Shetland Health Board\",$E$2=\"Western Isles Health Board\",$E$2=\"Shetland Islands Local Authority\",$E$2=\"Eilean Siar Local Authority\"),OR($F143=1,$F143=5)),0,new_yllv2(VALUE(LEFT(Options!$B$14,2)),$C143,$D143,$E143,$F143,2016,$I143+$J143,1,$H143,$G143*$H143,Options!$B$8)))","v":1308.3850454236999},{"$f":"IF(AND(OR($E$2=\"Orkney Health Board\",$E$2=\"Orkney Islands Local Authority\"),$F143=1),0,IF(AND(OR($E$2=\"Shetland Health Board\",$E$2=\"Western Isles Health Board\",$E$2=\"Shetland Islands Local Authority\",$E$2=\"Eilean Siar Local Authority\"),OR($F143=1,$F143=5)),0,hosp_count(VALUE(LEFT(Options!$B$14,2)),$C143,$E143,$F143,2016,$I143,1,$H143,$G143*$H143, Options!$B$8)))","v":5208.5576023617004},{"$f":"IF(AND(OR($E$2=\"Orkney Health Board\",$E$2=\"Orkney Islands Local Authority\"),$F143=1),0,IF(AND(OR($E$2=\"Shetland Health Board\",$E$2=\"Western Isles Health Board\",$E$2=\"Shetland Islands Local Authority\",$E$2=\"Eilean Siar Local Authority\"),OR($F143=1,$F143=5)),0,hosp_count(VALUE(LEFT(Options!$B$14,2)),$C143,$E143,$F143,2016,$I143+$J143,1,$H143,$G143*$H143, Options!$B$8)))","v":5202.0100229480004},{"$f":"IF(AND(OR($E$2=\"Orkney Health Board\",$E$2=\"Orkney Islands Local Authority\"),$F143=1),0,IF(AND(OR($E$2=\"Shetland Health Board\",$E$2=\"Western Isles Health Board\",$E$2=\"Shetland Islands Local Authority\",$E$2=\"Eilean Siar Local Authority\"),OR($F143=1,$F143=5)),0,prem_mort(VALUE(LEFT(Options!$B$14,2)),$C143,$E143,$F143,2016,$I143,1,$H143,$G143*$H143,Options!$B$8)))","v":29.811510866799999},{"$f":"IF(AND(OR($E$2=\"Orkney Health Board\",$E$2=\"Orkney Islands Local Authority\"),$F143=1),0,IF(AND(OR($E$2=\"Shetland Health Board\",$E$2=\"Western Isles Health Board\",$E$2=\"Shetland Islands Local Authority\",$E$2=\"Eilean Siar Local Authority\"),OR($F143=1,$F143=5)),0,prem_mort(VALUE(LEFT(Options!$B$14,2)),$C143,$E143,$F143,2016,$I143+$J143,1,$H143,$G143*$H143,Options!$B$8)))","v":29.749544927799999},93.286324957912186,93.092420839878585,4102.7327582216731,4094.2048547225959,16298.643810000001,16278.155092618206,93.286324957912186,93.092420839878585,653004.27470538532,651646.94587915007,28719129.307551712,28659433.983058169,114090506.67000002,113947085.64832744,653004.27470538532,651646.94587915007,7000]
[null,"Female 40-44",42.077438000000001,82.30744,"female",3,{"$f":"HLOOKUP($E$2,'Prevalence Rates'!$C$3:$BC$249,'Prevalence Rates'!$BD144,FALSE)","v":0.22220000000000001},{"$f":"HLOOKUP($E$2,'Population 2016'!$C$3:$BC$249,'Population 2016'!BD144,FALSE)","v":33291},0,{"$f":"ROUND(0.807*(HLOOKUP($E$2,'Population at Risk'!$C$3:$BC$249,'Population at Risk'!$BD144,FALSE)),0)","v":5970},{"$f":"IF(AND(OR($E$2=\"Orkney Health Board\",$E$2=\"Orkney Islands Local Authority\"),$F144=1),0,IF(AND(OR($E$2=\"Shetland Health Board\",$E$2=\"Western Isles Health Board\",$E$2=\"Shetland Islands Local Authority\",$E$2=\"Eilean Siar Local Authority\"),OR($F144=1,$F144=5)),0,new_ci(VALUE(LEFT(Options!$B$14,2)),$C144,$E144,$F144,2016,$I144,1,$H144,$G144*$H144,Options!$B$8)))","v":48.150691953500001},{"$f":"IF(AND(OR($E$2=\"Orkney Health Board\",$E$2=\"Orkney Islands Local Authority\"),$F144=1),0,IF(AND(OR($E$2=\"Shetland Health Board\",$E$2=\"Western Isles Health Board\",$E$2=\"Shetland Islands Local Authority\",$E$2=\"Eilean Siar Local Authority\"),OR($F144=1,$F144=5)),0,new_ci(VALUE(LEFT(Options!$B$14,2)),$C144,$E144,$F144,2016,$I144+$J144,1,$H144,$G144*$H144,Options!$B$8)))","v":48.050642514499998},{"$f":"IF(AND(OR($E$2=\"Orkney Health Board\",$E$2=\"Orkney Islands Local Authority\"),$F144=1),0,IF(AND(OR($E$2=\"Shetland Health Board\",$E$2=\"Western Isles Health Board\",$E$2=\"Shetland Islands Local Authority\",$E$2=\"Eilean Siar Local Authority\"),OR($F144=1,$F144=5)),0,new_yllv2(VALUE(LEFT(Options!$B$14,2)),$C144,$D144,$E144,$F144,2016,$I144,1,$H144,$G144*$H144,Options!$B$8)))","v":1888.9517416372},{"$f":"IF(AND(OR($E$2=\"Orkney Health Board\",$E$2=\"Orkney Islands Local Authority\"),$F144=1),0,IF(AND(OR($E$2=\"Shetland Health Board\",$E$2=\"Western Isles Health Board\",$E$2=\"Shetland Islands Local Authority\",$E$2=\"Eilean Siar Local Authority\"),OR($F144=1,$F144=5)),0,new_yllv2(VALUE(LEFT(Options!$B$14,2)),$C144,$D144,$E144,$F144,2016,$I144+$J144,1,$H144,$G144*$H144,Options!$B$8)))","v":1885.0268019451},{"$f":"IF(AND(OR($E$2=\"Orkney Health Board\",$E$2=\"Orkney Islands Local Authority\"),$F144=1),0,IF(AND(OR($E$2=\"Shetland Health Board\",$E$2=\"Western Isles Health Board\",$E$2=\"Shetland Islands Local Authority\",$E$2=\"Eilean Siar Local Authority\"),OR($F144=1,$F144=5)),0,hosp_count(VALUE(LEFT(Options!$B$14,2)),$C144,$E144,$F144,2016,$I144,1,$H144,$G144*$H144, Options!$B$8)))","v":6177.8773554561003},{"$f":"IF(AND(OR($E$2=\"Orkney Health Board\",$E$2=\"Orkney Islands Local Authority\"),$F144=1),0,IF(AND(OR($E$2=\"Shetland Health Board\",$E$2=\"Western Isles Health Board\",$E$2=\"Shetland Islands Local Authority\",$E$2=\"Eilean Siar Local Authority\"),OR($F144=1,$F144=5)),0,hosp_count(VALUE(LEFT(Options!$B$14,2)),$C144,$E144,$F144,2016,$I144+$J144,1,$H144,$G144*$H144, Options!$B$8)))","v":6170.1102097677003},{"$f":"IF(AND(OR($E$2=\"Orkney Health Board\",$E$2=\"Orkney Islands Local Authority\"),$F144=1),0,IF(AND(OR($E$2=\"Shetland Health Board\",$E$2=\"Western Isles Health Board\",$E$2=\"Shetland Islands Local Authority\",$E$2=\"Eilean Siar Local Authority\"),OR($F144=1,$F144=5)),0,prem_mort(VALUE(LEFT(Options!$B$14,2)),$C144,$E144,$F144,2016,$I144,1,$H144,$G144*$H144,Options!$B$8)))","v":48.150691953500001},{"$f":"IF(AND(OR($E$2=\"Orkney Health Board\",$E$2=\"Orkney Islands Local Authority\"),$F144=1),0,IF(AND(OR($E$2=\"Shetland Health Board\",$E$2=\"Western Isles Health Board\",$E$2=\"Shetland Islands Local Authority\",$E$2=\"Eilean Siar Local Authority\"),OR($F144=1,$F144=5)),0,prem_mort(VALUE(LEFT(Options!$B$14,2)),$C144,$E144,$F144,2016,$I144+$J144,1,$H144,$G144*$H144,Options!$B$8)))","v":48.050642514499998},144.63576327986542,144.33523328977799,5674.0612827406812,5662.2714906283982,18557.199710000001,18533.86864247905,144.63576327986542,144.33523328977799,1012450.3429590579,1010346.6330284459,39718428.979184769,39635900.434398785,129900397.97,129737080.49735335,1012450.3429590579,1010346.6330284459,7000]
[null,"Female 45-49",47.025772000000003,82.585769999999997,"female",3,{"$f":"HLOOKUP($E$2,'Prevalence Rates'!$C$3:$BC$249,'Prevalence Rates'!$BD145,FALSE)","v":0.23120000000000002},{"$f":"HLOOKUP($E$2,'Population 2016'!$C$3:$BC$249,'Population 2016'!BD145,FALSE)","v":40488},0,{"$f":"ROUND(0.807*(HLOOKUP($E$2,'Population at Risk'!$C$3:$BC$249,'Population at Risk'!$BD145,FALSE)),0)","v":7554},{"$f":"IF(AND(OR($E$2=\"Orkney Health Board\",$E$2=\"Orkney Islands Local Authority\"),$F145=1),0,IF(AND(OR($E$2=\"Shetland Health Board\",$E$2=\"Western Isles Health Board\",$E$2=\"Shetland Islands Local Authority\",$E$2=\"Eilean Siar Local Authority\"),OR($F145=1,$F145=5)),0,new_ci(VALUE(LEFT(Options!$B$14,2)),$C145,$E145,$F145,2016,$I145,1,$H145,$G145*$H145,Options!$B$8)))","v":89.167901300400004},{"$f":"IF(AND(OR($E$2=\"Orkney Health Board\",$E$2=\"Orkney Islands Local Authority\"),$F145=1),0,IF(AND(OR($E$2=\"Shetland Health Board\",$E$2=\"Western Isles Health Board\",$E$2=\"Shetland Islands Local Authority\",$E$2=\"Eilean Siar Local Authority\"),OR($F145=1,$F145=5)),0,new_ci(VALUE(LEFT(Options!$B$14,2)),$C145,$E145,$F145,2016,$I145+$J145,1,$H145,$G145*$H145,Options!$B$8)))","v":88.976448192000007},{"$f":"IF(AND(OR($E$2=\"Orkney Health Board\",$E$2=\"Orkney Islands Local Authority\"),$F145=1),0,IF(AND(OR($E$2=\"Shetland Health Board\",$E$2=\"Western Isles Health Board\",$E$2=\"Shetland Islands Local Authority\",$E$2=\"Eilean Siar Local Authority\"),OR($F145=1,$F145=5)),0,new_yllv2(VALUE(LEFT(Options!$B$14,2)),$C145,$D145,$E145,$F145,2016,$I145,1,$H145,$G145*$H145,Options!$B$8)))","v":3081.6424906060001},{"$f":"IF(AND(OR($E$2=\"Orkney Health Board\",$E$2=\"Orkney Islands Local Authority\"),$F145=1),0,IF(AND(OR($E$2=\"Shetland Health Board\",$E$2=\"Western Isles Health Board\",$E$2=\"Shetland Islands Local Authority\",$E$2=\"Eilean Siar Local Authority\"),OR($F145=1,$F145=5)),0,new_yllv2(VALUE(LEFT(Options!$B$14,2)),$C145,$D145,$E145,$F145,2016,$I145+$J145,1,$H145,$G145*$H145,Options!$B$8)))","v":3075.0258715626001},{"$f":"IF(AND(OR($E$2=\"Orkney Health Board\",$E$2=\"Orkney Islands Local Authority\"),$F145=1),0,IF(AND(OR($E$2=\"Shetland Health Board\",$E$2=\"Western Isles Health Board\",$E$2=\"Shetland Islands Local Authority\",$E$2=\"Eilean Siar Local Authority\"),OR($F145=1,$F145=5)),0,hosp_count(VALUE(LEFT(Options!$B$14,2)),$C145,$E145,$F145,2016,$I145,1,$H145,$G145*$H145, Options!$B$8)))","v":8509.3209577487996},{"$f":"IF(AND(OR($E$2=\"Orkney Health Board\",$E$2=\"Orkney Islands Local Authority\"),$F145=1),0,IF(AND(OR($E$2=\"Shetland Health Board\",$E$2=\"Western Isles Health Board\",$E$2=\"Shetland Islands Local Authority\",$E$2=\"Eilean Siar Local Authority\"),OR($F145=1,$F145=5)),0,hosp_count(VALUE(LEFT(Options!$B$14,2)),$C145,$E145,$F145,2016,$I145+$J145,1,$H145,$G145*$H145, Options!$B$8)))","v":8498.2391961200992},{"$f":"IF(AND(OR($E$2=\"Orkney Health Board\",$E$2=\"Orkney Islands Local Authority\"),$F145=1),0,IF(AND(OR($E$2=\"Shetland Health Board\",$E$2=\"Western Isles Health Board\",$E$2=\"Shetland Islands Local Authority\",$E$2=\"Eilean Siar Local Authority\"),OR($F145=1,$F145=5)),0,prem_mort(VALUE(LEFT(Options!$B$14,2)),$C145,$E145,$F145,2016,$I145,1,$H145,$G145*$H145,Options!$B$8)))","v":89.167901300400004},{"$f":"IF(AND(OR($E$2=\"Orkney Health Board\",$E$2=\"Orkney Islands Local Authority\"),$F145=1),0,IF(AND(OR($E$2=\"Shetland Health Board\",$E$2=\"Western Isles Health Board\",$E$2=\"Shetland Islands Local Authority\",$E$2=\"Eilean Siar Local Authority\"),OR($F145=1,$F145=5)),0,prem_mort(VALUE(LEFT(Options!$B$14,2)),$C145,$E145,$F145,2016,$I145+$J145,1,$H145,$G145*$H145,Options!$B$8)))","v":88.976448192000007},220.2329117279194,219.76004789567278,7611.248988851019,7594.9068157542979,21016.896259999998,20989.52577583506,220.2329117279194,219.76004789567278,1541630.3820954359,1538320.3352697096,53278742.921957135,53164347.710280083,147118273.81999999,146926680.43084541,1541630.3820954359,1538320.3352697096,7000]
[null,"Female 50-54",51.990825999999998,82.980829999999997,"female",3,{"$f":"HLOOKUP($E$2,'Prevalence Rates'!$C$3:$BC$249,'Prevalence Rates'!$BD146,FALSE)","v":0.23120000000000002},{"$f":"HLOOKUP($E$2,'Population 2016'!$C$3:$BC$249,'Population 2016'!BD146,FALSE)","v":42537},0,{"$f":"ROUND(0.807*(HLOOKUP($E$2,'Population at Risk'!$C$3:$BC$249,'Population at Risk'!$BD146,FALSE)),0)","v":7936},{"$f":"IF(AND(OR($E$2=\"Orkney Health Board\",$E$2=\"Orkney Islands Local Authority\"),$F146=1),0,IF(AND(OR($E$2=\"Shetland Health Board\",$E$2=\"Western Isles Health Board\",$E$2=\"Shetland Islands Local Authority\",$E$2=\"Eilean Siar Local Authority\"),OR($F146=1,$F146=5)),0,new_ci(VALUE(LEFT(Options!$B$14,2)),$C146,$E146,$F146,2016,$I146,1,$H146,$G146*$H146,Options!$B$8)))","v":142.81688535059999},{"$f":"IF(AND(OR($E$2=\"Orkney Health Board\",$E$2=\"Orkney Islands Local Authority\"),$F146=1),0,IF(AND(OR($E$2=\"Shetland Health Board\",$E$2=\"Western Isles Health Board\",$E$2=\"Shetland Islands Local Authority\",$E$2=\"Eilean Siar Local Authority\"),OR($F146=1,$F146=5)),0,new_ci(VALUE(LEFT(Options!$B$14,2)),$C146,$E146,$F146,2016,$I146+$J146,1,$H146,$G146*$H146,Options!$B$8)))","v":142.5105978114},{"$f":"IF(AND(OR($E$2=\"Orkney Health Board\",$E$2=\"Orkney Islands Local Authority\"),$F146=1),0,IF(AND(OR($E$2=\"Shetland Health Board\",$E$2=\"Western Isles Health Board\",$E$2=\"Shetland Islands Local Authority\",$E$2=\"Eilean Siar Local Authority\"),OR($F146=1,$F146=5)),0,new_yllv2(VALUE(LEFT(Options!$B$14,2)),$C146,$D146,$E146,$F146,2016,$I146,1,$H146,$G146*$H146,Options!$B$8)))","v":4283.0789629319997},{"$f":"IF(AND(OR($E$2=\"Orkney Health Board\",$E$2=\"Orkney Islands Local Authority\"),$F146=1),0,IF(AND(OR($E$2=\"Shetland Health Board\",$E$2=\"Western Isles Health Board\",$E$2=\"Shetland Islands Local Authority\",$E$2=\"Eilean Siar Local Authority\"),OR($F146=1,$F146=5)),0,new_yllv2(VALUE(LEFT(Options!$B$14,2)),$C146,$D146,$E146,$F146,2016,$I146+$J146,1,$H146,$G146*$H146,Options!$B$8)))","v":4273.8933984062996},{"$f":"IF(AND(OR($E$2=\"Orkney Health Board\",$E$2=\"Orkney Islands Local Authority\"),$F146=1),0,IF(AND(OR($E$2=\"Shetland Health Board\",$E$2=\"Western Isles Health Board\",$E$2=\"Shetland Islands Local Authority\",$E$2=\"Eilean Siar Local Authority\"),OR($F146=1,$F146=5)),0,hosp_count(VALUE(LEFT(Options!$B$14,2)),$C146,$E146,$F146,2016,$I146,1,$H146,$G146*$H146, Options!$B$8)))","v":10129.178571979501},{"$f":"IF(AND(OR($E$2=\"Orkney Health Board\",$E$2=\"Orkney Islands Local Authority\"),$F146=1),0,IF(AND(OR($E$2=\"Shetland Health Board\",$E$2=\"Western Isles Health Board\",$E$2=\"Shetland Islands Local Authority\",$E$2=\"Eilean Siar Local Authority\"),OR($F146=1,$F146=5)),0,hosp_count(VALUE(LEFT(Options!$B$14,2)),$C146,$E146,$F146,2016,$I146+$J146,1,$H146,$G146*$H146, Options!$B$8)))","v":10115.987738448101},{"$f":"IF(AND(OR($E$2=\"Orkney Health Board\",$E$2=\"Orkney Islands Local Authority\"),$F146=1),0,IF(AND(OR($E$2=\"Shetland Health Board\",$E$2=\"Western Isles Health Board\",$E$2=\"Shetland Islands Local Authority\",$E$2=\"Eilean Siar Local Authority\"),OR($F146=1,$F146=5)),0,prem_mort(VALUE(LEFT(Options!$B$14,2)),$C146,$E146,$F146,2016,$I146,1,$H146,$G146*$H146,Options!$B$8)))","v":142.81688535059999},{"$f":"IF(AND(OR($E$2=\"Orkney Health Board\",$E$2=\"Orkney Islands Local Authority\"),$F146=1),0,IF(AND(OR($E$2=\"Shetland Health Board\",$E$2=\"Western Isles Health Board\",$E$2=\"Shetland Islands Local Authority\",$E$2=\"Eilean Siar Local Authority\"),OR($F146=1,$F146=5)),0,prem_mort(VALUE(LEFT(Options!$B$14,2)),$C146,$E146,$F146,2016,$I146+$J146,1,$H146,$G146*$H146,Options!$B$8)))","v":142.5105978114},335.74743247196557,335.02738277593625,10069.066842823893,10047.47254955991,23812.630350000003,23781.620091797966,335.74743247196557,335.02738277593625,2350232.027303759,2345191.6794315539,70483467.89976725,70332307.846919373,166688412.45000002,166471340.64258575,2350232.027303759,2345191.6794315539,7000]
[null,"Female 55-59",56.953040999999999,83.473039999999997,"female",3,{"$f":"HLOOKUP($E$2,'Prevalence Rates'!$C$3:$BC$249,'Prevalence Rates'!$BD147,FALSE)","v":0.18410000000000001},{"$f":"HLOOKUP($E$2,'Population 2016'!$C$3:$BC$249,'Population 2016'!BD147,FALSE)","v":39153},0,{"$f":"ROUND(0.807*(HLOOKUP($E$2,'Population at Risk'!$C$3:$BC$249,'Population at Risk'!$BD147,FALSE)),0)","v":5817},{"$f":"IF(AND(OR($E$2=\"Orkney Health Board\",$E$2=\"Orkney Islands Local Authority\"),$F147=1),0,IF(AND(OR($E$2=\"Shetland Health Board\",$E$2=\"Western Isles Health Board\",$E$2=\"Shetland Islands Local Authority\",$E$2=\"Eilean Siar Local Authority\"),OR($F147=1,$F147=5)),0,new_ci(VALUE(LEFT(Options!$B$14,2)),$C147,$E147,$F147,2016,$I147,1,$H147,$G147*$H147,Options!$B$8)))","v":200.2948881518},{"$f":"IF(AND(OR($E$2=\"Orkney Health Board\",$E$2=\"Orkney Islands Local Authority\"),$F147=1),0,IF(AND(OR($E$2=\"Shetland Health Board\",$E$2=\"Western Isles Health Board\",$E$2=\"Shetland Islands Local Authority\",$E$2=\"Eilean Siar Local Authority\"),OR($F147=1,$F147=5)),0,new_ci(VALUE(LEFT(Options!$B$14,2)),$C147,$E147,$F147,2016,$I147+$J147,1,$H147,$G147*$H147,Options!$B$8)))","v":199.94228487980001},{"$f":"IF(AND(OR($E$2=\"Orkney Health Board\",$E$2=\"Orkney Islands Local Authority\"),$F147=1),0,IF(AND(OR($E$2=\"Shetland Health Board\",$E$2=\"Western Isles Health Board\",$E$2=\"Shetland Islands Local Authority\",$E$2=\"Eilean Siar Local Authority\"),OR($F147=1,$F147=5)),0,new_yllv2(VALUE(LEFT(Options!$B$14,2)),$C147,$D147,$E147,$F147,2016,$I147,1,$H147,$G147*$H147,Options!$B$8)))","v":5111.5253453389996},{"$f":"IF(AND(OR($E$2=\"Orkney Health Board\",$E$2=\"Orkney Islands Local Authority\"),$F147=1),0,IF(AND(OR($E$2=\"Shetland Health Board\",$E$2=\"Western Isles Health Board\",$E$2=\"Shetland Islands Local Authority\",$E$2=\"Eilean Siar Local Authority\"),OR($F147=1,$F147=5)),0,new_yllv2(VALUE(LEFT(Options!$B$14,2)),$C147,$D147,$E147,$F147,2016,$I147+$J147,1,$H147,$G147*$H147,Options!$B$8)))","v":5102.5269101902004},{"$f":"IF(AND(OR($E$2=\"Orkney Health Board\",$E$2=\"Orkney Islands Local Authority\"),$F147=1),0,IF(AND(OR($E$2=\"Shetland Health Board\",$E$2=\"Western Isles Health Board\",$E$2=\"Shetland Islands Local Authority\",$E$2=\"Eilean Siar Local Authority\"),OR($F147=1,$F147=5)),0,hosp_count(VALUE(LEFT(Options!$B$14,2)),$C147,$E147,$F147,2016,$I147,1,$H147,$G147*$H147, Options!$B$8)))","v":10562.8275926019},{"$f":"IF(AND(OR($E$2=\"Orkney Health Board\",$E$2=\"Orkney Islands Local Authority\"),$F147=1),0,IF(AND(OR($E$2=\"Shetland Health Board\",$E$2=\"Western Isles Health Board\",$E$2=\"Shetland Islands Local Authority\",$E$2=\"Eilean Siar Local Authority\"),OR($F147=1,$F147=5)),0,hosp_count(VALUE(LEFT(Options!$B$14,2)),$C147,$E147,$F147,2016,$I147+$J147,1,$H147,$G147*$H147, Options!$B$8)))","v":10551.6157981585},{"$f":"IF(AND(OR($E$2=\"Orkney Health Board\",$E$2=\"Orkney Islands Local Authority\"),$F147=1),0,IF(AND(OR($E$2=\"Shetland Health Board\",$E$2=\"Western Isles Health Board\",$E$2=\"Shetland Islands Local Authority\",$E$2=\"Eilean Siar Local Authority\"),OR($F147=1,$F147=5)),0,prem_mort(VALUE(LEFT(Options!$B$14,2)),$C147,$E147,$F147,2016,$I147,1,$H147,$G147*$H147,Options!$B$8)))","v":200.2948881518},{"$f":"IF(AND(OR($E$2=\"Orkney Health Board\",$E$2=\"Orkney Islands Local Authority\"),$F147=1),0,IF(AND(OR($E$2=\"Shetland Health Board\",$E$2=\"Western Isles Health Board\",$E$2=\"Shetland Islands Local Authority\",$E$2=\"Eilean Siar Local Authority\"),OR($F147=1,$F147=5)),0,prem_mort(VALUE(LEFT(Options!$B$14,2)),$C147,$E147,$F147,2016,$I147+$J147,1,$H147,$G147*$H147,Options!$B$8)))","v":199.94228487980001},511.56970896687352,510.66913104947258,13055.258461264781,13032.275713713381,26978.335230000001,26949.699379762726,511.56970896687352,510.66913104947258,3325203.1082846778,3319349.3518215716,84859179.99822107,84709792.139136985,175359178.995,175173045.96845773,3325203.1082846778,3319349.3518215716,6500]
[null,"Female 60-64",61.947387999999997,84.167389999999997,"female",3,{"$f":"HLOOKUP($E$2,'Prevalence Rates'!$C$3:$BC$249,'Prevalence Rates'!$BD148,FALSE)","v":0.18410000000000001},{"$f":"HLOOKUP($E$2,'Population 2016'!$C$3:$BC$249,'Population 2016'!BD148,FALSE)","v":34585},0,{"$f":"ROUND(0.807*(HLOOKUP($E$2,'Population at Risk'!$C$3:$BC$249,'Population at Risk'!$BD148,FALSE)),0)","v":5138},{"$f":"IF(AND(OR($E$2=\"Orkney Health Board\",$E$2=\"Orkney Islands Local Authority\"),$F148=1),0,IF(AND(OR($E$2=\"Shetland Health Board\",$E$2=\"Western Isles Health Board\",$E$2=\"Shetland Islands Local Authority\",$E$2=\"Eilean Siar Local Authority\"),OR($F148=1,$F148=5)),0,new_ci(VALUE(LEFT(Options!$B$14,2)),$C148,$E148,$F148,2016,$I148,1,$H148,$G148*$H148,Options!$B$8)))","v":270.17507778449999},{"$f":"IF(AND(OR($E$2=\"Orkney Health Board\",$E$2=\"Orkney Islands Local Authority\"),$F148=1),0,IF(AND(OR($E$2=\"Shetland Health Board\",$E$2=\"Western Isles Health Board\",$E$2=\"Shetland Islands Local Authority\",$E$2=\"Eilean Siar Local Authority\"),OR($F148=1,$F148=5)),0,new_ci(VALUE(LEFT(Options!$B$14,2)),$C148,$E148,$F148,2016,$I148+$J148,1,$H148,$G148*$H148,Options!$B$8)))","v":269.70081161169998},{"$f":"IF(AND(OR($E$2=\"Orkney Health Board\",$E$2=\"Orkney Islands Local Authority\"),$F148=1),0,IF(AND(OR($E$2=\"Shetland Health Board\",$E$2=\"Western Isles Health Board\",$E$2=\"Shetland Islands Local Authority\",$E$2=\"Eilean Siar Local Authority\"),OR($F148=1,$F148=5)),0,new_yllv2(VALUE(LEFT(Options!$B$14,2)),$C148,$D148,$E148,$F148,2016,$I148,1,$H148,$G148*$H148,Options!$B$8)))","v":5733.1156909372003},{"$f":"IF(AND(OR($E$2=\"Orkney Health Board\",$E$2=\"Orkney Islands Local Authority\"),$F148=1),0,IF(AND(OR($E$2=\"Shetland Health Board\",$E$2=\"Western Isles Health Board\",$E$2=\"Shetland Islands Local Authority\",$E$2=\"Eilean Siar Local Authority\"),OR($F148=1,$F148=5)),0,new_yllv2(VALUE(LEFT(Options!$B$14,2)),$C148,$D148,$E148,$F148,2016,$I148+$J148,1,$H148,$G148*$H148,Options!$B$8)))","v":5723.0517618019003},{"$f":"IF(AND(OR($E$2=\"Orkney Health Board\",$E$2=\"Orkney Islands Local Authority\"),$F148=1),0,IF(AND(OR($E$2=\"Shetland Health Board\",$E$2=\"Western Isles Health Board\",$E$2=\"Shetland Islands Local Authority\",$E$2=\"Eilean Siar Local Authority\"),OR($F148=1,$F148=5)),0,hosp_count(VALUE(LEFT(Options!$B$14,2)),$C148,$E148,$F148,2016,$I148,1,$H148,$G148*$H148, Options!$B$8)))","v":10579.416535496001},{"$f":"IF(AND(OR($E$2=\"Orkney Health Board\",$E$2=\"Orkney Islands Local Authority\"),$F148=1),0,IF(AND(OR($E$2=\"Shetland Health Board\",$E$2=\"Western Isles Health Board\",$E$2=\"Shetland Islands Local Authority\",$E$2=\"Eilean Siar Local Authority\"),OR($F148=1,$F148=5)),0,hosp_count(VALUE(LEFT(Options!$B$14,2)),$C148,$E148,$F148,2016,$I148+$J148,1,$H148,$G148*$H148, Options!$B$8)))","v":10568.187849785299},{"$f":"IF(AND(OR($E$2=\"Orkney Health Board\",$E$2=\"Orkney Islands Local Authority\"),$F148=1),0,IF(AND(OR($E$2=\"Shetland Health Board\",$E$2=\"Western Isles Health Board\",$E$2=\"Shetland Islands Local Authority\",$E$2=\"Eilean Siar Local Authority\"),OR($F148=1,$F148=5)),0,prem_mort(VALUE(LEFT(Options!$B$14,2)),$C148,$E148,$F148,2016,$I148,1,$H148,$G148*$H148,Options!$B$8)))","v":270.17507778449999},{"$f":"IF(AND(OR($E$2=\"Orkney Health Board\",$E$2=\"Orkney Islands Local Authority\"),$F148=1),0,IF(AND(OR($E$2=\"Shetland Health Board\",$E$2=\"Western Isles Health Board\",$E$2=\"Shetland Islands Local Authority\",$E$2=\"Eilean Siar Local Authority\"),OR($F148=1,$F148=5)),0,prem_mort(VALUE(LEFT(Options!$B$14,2)),$C148,$E148,$F148,2016,$I148+$J148,1,$H148,$G148*$H148,Options!$B$8)))","v":269.70081161169998},781.19149279890121,779.82018682000864,16576.88503957554,16547.785923960968,30589.609759999999,30557.142835869017,781.19149279890121,779.82018682000864,4687148.956793407,4678921.1209200518,99461310.237453237,99286715.543765813,183537658.56,183342857.01521412,4687148.956793407,4678921.1209200518,6000]
[null,"Female 65-69",67.063927000000007,85.193929999999995,"female",3,{"$f":"HLOOKUP($E$2,'Prevalence Rates'!$C$3:$BC$249,'Prevalence Rates'!$BD149,FALSE)","v":0.1651},{"$f":"HLOOKUP($E$2,'Population 2016'!$C$3:$BC$249,'Population 2016'!BD149,FALSE)","v":35061},0,{"$f":"ROUND(0.807*(HLOOKUP($E$2,'Population at Risk'!$C$3:$BC$249,'Population at Risk'!$BD149,FALSE)),0)","v":4671},{"$f":"IF(AND(OR($E$2=\"Orkney Health Board\",$E$2=\"Orkney Islands Local Authority\"),$F149=1),0,IF(AND(OR($E$2=\"Shetland Health Board\",$E$2=\"Western Isles Health Board\",$E$2=\"Shetland Islands Local Authority\",$E$2=\"Eilean Siar Local Authority\"),OR($F149=1,$F149=5)),0,new_ci(VALUE(LEFT(Options!$B$14,2)),$C149,$E149,$F149,2016,$I149,1,$H149,$G149*$H149,Options!$B$8)))","v":422.27606625779998},{"$f":"IF(AND(OR($E$2=\"Orkney Health Board\",$E$2=\"Orkney Islands Local Authority\"),$F149=1),0,IF(AND(OR($E$2=\"Shetland Health Board\",$E$2=\"Western Isles Health Board\",$E$2=\"Shetland Islands Local Authority\",$E$2=\"Eilean Siar Local Authority\"),OR($F149=1,$F149=5)),0,new_ci(VALUE(LEFT(Options!$B$14,2)),$C149,$E149,$F149,2016,$I149+$J149,1,$H149,$G149*$H149,Options!$B$8)))","v":421.60554187230002},{"$f":"IF(AND(OR($E$2=\"Orkney Health Board\",$E$2=\"Orkney Islands Local Authority\"),$F149=1),0,IF(AND(OR($E$2=\"Shetland Health Board\",$E$2=\"Western Isles Health Board\",$E$2=\"Shetland Islands Local Authority\",$E$2=\"Eilean Siar Local Authority\"),OR($F149=1,$F149=5)),0,new_yllv2(VALUE(LEFT(Options!$B$14,2)),$C149,$D149,$E149,$F149,2016,$I149,1,$H149,$G149*$H149,Options!$B$8)))","v":7233.5902818243003},{"$f":"IF(AND(OR($E$2=\"Orkney Health Board\",$E$2=\"Orkney Islands Local Authority\"),$F149=1),0,IF(AND(OR($E$2=\"Shetland Health Board\",$E$2=\"Western Isles Health Board\",$E$2=\"Shetland Islands Local Authority\",$E$2=\"Eilean Siar Local Authority\"),OR($F149=1,$F149=5)),0,new_yllv2(VALUE(LEFT(Options!$B$14,2)),$C149,$D149,$E149,$F149,2016,$I149+$J149,1,$H149,$G149*$H149,Options!$B$8)))","v":7222.1041970891001},{"$f":"IF(AND(OR($E$2=\"Orkney Health Board\",$E$2=\"Orkney Islands Local Authority\"),$F149=1),0,IF(AND(OR($E$2=\"Shetland Health Board\",$E$2=\"Western Isles Health Board\",$E$2=\"Shetland Islands Local Authority\",$E$2=\"Eilean Siar Local Authority\"),OR($F149=1,$F149=5)),0,hosp_count(VALUE(LEFT(Options!$B$14,2)),$C149,$E149,$F149,2016,$I149,1,$H149,$G149*$H149, Options!$B$8)))","v":12198.090860927399},{"$f":"IF(AND(OR($E$2=\"Orkney Health Board\",$E$2=\"Orkney Islands Local Authority\"),$F149=1),0,IF(AND(OR($E$2=\"Shetland Health Board\",$E$2=\"Western Isles Health Board\",$E$2=\"Shetland Islands Local Authority\",$E$2=\"Eilean Siar Local Authority\"),OR($F149=1,$F149=5)),0,hosp_count(VALUE(LEFT(Options!$B$14,2)),$C149,$E149,$F149,2016,$I149+$J149,1,$H149,$G149*$H149, Options!$B$8)))","v":12186.3694714996},{"$f":"IF(AND(OR($E$2=\"Orkney Health Board\",$E$2=\"Orkney Islands Local Authority\"),$F149=1),0,IF(AND(OR($E$2=\"Shetland Health Board\",$E$2=\"Western Isles Health Board\",$E$2=\"Shetland Islands Local Authority\",$E$2=\"Eilean Siar Local Authority\"),OR($F149=1,$F149=5)),0,prem_mort(VALUE(LEFT(Options!$B$14,2)),$C149,$E149,$F149,2016,$I149,1,$H149,$G149*$H149,Options!$B$8)))","v":422.27606625779998},{"$f":"IF(AND(OR($E$2=\"Orkney Health Board\",$E$2=\"Orkney Islands Local Authority\"),$F149=1),0,IF(AND(OR($E$2=\"Shetland Health Board\",$E$2=\"Western Isles Health Board\",$E$2=\"Shetland Islands Local Authority\",$E$2=\"Eilean Siar Local Authority\"),OR($F149=1,$F149=5)),0,prem_mort(VALUE(LEFT(Options!$B$14,2)),$C149,$E149,$F149,2016,$I149+$J149,1,$H149,$G149*$H149,Options!$B$8)))","v":421.60554187230002},1204.4039424368957,1202.4914916069138,20631.443147155816,20598.682858700835,34791.052339999995,34757.620922106042,1204.4039424368957,1202.4914916069138,6624221.6834029267,6613703.2038380262,113472937.30935699,113292755.7228546,191350787.86999997,191166915.07158324,6624221.6834029267,6613703.2038380262,5500]
[null,"Female 70-74",71.938164,86.248159999999999,"female",3,{"$f":"HLOOKUP($E$2,'Prevalence Rates'!$C$3:$BC$249,'Prevalence Rates'!$BD150,FALSE)","v":0.1651},{"$f":"HLOOKUP($E$2,'Population 2016'!$C$3:$BC$249,'Population 2016'!BD150,FALSE)","v":27558},0,{"$f":"ROUND(0.807*(HLOOKUP($E$2,'Population at Risk'!$C$3:$BC$249,'Population at Risk'!$BD150,FALSE)),0)","v":3672},{"$f":"IF(AND(OR($E$2=\"Orkney Health Board\",$E$2=\"Orkney Islands Local Authority\"),$F150=1),0,IF(AND(OR($E$2=\"Shetland Health Board\",$E$2=\"Western Isles Health Board\",$E$2=\"Shetland Islands Local Authority\",$E$2=\"Eilean Siar Local Authority\"),OR($F150=1,$F150=5)),0,new_ci(VALUE(LEFT(Options!$B$14,2)),$C150,$E150,$F150,2016,$I150,1,$H150,$G150*$H150,Options!$B$8)))","v":500.75737554569997},{"$f":"IF(AND(OR($E$2=\"Orkney Health Board\",$E$2=\"Orkney Islands Local Authority\"),$F150=1),0,IF(AND(OR($E$2=\"Shetland Health Board\",$E$2=\"Western Isles Health Board\",$E$2=\"Shetland Islands Local Authority\",$E$2=\"Eilean Siar Local Authority\"),OR($F150=1,$F150=5)),0,new_ci(VALUE(LEFT(Options!$B$14,2)),$C150,$E150,$F150,2016,$I150+$J150,1,$H150,$G150*$H150,Options!$B$8)))","v":499.96729554090001},{"$f":"IF(AND(OR($E$2=\"Orkney Health Board\",$E$2=\"Orkney Islands Local Authority\"),$F150=1),0,IF(AND(OR($E$2=\"Shetland Health Board\",$E$2=\"Western Isles Health Board\",$E$2=\"Shetland Islands Local Authority\",$E$2=\"Eilean Siar Local Authority\"),OR($F150=1,$F150=5)),0,new_yllv2(VALUE(LEFT(Options!$B$14,2)),$C150,$D150,$E150,$F150,2016,$I150,1,$H150,$G150*$H150,Options!$B$8)))","v":6665.0786654838003},{"$f":"IF(AND(OR($E$2=\"Orkney Health Board\",$E$2=\"Orkney Islands Local Authority\"),$F150=1),0,IF(AND(OR($E$2=\"Shetland Health Board\",$E$2=\"Western Isles Health Board\",$E$2=\"Shetland Islands Local Authority\",$E$2=\"Eilean Siar Local Authority\"),OR($F150=1,$F150=5)),0,new_yllv2(VALUE(LEFT(Options!$B$14,2)),$C150,$D150,$E150,$F150,2016,$I150+$J150,1,$H150,$G150*$H150,Options!$B$8)))","v":6654.5627037801996},{"$f":"IF(AND(OR($E$2=\"Orkney Health Board\",$E$2=\"Orkney Islands Local Authority\"),$F150=1),0,IF(AND(OR($E$2=\"Shetland Health Board\",$E$2=\"Western Isles Health Board\",$E$2=\"Shetland Islands Local Authority\",$E$2=\"Eilean Siar Local Authority\"),OR($F150=1,$F150=5)),0,hosp_count(VALUE(LEFT(Options!$B$14,2)),$C150,$E150,$F150,2016,$I150,1,$H150,$G150*$H150, Options!$B$8)))","v":10838.3196694914},{"$f":"IF(AND(OR($E$2=\"Orkney Health Board\",$E$2=\"Orkney Islands Local Authority\"),$F150=1),0,IF(AND(OR($E$2=\"Shetland Health Board\",$E$2=\"Western Isles Health Board\",$E$2=\"Shetland Islands Local Authority\",$E$2=\"Eilean Siar Local Authority\"),OR($F150=1,$F150=5)),0,hosp_count(VALUE(LEFT(Options!$B$14,2)),$C150,$E150,$F150,2016,$I150+$J150,1,$H150,$G150*$H150, Options!$B$8)))","v":10827.903246559899},{"$f":"IF(AND(OR($E$2=\"Orkney Health Board\",$E$2=\"Orkney Islands Local Authority\"),$F150=1),0,IF(AND(OR($E$2=\"Shetland Health Board\",$E$2=\"Western Isles Health Board\",$E$2=\"Shetland Islands Local Authority\",$E$2=\"Eilean Siar Local Authority\"),OR($F150=1,$F150=5)),0,prem_mort(VALUE(LEFT(Options!$B$14,2)),$C150,$E150,$F150,2016,$I150,1,$H150,$G150*$H150,Options!$B$8)))","v":500.75737554569997},{"$f":"IF(AND(OR($E$2=\"Orkney Health Board\",$E$2=\"Orkney Islands Local Authority\"),$F150=1),0,IF(AND(OR($E$2=\"Shetland Health Board\",$E$2=\"Western Isles Health Board\",$E$2=\"Shetland Islands Local Authority\",$E$2=\"Eilean Siar Local Authority\"),OR($F150=1,$F150=5)),0,prem_mort(VALUE(LEFT(Options!$B$14,2)),$C150,$E150,$F150,2016,$I150+$J150,1,$H150,$G150*$H150,Options!$B$8)))","v":499.96729554090001},1817.1034746559981,1814.236503160244,24185.639979257565,24147.480600116844,39329.12283,39291.324648232454,1817.1034746559981,1814.236503160244,9085517.3732799906,9071182.5158012193,120928199.89628783,120737403.00058421,196645614.15000001,196456623.24116227,9085517.3732799906,9071182.5158012193,5000]
[null,"Female 75-79",76.942824999999999,87.812830000000005,"female",3,{"$f":"HLOOKUP($E$2,'Prevalence Rates'!$C$3:$BC$249,'Prevalence Rates'!$BD151,FALSE)","v":7.3700000000000002E-2},{"$f":"HLOOKUP($E$2,'Population 2016'!$C$3:$BC$249,'Population 2016'!BD151,FALSE)","v":22028},0,{"$f":"ROUND(0.807*(HLOOKUP($E$2,'Population at Risk'!$C$3:$BC$249,'Population at Risk'!$BD151,FALSE)),0)","v":1310},{"$f":"IF(AND(OR($E$2=\"Orkney Health Board\",$E$2=\"Orkney Islands Local Authority\"),$F151=1),0,IF(AND(OR($E$2=\"Shetland Health Board\",$E$2=\"Western Isles Health Board\",$E$2=\"Shetland Islands Local Authority\",$E$2=\"Eilean Siar Local Authority\"),OR($F151=1,$F151=5)),0,new_ci(VALUE(LEFT(Options!$B$14,2)),$C151,$E151,$F151,2016,$I151,1,$H151,$G151*$H151,Options!$B$8)))","v":609.75034261919996},{"$f":"IF(AND(OR($E$2=\"Orkney Health Board\",$E$2=\"Orkney Islands Local Authority\"),$F151=1),0,IF(AND(OR($E$2=\"Shetland Health Board\",$E$2=\"Western Isles Health Board\",$E$2=\"Shetland Islands Local Authority\",$E$2=\"Eilean Siar Local Authority\"),OR($F151=1,$F151=5)),0,new_ci(VALUE(LEFT(Options!$B$14,2)),$C151,$E151,$F151,2016,$I151+$J151,1,$H151,$G151*$H151,Options!$B$8)))","v":609.29757989519999},{"$f":"IF(AND(OR($E$2=\"Orkney Health Board\",$E$2=\"Orkney Islands Local Authority\"),$F151=1),0,IF(AND(OR($E$2=\"Shetland Health Board\",$E$2=\"Western Isles Health Board\",$E$2=\"Shetland Islands Local Authority\",$E$2=\"Eilean Siar Local Authority\"),OR($F151=1,$F151=5)),0,new_yllv2(VALUE(LEFT(Options!$B$14,2)),$C151,$D151,$E151,$F151,2016,$I151,1,$H151,$G151*$H151,Options!$B$8)))","v":6018.2389304032004},{"$f":"IF(AND(OR($E$2=\"Orkney Health Board\",$E$2=\"Orkney Islands Local Authority\"),$F151=1),0,IF(AND(OR($E$2=\"Shetland Health Board\",$E$2=\"Western Isles Health Board\",$E$2=\"Shetland Islands Local Authority\",$E$2=\"Eilean Siar Local Authority\"),OR($F151=1,$F151=5)),0,new_yllv2(VALUE(LEFT(Options!$B$14,2)),$C151,$D151,$E151,$F151,2016,$I151+$J151,1,$H151,$G151*$H151,Options!$B$8)))","v":6013.7701600535001},{"$f":"IF(AND(OR($E$2=\"Orkney Health Board\",$E$2=\"Orkney Islands Local Authority\"),$F151=1),0,IF(AND(OR($E$2=\"Shetland Health Board\",$E$2=\"Western Isles Health Board\",$E$2=\"Shetland Islands Local Authority\",$E$2=\"Eilean Siar Local Authority\"),OR($F151=1,$F151=5)),0,hosp_count(VALUE(LEFT(Options!$B$14,2)),$C151,$E151,$F151,2016,$I151,1,$H151,$G151*$H151, Options!$B$8)))","v":9825.6386700275998},{"$f":"IF(AND(OR($E$2=\"Orkney Health Board\",$E$2=\"Orkney Islands Local Authority\"),$F151=1),0,IF(AND(OR($E$2=\"Shetland Health Board\",$E$2=\"Western Isles Health Board\",$E$2=\"Shetland Islands Local Authority\",$E$2=\"Eilean Siar Local Authority\"),OR($F151=1,$F151=5)),0,hosp_count(VALUE(LEFT(Options!$B$14,2)),$C151,$E151,$F151,2016,$I151+$J151,1,$H151,$G151*$H151, Options!$B$8)))","v":9821.2204319127995},{"$f":"IF(AND(OR($E$2=\"Orkney Health Board\",$E$2=\"Orkney Islands Local Authority\"),$F151=1),0,IF(AND(OR($E$2=\"Shetland Health Board\",$E$2=\"Western Isles Health Board\",$E$2=\"Shetland Islands Local Authority\",$E$2=\"Eilean Siar Local Authority\"),OR($F151=1,$F151=5)),0,prem_mort(VALUE(LEFT(Options!$B$14,2)),$C151,$E151,$F151,2016,$I151,1,$H151,$G151*$H151,Options!$B$8)))","v":0},{"$f":"IF(AND(OR($E$2=\"Orkney Health Board\",$E$2=\"Orkney Islands Local Authority\"),$F151=1),0,IF(AND(OR($E$2=\"Shetland Health Board\",$E$2=\"Western Isles Health Board\",$E$2=\"Shetland Islands Local Authority\",$E$2=\"Eilean Siar Local Authority\"),OR($F151=1,$F151=5)),0,prem_mort(VALUE(LEFT(Options!$B$14,2)),$C151,$E151,$F151,2016,$I151+$J151,1,$H151,$G151*$H151,Options!$B$8)))","v":0},2768.0694689449792,2766.0140725222445,27320.859498834212,27300.572725864808,44605.223669999999,44585.166297043761,0,0,11072277.875779917,11064056.290088978,109283437.99533685,109202290.90345924,178420894.68000001,178340665.18817505,0,0,4000]
[null,"Female 80-84",81.856712000000002,89.736710000000002,"female",3,{"$f":"HLOOKUP($E$2,'Prevalence Rates'!$C$3:$BC$249,'Prevalence Rates'!$BD152,FALSE)","v":7.3700000000000002E-2},{"$f":"HLOOKUP($E$2,'Population 2016'!$C$3:$BC$249,'Population 2016'!BD152,FALSE)","v":16697},0,{"$f":"ROUND(0.807*(HLOOKUP($E$2,'Population at Risk'!$C$3:$BC$249,'Population at Risk'!$BD152,FALSE)),0)","v":993},{"$f":"IF(AND(OR($E$2=\"Orkney Health Board\",$E$2=\"Orkney Islands Local Authority\"),$F152=1),0,IF(AND(OR($E$2=\"Shetland Health Board\",$E$2=\"Western Isles Health Board\",$E$2=\"Shetland Islands Local Authority\",$E$2=\"Eilean Siar Local Authority\"),OR($F152=1,$F152=5)),0,new_ci(VALUE(LEFT(Options!$B$14,2)),$C152,$E152,$F152,2016,$I152,1,$H152,$G152*$H152,Options!$B$8)))","v":696.73037898220002},{"$f":"IF(AND(OR($E$2=\"Orkney Health Board\",$E$2=\"Orkney Islands Local Authority\"),$F152=1),0,IF(AND(OR($E$2=\"Shetland Health Board\",$E$2=\"Western Isles Health Board\",$E$2=\"Shetland Islands Local Authority\",$E$2=\"Eilean Siar Local Authority\"),OR($F152=1,$F152=5)),0,new_ci(VALUE(LEFT(Options!$B$14,2)),$C152,$E152,$F152,2016,$I152+$J152,1,$H152,$G152*$H152,Options!$B$8)))","v":696.22181651469998},{"$f":"IF(AND(OR($E$2=\"Orkney Health Board\",$E$2=\"Orkney Islands Local Authority\"),$F152=1),0,IF(AND(OR($E$2=\"Shetland Health Board\",$E$2=\"Western Isles Health Board\",$E$2=\"Shetland Islands Local Authority\",$E$2=\"Eilean Siar Local Authority\"),OR($F152=1,$F152=5)),0,new_yllv2(VALUE(LEFT(Options!$B$14,2)),$C152,$D152,$E152,$F152,2016,$I152,1,$H152,$G152*$H152,Options!$B$8)))","v":4793.5036139368003},{"$f":"IF(AND(OR($E$2=\"Orkney Health Board\",$E$2=\"Orkney Islands Local Authority\"),$F152=1),0,IF(AND(OR($E$2=\"Shetland Health Board\",$E$2=\"Western Isles Health Board\",$E$2=\"Shetland Islands Local Authority\",$E$2=\"Eilean Siar Local Authority\"),OR($F152=1,$F152=5)),0,new_yllv2(VALUE(LEFT(Options!$B$14,2)),$C152,$D152,$E152,$F152,2016,$I152+$J152,1,$H152,$G152*$H152,Options!$B$8)))","v":4790.0047051775},{"$f":"IF(AND(OR($E$2=\"Orkney Health Board\",$E$2=\"Orkney Islands Local Authority\"),$F152=1),0,IF(AND(OR($E$2=\"Shetland Health Board\",$E$2=\"Western Isles Health Board\",$E$2=\"Shetland Islands Local Authority\",$E$2=\"Eilean Siar Local Authority\"),OR($F152=1,$F152=5)),0,hosp_count(VALUE(LEFT(Options!$B$14,2)),$C152,$E152,$F152,2016,$I152,1,$H152,$G152*$H152, Options!$B$8)))","v":8427.6017503116},{"$f":"IF(AND(OR($E$2=\"Orkney Health Board\",$E$2=\"Orkney Islands Local Authority\"),$F152=1),0,IF(AND(OR($E$2=\"Shetland Health Board\",$E$2=\"Western Isles Health Board\",$E$2=\"Shetland Islands Local Authority\",$E$2=\"Eilean Siar Local Authority\"),OR($F152=1,$F152=5)),0,hosp_count(VALUE(LEFT(Options!$B$14,2)),$C152,$E152,$F152,2016,$I152+$J152,1,$H152,$G152*$H152, Options!$B$8)))","v":8423.8120322200994},{"$f":"IF(AND(OR($E$2=\"Orkney Health Board\",$E$2=\"Orkney Islands Local Authority\"),$F152=1),0,IF(AND(OR($E$2=\"Shetland Health Board\",$E$2=\"Western Isles Health Board\",$E$2=\"Shetland Islands Local Authority\",$E$2=\"Eilean Siar Local Authority\"),OR($F152=1,$F152=5)),0,prem_mort(VALUE(LEFT(Options!$B$14,2)),$C152,$E152,$F152,2016,$I152,1,$H152,$G152*$H152,Options!$B$8)))","v":0},{"$f":"IF(AND(OR($E$2=\"Orkney Health Board\",$E$2=\"Orkney Islands Local Authority\"),$F152=1),0,IF(AND(OR($E$2=\"Shetland Health Board\",$E$2=\"Western Isles Health Board\",$E$2=\"Shetland Islands Local Authority\",$E$2=\"Eilean Siar Local Authority\"),OR($F152=1,$F152=5)),0,prem_mort(VALUE(LEFT(Options!$B$14,2)),$C152,$E152,$F152,2016,$I152+$J152,1,$H152,$G152*$H152,Options!$B$8)))","v":0},4172.7878000970231,4169.741968705157,28708.771719092056,28687.816405207523,50473.74828,50451.051279991007,0,0,10431969.500242557,10424354.921762893,71771929.297730133,71719541.013018802,126184370.7,126127628.19997752,0,0,2500]
[null,"Female 85-89",86.730819999999994,92.220819999999989,"female",3,{"$f":"HLOOKUP($E$2,'Prevalence Rates'!$C$3:$BC$249,'Prevalence Rates'!$BD153,FALSE)","v":7.3700000000000002E-2},{"$f":"HLOOKUP($E$2,'Population 2016'!$C$3:$BC$249,'Population 2016'!BD153,FALSE)","v":10459},0,{"$f":"ROUND(0.807*(HLOOKUP($E$2,'Population at Risk'!$C$3:$BC$249,'Population at Risk'!$BD153,FALSE)),0)","v":622},{"$f":"IF(AND(OR($E$2=\"Orkney Health Board\",$E$2=\"Orkney Islands Local Authority\"),$F153=1),0,IF(AND(OR($E$2=\"Shetland Health Board\",$E$2=\"Western Isles Health Board\",$E$2=\"Shetland Islands Local Authority\",$E$2=\"Eilean Siar Local Authority\"),OR($F153=1,$F153=5)),0,new_ci(VALUE(LEFT(Options!$B$14,2)),$C153,$E153,$F153,2016,$I153,1,$H153,$G153*$H153,Options!$B$8)))","v":653.23809431510006},{"$f":"IF(AND(OR($E$2=\"Orkney Health Board\",$E$2=\"Orkney Islands Local Authority\"),$F153=1),0,IF(AND(OR($E$2=\"Shetland Health Board\",$E$2=\"Western Isles Health Board\",$E$2=\"Shetland Islands Local Authority\",$E$2=\"Eilean Siar Local Authority\"),OR($F153=1,$F153=5)),0,new_ci(VALUE(LEFT(Options!$B$14,2)),$C153,$E153,$F153,2016,$I153+$J153,1,$H153,$G153*$H153,Options!$B$8)))","v":652.77345876009997},{"$f":"IF(AND(OR($E$2=\"Orkney Health Board\",$E$2=\"Orkney Islands Local Authority\"),$F153=1),0,IF(AND(OR($E$2=\"Shetland Health Board\",$E$2=\"Western Isles Health Board\",$E$2=\"Shetland Islands Local Authority\",$E$2=\"Eilean Siar Local Authority\"),OR($F153=1,$F153=5)),0,new_yllv2(VALUE(LEFT(Options!$B$14,2)),$C153,$D153,$E153,$F153,2016,$I153,1,$H153,$G153*$H153,Options!$B$8)))","v":2933.0390434748001},{"$f":"IF(AND(OR($E$2=\"Orkney Health Board\",$E$2=\"Orkney Islands Local Authority\"),$F153=1),0,IF(AND(OR($E$2=\"Shetland Health Board\",$E$2=\"Western Isles Health Board\",$E$2=\"Shetland Islands Local Authority\",$E$2=\"Eilean Siar Local Authority\"),OR($F153=1,$F153=5)),0,new_yllv2(VALUE(LEFT(Options!$B$14,2)),$C153,$D153,$E153,$F153,2016,$I153+$J153,1,$H153,$G153*$H153,Options!$B$8)))","v":2930.9528298328},{"$f":"IF(AND(OR($E$2=\"Orkney Health Board\",$E$2=\"Orkney Islands Local Authority\"),$F153=1),0,IF(AND(OR($E$2=\"Shetland Health Board\",$E$2=\"Western Isles Health Board\",$E$2=\"Shetland Islands Local Authority\",$E$2=\"Eilean Siar Local Authority\"),OR($F153=1,$F153=5)),0,hosp_count(VALUE(LEFT(Options!$B$14,2)),$C153,$E153,$F153,2016,$I153,1,$H153,$G153*$H153, Options!$B$8)))","v":5967.6178789523001},{"$f":"IF(AND(OR($E$2=\"Orkney Health Board\",$E$2=\"Orkney Islands Local Authority\"),$F153=1),0,IF(AND(OR($E$2=\"Shetland Health Board\",$E$2=\"Western Isles Health Board\",$E$2=\"Shetland Islands Local Authority\",$E$2=\"Eilean Siar Local Authority\"),OR($F153=1,$F153=5)),0,hosp_count(VALUE(LEFT(Options!$B$14,2)),$C153,$E153,$F153,2016,$I153+$J153,1,$H153,$G153*$H153, Options!$B$8)))","v":5964.9344300848998},{"$f":"IF(AND(OR($E$2=\"Orkney Health Board\",$E$2=\"Orkney Islands Local Authority\"),$F153=1),0,IF(AND(OR($E$2=\"Shetland Health Board\",$E$2=\"Western Isles Health Board\",$E$2=\"Shetland Islands Local Authority\",$E$2=\"Eilean Siar Local Authority\"),OR($F153=1,$F153=5)),0,prem_mort(VALUE(LEFT(Options!$B$14,2)),$C153,$E153,$F153,2016,$I153,1,$H153,$G153*$H153,Options!$B$8)))","v":0},{"$f":"IF(AND(OR($E$2=\"Orkney Health Board\",$E$2=\"Orkney Islands Local Authority\"),$F153=1),0,IF(AND(OR($E$2=\"Shetland Health Board\",$E$2=\"Western Isles Health Board\",$E$2=\"Shetland Islands Local Authority\",$E$2=\"Eilean Siar Local Authority\"),OR($F153=1,$F153=5)),0,prem_mort(VALUE(LEFT(Options!$B$14,2)),$C153,$E153,$F153,2016,$I153+$J153,1,$H153,$G153*$H153,Options!$B$8)))","v":0},6245.7031677512196,6241.2607205287313,28043.207223202982,28023.260635173534,57057.250970000008,57031.594130269623,0,0,9368554.7516268287,9361891.0807930976,42064810.834804475,42034890.952760302,85585876.455000013,85547391.19540444,0,0,1500]
[null,"Female 90+",92.779342999999997,96.279340000000005,"female",3,{"$f":"HLOOKUP($E$2,'Prevalence Rates'!$C$3:$BC$249,'Prevalence Rates'!$BD154,FALSE)","v":7.3700000000000002E-2},{"$f":"HLOOKUP($E$2,'Population 2016'!$C$3:$BC$249,'Population 2016'!BD154,FALSE)","v":6278},0,{"$f":"ROUND(0.807*(HLOOKUP($E$2,'Population at Risk'!$C$3:$BC$249,'Population at Risk'!$BD154,FALSE)),0)","v":373},{"$f":"IF(AND(OR($E$2=\"Orkney Health Board\",$E$2=\"Orkney Islands Local Authority\"),$F154=1),0,IF(AND(OR($E$2=\"Shetland Health Board\",$E$2=\"Western Isles Health Board\",$E$2=\"Shetland Islands Local Authority\",$E$2=\"Eilean Siar Local Authority\"),OR($F154=1,$F154=5)),0,new_ci(VALUE(LEFT(Options!$B$14,2)),$C154,$E154,$F154,2016,$I154,1,$H154,$G154*$H154,Options!$B$8)))","v":641.51241200849995},{"$f":"IF(AND(OR($E$2=\"Orkney Health Board\",$E$2=\"Orkney Islands Local Authority\"),$F154=1),0,IF(AND(OR($E$2=\"Shetland Health Board\",$E$2=\"Western Isles Health Board\",$E$2=\"Shetland Islands Local Authority\",$E$2=\"Eilean Siar Local Authority\"),OR($F154=1,$F154=5)),0,new_ci(VALUE(LEFT(Options!$B$14,2)),$C154,$E154,$F154,2016,$I154+$J154,1,$H154,$G154*$H154,Options!$B$8)))","v":641.07939052699999},{"$f":"IF(AND(OR($E$2=\"Orkney Health Board\",$E$2=\"Orkney Islands Local Authority\"),$F154=1),0,IF(AND(OR($E$2=\"Shetland Health Board\",$E$2=\"Western Isles Health Board\",$E$2=\"Shetland Islands Local Authority\",$E$2=\"Eilean Siar Local Authority\"),OR($F154=1,$F154=5)),0,new_yllv2(VALUE(LEFT(Options!$B$14,2)),$C154,$D154,$E154,$F154,2016,$I154,1,$H154,$G154*$H154,Options!$B$8)))","v":1603.779105484},{"$f":"IF(AND(OR($E$2=\"Orkney Health Board\",$E$2=\"Orkney Islands Local Authority\"),$F154=1),0,IF(AND(OR($E$2=\"Shetland Health Board\",$E$2=\"Western Isles Health Board\",$E$2=\"Shetland Islands Local Authority\",$E$2=\"Eilean Siar Local Authority\"),OR($F154=1,$F154=5)),0,new_yllv2(VALUE(LEFT(Options!$B$14,2)),$C154,$D154,$E154,$F154,2016,$I154+$J154,1,$H154,$G154*$H154,Options!$B$8)))","v":1602.6965530793},{"$f":"IF(AND(OR($E$2=\"Orkney Health Board\",$E$2=\"Orkney Islands Local Authority\"),$F154=1),0,IF(AND(OR($E$2=\"Shetland Health Board\",$E$2=\"Western Isles Health Board\",$E$2=\"Shetland Islands Local Authority\",$E$2=\"Eilean Siar Local Authority\"),OR($F154=1,$F154=5)),0,hosp_count(VALUE(LEFT(Options!$B$14,2)),$C154,$E154,$F154,2016,$I154,1,$H154,$G154*$H154, Options!$B$8)))","v":4170.6800816340001},{"$f":"IF(AND(OR($E$2=\"Orkney Health Board\",$E$2=\"Orkney Islands Local Authority\"),$F154=1),0,IF(AND(OR($E$2=\"Shetland Health Board\",$E$2=\"Western Isles Health Board\",$E$2=\"Shetland Islands Local Authority\",$E$2=\"Eilean Siar Local Authority\"),OR($F154=1,$F154=5)),0,hosp_count(VALUE(LEFT(Options!$B$14,2)),$C154,$E154,$F154,2016,$I154+$J154,1,$H154,$G154*$H154, Options!$B$8)))","v":4168.8064401331003},{"$f":"IF(AND(OR($E$2=\"Orkney Health Board\",$E$2=\"Orkney Islands Local Authority\"),$F154=1),0,IF(AND(OR($E$2=\"Shetland Health Board\",$E$2=\"Western Isles Health Board\",$E$2=\"Shetland Islands Local Authority\",$E$2=\"Eilean Siar Local Authority\"),OR($F154=1,$F154=5)),0,prem_mort(VALUE(LEFT(Options!$B$14,2)),$C154,$E154,$F154,2016,$I154,1,$H154,$G154*$H154,Options!$B$8)))","v":0},{"$f":"IF(AND(OR($E$2=\"Orkney Health Board\",$E$2=\"Orkney Islands Local Authority\"),$F154=1),0,IF(AND(OR($E$2=\"Shetland Health Board\",$E$2=\"Western Isles Health Board\",$E$2=\"Shetland Islands Local Authority\",$E$2=\"Eilean Siar Local Authority\"),OR($F154=1,$F154=5)),0,prem_mort(VALUE(LEFT(Options!$B$14,2)),$C154,$E154,$F154,2016,$I154+$J154,1,$H154,$G154*$H154,Options!$B$8)))","v":0},10218.420070221408,10211.522627062759,25546.019520293084,25528.775933088564,66433.260299999994,66403.415739616117,0,0,10218420.070221407,10211522.627062758,25546019.520293083,25528775.933088563,66433260.299999997,66403415.739616118,0,0,1000]
[null,"Male 0-4",2.0320822999999999,77.402082000000007,"male",3,{"$f":"HLOOKUP($E$2,'Prevalence Rates'!$C$3:$BC$249,'Prevalence Rates'!$BD155,FALSE)","v":0},{"$f":"HLOOKUP($E$2,'Population 2016'!$C$3:$BC$249,'Population 2016'!BD155,FALSE)","v":0},0,{"$f":"ROUND(0.807*(HLOOKUP($E$2,'Population at Risk'!$C$3:$BC$249,'Population at Risk'!$BD155,FALSE)),0)","v":0},{"$f":"IF(AND(OR($E$2=\"Orkney Health Board\",$E$2=\"Orkney Islands Local Authority\"),$F155=1),0,IF(AND(OR($E$2=\"Shetland Health Board\",$E$2=\"Western Isles Health Board\",$E$2=\"Shetland Islands Local Authority\",$E$2=\"Eilean Siar Local Authority\"),OR($F155=1,$F155=5)),0,new_ci(VALUE(LEFT(Options!$B$14,2)),$C155,$E155,$F155,2016,$I155,1,$H155,$G155*$H155,Options!$B$8)))","v":{"$error":"#VALUE!"}},{"$f":"IF(AND(OR($E$2=\"Orkney Health Board\",$E$2=\"Orkney Islands Local Authority\"),$F155=1),0,IF(AND(OR($E$2=\"Shetland Health Board\",$E$2=\"Western Isles Health Board\",$E$2=\"Shetland Islands Local Authority\",$E$2=\"Eilean Siar Local Authority\"),OR($F155=1,$F155=5)),0,new_ci(VALUE(LEFT(Options!$B$14,2)),$C155,$E155,$F155,2016,$I155+$J155,1,$H155,$G155*$H155,Options!$B$8)))","v":{"$error":"#VALUE!"}},{"$f":"IF(AND(OR($E$2=\"Orkney Health Board\",$E$2=\"Orkney Islands Local Authority\"),$F155=1),0,IF(AND(OR($E$2=\"Shetland Health Board\",$E$2=\"Western Isles Health Board\",$E$2=\"Shetland Islands Local Authority\",$E$2=\"Eilean Siar Local Authority\"),OR($F155=1,$F155=5)),0,new_yllv2(VALUE(LEFT(Options!$B$14,2)),$C155,$D155,$E155,$F155,2016,$I155,1,$H155,$G155*$H155,Options!$B$8)))","v":{"$error":"#VALUE!"}},{"$f":"IF(AND(OR($E$2=\"Orkney Health Board\",$E$2=\"Orkney Islands Local Authority\"),$F155=1),0,IF(AND(OR($E$2=\"Shetland Health Board\",$E$2=\"Western Isles Health Board\",$E$2=\"Shetland Islands Local Authority\",$E$2=\"Eilean Siar Local Authority\"),OR($F155=1,$F155=5)),0,new_yllv2(VALUE(LEFT(Options!$B$14,2)),$C155,$D155,$E155,$F155,2016,$I155+$J155,1,$H155,$G155*$H155,Options!$B$8)))","v":{"$error":"#VALUE!"}},{"$f":"IF(AND(OR($E$2=\"Orkney Health Board\",$E$2=\"Orkney Islands Local Authority\"),$F155=1),0,IF(AND(OR($E$2=\"Shetland Health Board\",$E$2=\"Western Isles Health Board\",$E$2=\"Shetland Islands Local Authority\",$E$2=\"Eilean Siar Local Authority\"),OR($F155=1,$F155=5)),0,hosp_count(VALUE(LEFT(Options!$B$14,2)),$C155,$E155,$F155,2016,$I155,1,$H155,$G155*$H155, Options!$B$8)))","v":{"$error":"#VALUE!"}},{"$f":"IF(AND(OR($E$2=\"Orkney Health Board\",$E$2=\"Orkney Islands Local Authority\"),$F155=1),0,IF(AND(OR($E$2=\"Shetland Health Board\",$E$2=\"Western Isles Health Board\",$E$2=\"Shetland Islands Local Authority\",$E$2=\"Eilean Siar Local Authority\"),OR($F155=1,$F155=5)),0,hosp_count(VALUE(LEFT(Options!$B$14,2)),$C155,$E155,$F155,2016,$I155+$J155,1,$H155,$G155*$H155, Options!$B$8)))","v":{"$error":"#VALUE!"}},{"$f":"IF(AND(OR($E$2=\"Orkney Health Board\",$E$2=\"Orkney Islands Local Authority\"),$F155=1),0,IF(AND(OR($E$2=\"Shetland Health Board\",$E$2=\"Western Isles Health Board\",$E$2=\"Shetland Islands Local Authority\",$E$2=\"Eilean Siar Local Authority\"),OR($F155=1,$F155=5)),0,prem_mort(VALUE(LEFT(Options!$B$14,2)),$C155,$E155,$F155,2016,$I155,1,$H155,$G155*$H155,Options!$B$8)))","v":{"$error":"#VALUE!"}},{"$f":"IF(AND(OR($E$2=\"Orkney Health Board\",$E$2=\"Orkney Islands Local Authority\"),$F155=1),0,IF(AND(OR($E$2=\"Shetland Health Board\",$E$2=\"Western Isles Health Board\",$E$2=\"Shetland Islands Local Authority\",$E$2=\"Eilean Siar Local Authority\"),OR($F155=1,$F155=5)),0,prem_mort(VALUE(LEFT(Options!$B$14,2)),$C155,$E155,$F155,2016,$I155+$J155,1,$H155,$G155*$H155,Options!$B$8)))","v":{"$error":"#VALUE!"}},{"$error":"#VALUE!"},{"$error":"#VALUE!"},{"$error":"#VALUE!"},{"$error":"#VALUE!"},{"$error":"#VALUE!"},{"$error":"#VALUE!"},{"$error":"#VALUE!"},{"$error":"#VALUE!"},{"$error":"#VALUE!"},{"$error":"#VALUE!"},{"$error":"#VALUE!"},{"$error":"#VALUE!"},{"$error":"#VALUE!"},{"$error":"#VALUE!"},{"$error":"#VALUE!"},{"$error":"#VALUE!"},5000]
[null,"Male 5-9",6.9784756000000003,77.398476000000002,"male",3,{"$f":"HLOOKUP($E$2,'Prevalence Rates'!$C$3:$BC$249,'Prevalence Rates'!$BD156,FALSE)","v":0},{"$f":"HLOOKUP($E$2,'Population 2016'!$C$3:$BC$249,'Population 2016'!BD156,FALSE)","v":0},0,{"$f":"ROUND(0.807*(HLOOKUP($E$2,'Population at Risk'!$C$3:$BC$249,'Population at Risk'!$BD156,FALSE)),0)","v":0},{"$f":"IF(AND(OR($E$2=\"Orkney Health Board\",$E$2=\"Orkney Islands Local Authority\"),$F156=1),0,IF(AND(OR($E$2=\"Shetland Health Board\",$E$2=\"Western Isles Health Board\",$E$2=\"Shetland Islands Local Authority\",$E$2=\"Eilean Siar Local Authority\"),OR($F156=1,$F156=5)),0,new_ci(VALUE(LEFT(Options!$B$14,2)),$C156,$E156,$F156,2016,$I156,1,$H156,$G156*$H156,Options!$B$8)))","v":{"$error":"#VALUE!"}},{"$f":"IF(AND(OR($E$2=\"Orkney Health Board\",$E$2=\"Orkney Islands Local Authority\"),$F156=1),0,IF(AND(OR($E$2=\"Shetland Health Board\",$E$2=\"Western Isles Health Board\",$E$2=\"Shetland Islands Local Authority\",$E$2=\"Eilean Siar Local Authority\"),OR($F156=1,$F156=5)),0,new_ci(VALUE(LEFT(Options!$B$14,2)),$C156,$E156,$F156,2016,$I156+$J156,1,$H156,$G156*$H156,Options!$B$8)))","v":{"$error":"#VALUE!"}},{"$f":"IF(AND(OR($E$2=\"Orkney Health Board\",$E$2=\"Orkney Islands Local Authority\"),$F156=1),0,IF(AND(OR($E$2=\"Shetland Health Board\",$E$2=\"Western Isles Health Board\",$E$2=\"Shetland Islands Local Authority\",$E$2=\"Eilean Siar Local Authority\"),OR($F156=1,$F156=5)),0,new_yllv2(VALUE(LEFT(Options!$B$14,2)),$C156,$D156,$E156,$F156,2016,$I156,1,$H156,$G156*$H156,Options!$B$8)))","v":{"$error":"#VALUE!"}},{"$f":"IF(AND(OR($E$2=\"Orkney Health Board\",$E$2=\"Orkney Islands Local Authority\"),$F156=1),0,IF(AND(OR($E$2=\"Shetland Health Board\",$E$2=\"Western Isles Health Board\",$E$2=\"Shetland Islands Local Authority\",$E$2=\"Eilean Siar Local Authority\"),OR($F156=1,$F156=5)),0,new_yllv2(VALUE(LEFT(Options!$B$14,2)),$C156,$D156,$E156,$F156,2016,$I156+$J156,1,$H156,$G156*$H156,Options!$B$8)))","v":{"$error":"#VALUE!"}},{"$f":"IF(AND(OR($E$2=\"Orkney Health Board\",$E$2=\"Orkney Islands Local Authority\"),$F156=1),0,IF(AND(OR($E$2=\"Shetland Health Board\",$E$2=\"Western Isles Health Board\",$E$2=\"Shetland Islands Local Authority\",$E$2=\"Eilean Siar Local Authority\"),OR($F156=1,$F156=5)),0,hosp_count(VALUE(LEFT(Options!$B$14,2)),$C156,$E156,$F156,2016,$I156,1,$H156,$G156*$H156, Options!$B$8)))","v":{"$error":"#VALUE!"}},{"$f":"IF(AND(OR($E$2=\"Orkney Health Board\",$E$2=\"Orkney Islands Local Authority\"),$F156=1),0,IF(AND(OR($E$2=\"Shetland Health Board\",$E$2=\"Western Isles Health Board\",$E$2=\"Shetland Islands Local Authority\",$E$2=\"Eilean Siar Local Authority\"),OR($F156=1,$F156=5)),0,hosp_count(VALUE(LEFT(Options!$B$14,2)),$C156,$E156,$F156,2016,$I156+$J156,1,$H156,$G156*$H156, Options!$B$8)))","v":{"$error":"#VALUE!"}},{"$f":"IF(AND(OR($E$2=\"Orkney Health Board\",$E$2=\"Orkney Islands Local Authority\"),$F156=1),0,IF(AND(OR($E$2=\"Shetland Health Board\",$E$2=\"Western Isles Health Board\",$E$2=\"Shetland Islands Local Authority\",$E$2=\"Eilean Siar Local Authority\"),OR($F156=1,$F156=5)),0,prem_mort(VALUE(LEFT(Options!$B$14,2)),$C156,$E156,$F156,2016,$I156,1,$H156,$G156*$H156,Options!$B$8)))","v":{"$error":"#VALUE!"}},{"$f":"IF(AND(OR($E$2=\"Orkney Health Board\",$E$2=\"Orkney Islands Local Authority\"),$F156=1),0,IF(AND(OR($E$2=\"Shetland Health Board\",$E$2=\"Western Isles Health Board\",$E$2=\"Shetland Islands Local Authority\",$E$2=\"Eilean Siar Local Authority\"),OR($F156=1,$F156=5)),0,prem_mort(VALUE(LEFT(Options!$B$14,2)),$C156,$E156,$F156,2016,$I156+$J156,1,$H156,$G156*$H156,Options!$B$8)))","v":{"$error":"#VALUE!"}},{"$error":"#VALUE!"},{"$error":"#VALUE!"},{"$error":"#VALUE!"},{"$error":"#VALUE!"},{"$error":"#VALUE!"},{"$error":"#VALUE!"},{"$error":"#VALUE!"},{"$error":"#VALUE!"},{"$error":"#VALUE!"},{"$error":"#VALUE!"},{"$error":"#VALUE!"},{"$error":"#VALUE!"},{"$f":"W156*$AI156","v":{"$error":"#VALUE!"}},{"$f":"X156*$AI156","v":{"$error":"#VALUE!"}},{"$f":"Y156*$AI156","v":{"$error":"#VALUE!"}},{"$f":"Z156*$AI156","v":{"$error":"#VALUE!"}},5500]
[null,"Male 10-15",12.471144000000001,77.921140000000008,"male",3,{"$f":"HLOOKUP($E$2,'Prevalence Rates'!$C$3:$BC$249,'Prevalence Rates'!$BD157,FALSE)","v":0},{"$f":"HLOOKUP($E$2,'Population 2016'!$C$3:$BC$249,'Population 2016'!BD157,FALSE)","v":0},0,{"$f":"ROUND(0.807*(HLOOKUP($E$2,'Population at Risk'!$C$3:$BC$249,'Population at Risk'!$BD157,FALSE)),0)","v":0},{"$f":"IF(AND(OR($E$2=\"Orkney Health Board\",$E$2=\"Orkney Islands Local Authority\"),$F157=1),0,IF(AND(OR($E$2=\"Shetland Health Board\",$E$2=\"Western Isles Health Board\",$E$2=\"Shetland Islands Local Authority\",$E$2=\"Eilean Siar Local Authority\"),OR($F157=1,$F157=5)),0,new_ci(VALUE(LEFT(Options!$B$14,2)),$C157,$E157,$F157,2016,$I157,1,$H157,$G157*$H157,Options!$B$8)))","v":{"$error":"#VALUE!"}},{"$f":"IF(AND(OR($E$2=\"Orkney Health Board\",$E$2=\"Orkney Islands Local Authority\"),$F157=1),0,IF(AND(OR($E$2=\"Shetland Health Board\",$E$2=\"Western Isles Health Board\",$E$2=\"Shetland Islands Local Authority\",$E$2=\"Eilean Siar Local Authority\"),OR($F157=1,$F157=5)),0,new_ci(VALUE(LEFT(Options!$B$14,2)),$C157,$E157,$F157,2016,$I157+$J157,1,$H157,$G157*$H157,Options!$B$8)))","v":{"$error":"#VALUE!"}},{"$f":"IF(AND(OR($E$2=\"Orkney Health Board\",$E$2=\"Orkney Islands Local Authority\"),$F157=1),0,IF(AND(OR($E$2=\"Shetland Health Board\",$E$2=\"Western Isles Health Board\",$E$2=\"Shetland Islands Local Authority\",$E$2=\"Eilean Siar Local Authority\"),OR($F157=1,$F157=5)),0,new_yllv2(VALUE(LEFT(Options!$B$14,2)),$C157,$D157,$E157,$F157,2016,$I157,1,$H157,$G157*$H157,Options!$B$8)))","v":{"$error":"#VALUE!"}},{"$f":"IF(AND(OR($E$2=\"Orkney Health Board\",$E$2=\"Orkney Islands Local Authority\"),$F157=1),0,IF(AND(OR($E$2=\"Shetland Health Board\",$E$2=\"Western Isles Health Board\",$E$2=\"Shetland Islands Local Authority\",$E$2=\"Eilean Siar Local Authority\"),OR($F157=1,$F157=5)),0,new_yllv2(VALUE(LEFT(Options!$B$14,2)),$C157,$D157,$E157,$F157,2016,$I157+$J157,1,$H157,$G157*$H157,Options!$B$8)))","v":{"$error":"#VALUE!"}},{"$f":"IF(AND(OR($E$2=\"Orkney Health Board\",$E$2=\"Orkney Islands Local Authority\"),$F157=1),0,IF(AND(OR($E$2=\"Shetland Health Board\",$E$2=\"Western Isles Health Board\",$E$2=\"Shetland Islands Local Authority\",$E$2=\"Eilean Siar Local Authority\"),OR($F157=1,$F157=5)),0,hosp_count(VALUE(LEFT(Options!$B$14,2)),$C157,$E157,$F157,2016,$I157,1,$H157,$G157*$H157, Options!$B$8)))","v":{"$error":"#VALUE!"}},{"$f":"IF(AND(OR($E$2=\"Orkney Health Board\",$E$2=\"Orkney Islands Local Authority\"),$F157=1),0,IF(AND(OR($E$2=\"Shetland Health Board\",$E$2=\"Western Isles Health Board\",$E$2=\"Shetland Islands Local Authority\",$E$2=\"Eilean Siar Local Authority\"),OR($F157=1,$F157=5)),0,hosp_count(VALUE(LEFT(Options!$B$14,2)),$C157,$E157,$F157,2016,$I157+$J157,1,$H157,$G157*$H157, Options!$B$8)))","v":{"$error":"#VALUE!"}},{"$f":"IF(AND(OR($E$2=\"Orkney Health Board\",$E$2=\"Orkney Islands Local Authority\"),$F157=1),0,IF(AND(OR($E$2=\"Shetland Health Board\",$E$2=\"Western Isles Health Board\",$E$2=\"Shetland Islands Local Authority\",$E$2=\"Eilean Siar Local Authority\"),OR($F157=1,$F157=5)),0,prem_mort(VALUE(LEFT(Options!$B$14,2)),$C157,$E157,$F157,2016,$I157,1,$H157,$G157*$H157,Options!$B$8)))","v":{"$error":"#VALUE!"}},{"$f":"IF(AND(OR($E$2=\"Orkney Health Board\",$E$2=\"Orkney Islands Local Authority\"),$F157=1),0,IF(AND(OR($E$2=\"Shetland Health Board\",$E$2=\"Western Isles Health Board\",$E$2=\"Shetland Islands Local Authority\",$E$2=\"Eilean Siar Local Authority\"),OR($F157=1,$F157=5)),0,prem_mort(VALUE(LEFT(Options!$B$14,2)),$C157,$E157,$F157,2016,$I157+$J157,1,$H157,$G157*$H157,Options!$B$8)))","v":{"$error":"#VALUE!"}},{"$error":"#VALUE!"},{"$error":"#VALUE!"},{"$error":"#VALUE!"},{"$error":"#VALUE!"},{"$error":"#VALUE!"},{"$error":"#VALUE!"},{"$error":"#VALUE!"},{"$error":"#VALUE!"},{"$error":"#VALUE!"},{"$error":"#VALUE!"},{"$error":"#VALUE!"},{"$error":"#VALUE!"},{"$error":"#VALUE!"},{"$error":"#VALUE!"},{"$error":"#VALUE!"},{"$error":"#VALUE!"},6600]
[null,"Male 16-19",17.556318000000001,77.07632000000001,"male",3,{"$f":"HLOOKUP($E$2,'Prevalence Rates'!$C$3:$BC$249,'Prevalence Rates'!$BD158,FALSE)","v":0.2051},{"$f":"HLOOKUP($E$2,'Population 2016'!$C$3:$BC$249,'Population 2016'!BD158,FALSE)","v":23727},0,{"$f":"ROUND(0.807*(HLOOKUP($E$2,'Population at Risk'!$C$3:$BC$249,'Population at Risk'!$BD158,FALSE)),0)","v":3927},{"$f":"IF(AND(OR($E$2=\"Orkney Health Board\",$E$2=\"Orkney Islands Local Authority\"),$F158=1),0,IF(AND(OR($E$2=\"Shetland Health Board\",$E$2=\"Western Isles Health Board\",$E$2=\"Shetland Islands Local Authority\",$E$2=\"Eilean Siar Local Authority\"),OR($F158=1,$F158=5)),0,new_ci(VALUE(LEFT(Options!$B$14,2)),$C158,$E158,$F158,2016,$I158,1,$H158,$G158*$H158,Options!$B$8)))","v":10.1547576445},{"$f":"IF(AND(OR($E$2=\"Orkney Health Board\",$E$2=\"Orkney Islands Local Authority\"),$F158=1),0,IF(AND(OR($E$2=\"Shetland Health Board\",$E$2=\"Western Isles Health Board\",$E$2=\"Shetland Islands Local Authority\",$E$2=\"Eilean Siar Local Authority\"),OR($F158=1,$F158=5)),0,new_ci(VALUE(LEFT(Options!$B$14,2)),$C158,$E158,$F158,2016,$I158+$J158,1,$H158,$G158*$H158,Options!$B$8)))","v":10.1411191735},{"$f":"IF(AND(OR($E$2=\"Orkney Health Board\",$E$2=\"Orkney Islands Local Authority\"),$F158=1),0,IF(AND(OR($E$2=\"Shetland Health Board\",$E$2=\"Western Isles Health Board\",$E$2=\"Shetland Islands Local Authority\",$E$2=\"Eilean Siar Local Authority\"),OR($F158=1,$F158=5)),0,new_yllv2(VALUE(LEFT(Options!$B$14,2)),$C158,$D158,$E158,$F158,2016,$I158,1,$H158,$G158*$H158,Options!$B$8)))","v":594.25643766569999},{"$f":"IF(AND(OR($E$2=\"Orkney Health Board\",$E$2=\"Orkney Islands Local Authority\"),$F158=1),0,IF(AND(OR($E$2=\"Shetland Health Board\",$E$2=\"Western Isles Health Board\",$E$2=\"Shetland Islands Local Authority\",$E$2=\"Eilean Siar Local Authority\"),OR($F158=1,$F158=5)),0,new_yllv2(VALUE(LEFT(Options!$B$14,2)),$C158,$D158,$E158,$F158,2016,$I158+$J158,1,$H158,$G158*$H158,Options!$B$8)))","v":593.45831431550005},{"$f":"IF(AND(OR($E$2=\"Orkney Health Board\",$E$2=\"Orkney Islands Local Authority\"),$F158=1),0,IF(AND(OR($E$2=\"Shetland Health Board\",$E$2=\"Western Isles Health Board\",$E$2=\"Shetland Islands Local Authority\",$E$2=\"Eilean Siar Local Authority\"),OR($F158=1,$F158=5)),0,hosp_count(VALUE(LEFT(Options!$B$14,2)),$C158,$E158,$F158,2016,$I158,1,$H158,$G158*$H158, Options!$B$8)))","v":1609.2337632294},{"$f":"IF(AND(OR($E$2=\"Orkney Health Board\",$E$2=\"Orkney Islands Local Authority\"),$F158=1),0,IF(AND(OR($E$2=\"Shetland Health Board\",$E$2=\"Western Isles Health Board\",$E$2=\"Shetland Islands Local Authority\",$E$2=\"Eilean Siar Local Authority\"),OR($F158=1,$F158=5)),0,hosp_count(VALUE(LEFT(Options!$B$14,2)),$C158,$E158,$F158,2016,$I158+$J158,1,$H158,$G158*$H158, Options!$B$8)))","v":1607.8676133663},{"$f":"IF(AND(OR($E$2=\"Orkney Health Board\",$E$2=\"Orkney Islands Local Authority\"),$F158=1),0,IF(AND(OR($E$2=\"Shetland Health Board\",$E$2=\"Western Isles Health Board\",$E$2=\"Shetland Islands Local Authority\",$E$2=\"Eilean Siar Local Authority\"),OR($F158=1,$F158=5)),0,prem_mort(VALUE(LEFT(Options!$B$14,2)),$C158,$E158,$F158,2016,$I158,1,$H158,$G158*$H158,Options!$B$8)))","v":10.1547576445},{"$f":"IF(AND(OR($E$2=\"Orkney Health Board\",$E$2=\"Orkney Islands Local Authority\"),$F158=1),0,IF(AND(OR($E$2=\"Shetland Health Board\",$E$2=\"Western Isles Health Board\",$E$2=\"Shetland Islands Local Authority\",$E$2=\"Eilean Siar Local Authority\"),OR($F158=1,$F158=5)),0,prem_mort(VALUE(LEFT(Options!$B$14,2)),$C158,$E158,$F158,2016,$I158+$J158,1,$H158,$G158*$H158,Options!$B$8)))","v":10.1411191735},42.798321087790285,42.740840281114345,2504.5578356543178,2501.1940587326676,6782.2892199999997,6776.5314340890136,42.798321087790285,42.740840281114345,188312.61278627726,188059.69723690313,11020054.476878999,11005253.858423738,29842072.568,29816738.309991661,188312.61278627726,188059.69723690313,4400]
[null,"Male 20-24",22.054632000000002,77.704629999999995,"male",3,{"$f":"HLOOKUP($E$2,'Prevalence Rates'!$C$3:$BC$249,'Prevalence Rates'!$BD159,FALSE)","v":0.2051},{"$f":"HLOOKUP($E$2,'Population 2016'!$C$3:$BC$249,'Population 2016'!BD159,FALSE)","v":35247},0,{"$f":"ROUND(0.807*(HLOOKUP($E$2,'Population at Risk'!$C$3:$BC$249,'Population at Risk'!$BD159,FALSE)),0)","v":5834},{"$f":"IF(AND(OR($E$2=\"Orkney Health Board\",$E$2=\"Orkney Islands Local Authority\"),$F159=1),0,IF(AND(OR($E$2=\"Shetland Health Board\",$E$2=\"Western Isles Health Board\",$E$2=\"Shetland Islands Local Authority\",$E$2=\"Eilean Siar Local Authority\"),OR($F159=1,$F159=5)),0,new_ci(VALUE(LEFT(Options!$B$14,2)),$C159,$E159,$F159,2016,$I159,1,$H159,$G159*$H159,Options!$B$8)))","v":21.183587921000001},{"$f":"IF(AND(OR($E$2=\"Orkney Health Board\",$E$2=\"Orkney Islands Local Authority\"),$F159=1),0,IF(AND(OR($E$2=\"Shetland Health Board\",$E$2=\"Western Isles Health Board\",$E$2=\"Shetland Islands Local Authority\",$E$2=\"Eilean Siar Local Authority\"),OR($F159=1,$F159=5)),0,new_ci(VALUE(LEFT(Options!$B$14,2)),$C159,$E159,$F159,2016,$I159+$J159,1,$H159,$G159*$H159,Options!$B$8)))","v":21.155140753600001},{"$f":"IF(AND(OR($E$2=\"Orkney Health Board\",$E$2=\"Orkney Islands Local Authority\"),$F159=1),0,IF(AND(OR($E$2=\"Shetland Health Board\",$E$2=\"Western Isles Health Board\",$E$2=\"Shetland Islands Local Authority\",$E$2=\"Eilean Siar Local Authority\"),OR($F159=1,$F159=5)),0,new_yllv2(VALUE(LEFT(Options!$B$14,2)),$C159,$D159,$E159,$F159,2016,$I159,1,$H159,$G159*$H159,Options!$B$8)))","v":1157.6830375155},{"$f":"IF(AND(OR($E$2=\"Orkney Health Board\",$E$2=\"Orkney Islands Local Authority\"),$F159=1),0,IF(AND(OR($E$2=\"Shetland Health Board\",$E$2=\"Western Isles Health Board\",$E$2=\"Shetland Islands Local Authority\",$E$2=\"Eilean Siar Local Authority\"),OR($F159=1,$F159=5)),0,new_yllv2(VALUE(LEFT(Options!$B$14,2)),$C159,$D159,$E159,$F159,2016,$I159+$J159,1,$H159,$G159*$H159,Options!$B$8)))","v":1156.128399874},{"$f":"IF(AND(OR($E$2=\"Orkney Health Board\",$E$2=\"Orkney Islands Local Authority\"),$F159=1),0,IF(AND(OR($E$2=\"Shetland Health Board\",$E$2=\"Western Isles Health Board\",$E$2=\"Shetland Islands Local Authority\",$E$2=\"Eilean Siar Local Authority\"),OR($F159=1,$F159=5)),0,hosp_count(VALUE(LEFT(Options!$B$14,2)),$C159,$E159,$F159,2016,$I159,1,$H159,$G159*$H159, Options!$B$8)))","v":2804.4106752117},{"$f":"IF(AND(OR($E$2=\"Orkney Health Board\",$E$2=\"Orkney Islands Local Authority\"),$F159=1),0,IF(AND(OR($E$2=\"Shetland Health Board\",$E$2=\"Western Isles Health Board\",$E$2=\"Shetland Islands Local Authority\",$E$2=\"Eilean Siar Local Authority\"),OR($F159=1,$F159=5)),0,hosp_count(VALUE(LEFT(Options!$B$14,2)),$C159,$E159,$F159,2016,$I159+$J159,1,$H159,$G159*$H159, Options!$B$8)))","v":2802.0297428895001},{"$f":"IF(AND(OR($E$2=\"Orkney Health Board\",$E$2=\"Orkney Islands Local Authority\"),$F159=1),0,IF(AND(OR($E$2=\"Shetland Health Board\",$E$2=\"Western Isles Health Board\",$E$2=\"Shetland Islands Local Authority\",$E$2=\"Eilean Siar Local Authority\"),OR($F159=1,$F159=5)),0,prem_mort(VALUE(LEFT(Options!$B$14,2)),$C159,$E159,$F159,2016,$I159,1,$H159,$G159*$H159,Options!$B$8)))","v":21.183587921000001},{"$f":"IF(AND(OR($E$2=\"Orkney Health Board\",$E$2=\"Orkney Islands Local Authority\"),$F159=1),0,IF(AND(OR($E$2=\"Shetland Health Board\",$E$2=\"Western Isles Health Board\",$E$2=\"Shetland Islands Local Authority\",$E$2=\"Eilean Siar Local Authority\"),OR($F159=1,$F159=5)),0,prem_mort(VALUE(LEFT(Options!$B$14,2)),$C159,$E159,$F159,2016,$I159+$J159,1,$H159,$G159*$H159,Options!$B$8)))","v":21.155140753600001},60.100399809912908,60.019691757028973,3284.486729411014,3280.076034482367,7956.4521100000002,7949.697117171675,60.100399809912908,60.019691757028973,360602.39885947743,360118.15054217383,19706920.376466084,19680456.206894204,47738712.660000004,47698182.70303005,360602.39885947743,360118.15054217383,6000]
[null,"Male 25-29",26.959762999999999,77.789760000000001,"male",3,{"$f":"HLOOKUP($E$2,'Prevalence Rates'!$C$3:$BC$249,'Prevalence Rates'!$BD160,FALSE)","v":0.2873},{"$f":"HLOOKUP($E$2,'Population 2016'!$C$3:$BC$249,'Population 2016'!BD160,FALSE)","v":35940},0,{"$f":"ROUND(0.807*(HLOOKUP($E$2,'Population at Risk'!$C$3:$BC$249,'Population at Risk'!$BD160,FALSE)),0)","v":8333},{"$f":"IF(AND(OR($E$2=\"Orkney Health Board\",$E$2=\"Orkney Islands Local Authority\"),$F160=1),0,IF(AND(OR($E$2=\"Shetland Health Board\",$E$2=\"Western Isles Health Board\",$E$2=\"Shetland Islands Local Authority\",$E$2=\"Eilean Siar Local Authority\"),OR($F160=1,$F160=5)),0,new_ci(VALUE(LEFT(Options!$B$14,2)),$C160,$E160,$F160,2016,$I160,1,$H160,$G160*$H160,Options!$B$8)))","v":31.276639905900002},{"$f":"IF(AND(OR($E$2=\"Orkney Health Board\",$E$2=\"Orkney Islands Local Authority\"),$F160=1),0,IF(AND(OR($E$2=\"Shetland Health Board\",$E$2=\"Western Isles Health Board\",$E$2=\"Shetland Islands Local Authority\",$E$2=\"Eilean Siar Local Authority\"),OR($F160=1,$F160=5)),0,new_ci(VALUE(LEFT(Options!$B$14,2)),$C160,$E160,$F160,2016,$I160+$J160,1,$H160,$G160*$H160,Options!$B$8)))","v":31.221273787299999},{"$f":"IF(AND(OR($E$2=\"Orkney Health Board\",$E$2=\"Orkney Islands Local Authority\"),$F160=1),0,IF(AND(OR($E$2=\"Shetland Health Board\",$E$2=\"Western Isles Health Board\",$E$2=\"Shetland Islands Local Authority\",$E$2=\"Eilean Siar Local Authority\"),OR($F160=1,$F160=5)),0,new_yllv2(VALUE(LEFT(Options!$B$14,2)),$C160,$D160,$E160,$F160,2016,$I160,1,$H160,$G160*$H160,Options!$B$8)))","v":1558.5148726811001},{"$f":"IF(AND(OR($E$2=\"Orkney Health Board\",$E$2=\"Orkney Islands Local Authority\"),$F160=1),0,IF(AND(OR($E$2=\"Shetland Health Board\",$E$2=\"Western Isles Health Board\",$E$2=\"Shetland Islands Local Authority\",$E$2=\"Eilean Siar Local Authority\"),OR($F160=1,$F160=5)),0,new_yllv2(VALUE(LEFT(Options!$B$14,2)),$C160,$D160,$E160,$F160,2016,$I160+$J160,1,$H160,$G160*$H160,Options!$B$8)))","v":1555.7559791573001},{"$f":"IF(AND(OR($E$2=\"Orkney Health Board\",$E$2=\"Orkney Islands Local Authority\"),$F160=1),0,IF(AND(OR($E$2=\"Shetland Health Board\",$E$2=\"Western Isles Health Board\",$E$2=\"Shetland Islands Local Authority\",$E$2=\"Eilean Siar Local Authority\"),OR($F160=1,$F160=5)),0,hosp_count(VALUE(LEFT(Options!$B$14,2)),$C160,$E160,$F160,2016,$I160,1,$H160,$G160*$H160, Options!$B$8)))","v":3403.3914588540001},{"$f":"IF(AND(OR($E$2=\"Orkney Health Board\",$E$2=\"Orkney Islands Local Authority\"),$F160=1),0,IF(AND(OR($E$2=\"Shetland Health Board\",$E$2=\"Western Isles Health Board\",$E$2=\"Shetland Islands Local Authority\",$E$2=\"Eilean Siar Local Authority\"),OR($F160=1,$F160=5)),0,hosp_count(VALUE(LEFT(Options!$B$14,2)),$C160,$E160,$F160,2016,$I160+$J160,1,$H160,$G160*$H160, Options!$B$8)))","v":3399.4842166641001},{"$f":"IF(AND(OR($E$2=\"Orkney Health Board\",$E$2=\"Orkney Islands Local Authority\"),$F160=1),0,IF(AND(OR($E$2=\"Shetland Health Board\",$E$2=\"Western Isles Health Board\",$E$2=\"Shetland Islands Local Authority\",$E$2=\"Eilean Siar Local Authority\"),OR($F160=1,$F160=5)),0,prem_mort(VALUE(LEFT(Options!$B$14,2)),$C160,$E160,$F160,2016,$I160,1,$H160,$G160*$H160,Options!$B$8)))","v":31.276639905900002},{"$f":"IF(AND(OR($E$2=\"Orkney Health Board\",$E$2=\"Orkney Islands Local Authority\"),$F160=1),0,IF(AND(OR($E$2=\"Shetland Health Board\",$E$2=\"Western Isles Health Board\",$E$2=\"Shetland Islands Local Authority\",$E$2=\"Eilean Siar Local Authority\"),OR($F160=1,$F160=5)),0,prem_mort(VALUE(LEFT(Options!$B$14,2)),$C160,$E160,$F160,2016,$I160+$J160,1,$H160,$G160*$H160,Options!$B$8)))","v":31.221273787299999},87.024596287979975,86.870544761547023,4336.435371956316,4328.7589848561493,9469.6479099999997,9458.7763401894827,87.024596287979975,86.870544761547023,522147.57772787986,521223.26856928214,26018612.231737897,25972553.909136895,56817887.460000001,56752658.041136898,522147.57772787986,521223.26856928214,6000]
[null,"Male 30-34",31.981521999999998,78.061520000000002,"male",3,{"$f":"HLOOKUP($E$2,'Prevalence Rates'!$C$3:$BC$249,'Prevalence Rates'!$BD161,FALSE)","v":0.2873},{"$f":"HLOOKUP($E$2,'Population 2016'!$C$3:$BC$249,'Population 2016'!BD161,FALSE)","v":34643},0,{"$f":"ROUND(0.807*(HLOOKUP($E$2,'Population at Risk'!$C$3:$BC$249,'Population at Risk'!$BD161,FALSE)),0)","v":8032},{"$f":"IF(AND(OR($E$2=\"Orkney Health Board\",$E$2=\"Orkney Islands Local Authority\"),$F161=1),0,IF(AND(OR($E$2=\"Shetland Health Board\",$E$2=\"Western Isles Health Board\",$E$2=\"Shetland Islands Local Authority\",$E$2=\"Eilean Siar Local Authority\"),OR($F161=1,$F161=5)),0,new_ci(VALUE(LEFT(Options!$B$14,2)),$C161,$E161,$F161,2016,$I161,1,$H161,$G161*$H161,Options!$B$8)))","v":44.0368119197},{"$f":"IF(AND(OR($E$2=\"Orkney Health Board\",$E$2=\"Orkney Islands Local Authority\"),$F161=1),0,IF(AND(OR($E$2=\"Shetland Health Board\",$E$2=\"Western Isles Health Board\",$E$2=\"Shetland Islands Local Authority\",$E$2=\"Eilean Siar Local Authority\"),OR($F161=1,$F161=5)),0,new_ci(VALUE(LEFT(Options!$B$14,2)),$C161,$E161,$F161,2016,$I161+$J161,1,$H161,$G161*$H161,Options!$B$8)))","v":43.958891881299998},{"$f":"IF(AND(OR($E$2=\"Orkney Health Board\",$E$2=\"Orkney Islands Local Authority\"),$F161=1),0,IF(AND(OR($E$2=\"Shetland Health Board\",$E$2=\"Western Isles Health Board\",$E$2=\"Shetland Islands Local Authority\",$E$2=\"Eilean Siar Local Authority\"),OR($F161=1,$F161=5)),0,new_yllv2(VALUE(LEFT(Options!$B$14,2)),$C161,$D161,$E161,$F161,2016,$I161,1,$H161,$G161*$H161,Options!$B$8)))","v":1985.1793932665},{"$f":"IF(AND(OR($E$2=\"Orkney Health Board\",$E$2=\"Orkney Islands Local Authority\"),$F161=1),0,IF(AND(OR($E$2=\"Shetland Health Board\",$E$2=\"Western Isles Health Board\",$E$2=\"Shetland Islands Local Authority\",$E$2=\"Eilean Siar Local Authority\"),OR($F161=1,$F161=5)),0,new_yllv2(VALUE(LEFT(Options!$B$14,2)),$C161,$D161,$E161,$F161,2016,$I161+$J161,1,$H161,$G161*$H161,Options!$B$8)))","v":1981.6667580912001},{"$f":"IF(AND(OR($E$2=\"Orkney Health Board\",$E$2=\"Orkney Islands Local Authority\"),$F161=1),0,IF(AND(OR($E$2=\"Shetland Health Board\",$E$2=\"Western Isles Health Board\",$E$2=\"Shetland Islands Local Authority\",$E$2=\"Eilean Siar Local Authority\"),OR($F161=1,$F161=5)),0,hosp_count(VALUE(LEFT(Options!$B$14,2)),$C161,$E161,$F161,2016,$I161,1,$H161,$G161*$H161, Options!$B$8)))","v":3920.6815400494002},{"$f":"IF(AND(OR($E$2=\"Orkney Health Board\",$E$2=\"Orkney Islands Local Authority\"),$F161=1),0,IF(AND(OR($E$2=\"Shetland Health Board\",$E$2=\"Western Isles Health Board\",$E$2=\"Shetland Islands Local Authority\",$E$2=\"Eilean Siar Local Authority\"),OR($F161=1,$F161=5)),0,hosp_count(VALUE(LEFT(Options!$B$14,2)),$C161,$E161,$F161,2016,$I161+$J161,1,$H161,$G161*$H161, Options!$B$8)))","v":3916.1805828785},{"$f":"IF(AND(OR($E$2=\"Orkney Health Board\",$E$2=\"Orkney Islands Local Authority\"),$F161=1),0,IF(AND(OR($E$2=\"Shetland Health Board\",$E$2=\"Western Isles Health Board\",$E$2=\"Shetland Islands Local Authority\",$E$2=\"Eilean Siar Local Authority\"),OR($F161=1,$F161=5)),0,prem_mort(VALUE(LEFT(Options!$B$14,2)),$C161,$E161,$F161,2016,$I161,1,$H161,$G161*$H161,Options!$B$8)))","v":44.0368119197},{"$f":"IF(AND(OR($E$2=\"Orkney Health Board\",$E$2=\"Orkney Islands Local Authority\"),$F161=1),0,IF(AND(OR($E$2=\"Shetland Health Board\",$E$2=\"Western Isles Health Board\",$E$2=\"Shetland Islands Local Authority\",$E$2=\"Eilean Siar Local Authority\"),OR($F161=1,$F161=5)),0,prem_mort(VALUE(LEFT(Options!$B$14,2)),$C161,$E161,$F161,2016,$I161+$J161,1,$H161,$G161*$H161,Options!$B$8)))","v":43.958891881299998},127.11604629997402,126.89112340530554,5730.391112970874,5720.2515893288692,11317.384580000002,11304.392179887713,127.11604629997402,126.89112340530554,826254.30094983114,824792.30213448603,37247542.234310679,37181635.330637649,73562999.770000011,73478549.169270128,826254.30094983114,824792.30213448603,6500]
[null,"Male 35-39",36.926009999999998,78.336009999999987,"male",3,{"$f":"HLOOKUP($E$2,'Prevalence Rates'!$C$3:$BC$249,'Prevalence Rates'!$BD162,FALSE)","v":0.31010000000000004},{"$f":"HLOOKUP($E$2,'Population 2016'!$C$3:$BC$249,'Population 2016'!BD162,FALSE)","v":32007},0,{"$f":"ROUND(0.807*(HLOOKUP($E$2,'Population at Risk'!$C$3:$BC$249,'Population at Risk'!$BD162,FALSE)),0)","v":8010},{"$f":"IF(AND(OR($E$2=\"Orkney Health Board\",$E$2=\"Orkney Islands Local Authority\"),$F162=1),0,IF(AND(OR($E$2=\"Shetland Health Board\",$E$2=\"Western Isles Health Board\",$E$2=\"Shetland Islands Local Authority\",$E$2=\"Eilean Siar Local Authority\"),OR($F162=1,$F162=5)),0,new_ci(VALUE(LEFT(Options!$B$14,2)),$C162,$E162,$F162,2016,$I162,1,$H162,$G162*$H162,Options!$B$8)))","v":59.078282414500002},{"$f":"IF(AND(OR($E$2=\"Orkney Health Board\",$E$2=\"Orkney Islands Local Authority\"),$F162=1),0,IF(AND(OR($E$2=\"Shetland Health Board\",$E$2=\"Western Isles Health Board\",$E$2=\"Shetland Islands Local Authority\",$E$2=\"Eilean Siar Local Authority\"),OR($F162=1,$F162=5)),0,new_ci(VALUE(LEFT(Options!$B$14,2)),$C162,$E162,$F162,2016,$I162+$J162,1,$H162,$G162*$H162,Options!$B$8)))","v":58.967314277500002},{"$f":"IF(AND(OR($E$2=\"Orkney Health Board\",$E$2=\"Orkney Islands Local Authority\"),$F162=1),0,IF(AND(OR($E$2=\"Shetland Health Board\",$E$2=\"Western Isles Health Board\",$E$2=\"Shetland Islands Local Authority\",$E$2=\"Eilean Siar Local Authority\"),OR($F162=1,$F162=5)),0,new_yllv2(VALUE(LEFT(Options!$B$14,2)),$C162,$D162,$E162,$F162,2016,$I162,1,$H162,$G162*$H162,Options!$B$8)))","v":2387.3533923699001},{"$f":"IF(AND(OR($E$2=\"Orkney Health Board\",$E$2=\"Orkney Islands Local Authority\"),$F162=1),0,IF(AND(OR($E$2=\"Shetland Health Board\",$E$2=\"Western Isles Health Board\",$E$2=\"Shetland Islands Local Authority\",$E$2=\"Eilean Siar Local Authority\"),OR($F162=1,$F162=5)),0,new_yllv2(VALUE(LEFT(Options!$B$14,2)),$C162,$D162,$E162,$F162,2016,$I162+$J162,1,$H162,$G162*$H162,Options!$B$8)))","v":2382.8691699537999},{"$f":"IF(AND(OR($E$2=\"Orkney Health Board\",$E$2=\"Orkney Islands Local Authority\"),$F162=1),0,IF(AND(OR($E$2=\"Shetland Health Board\",$E$2=\"Western Isles Health Board\",$E$2=\"Shetland Islands Local Authority\",$E$2=\"Eilean Siar Local Authority\"),OR($F162=1,$F162=5)),0,hosp_count(VALUE(LEFT(Options!$B$14,2)),$C162,$E162,$F162,2016,$I162,1,$H162,$G162*$H162, Options!$B$8)))","v":4317.2989802075999},{"$f":"IF(AND(OR($E$2=\"Orkney Health Board\",$E$2=\"Orkney Islands Local Authority\"),$F162=1),0,IF(AND(OR($E$2=\"Shetland Health Board\",$E$2=\"Western Isles Health Board\",$E$2=\"Shetland Islands Local Authority\",$E$2=\"Eilean Siar Local Authority\"),OR($F162=1,$F162=5)),0,hosp_count(VALUE(LEFT(Options!$B$14,2)),$C162,$E162,$F162,2016,$I162+$J162,1,$H162,$G162*$H162, Options!$B$8)))","v":4312.0001772092},{"$f":"IF(AND(OR($E$2=\"Orkney Health Board\",$E$2=\"Orkney Islands Local Authority\"),$F162=1),0,IF(AND(OR($E$2=\"Shetland Health Board\",$E$2=\"Western Isles Health Board\",$E$2=\"Shetland Islands Local Authority\",$E$2=\"Eilean Siar Local Authority\"),OR($F162=1,$F162=5)),0,prem_mort(VALUE(LEFT(Options!$B$14,2)),$C162,$E162,$F162,2016,$I162,1,$H162,$G162*$H162,Options!$B$8)))","v":59.078282414500002},{"$f":"IF(AND(OR($E$2=\"Orkney Health Board\",$E$2=\"Orkney Islands Local Authority\"),$F162=1),0,IF(AND(OR($E$2=\"Shetland Health Board\",$E$2=\"Western Isles Health Board\",$E$2=\"Shetland Islands Local Authority\",$E$2=\"Eilean Siar Local Authority\"),OR($F162=1,$F162=5)),0,prem_mort(VALUE(LEFT(Options!$B$14,2)),$C162,$E162,$F162,2016,$I162+$J162,1,$H162,$G162*$H162,Options!$B$8)))","v":58.967314277500002},184.57925583309904,184.23255624550879,7458.8477282153908,7444.8375978810882,13488.608679999999,13472.053542066424,184.57925583309904,184.23255624550879,1292054.7908316932,1289627.8937185616,52211934.097507738,52113863.185167618,94420260.75999999,94304374.794464961,1292054.7908316932,1289627.8937185616,7000]
[null,"Male 40-44",42.067703000000002,78.907700000000006,"male",3,{"$f":"HLOOKUP($E$2,'Prevalence Rates'!$C$3:$BC$249,'Prevalence Rates'!$BD163,FALSE)","v":0.31010000000000004},{"$f":"HLOOKUP($E$2,'Population 2016'!$C$3:$BC$249,'Population 2016'!BD163,FALSE)","v":31831},0,{"$f":"ROUND(0.807*(HLOOKUP($E$2,'Population at Risk'!$C$3:$BC$249,'Population at Risk'!$BD163,FALSE)),0)","v":7966},{"$f":"IF(AND(OR($E$2=\"Orkney Health Board\",$E$2=\"Orkney Islands Local Authority\"),$F163=1),0,IF(AND(OR($E$2=\"Shetland Health Board\",$E$2=\"Western Isles Health Board\",$E$2=\"Shetland Islands Local Authority\",$E$2=\"Eilean Siar Local Authority\"),OR($F163=1,$F163=5)),0,new_ci(VALUE(LEFT(Options!$B$14,2)),$C163,$E163,$F163,2016,$I163,1,$H163,$G163*$H163,Options!$B$8)))","v":86.578473210599995},{"$f":"IF(AND(OR($E$2=\"Orkney Health Board\",$E$2=\"Orkney Islands Local Authority\"),$F163=1),0,IF(AND(OR($E$2=\"Shetland Health Board\",$E$2=\"Western Isles Health Board\",$E$2=\"Shetland Islands Local Authority\",$E$2=\"Eilean Siar Local Authority\"),OR($F163=1,$F163=5)),0,new_ci(VALUE(LEFT(Options!$B$14,2)),$C163,$E163,$F163,2016,$I163+$J163,1,$H163,$G163*$H163,Options!$B$8)))","v":86.415981149399997},{"$f":"IF(AND(OR($E$2=\"Orkney Health Board\",$E$2=\"Orkney Islands Local Authority\"),$F163=1),0,IF(AND(OR($E$2=\"Shetland Health Board\",$E$2=\"Western Isles Health Board\",$E$2=\"Shetland Islands Local Authority\",$E$2=\"Eilean Siar Local Authority\"),OR($F163=1,$F163=5)),0,new_yllv2(VALUE(LEFT(Options!$B$14,2)),$C163,$D163,$E163,$F163,2016,$I163,1,$H163,$G163*$H163,Options!$B$8)))","v":3102.9722201324998},{"$f":"IF(AND(OR($E$2=\"Orkney Health Board\",$E$2=\"Orkney Islands Local Authority\"),$F163=1),0,IF(AND(OR($E$2=\"Shetland Health Board\",$E$2=\"Western Isles Health Board\",$E$2=\"Shetland Islands Local Authority\",$E$2=\"Eilean Siar Local Authority\"),OR($F163=1,$F163=5)),0,new_yllv2(VALUE(LEFT(Options!$B$14,2)),$C163,$D163,$E163,$F163,2016,$I163+$J163,1,$H163,$G163*$H163,Options!$B$8)))","v":3097.1485051466002},{"$f":"IF(AND(OR($E$2=\"Orkney Health Board\",$E$2=\"Orkney Islands Local Authority\"),$F163=1),0,IF(AND(OR($E$2=\"Shetland Health Board\",$E$2=\"Western Isles Health Board\",$E$2=\"Shetland Islands Local Authority\",$E$2=\"Eilean Siar Local Authority\"),OR($F163=1,$F163=5)),0,hosp_count(VALUE(LEFT(Options!$B$14,2)),$C163,$E163,$F163,2016,$I163,1,$H163,$G163*$H163, Options!$B$8)))","v":5153.2179005501002},{"$f":"IF(AND(OR($E$2=\"Orkney Health Board\",$E$2=\"Orkney Islands Local Authority\"),$F163=1),0,IF(AND(OR($E$2=\"Shetland Health Board\",$E$2=\"Western Isles Health Board\",$E$2=\"Shetland Islands Local Authority\",$E$2=\"Eilean Siar Local Authority\"),OR($F163=1,$F163=5)),0,hosp_count(VALUE(LEFT(Options!$B$14,2)),$C163,$E163,$F163,2016,$I163+$J163,1,$H163,$G163*$H163, Options!$B$8)))","v":5146.8931030971999},{"$f":"IF(AND(OR($E$2=\"Orkney Health Board\",$E$2=\"Orkney Islands Local Authority\"),$F163=1),0,IF(AND(OR($E$2=\"Shetland Health Board\",$E$2=\"Western Isles Health Board\",$E$2=\"Shetland Islands Local Authority\",$E$2=\"Eilean Siar Local Authority\"),OR($F163=1,$F163=5)),0,prem_mort(VALUE(LEFT(Options!$B$14,2)),$C163,$E163,$F163,2016,$I163,1,$H163,$G163*$H163,Options!$B$8)))","v":86.578473210599995},{"$f":"IF(AND(OR($E$2=\"Orkney Health Board\",$E$2=\"Orkney Islands Local Authority\"),$F163=1),0,IF(AND(OR($E$2=\"Shetland Health Board\",$E$2=\"Western Isles Health Board\",$E$2=\"Shetland Islands Local Authority\",$E$2=\"Eilean Siar Local Authority\"),OR($F163=1,$F163=5)),0,prem_mort(VALUE(LEFT(Options!$B$14,2)),$C163,$E163,$F163,2016,$I163+$J163,1,$H163,$G163*$H163,Options!$B$8)))","v":86.415981149399997},271.99419814206277,271.48371445886085,9748.2712454289849,9729.9755117545792,16189.305710000001,16169.435779891301,271.99419814206277,271.48371445886085,1903959.3869944394,1900386.001212026,68237898.7180029,68109828.582282051,113325139.97,113186050.45923911,1903959.3869944394,1900386.001212026,7000]
[null,"Male 45-49",47.038155000000003,79.418149999999997,"male",3,{"$f":"HLOOKUP($E$2,'Prevalence Rates'!$C$3:$BC$249,'Prevalence Rates'!$BD164,FALSE)","v":0.24860000000000002},{"$f":"HLOOKUP($E$2,'Population 2016'!$C$3:$BC$249,'Population 2016'!BD164,FALSE)","v":37651},0,{"$f":"ROUND(0.807*(HLOOKUP($E$2,'Population at Risk'!$C$3:$BC$249,'Population at Risk'!$BD164,FALSE)),0)","v":7554},{"$f":"IF(AND(OR($E$2=\"Orkney Health Board\",$E$2=\"Orkney Islands Local Authority\"),$F164=1),0,IF(AND(OR($E$2=\"Shetland Health Board\",$E$2=\"Western Isles Health Board\",$E$2=\"Shetland Islands Local Authority\",$E$2=\"Eilean Siar Local Authority\"),OR($F164=1,$F164=5)),0,new_ci(VALUE(LEFT(Options!$B$14,2)),$C164,$E164,$F164,2016,$I164,1,$H164,$G164*$H164,Options!$B$8)))","v":148.94128032590001},{"$f":"IF(AND(OR($E$2=\"Orkney Health Board\",$E$2=\"Orkney Islands Local Authority\"),$F164=1),0,IF(AND(OR($E$2=\"Shetland Health Board\",$E$2=\"Western Isles Health Board\",$E$2=\"Shetland Islands Local Authority\",$E$2=\"Eilean Siar Local Authority\"),OR($F164=1,$F164=5)),0,new_ci(VALUE(LEFT(Options!$B$14,2)),$C164,$E164,$F164,2016,$I164+$J164,1,$H164,$G164*$H164,Options!$B$8)))","v":148.70737449289999},{"$f":"IF(AND(OR($E$2=\"Orkney Health Board\",$E$2=\"Orkney Islands Local Authority\"),$F164=1),0,IF(AND(OR($E$2=\"Shetland Health Board\",$E$2=\"Western Isles Health Board\",$E$2=\"Shetland Islands Local Authority\",$E$2=\"Eilean Siar Local Authority\"),OR($F164=1,$F164=5)),0,new_yllv2(VALUE(LEFT(Options!$B$14,2)),$C164,$D164,$E164,$F164,2016,$I164,1,$H164,$G164*$H164,Options!$B$8)))","v":4673.7766319203001},{"$f":"IF(AND(OR($E$2=\"Orkney Health Board\",$E$2=\"Orkney Islands Local Authority\"),$F164=1),0,IF(AND(OR($E$2=\"Shetland Health Board\",$E$2=\"Western Isles Health Board\",$E$2=\"Shetland Islands Local Authority\",$E$2=\"Eilean Siar Local Authority\"),OR($F164=1,$F164=5)),0,new_yllv2(VALUE(LEFT(Options!$B$14,2)),$C164,$D164,$E164,$F164,2016,$I164+$J164,1,$H164,$G164*$H164,Options!$B$8)))","v":4666.4366680502999},{"$f":"IF(AND(OR($E$2=\"Orkney Health Board\",$E$2=\"Orkney Islands Local Authority\"),$F164=1),0,IF(AND(OR($E$2=\"Shetland Health Board\",$E$2=\"Western Isles Health Board\",$E$2=\"Shetland Islands Local Authority\",$E$2=\"Eilean Siar Local Authority\"),OR($F164=1,$F164=5)),0,hosp_count(VALUE(LEFT(Options!$B$14,2)),$C164,$E164,$F164,2016,$I164,1,$H164,$G164*$H164, Options!$B$8)))","v":7271.5344409603003},{"$f":"IF(AND(OR($E$2=\"Orkney Health Board\",$E$2=\"Orkney Islands Local Authority\"),$F164=1),0,IF(AND(OR($E$2=\"Shetland Health Board\",$E$2=\"Western Isles Health Board\",$E$2=\"Shetland Islands Local Authority\",$E$2=\"Eilean Siar Local Authority\"),OR($F164=1,$F164=5)),0,hosp_count(VALUE(LEFT(Options!$B$14,2)),$C164,$E164,$F164,2016,$I164+$J164,1,$H164,$G164*$H164, Options!$B$8)))","v":7264.1908265765996},{"$f":"IF(AND(OR($E$2=\"Orkney Health Board\",$E$2=\"Orkney Islands Local Authority\"),$F164=1),0,IF(AND(OR($E$2=\"Shetland Health Board\",$E$2=\"Western Isles Health Board\",$E$2=\"Shetland Islands Local Authority\",$E$2=\"Eilean Siar Local Authority\"),OR($F164=1,$F164=5)),0,prem_mort(VALUE(LEFT(Options!$B$14,2)),$C164,$E164,$F164,2016,$I164,1,$H164,$G164*$H164,Options!$B$8)))","v":148.94128032590001},{"$f":"IF(AND(OR($E$2=\"Orkney Health Board\",$E$2=\"Orkney Islands Local Authority\"),$F164=1),0,IF(AND(OR($E$2=\"Shetland Health Board\",$E$2=\"Western Isles Health Board\",$E$2=\"Shetland Islands Local Authority\",$E$2=\"Eilean Siar Local Authority\"),OR($F164=1,$F164=5)),0,prem_mort(VALUE(LEFT(Options!$B$14,2)),$C164,$E164,$F164,2016,$I164+$J164,1,$H164,$G164*$H164,Options!$B$8)))","v":148.70737449289999},395.58386317999526,394.96261584791898,12413.419648668827,12393.924910494541,19312.991529999999,19293.487096163713,395.58386317999526,394.96261584791898,2769087.042259967,2764738.310935433,86893937.540681794,86757474.373461783,135190940.71000001,135054409.67314598,2769087.042259967,2764738.310935433,7000]
[null,"Male 50-54",51.998646000000001,79.988649999999993,"male",3,{"$f":"HLOOKUP($E$2,'Prevalence Rates'!$C$3:$BC$249,'Prevalence Rates'!$BD165,FALSE)","v":0.24860000000000002},{"$f":"HLOOKUP($E$2,'Population 2016'!$C$3:$BC$249,'Population 2016'!BD165,FALSE)","v":40386},0,{"$f":"ROUND(0.807*(HLOOKUP($E$2,'Population at Risk'!$C$3:$BC$249,'Population at Risk'!$BD165,FALSE)),0)","v":8102},{"$f":"IF(AND(OR($E$2=\"Orkney Health Board\",$E$2=\"Orkney Islands Local Authority\"),$F165=1),0,IF(AND(OR($E$2=\"Shetland Health Board\",$E$2=\"Western Isles Health Board\",$E$2=\"Shetland Islands Local Authority\",$E$2=\"Eilean Siar Local Authority\"),OR($F165=1,$F165=5)),0,new_ci(VALUE(LEFT(Options!$B$14,2)),$C165,$E165,$F165,2016,$I165,1,$H165,$G165*$H165,Options!$B$8)))","v":232.1053428356},{"$f":"IF(AND(OR($E$2=\"Orkney Health Board\",$E$2=\"Orkney Islands Local Authority\"),$F165=1),0,IF(AND(OR($E$2=\"Shetland Health Board\",$E$2=\"Western Isles Health Board\",$E$2=\"Shetland Islands Local Authority\",$E$2=\"Eilean Siar Local Authority\"),OR($F165=1,$F165=5)),0,new_ci(VALUE(LEFT(Options!$B$14,2)),$C165,$E165,$F165,2016,$I165+$J165,1,$H165,$G165*$H165,Options!$B$8)))","v":231.741520095},{"$f":"IF(AND(OR($E$2=\"Orkney Health Board\",$E$2=\"Orkney Islands Local Authority\"),$F165=1),0,IF(AND(OR($E$2=\"Shetland Health Board\",$E$2=\"Western Isles Health Board\",$E$2=\"Shetland Islands Local Authority\",$E$2=\"Eilean Siar Local Authority\"),OR($F165=1,$F165=5)),0,new_yllv2(VALUE(LEFT(Options!$B$14,2)),$C165,$D165,$E165,$F165,2016,$I165,1,$H165,$G165*$H165,Options!$B$8)))","v":6264.5241315541998},{"$f":"IF(AND(OR($E$2=\"Orkney Health Board\",$E$2=\"Orkney Islands Local Authority\"),$F165=1),0,IF(AND(OR($E$2=\"Shetland Health Board\",$E$2=\"Western Isles Health Board\",$E$2=\"Shetland Islands Local Authority\",$E$2=\"Eilean Siar Local Authority\"),OR($F165=1,$F165=5)),0,new_yllv2(VALUE(LEFT(Options!$B$14,2)),$C165,$D165,$E165,$F165,2016,$I165+$J165,1,$H165,$G165*$H165,Options!$B$8)))","v":6254.7045543301001},{"$f":"IF(AND(OR($E$2=\"Orkney Health Board\",$E$2=\"Orkney Islands Local Authority\"),$F165=1),0,IF(AND(OR($E$2=\"Shetland Health Board\",$E$2=\"Western Isles Health Board\",$E$2=\"Shetland Islands Local Authority\",$E$2=\"Eilean Siar Local Authority\"),OR($F165=1,$F165=5)),0,hosp_count(VALUE(LEFT(Options!$B$14,2)),$C165,$E165,$F165,2016,$I165,1,$H165,$G165*$H165, Options!$B$8)))","v":9301.3966469789993},{"$f":"IF(AND(OR($E$2=\"Orkney Health Board\",$E$2=\"Orkney Islands Local Authority\"),$F165=1),0,IF(AND(OR($E$2=\"Shetland Health Board\",$E$2=\"Western Isles Health Board\",$E$2=\"Shetland Islands Local Authority\",$E$2=\"Eilean Siar Local Authority\"),OR($F165=1,$F165=5)),0,hosp_count(VALUE(LEFT(Options!$B$14,2)),$C165,$E165,$F165,2016,$I165+$J165,1,$H165,$G165*$H165, Options!$B$8)))","v":9292.0038936440997},{"$f":"IF(AND(OR($E$2=\"Orkney Health Board\",$E$2=\"Orkney Islands Local Authority\"),$F165=1),0,IF(AND(OR($E$2=\"Shetland Health Board\",$E$2=\"Western Isles Health Board\",$E$2=\"Shetland Islands Local Authority\",$E$2=\"Eilean Siar Local Authority\"),OR($F165=1,$F165=5)),0,prem_mort(VALUE(LEFT(Options!$B$14,2)),$C165,$E165,$F165,2016,$I165,1,$H165,$G165*$H165,Options!$B$8)))","v":232.1053428356},{"$f":"IF(AND(OR($E$2=\"Orkney Health Board\",$E$2=\"Orkney Islands Local Authority\"),$F165=1),0,IF(AND(OR($E$2=\"Shetland Health Board\",$E$2=\"Western Isles Health Board\",$E$2=\"Shetland Islands Local Authority\",$E$2=\"Eilean Siar Local Authority\"),OR($F165=1,$F165=5)),0,prem_mort(VALUE(LEFT(Options!$B$14,2)),$C165,$E165,$F165,2016,$I165+$J165,1,$H165,$G165*$H165,Options!$B$8)))","v":231.741520095},574.71733480810178,573.81647128955581,15511.623165339968,15487.30885537092,23031.240149999998,23007.982701045163,574.71733480810178,573.81647128955581,4023021.3436567127,4016715.2990268907,108581362.15737978,108411161.98759644,161218681.04999998,161055878.90731615,4023021.3436567127,4016715.2990268907,7000]
[null,"Male 55-59",56.950867000000002,80.660870000000003,"male",3,{"$f":"HLOOKUP($E$2,'Prevalence Rates'!$C$3:$BC$249,'Prevalence Rates'!$BD166,FALSE)","v":0.20950000000000002},{"$f":"HLOOKUP($E$2,'Population 2016'!$C$3:$BC$249,'Population 2016'!BD166,FALSE)","v":37545},0,{"$f":"ROUND(0.807*(HLOOKUP($E$2,'Population at Risk'!$C$3:$BC$249,'Population at Risk'!$BD166,FALSE)),0)","v":6348},{"$f":"IF(AND(OR($E$2=\"Orkney Health Board\",$E$2=\"Orkney Islands Local Authority\"),$F166=1),0,IF(AND(OR($E$2=\"Shetland Health Board\",$E$2=\"Western Isles Health Board\",$E$2=\"Shetland Islands Local Authority\",$E$2=\"Eilean Siar Local Authority\"),OR($F166=1,$F166=5)),0,new_ci(VALUE(LEFT(Options!$B$14,2)),$C166,$E166,$F166,2016,$I166,1,$H166,$G166*$H166,Options!$B$8)))","v":313.16142862800001},{"$f":"IF(AND(OR($E$2=\"Orkney Health Board\",$E$2=\"Orkney Islands Local Authority\"),$F166=1),0,IF(AND(OR($E$2=\"Shetland Health Board\",$E$2=\"Western Isles Health Board\",$E$2=\"Shetland Islands Local Authority\",$E$2=\"Eilean Siar Local Authority\"),OR($F166=1,$F166=5)),0,new_ci(VALUE(LEFT(Options!$B$14,2)),$C166,$E166,$F166,2016,$I166+$J166,1,$H166,$G166*$H166,Options!$B$8)))","v":312.73675441080002},{"$f":"IF(AND(OR($E$2=\"Orkney Health Board\",$E$2=\"Orkney Islands Local Authority\"),$F166=1),0,IF(AND(OR($E$2=\"Shetland Health Board\",$E$2=\"Western Isles Health Board\",$E$2=\"Shetland Islands Local Authority\",$E$2=\"Eilean Siar Local Authority\"),OR($F166=1,$F166=5)),0,new_yllv2(VALUE(LEFT(Options!$B$14,2)),$C166,$D166,$E166,$F166,2016,$I166,1,$H166,$G166*$H166,Options!$B$8)))","v":7111.8969836262004},{"$f":"IF(AND(OR($E$2=\"Orkney Health Board\",$E$2=\"Orkney Islands Local Authority\"),$F166=1),0,IF(AND(OR($E$2=\"Shetland Health Board\",$E$2=\"Western Isles Health Board\",$E$2=\"Shetland Islands Local Authority\",$E$2=\"Eilean Siar Local Authority\"),OR($F166=1,$F166=5)),0,new_yllv2(VALUE(LEFT(Options!$B$14,2)),$C166,$D166,$E166,$F166,2016,$I166+$J166,1,$H166,$G166*$H166,Options!$B$8)))","v":7102.2526308795004},{"$f":"IF(AND(OR($E$2=\"Orkney Health Board\",$E$2=\"Orkney Islands Local Authority\"),$F166=1),0,IF(AND(OR($E$2=\"Shetland Health Board\",$E$2=\"Western Isles Health Board\",$E$2=\"Shetland Islands Local Authority\",$E$2=\"Eilean Siar Local Authority\"),OR($F166=1,$F166=5)),0,hosp_count(VALUE(LEFT(Options!$B$14,2)),$C166,$E166,$F166,2016,$I166,1,$H166,$G166*$H166, Options!$B$8)))","v":10308.838145089499},{"$f":"IF(AND(OR($E$2=\"Orkney Health Board\",$E$2=\"Orkney Islands Local Authority\"),$F166=1),0,IF(AND(OR($E$2=\"Shetland Health Board\",$E$2=\"Western Isles Health Board\",$E$2=\"Shetland Islands Local Authority\",$E$2=\"Eilean Siar Local Authority\"),OR($F166=1,$F166=5)),0,hosp_count(VALUE(LEFT(Options!$B$14,2)),$C166,$E166,$F166,2016,$I166+$J166,1,$H166,$G166*$H166, Options!$B$8)))","v":10299.914927214901},{"$f":"IF(AND(OR($E$2=\"Orkney Health Board\",$E$2=\"Orkney Islands Local Authority\"),$F166=1),0,IF(AND(OR($E$2=\"Shetland Health Board\",$E$2=\"Western Isles Health Board\",$E$2=\"Shetland Islands Local Authority\",$E$2=\"Eilean Siar Local Authority\"),OR($F166=1,$F166=5)),0,prem_mort(VALUE(LEFT(Options!$B$14,2)),$C166,$E166,$F166,2016,$I166,1,$H166,$G166*$H166,Options!$B$8)))","v":313.16142862800001},{"$f":"IF(AND(OR($E$2=\"Orkney Health Board\",$E$2=\"Orkney Islands Local Authority\"),$F166=1),0,IF(AND(OR($E$2=\"Shetland Health Board\",$E$2=\"Western Isles Health Board\",$E$2=\"Shetland Islands Local Authority\",$E$2=\"Eilean Siar Local Authority\"),OR($F166=1,$F166=5)),0,prem_mort(VALUE(LEFT(Options!$B$14,2)),$C166,$E166,$F166,2016,$I166+$J166,1,$H166,$G166*$H166,Options!$B$8)))","v":312.73675441080002},834.09622753495808,832.96512028445864,18942.327829607671,18916.640380555335,27457.28631,27433.519582407513,834.09622753495808,832.96512028445864,5421625.4789772276,5414273.281848981,123125130.89244987,122958162.47360967,178472361.01499999,178317877.28564882,5421625.4789772276,5414273.281848981,6500]
[null,"Male 60-64",61.942988999999997,81.612989999999996,"male",3,{"$f":"HLOOKUP($E$2,'Prevalence Rates'!$C$3:$BC$249,'Prevalence Rates'!$BD167,FALSE)","v":0.20950000000000002},{"$f":"HLOOKUP($E$2,'Population 2016'!$C$3:$BC$249,'Population 2016'!BD167,FALSE)","v":33247},0,{"$f":"ROUND(0.807*(HLOOKUP($E$2,'Population at Risk'!$C$3:$BC$249,'Population at Risk'!$BD167,FALSE)),0)","v":5621},{"$f":"IF(AND(OR($E$2=\"Orkney Health Board\",$E$2=\"Orkney Islands Local Authority\"),$F167=1),0,IF(AND(OR($E$2=\"Shetland Health Board\",$E$2=\"Western Isles Health Board\",$E$2=\"Shetland Islands Local Authority\",$E$2=\"Eilean Siar Local Authority\"),OR($F167=1,$F167=5)),0,new_ci(VALUE(LEFT(Options!$B$14,2)),$C167,$E167,$F167,2016,$I167,1,$H167,$G167*$H167,Options!$B$8)))","v":403.40564224590003},{"$f":"IF(AND(OR($E$2=\"Orkney Health Board\",$E$2=\"Orkney Islands Local Authority\"),$F167=1),0,IF(AND(OR($E$2=\"Shetland Health Board\",$E$2=\"Western Isles Health Board\",$E$2=\"Shetland Islands Local Authority\",$E$2=\"Eilean Siar Local Authority\"),OR($F167=1,$F167=5)),0,new_ci(VALUE(LEFT(Options!$B$14,2)),$C167,$E167,$F167,2016,$I167+$J167,1,$H167,$G167*$H167,Options!$B$8)))","v":402.86081389259999},{"$f":"IF(AND(OR($E$2=\"Orkney Health Board\",$E$2=\"Orkney Islands Local Authority\"),$F167=1),0,IF(AND(OR($E$2=\"Shetland Health Board\",$E$2=\"Western Isles Health Board\",$E$2=\"Shetland Islands Local Authority\",$E$2=\"Eilean Siar Local Authority\"),OR($F167=1,$F167=5)),0,new_yllv2(VALUE(LEFT(Options!$B$14,2)),$C167,$D167,$E167,$F167,2016,$I167,1,$H167,$G167*$H167,Options!$B$8)))","v":7531.5837441366002},{"$f":"IF(AND(OR($E$2=\"Orkney Health Board\",$E$2=\"Orkney Islands Local Authority\"),$F167=1),0,IF(AND(OR($E$2=\"Shetland Health Board\",$E$2=\"Western Isles Health Board\",$E$2=\"Shetland Islands Local Authority\",$E$2=\"Eilean Siar Local Authority\"),OR($F167=1,$F167=5)),0,new_yllv2(VALUE(LEFT(Options!$B$14,2)),$C167,$D167,$E167,$F167,2016,$I167+$J167,1,$H167,$G167*$H167,Options!$B$8)))","v":7521.4117982357002},{"$f":"IF(AND(OR($E$2=\"Orkney Health Board\",$E$2=\"Orkney Islands Local Authority\"),$F167=1),0,IF(AND(OR($E$2=\"Shetland Health Board\",$E$2=\"Western Isles Health Board\",$E$2=\"Shetland Islands Local Authority\",$E$2=\"Eilean Siar Local Authority\"),OR($F167=1,$F167=5)),0,hosp_count(VALUE(LEFT(Options!$B$14,2)),$C167,$E167,$F167,2016,$I167,1,$H167,$G167*$H167, Options!$B$8)))","v":10898.467983401801},{"$f":"IF(AND(OR($E$2=\"Orkney Health Board\",$E$2=\"Orkney Islands Local Authority\"),$F167=1),0,IF(AND(OR($E$2=\"Shetland Health Board\",$E$2=\"Western Isles Health Board\",$E$2=\"Shetland Islands Local Authority\",$E$2=\"Eilean Siar Local Authority\"),OR($F167=1,$F167=5)),0,hosp_count(VALUE(LEFT(Options!$B$14,2)),$C167,$E167,$F167,2016,$I167+$J167,1,$H167,$G167*$H167, Options!$B$8)))","v":10889.034902879301},{"$f":"IF(AND(OR($E$2=\"Orkney Health Board\",$E$2=\"Orkney Islands Local Authority\"),$F167=1),0,IF(AND(OR($E$2=\"Shetland Health Board\",$E$2=\"Western Isles Health Board\",$E$2=\"Shetland Islands Local Authority\",$E$2=\"Eilean Siar Local Authority\"),OR($F167=1,$F167=5)),0,prem_mort(VALUE(LEFT(Options!$B$14,2)),$C167,$E167,$F167,2016,$I167,1,$H167,$G167*$H167,Options!$B$8)))","v":403.40564224590003},{"$f":"IF(AND(OR($E$2=\"Orkney Health Board\",$E$2=\"Orkney Islands Local Authority\"),$F167=1),0,IF(AND(OR($E$2=\"Shetland Health Board\",$E$2=\"Western Isles Health Board\",$E$2=\"Shetland Islands Local Authority\",$E$2=\"Eilean Siar Local Authority\"),OR($F167=1,$F167=5)),0,prem_mort(VALUE(LEFT(Options!$B$14,2)),$C167,$E167,$F167,2016,$I167+$J167,1,$H167,$G167*$H167,Options!$B$8)))","v":402.86081389259999},1213.3595279149999,1211.7207985460343,22653.423599532591,22622.828520575389,32780.304940000002,32751.932213069751,1213.3595279149999,1211.7207985460343,7280157.1674899999,7270324.7912762063,135920541.59719554,135736971.12345234,196681829.64000002,196511593.27841851,7280157.1674899999,7270324.7912762063,6000]
[null,"Male 65-69",67.054419999999993,82.954419999999999,"male",3,{"$f":"HLOOKUP($E$2,'Prevalence Rates'!$C$3:$BC$249,'Prevalence Rates'!$BD168,FALSE)","v":0.16290000000000002},{"$f":"HLOOKUP($E$2,'Population 2016'!$C$3:$BC$249,'Population 2016'!BD168,FALSE)","v":33371},0,{"$f":"ROUND(0.807*(HLOOKUP($E$2,'Population at Risk'!$C$3:$BC$249,'Population at Risk'!$BD168,FALSE)),0)","v":4387},{"$f":"IF(AND(OR($E$2=\"Orkney Health Board\",$E$2=\"Orkney Islands Local Authority\"),$F168=1),0,IF(AND(OR($E$2=\"Shetland Health Board\",$E$2=\"Western Isles Health Board\",$E$2=\"Shetland Islands Local Authority\",$E$2=\"Eilean Siar Local Authority\"),OR($F168=1,$F168=5)),0,new_ci(VALUE(LEFT(Options!$B$14,2)),$C168,$E168,$F168,2016,$I168,1,$H168,$G168*$H168,Options!$B$8)))","v":593.79094326339998},{"$f":"IF(AND(OR($E$2=\"Orkney Health Board\",$E$2=\"Orkney Islands Local Authority\"),$F168=1),0,IF(AND(OR($E$2=\"Shetland Health Board\",$E$2=\"Western Isles Health Board\",$E$2=\"Shetland Islands Local Authority\",$E$2=\"Eilean Siar Local Authority\"),OR($F168=1,$F168=5)),0,new_ci(VALUE(LEFT(Options!$B$14,2)),$C168,$E168,$F168,2016,$I168+$J168,1,$H168,$G168*$H168,Options!$B$8)))","v":593.14918482660005},{"$f":"IF(AND(OR($E$2=\"Orkney Health Board\",$E$2=\"Orkney Islands Local Authority\"),$F168=1),0,IF(AND(OR($E$2=\"Shetland Health Board\",$E$2=\"Western Isles Health Board\",$E$2=\"Shetland Islands Local Authority\",$E$2=\"Eilean Siar Local Authority\"),OR($F168=1,$F168=5)),0,new_yllv2(VALUE(LEFT(Options!$B$14,2)),$C168,$D168,$E168,$F168,2016,$I168,1,$H168,$G168*$H168,Options!$B$8)))","v":8847.4850546246998},{"$f":"IF(AND(OR($E$2=\"Orkney Health Board\",$E$2=\"Orkney Islands Local Authority\"),$F168=1),0,IF(AND(OR($E$2=\"Shetland Health Board\",$E$2=\"Western Isles Health Board\",$E$2=\"Shetland Islands Local Authority\",$E$2=\"Eilean Siar Local Authority\"),OR($F168=1,$F168=5)),0,new_yllv2(VALUE(LEFT(Options!$B$14,2)),$C168,$D168,$E168,$F168,2016,$I168+$J168,1,$H168,$G168*$H168,Options!$B$8)))","v":8837.9228539162996},{"$f":"IF(AND(OR($E$2=\"Orkney Health Board\",$E$2=\"Orkney Islands Local Authority\"),$F168=1),0,IF(AND(OR($E$2=\"Shetland Health Board\",$E$2=\"Western Isles Health Board\",$E$2=\"Shetland Islands Local Authority\",$E$2=\"Eilean Siar Local Authority\"),OR($F168=1,$F168=5)),0,hosp_count(VALUE(LEFT(Options!$B$14,2)),$C168,$E168,$F168,2016,$I168,1,$H168,$G168*$H168, Options!$B$8)))","v":13115.2562048768},{"$f":"IF(AND(OR($E$2=\"Orkney Health Board\",$E$2=\"Orkney Islands Local Authority\"),$F168=1),0,IF(AND(OR($E$2=\"Shetland Health Board\",$E$2=\"Western Isles Health Board\",$E$2=\"Shetland Islands Local Authority\",$E$2=\"Eilean Siar Local Authority\"),OR($F168=1,$F168=5)),0,hosp_count(VALUE(LEFT(Options!$B$14,2)),$C168,$E168,$F168,2016,$I168+$J168,1,$H168,$G168*$H168, Options!$B$8)))","v":13106.2463086436},{"$f":"IF(AND(OR($E$2=\"Orkney Health Board\",$E$2=\"Orkney Islands Local Authority\"),$F168=1),0,IF(AND(OR($E$2=\"Shetland Health Board\",$E$2=\"Western Isles Health Board\",$E$2=\"Shetland Islands Local Authority\",$E$2=\"Eilean Siar Local Authority\"),OR($F168=1,$F168=5)),0,prem_mort(VALUE(LEFT(Options!$B$14,2)),$C168,$E168,$F168,2016,$I168,1,$H168,$G168*$H168,Options!$B$8)))","v":593.79094326339998},{"$f":"IF(AND(OR($E$2=\"Orkney Health Board\",$E$2=\"Orkney Islands Local Authority\"),$F168=1),0,IF(AND(OR($E$2=\"Shetland Health Board\",$E$2=\"Western Isles Health Board\",$E$2=\"Shetland Islands Local Authority\",$E$2=\"Eilean Siar Local Authority\"),OR($F168=1,$F168=5)),0,prem_mort(VALUE(LEFT(Options!$B$14,2)),$C168,$E168,$F168,2016,$I168+$J168,1,$H168,$G168*$H168,Options!$B$8)))","v":593.14918482660005},1779.362150560067,1777.4390483551588,26512.49604334512,26483.841820491743,39301.358079999998,39274.35890037338,1779.362150560067,1777.4390483551588,9786491.8280803692,9775914.7659533732,145818728.23839816,145661130.01270458,216157469.44,216008973.95205358,9786491.8280803692,9775914.7659533732,5500]
[null,"Male 70-74",71.891098,84.341099999999997,"male",3,{"$f":"HLOOKUP($E$2,'Prevalence Rates'!$C$3:$BC$249,'Prevalence Rates'!$BD169,FALSE)","v":0.16290000000000002},{"$f":"HLOOKUP($E$2,'Population 2016'!$C$3:$BC$249,'Population 2016'!BD169,FALSE)","v":24436},0,{"$f":"ROUND(0.807*(HLOOKUP($E$2,'Population at Risk'!$C$3:$BC$249,'Population at Risk'!$BD169,FALSE)),0)","v":3212},{"$f":"IF(AND(OR($E$2=\"Orkney Health Board\",$E$2=\"Orkney Islands Local Authority\"),$F169=1),0,IF(AND(OR($E$2=\"Shetland Health Board\",$E$2=\"Western Isles Health Board\",$E$2=\"Shetland Islands Local Authority\",$E$2=\"Eilean Siar Local Authority\"),OR($F169=1,$F169=5)),0,new_ci(VALUE(LEFT(Options!$B$14,2)),$C169,$E169,$F169,2016,$I169,1,$H169,$G169*$H169,Options!$B$8)))","v":623.77357038299999},{"$f":"IF(AND(OR($E$2=\"Orkney Health Board\",$E$2=\"Orkney Islands Local Authority\"),$F169=1),0,IF(AND(OR($E$2=\"Shetland Health Board\",$E$2=\"Western Isles Health Board\",$E$2=\"Shetland Islands Local Authority\",$E$2=\"Eilean Siar Local Authority\"),OR($F169=1,$F169=5)),0,new_ci(VALUE(LEFT(Options!$B$14,2)),$C169,$E169,$F169,2016,$I169+$J169,1,$H169,$G169*$H169,Options!$B$8)))","v":623.10540885820001},{"$f":"IF(AND(OR($E$2=\"Orkney Health Board\",$E$2=\"Orkney Islands Local Authority\"),$F169=1),0,IF(AND(OR($E$2=\"Shetland Health Board\",$E$2=\"Western Isles Health Board\",$E$2=\"Shetland Islands Local Authority\",$E$2=\"Eilean Siar Local Authority\"),OR($F169=1,$F169=5)),0,new_yllv2(VALUE(LEFT(Options!$B$14,2)),$C169,$D169,$E169,$F169,2016,$I169,1,$H169,$G169*$H169,Options!$B$8)))","v":7142.2086284324996},{"$f":"IF(AND(OR($E$2=\"Orkney Health Board\",$E$2=\"Orkney Islands Local Authority\"),$F169=1),0,IF(AND(OR($E$2=\"Shetland Health Board\",$E$2=\"Western Isles Health Board\",$E$2=\"Shetland Islands Local Authority\",$E$2=\"Eilean Siar Local Authority\"),OR($F169=1,$F169=5)),0,new_yllv2(VALUE(LEFT(Options!$B$14,2)),$C169,$D169,$E169,$F169,2016,$I169+$J169,1,$H169,$G169*$H169,Options!$B$8)))","v":7134.5581776372001},{"$f":"IF(AND(OR($E$2=\"Orkney Health Board\",$E$2=\"Orkney Islands Local Authority\"),$F169=1),0,IF(AND(OR($E$2=\"Shetland Health Board\",$E$2=\"Western Isles Health Board\",$E$2=\"Shetland Islands Local Authority\",$E$2=\"Eilean Siar Local Authority\"),OR($F169=1,$F169=5)),0,hosp_count(VALUE(LEFT(Options!$B$14,2)),$C169,$E169,$F169,2016,$I169,1,$H169,$G169*$H169, Options!$B$8)))","v":11402.414531516401},{"$f":"IF(AND(OR($E$2=\"Orkney Health Board\",$E$2=\"Orkney Islands Local Authority\"),$F169=1),0,IF(AND(OR($E$2=\"Shetland Health Board\",$E$2=\"Western Isles Health Board\",$E$2=\"Shetland Islands Local Authority\",$E$2=\"Eilean Siar Local Authority\"),OR($F169=1,$F169=5)),0,hosp_count(VALUE(LEFT(Options!$B$14,2)),$C169,$E169,$F169,2016,$I169+$J169,1,$H169,$G169*$H169, Options!$B$8)))","v":11394.5822759534},{"$f":"IF(AND(OR($E$2=\"Orkney Health Board\",$E$2=\"Orkney Islands Local Authority\"),$F169=1),0,IF(AND(OR($E$2=\"Shetland Health Board\",$E$2=\"Western Isles Health Board\",$E$2=\"Shetland Islands Local Authority\",$E$2=\"Eilean Siar Local Authority\"),OR($F169=1,$F169=5)),0,prem_mort(VALUE(LEFT(Options!$B$14,2)),$C169,$E169,$F169,2016,$I169,1,$H169,$G169*$H169,Options!$B$8)))","v":623.77357038299999},{"$f":"IF(AND(OR($E$2=\"Orkney Health Board\",$E$2=\"Orkney Islands Local Authority\"),$F169=1),0,IF(AND(OR($E$2=\"Shetland Health Board\",$E$2=\"Western Isles Health Board\",$E$2=\"Shetland Islands Local Authority\",$E$2=\"Eilean Siar Local Authority\"),OR($F169=1,$F169=5)),0,prem_mort(VALUE(LEFT(Options!$B$14,2)),$C169,$E169,$F169,2016,$I169+$J169,1,$H169,$G169*$H169,Options!$B$8)))","v":623.10540885820001},2552.6828056269437,2549.9484729833034,29228.223229794152,29196.915115555737,46662.360990000001,46630.308871965135,2552.6828056269437,2549.9484729833034,12763414.028134719,12749742.364916516,146141116.14897075,145984575.5777787,233311804.95000002,233151544.35982567,12763414.028134719,12749742.364916516,5000]
[null,"Male 75-79",76.907700000000006,86.357700000000008,"male",3,{"$f":"HLOOKUP($E$2,'Prevalence Rates'!$C$3:$BC$249,'Prevalence Rates'!$BD170,FALSE)","v":7.400000000000001E-2},{"$f":"HLOOKUP($E$2,'Population 2016'!$C$3:$BC$249,'Population 2016'!BD170,FALSE)","v":18146},0,{"$f":"ROUND(0.807*(HLOOKUP($E$2,'Population at Risk'!$C$3:$BC$249,'Population at Risk'!$BD170,FALSE)),0)","v":1084},{"$f":"IF(AND(OR($E$2=\"Orkney Health Board\",$E$2=\"Orkney Islands Local Authority\"),$F170=1),0,IF(AND(OR($E$2=\"Shetland Health Board\",$E$2=\"Western Isles Health Board\",$E$2=\"Shetland Islands Local Authority\",$E$2=\"Eilean Siar Local Authority\"),OR($F170=1,$F170=5)),0,new_ci(VALUE(LEFT(Options!$B$14,2)),$C170,$E170,$F170,2016,$I170,1,$H170,$G170*$H170,Options!$B$8)))","v":672.61021953470004},{"$f":"IF(AND(OR($E$2=\"Orkney Health Board\",$E$2=\"Orkney Islands Local Authority\"),$F170=1),0,IF(AND(OR($E$2=\"Shetland Health Board\",$E$2=\"Western Isles Health Board\",$E$2=\"Shetland Islands Local Authority\",$E$2=\"Eilean Siar Local Authority\"),OR($F170=1,$F170=5)),0,new_ci(VALUE(LEFT(Options!$B$14,2)),$C170,$E170,$F170,2016,$I170+$J170,1,$H170,$G170*$H170,Options!$B$8)))","v":672.26472347749996},{"$f":"IF(AND(OR($E$2=\"Orkney Health Board\",$E$2=\"Orkney Islands Local Authority\"),$F170=1),0,IF(AND(OR($E$2=\"Shetland Health Board\",$E$2=\"Western Isles Health Board\",$E$2=\"Shetland Islands Local Authority\",$E$2=\"Eilean Siar Local Authority\"),OR($F170=1,$F170=5)),0,new_yllv2(VALUE(LEFT(Options!$B$14,2)),$C170,$D170,$E170,$F170,2016,$I170,1,$H170,$G170*$H170,Options!$B$8)))","v":5683.5563550682},{"$f":"IF(AND(OR($E$2=\"Orkney Health Board\",$E$2=\"Orkney Islands Local Authority\"),$F170=1),0,IF(AND(OR($E$2=\"Shetland Health Board\",$E$2=\"Western Isles Health Board\",$E$2=\"Shetland Islands Local Authority\",$E$2=\"Eilean Siar Local Authority\"),OR($F170=1,$F170=5)),0,new_yllv2(VALUE(LEFT(Options!$B$14,2)),$C170,$D170,$E170,$F170,2016,$I170+$J170,1,$H170,$G170*$H170,Options!$B$8)))","v":5680.6369133849003},{"$f":"IF(AND(OR($E$2=\"Orkney Health Board\",$E$2=\"Orkney Islands Local Authority\"),$F170=1),0,IF(AND(OR($E$2=\"Shetland Health Board\",$E$2=\"Western Isles Health Board\",$E$2=\"Shetland Islands Local Authority\",$E$2=\"Eilean Siar Local Authority\"),OR($F170=1,$F170=5)),0,hosp_count(VALUE(LEFT(Options!$B$14,2)),$C170,$E170,$F170,2016,$I170,1,$H170,$G170*$H170, Options!$B$8)))","v":10117.666517439},{"$f":"IF(AND(OR($E$2=\"Orkney Health Board\",$E$2=\"Orkney Islands Local Authority\"),$F170=1),0,IF(AND(OR($E$2=\"Shetland Health Board\",$E$2=\"Western Isles Health Board\",$E$2=\"Shetland Islands Local Authority\",$E$2=\"Eilean Siar Local Authority\"),OR($F170=1,$F170=5)),0,hosp_count(VALUE(LEFT(Options!$B$14,2)),$C170,$E170,$F170,2016,$I170+$J170,1,$H170,$G170*$H170, Options!$B$8)))","v":10114.3779183112},{"$f":"IF(AND(OR($E$2=\"Orkney Health Board\",$E$2=\"Orkney Islands Local Authority\"),$F170=1),0,IF(AND(OR($E$2=\"Shetland Health Board\",$E$2=\"Western Isles Health Board\",$E$2=\"Shetland Islands Local Authority\",$E$2=\"Eilean Siar Local Authority\"),OR($F170=1,$F170=5)),0,prem_mort(VALUE(LEFT(Options!$B$14,2)),$C170,$E170,$F170,2016,$I170,1,$H170,$G170*$H170,Options!$B$8)))","v":0},{"$f":"IF(AND(OR($E$2=\"Orkney Health Board\",$E$2=\"Orkney Islands Local Authority\"),$F170=1),0,IF(AND(OR($E$2=\"Shetland Health Board\",$E$2=\"Western Isles Health Board\",$E$2=\"Shetland Islands Local Authority\",$E$2=\"Eilean Siar Local Authority\"),OR($F170=1,$F170=5)),0,prem_mort(VALUE(LEFT(Options!$B$14,2)),$C170,$E170,$F170,2016,$I170+$J170,1,$H170,$G170*$H170,Options!$B$8)))","v":0},3706.6583243397999,3704.7543451862666,31321.262840671221,31305.174216824093,55757.007150000005,55738.884152492014,0,0,14826633.2973592,14819017.380745066,125285051.36268489,125220696.86729637,223028028.60000002,222955536.60996807,0,0,4000]
[null,"Male 80-84",81.797089,88.627089999999995,"male",3,{"$f":"HLOOKUP($E$2,'Prevalence Rates'!$C$3:$BC$249,'Prevalence Rates'!$BD171,FALSE)","v":7.400000000000001E-2},{"$f":"HLOOKUP($E$2,'Population 2016'!$C$3:$BC$249,'Population 2016'!BD171,FALSE)","v":12096},0,{"$f":"ROUND(0.807*(HLOOKUP($E$2,'Population at Risk'!$C$3:$BC$249,'Population at Risk'!$BD171,FALSE)),0)","v":722},{"$f":"IF(AND(OR($E$2=\"Orkney Health Board\",$E$2=\"Orkney Islands Local Authority\"),$F171=1),0,IF(AND(OR($E$2=\"Shetland Health Board\",$E$2=\"Western Isles Health Board\",$E$2=\"Shetland Islands Local Authority\",$E$2=\"Eilean Siar Local Authority\"),OR($F171=1,$F171=5)),0,new_ci(VALUE(LEFT(Options!$B$14,2)),$C171,$E171,$F171,2016,$I171,1,$H171,$G171*$H171,Options!$B$8)))","v":642.88692760480001},{"$f":"IF(AND(OR($E$2=\"Orkney Health Board\",$E$2=\"Orkney Islands Local Authority\"),$F171=1),0,IF(AND(OR($E$2=\"Shetland Health Board\",$E$2=\"Western Isles Health Board\",$E$2=\"Shetland Islands Local Authority\",$E$2=\"Eilean Siar Local Authority\"),OR($F171=1,$F171=5)),0,new_ci(VALUE(LEFT(Options!$B$14,2)),$C171,$E171,$F171,2016,$I171+$J171,1,$H171,$G171*$H171,Options!$B$8)))","v":642.56389989520005},{"$f":"IF(AND(OR($E$2=\"Orkney Health Board\",$E$2=\"Orkney Islands Local Authority\"),$F171=1),0,IF(AND(OR($E$2=\"Shetland Health Board\",$E$2=\"Western Isles Health Board\",$E$2=\"Shetland Islands Local Authority\",$E$2=\"Eilean Siar Local Authority\"),OR($F171=1,$F171=5)),0,new_yllv2(VALUE(LEFT(Options!$B$14,2)),$C171,$D171,$E171,$F171,2016,$I171,1,$H171,$G171*$H171,Options!$B$8)))","v":3748.0314308228999},{"$f":"IF(AND(OR($E$2=\"Orkney Health Board\",$E$2=\"Orkney Islands Local Authority\"),$F171=1),0,IF(AND(OR($E$2=\"Shetland Health Board\",$E$2=\"Western Isles Health Board\",$E$2=\"Shetland Islands Local Authority\",$E$2=\"Eilean Siar Local Authority\"),OR($F171=1,$F171=5)),0,new_yllv2(VALUE(LEFT(Options!$B$14,2)),$C171,$D171,$E171,$F171,2016,$I171+$J171,1,$H171,$G171*$H171,Options!$B$8)))","v":3746.1481789528998},{"$f":"IF(AND(OR($E$2=\"Orkney Health Board\",$E$2=\"Orkney Islands Local Authority\"),$F171=1),0,IF(AND(OR($E$2=\"Shetland Health Board\",$E$2=\"Western Isles Health Board\",$E$2=\"Shetland Islands Local Authority\",$E$2=\"Eilean Siar Local Authority\"),OR($F171=1,$F171=5)),0,hosp_count(VALUE(LEFT(Options!$B$14,2)),$C171,$E171,$F171,2016,$I171,1,$H171,$G171*$H171, Options!$B$8)))","v":8022.5594273664001},{"$f":"IF(AND(OR($E$2=\"Orkney Health Board\",$E$2=\"Orkney Islands Local Authority\"),$F171=1),0,IF(AND(OR($E$2=\"Shetland Health Board\",$E$2=\"Western Isles Health Board\",$E$2=\"Shetland Islands Local Authority\",$E$2=\"Eilean Siar Local Authority\"),OR($F171=1,$F171=5)),0,hosp_count(VALUE(LEFT(Options!$B$14,2)),$C171,$E171,$F171,2016,$I171+$J171,1,$H171,$G171*$H171, Options!$B$8)))","v":8019.9539303957999},{"$f":"IF(AND(OR($E$2=\"Orkney Health Board\",$E$2=\"Orkney Islands Local Authority\"),$F171=1),0,IF(AND(OR($E$2=\"Shetland Health Board\",$E$2=\"Western Isles Health Board\",$E$2=\"Shetland Islands Local Authority\",$E$2=\"Eilean Siar Local Authority\"),OR($F171=1,$F171=5)),0,prem_mort(VALUE(LEFT(Options!$B$14,2)),$C171,$E171,$F171,2016,$I171,1,$H171,$G171*$H171,Options!$B$8)))","v":0},{"$f":"IF(AND(OR($E$2=\"Orkney Health Board\",$E$2=\"Orkney Islands Local Authority\"),$F171=1),0,IF(AND(OR($E$2=\"Shetland Health Board\",$E$2=\"Western Isles Health Board\",$E$2=\"Shetland Islands Local Authority\",$E$2=\"Eilean Siar Local Authority\"),OR($F171=1,$F171=5)),0,prem_mort(VALUE(LEFT(Options!$B$14,2)),$C171,$E171,$F171,2016,$I171+$J171,1,$H171,$G171*$H171,Options!$B$8)))","v":0},5314.872086679894,5312.2015533664025,30985.709580215775,30970.140368327542,66324.069340000002,66302.529186473213,0,0,13287180.216699734,13280503.883416006,77464273.95053944,77425350.92081885,165810173.34999999,165756322.96618304,0,0,2500]
[null,"Male 85-89",86.630752999999999,91.420750000000012,"male",3,{"$f":"HLOOKUP($E$2,'Prevalence Rates'!$C$3:$BC$249,'Prevalence Rates'!$BD172,FALSE)","v":7.400000000000001E-2},{"$f":"HLOOKUP($E$2,'Population 2016'!$C$3:$BC$249,'Population 2016'!BD172,FALSE)","v":6019},0,{"$f":"ROUND(0.807*(HLOOKUP($E$2,'Population at Risk'!$C$3:$BC$249,'Population at Risk'!$BD172,FALSE)),0)","v":359},{"$f":"IF(AND(OR($E$2=\"Orkney Health Board\",$E$2=\"Orkney Islands Local Authority\"),$F172=1),0,IF(AND(OR($E$2=\"Shetland Health Board\",$E$2=\"Western Isles Health Board\",$E$2=\"Shetland Islands Local Authority\",$E$2=\"Eilean Siar Local Authority\"),OR($F172=1,$F172=5)),0,new_ci(VALUE(LEFT(Options!$B$14,2)),$C172,$E172,$F172,2016,$I172,1,$H172,$G172*$H172,Options!$B$8)))","v":455.09458112990001},{"$f":"IF(AND(OR($E$2=\"Orkney Health Board\",$E$2=\"Orkney Islands Local Authority\"),$F172=1),0,IF(AND(OR($E$2=\"Shetland Health Board\",$E$2=\"Western Isles Health Board\",$E$2=\"Shetland Islands Local Authority\",$E$2=\"Eilean Siar Local Authority\"),OR($F172=1,$F172=5)),0,new_ci(VALUE(LEFT(Options!$B$14,2)),$C172,$E172,$F172,2016,$I172+$J172,1,$H172,$G172*$H172,Options!$B$8)))","v":454.8729150721},{"$f":"IF(AND(OR($E$2=\"Orkney Health Board\",$E$2=\"Orkney Islands Local Authority\"),$F172=1),0,IF(AND(OR($E$2=\"Shetland Health Board\",$E$2=\"Western Isles Health Board\",$E$2=\"Shetland Islands Local Authority\",$E$2=\"Eilean Siar Local Authority\"),OR($F172=1,$F172=5)),0,new_yllv2(VALUE(LEFT(Options!$B$14,2)),$C172,$D172,$E172,$F172,2016,$I172,1,$H172,$G172*$H172,Options!$B$8)))","v":1724.8070971986001},{"$f":"IF(AND(OR($E$2=\"Orkney Health Board\",$E$2=\"Orkney Islands Local Authority\"),$F172=1),0,IF(AND(OR($E$2=\"Shetland Health Board\",$E$2=\"Western Isles Health Board\",$E$2=\"Shetland Islands Local Authority\",$E$2=\"Eilean Siar Local Authority\"),OR($F172=1,$F172=5)),0,new_yllv2(VALUE(LEFT(Options!$B$14,2)),$C172,$D172,$E172,$F172,2016,$I172+$J172,1,$H172,$G172*$H172,Options!$B$8)))","v":1723.9669835044999},{"$f":"IF(AND(OR($E$2=\"Orkney Health Board\",$E$2=\"Orkney Islands Local Authority\"),$F172=1),0,IF(AND(OR($E$2=\"Shetland Health Board\",$E$2=\"Western Isles Health Board\",$E$2=\"Shetland Islands Local Authority\",$E$2=\"Eilean Siar Local Authority\"),OR($F172=1,$F172=5)),0,hosp_count(VALUE(LEFT(Options!$B$14,2)),$C172,$E172,$F172,2016,$I172,1,$H172,$G172*$H172, Options!$B$8)))","v":4739.2344881063},{"$f":"IF(AND(OR($E$2=\"Orkney Health Board\",$E$2=\"Orkney Islands Local Authority\"),$F172=1),0,IF(AND(OR($E$2=\"Shetland Health Board\",$E$2=\"Western Isles Health Board\",$E$2=\"Shetland Islands Local Authority\",$E$2=\"Eilean Siar Local Authority\"),OR($F172=1,$F172=5)),0,hosp_count(VALUE(LEFT(Options!$B$14,2)),$C172,$E172,$F172,2016,$I172+$J172,1,$H172,$G172*$H172, Options!$B$8)))","v":4737.6964733028999},{"$f":"IF(AND(OR($E$2=\"Orkney Health Board\",$E$2=\"Orkney Islands Local Authority\"),$F172=1),0,IF(AND(OR($E$2=\"Shetland Health Board\",$E$2=\"Western Isles Health Board\",$E$2=\"Shetland Islands Local Authority\",$E$2=\"Eilean Siar Local Authority\"),OR($F172=1,$F172=5)),0,prem_mort(VALUE(LEFT(Options!$B$14,2)),$C172,$E172,$F172,2016,$I172,1,$H172,$G172*$H172,Options!$B$8)))","v":0},{"$f":"IF(AND(OR($E$2=\"Orkney Health Board\",$E$2=\"Orkney Islands Local Authority\"),$F172=1),0,IF(AND(OR($E$2=\"Shetland Health Board\",$E$2=\"Western Isles Health Board\",$E$2=\"Shetland Islands Local Authority\",$E$2=\"Eilean Siar Local Authority\"),OR($F172=1,$F172=5)),0,prem_mort(VALUE(LEFT(Options!$B$14,2)),$C172,$E172,$F172,2016,$I172+$J172,1,$H172,$G172*$H172,Options!$B$8)))","v":0},7560.9666245206845,7557.283852335936,28656.040824033895,28642.08312850141,78737.904770000008,78712.352106710416,0,0,11341449.936781026,11335925.778503904,42984061.236050844,42963124.692752115,118106857.15500002,118068528.16006562,0,0,1500]
[null,"Male 90+",92.215477000000007,95.515479999999997,"male",3,{"$f":"HLOOKUP($E$2,'Prevalence Rates'!$C$3:$BC$249,'Prevalence Rates'!$BD173,FALSE)","v":7.400000000000001E-2},{"$f":"HLOOKUP($E$2,'Population 2016'!$C$3:$BC$249,'Population 2016'!BD173,FALSE)","v":2593},0,{"$f":"ROUND(0.807*(HLOOKUP($E$2,'Population at Risk'!$C$3:$BC$249,'Population at Risk'!$BD173,FALSE)),0)","v":155},{"$f":"IF(AND(OR($E$2=\"Orkney Health Board\",$E$2=\"Orkney Islands Local Authority\"),$F173=1),0,IF(AND(OR($E$2=\"Shetland Health Board\",$E$2=\"Western Isles Health Board\",$E$2=\"Shetland Islands Local Authority\",$E$2=\"Eilean Siar Local Authority\"),OR($F173=1,$F173=5)),0,new_ci(VALUE(LEFT(Options!$B$14,2)),$C173,$E173,$F173,2016,$I173,1,$H173,$G173*$H173,Options!$B$8)))","v":292.61318337659998},{"$f":"IF(AND(OR($E$2=\"Orkney Health Board\",$E$2=\"Orkney Islands Local Authority\"),$F173=1),0,IF(AND(OR($E$2=\"Shetland Health Board\",$E$2=\"Western Isles Health Board\",$E$2=\"Shetland Islands Local Authority\",$E$2=\"Eilean Siar Local Authority\"),OR($F173=1,$F173=5)),0,new_ci(VALUE(LEFT(Options!$B$14,2)),$C173,$E173,$F173,2016,$I173+$J173,1,$H173,$G173*$H173,Options!$B$8)))","v":292.47761098360002},{"$f":"IF(AND(OR($E$2=\"Orkney Health Board\",$E$2=\"Orkney Islands Local Authority\"),$F173=1),0,IF(AND(OR($E$2=\"Shetland Health Board\",$E$2=\"Western Isles Health Board\",$E$2=\"Shetland Islands Local Authority\",$E$2=\"Eilean Siar Local Authority\"),OR($F173=1,$F173=5)),0,new_yllv2(VALUE(LEFT(Options!$B$14,2)),$C173,$D173,$E173,$F173,2016,$I173,1,$H173,$G173*$H173,Options!$B$8)))","v":673.01119960569997},{"$f":"IF(AND(OR($E$2=\"Orkney Health Board\",$E$2=\"Orkney Islands Local Authority\"),$F173=1),0,IF(AND(OR($E$2=\"Shetland Health Board\",$E$2=\"Western Isles Health Board\",$E$2=\"Shetland Islands Local Authority\",$E$2=\"Eilean Siar Local Authority\"),OR($F173=1,$F173=5)),0,new_yllv2(VALUE(LEFT(Options!$B$14,2)),$C173,$D173,$E173,$F173,2016,$I173+$J173,1,$H173,$G173*$H173,Options!$B$8)))","v":672.69938269509998},{"$f":"IF(AND(OR($E$2=\"Orkney Health Board\",$E$2=\"Orkney Islands Local Authority\"),$F173=1),0,IF(AND(OR($E$2=\"Shetland Health Board\",$E$2=\"Western Isles Health Board\",$E$2=\"Shetland Islands Local Authority\",$E$2=\"Eilean Siar Local Authority\"),OR($F173=1,$F173=5)),0,hosp_count(VALUE(LEFT(Options!$B$14,2)),$C173,$E173,$F173,2016,$I173,1,$H173,$G173*$H173, Options!$B$8)))","v":2489.2981891170998},{"$f":"IF(AND(OR($E$2=\"Orkney Health Board\",$E$2=\"Orkney Islands Local Authority\"),$F173=1),0,IF(AND(OR($E$2=\"Shetland Health Board\",$E$2=\"Western Isles Health Board\",$E$2=\"Shetland Islands Local Authority\",$E$2=\"Eilean Siar Local Authority\"),OR($F173=1,$F173=5)),0,hosp_count(VALUE(LEFT(Options!$B$14,2)),$C173,$E173,$F173,2016,$I173+$J173,1,$H173,$G173*$H173, Options!$B$8)))","v":2488.4885558975002},{"$f":"IF(AND(OR($E$2=\"Orkney Health Board\",$E$2=\"Orkney Islands Local Authority\"),$F173=1),0,IF(AND(OR($E$2=\"Shetland Health Board\",$E$2=\"Western Isles Health Board\",$E$2=\"Shetland Islands Local Authority\",$E$2=\"Eilean Siar Local Authority\"),OR($F173=1,$F173=5)),0,prem_mort(VALUE(LEFT(Options!$B$14,2)),$C173,$E173,$F173,2016,$I173,1,$H173,$G173*$H173,Options!$B$8)))","v":0},{"$f":"IF(AND(OR($E$2=\"Orkney Health Board\",$E$2=\"Orkney Islands Local Authority\"),$F173=1),0,IF(AND(OR($E$2=\"Shetland Health Board\",$E$2=\"Western Isles Health Board\",$E$2=\"Shetland Islands Local Authority\",$E$2=\"Eilean Siar Local Authority\"),OR($F173=1,$F173=5)),0,prem_mort(VALUE(LEFT(Options!$B$14,2)),$C173,$E173,$F173,2016,$I173+$J173,1,$H173,$G173*$H173,Options!$B$8)))","v":0},11284.735186139606,11279.506786872349,25954.924782325488,25942.899448326265,96000.70147,95969.477666698818,0,0,11284735.186139606,11279506.78687235,25954924.782325488,25942899.448326264,96000701.469999999,95969477.666698813,0,0,1000]
[null,"Female 0-4",2.0384007,81.468401,"female",4,{"$f":"HLOOKUP($E$2,'Prevalence Rates'!$C$3:$BC$249,'Prevalence Rates'!$BD174,FALSE)","v":0},{"$f":"HLOOKUP($E$2,'Population 2016'!$C$3:$BC$249,'Population 2016'!BD174,FALSE)","v":0},0,{"$f":"ROUND(0.807*(HLOOKUP($E$2,'Population at Risk'!$C$3:$BC$249,'Population at Risk'!$BD174,FALSE)),0)","v":0},{"$f":"IF(AND(OR($E$2=\"Orkney Health Board\",$E$2=\"Orkney Islands Local Authority\"),$F174=1),0,IF(AND(OR($E$2=\"Shetland Health Board\",$E$2=\"Western Isles Health Board\",$E$2=\"Shetland Islands Local Authority\",$E$2=\"Eilean Siar Local Authority\"),OR($F174=1,$F174=5)),0,new_ci(VALUE(LEFT(Options!$B$14,2)),$C174,$E174,$F174,2016,$I174,1,$H174,$G174*$H174,Options!$B$8)))","v":{"$error":"#VALUE!"}},{"$f":"IF(AND(OR($E$2=\"Orkney Health Board\",$E$2=\"Orkney Islands Local Authority\"),$F174=1),0,IF(AND(OR($E$2=\"Shetland Health Board\",$E$2=\"Western Isles Health Board\",$E$2=\"Shetland Islands Local Authority\",$E$2=\"Eilean Siar Local Authority\"),OR($F174=1,$F174=5)),0,new_ci(VALUE(LEFT(Options!$B$14,2)),$C174,$E174,$F174,2016,$I174+$J174,1,$H174,$G174*$H174,Options!$B$8)))","v":{"$error":"#VALUE!"}},{"$f":"IF(AND(OR($E$2=\"Orkney Health Board\",$E$2=\"Orkney Islands Local Authority\"),$F174=1),0,IF(AND(OR($E$2=\"Shetland Health Board\",$E$2=\"Western Isles Health Board\",$E$2=\"Shetland Islands Local Authority\",$E$2=\"Eilean Siar Local Authority\"),OR($F174=1,$F174=5)),0,new_yllv2(VALUE(LEFT(Options!$B$14,2)),$C174,$D174,$E174,$F174,2016,$I174,1,$H174,$G174*$H174,Options!$B$8)))","v":{"$error":"#VALUE!"}},{"$f":"IF(AND(OR($E$2=\"Orkney Health Board\",$E$2=\"Orkney Islands Local Authority\"),$F174=1),0,IF(AND(OR($E$2=\"Shetland Health Board\",$E$2=\"Western Isles Health Board\",$E$2=\"Shetland Islands Local Authority\",$E$2=\"Eilean Siar Local Authority\"),OR($F174=1,$F174=5)),0,new_yllv2(VALUE(LEFT(Options!$B$14,2)),$C174,$D174,$E174,$F174,2016,$I174+$J174,1,$H174,$G174*$H174,Options!$B$8)))","v":{"$error":"#VALUE!"}},{"$f":"IF(AND(OR($E$2=\"Orkney Health Board\",$E$2=\"Orkney Islands Local Authority\"),$F174=1),0,IF(AND(OR($E$2=\"Shetland Health Board\",$E$2=\"Western Isles Health Board\",$E$2=\"Shetland Islands Local Authority\",$E$2=\"Eilean Siar Local Authority\"),OR($F174=1,$F174=5)),0,hosp_count(VALUE(LEFT(Options!$B$14,2)),$C174,$E174,$F174,2016,$I174,1,$H174,$G174*$H174, Options!$B$8)))","v":{"$error":"#VALUE!"}},{"$f":"IF(AND(OR($E$2=\"Orkney Health Board\",$E$2=\"Orkney Islands Local Authority\"),$F174=1),0,IF(AND(OR($E$2=\"Shetland Health Board\",$E$2=\"Western Isles Health Board\",$E$2=\"Shetland Islands Local Authority\",$E$2=\"Eilean Siar Local Authority\"),OR($F174=1,$F174=5)),0,hosp_count(VALUE(LEFT(Options!$B$14,2)),$C174,$E174,$F174,2016,$I174+$J174,1,$H174,$G174*$H174, Options!$B$8)))","v":{"$error":"#VALUE!"}},{"$f":"IF(AND(OR($E$2=\"Orkney Health Board\",$E$2=\"Orkney Islands Local Authority\"),$F174=1),0,IF(AND(OR($E$2=\"Shetland Health Board\",$E$2=\"Western Isles Health Board\",$E$2=\"Shetland Islands Local Authority\",$E$2=\"Eilean Siar Local Authority\"),OR($F174=1,$F174=5)),0,prem_mort(VALUE(LEFT(Options!$B$14,2)),$C174,$E174,$F174,2016,$I174,1,$H174,$G174*$H174,Options!$B$8)))","v":{"$error":"#VALUE!"}},{"$f":"IF(AND(OR($E$2=\"Orkney Health Board\",$E$2=\"Orkney Islands Local Authority\"),$F174=1),0,IF(AND(OR($E$2=\"Shetland Health Board\",$E$2=\"Western Isles Health Board\",$E$2=\"Shetland Islands Local Authority\",$E$2=\"Eilean Siar Local Authority\"),OR($F174=1,$F174=5)),0,prem_mort(VALUE(LEFT(Options!$B$14,2)),$C174,$E174,$F174,2016,$I174+$J174,1,$H174,$G174*$H174,Options!$B$8)))","v":{"$error":"#VALUE!"}},{"$error":"#VALUE!"},{"$error":"#VALUE!"},{"$error":"#VALUE!"},{"$error":"#VALUE!"},{"$error":"#VALUE!"},{"$error":"#VALUE!"},{"$error":"#VALUE!"},{"$error":"#VALUE!"},{"$error":"#VALUE!"},{"$error":"#VALUE!"},{"$error":"#VALUE!"},{"$error":"#VALUE!"},{"$error":"#VALUE!"},{"$error":"#VALUE!"},{"$error":"#VALUE!"},{"$error":"#VALUE!"},5000]
[null,"Female 5-9",6.9792794999999996,81.439279999999997,"female",4,{"$f":"HLOOKUP($E$2,'Prevalence Rates'!$C$3:$BC$249,'Prevalence Rates'!$BD175,FALSE)","v":0},{"$f":"HLOOKUP($E$2,'Population 2016'!$C$3:$BC$249,'Population 2016'!BD175,FALSE)","v":0},0,{"$f":"ROUND(0.807*(HLOOKUP($E$2,'Population at Risk'!$C$3:$BC$249,'Population at Risk'!$BD175,FALSE)),0)","v":0},{"$f":"IF(AND(OR($E$2=\"Orkney Health Board\",$E$2=\"Orkney Islands Local Authority\"),$F175=1),0,IF(AND(OR($E$2=\"Shetland Health Board\",$E$2=\"Western Isles Health Board\",$E$2=\"Shetland Islands Local Authority\",$E$2=\"Eilean Siar Local Authority\"),OR($F175=1,$F175=5)),0,new_ci(VALUE(LEFT(Options!$B$14,2)),$C175,$E175,$F175,2016,$I175,1,$H175,$G175*$H175,Options!$B$8)))","v":{"$error":"#VALUE!"}},{"$f":"IF(AND(OR($E$2=\"Orkney Health Board\",$E$2=\"Orkney Islands Local Authority\"),$F175=1),0,IF(AND(OR($E$2=\"Shetland Health Board\",$E$2=\"Western Isles Health Board\",$E$2=\"Shetland Islands Local Authority\",$E$2=\"Eilean Siar Local Authority\"),OR($F175=1,$F175=5)),0,new_ci(VALUE(LEFT(Options!$B$14,2)),$C175,$E175,$F175,2016,$I175+$J175,1,$H175,$G175*$H175,Options!$B$8)))","v":{"$error":"#VALUE!"}},{"$f":"IF(AND(OR($E$2=\"Orkney Health Board\",$E$2=\"Orkney Islands Local Authority\"),$F175=1),0,IF(AND(OR($E$2=\"Shetland Health Board\",$E$2=\"Western Isles Health Board\",$E$2=\"Shetland Islands Local Authority\",$E$2=\"Eilean Siar Local Authority\"),OR($F175=1,$F175=5)),0,new_yllv2(VALUE(LEFT(Options!$B$14,2)),$C175,$D175,$E175,$F175,2016,$I175,1,$H175,$G175*$H175,Options!$B$8)))","v":{"$error":"#VALUE!"}},{"$f":"IF(AND(OR($E$2=\"Orkney Health Board\",$E$2=\"Orkney Islands Local Authority\"),$F175=1),0,IF(AND(OR($E$2=\"Shetland Health Board\",$E$2=\"Western Isles Health Board\",$E$2=\"Shetland Islands Local Authority\",$E$2=\"Eilean Siar Local Authority\"),OR($F175=1,$F175=5)),0,new_yllv2(VALUE(LEFT(Options!$B$14,2)),$C175,$D175,$E175,$F175,2016,$I175+$J175,1,$H175,$G175*$H175,Options!$B$8)))","v":{"$error":"#VALUE!"}},{"$f":"IF(AND(OR($E$2=\"Orkney Health Board\",$E$2=\"Orkney Islands Local Authority\"),$F175=1),0,IF(AND(OR($E$2=\"Shetland Health Board\",$E$2=\"Western Isles Health Board\",$E$2=\"Shetland Islands Local Authority\",$E$2=\"Eilean Siar Local Authority\"),OR($F175=1,$F175=5)),0,hosp_count(VALUE(LEFT(Options!$B$14,2)),$C175,$E175,$F175,2016,$I175,1,$H175,$G175*$H175, Options!$B$8)))","v":{"$error":"#VALUE!"}},{"$f":"IF(AND(OR($E$2=\"Orkney Health Board\",$E$2=\"Orkney Islands Local Authority\"),$F175=1),0,IF(AND(OR($E$2=\"Shetland Health Board\",$E$2=\"Western Isles Health Board\",$E$2=\"Shetland Islands Local Authority\",$E$2=\"Eilean Siar Local Authority\"),OR($F175=1,$F175=5)),0,hosp_count(VALUE(LEFT(Options!$B$14,2)),$C175,$E175,$F175,2016,$I175+$J175,1,$H175,$G175*$H175, Options!$B$8)))","v":{"$error":"#VALUE!"}},{"$f":"IF(AND(OR($E$2=\"Orkney Health Board\",$E$2=\"Orkney Islands Local Authority\"),$F175=1),0,IF(AND(OR($E$2=\"Shetland Health Board\",$E$2=\"Western Isles Health Board\",$E$2=\"Shetland Islands Local Authority\",$E$2=\"Eilean Siar Local Authority\"),OR($F175=1,$F175=5)),0,prem_mort(VALUE(LEFT(Options!$B$14,2)),$C175,$E175,$F175,2016,$I175,1,$H175,$G175*$H175,Options!$B$8)))","v":{"$error":"#VALUE!"}},{"$f":"IF(AND(OR($E$2=\"Orkney Health Board\",$E$2=\"Orkney Islands Local Authority\"),$F175=1),0,IF(AND(OR($E$2=\"Shetland Health Board\",$E$2=\"Western Isles Health Board\",$E$2=\"Shetland Islands Local Authority\",$E$2=\"Eilean Siar Local Authority\"),OR($F175=1,$F175=5)),0,prem_mort(VALUE(LEFT(Options!$B$14,2)),$C175,$E175,$F175,2016,$I175+$J175,1,$H175,$G175*$H175,Options!$B$8)))","v":{"$error":"#VALUE!"}},{"$error":"#VALUE!"},{"$error":"#VALUE!"},{"$error":"#VALUE!"},{"$error":"#VALUE!"},{"$error":"#VALUE!"},{"$error":"#VALUE!"},{"$error":"#VALUE!"},{"$error":"#VALUE!"},{"$error":"#VALUE!"},{"$error":"#VALUE!"},{"$error":"#VALUE!"},{"$error":"#VALUE!"},{"$error":"#VALUE!"},{"$error":"#VALUE!"},{"$error":"#VALUE!"},{"$error":"#VALUE!"},5500]
[null,"Female 10-15",12.478312000000001,81.948309999999992,"female",4,{"$f":"HLOOKUP($E$2,'Prevalence Rates'!$C$3:$BC$249,'Prevalence Rates'!$BD176,FALSE)","v":0},{"$f":"HLOOKUP($E$2,'Population 2016'!$C$3:$BC$249,'Population 2016'!BD176,FALSE)","v":0},0,{"$f":"ROUND(0.807*(HLOOKUP($E$2,'Population at Risk'!$C$3:$BC$249,'Population at Risk'!$BD176,FALSE)),0)","v":0},{"$f":"IF(AND(OR($E$2=\"Orkney Health Board\",$E$2=\"Orkney Islands Local Authority\"),$F176=1),0,IF(AND(OR($E$2=\"Shetland Health Board\",$E$2=\"Western Isles Health Board\",$E$2=\"Shetland Islands Local Authority\",$E$2=\"Eilean Siar Local Authority\"),OR($F176=1,$F176=5)),0,new_ci(VALUE(LEFT(Options!$B$14,2)),$C176,$E176,$F176,2016,$I176,1,$H176,$G176*$H176,Options!$B$8)))","v":{"$error":"#VALUE!"}},{"$f":"IF(AND(OR($E$2=\"Orkney Health Board\",$E$2=\"Orkney Islands Local Authority\"),$F176=1),0,IF(AND(OR($E$2=\"Shetland Health Board\",$E$2=\"Western Isles Health Board\",$E$2=\"Shetland Islands Local Authority\",$E$2=\"Eilean Siar Local Authority\"),OR($F176=1,$F176=5)),0,new_ci(VALUE(LEFT(Options!$B$14,2)),$C176,$E176,$F176,2016,$I176+$J176,1,$H176,$G176*$H176,Options!$B$8)))","v":{"$error":"#VALUE!"}},{"$f":"IF(AND(OR($E$2=\"Orkney Health Board\",$E$2=\"Orkney Islands Local Authority\"),$F176=1),0,IF(AND(OR($E$2=\"Shetland Health Board\",$E$2=\"Western Isles Health Board\",$E$2=\"Shetland Islands Local Authority\",$E$2=\"Eilean Siar Local Authority\"),OR($F176=1,$F176=5)),0,new_yllv2(VALUE(LEFT(Options!$B$14,2)),$C176,$D176,$E176,$F176,2016,$I176,1,$H176,$G176*$H176,Options!$B$8)))","v":{"$error":"#VALUE!"}},{"$f":"IF(AND(OR($E$2=\"Orkney Health Board\",$E$2=\"Orkney Islands Local Authority\"),$F176=1),0,IF(AND(OR($E$2=\"Shetland Health Board\",$E$2=\"Western Isles Health Board\",$E$2=\"Shetland Islands Local Authority\",$E$2=\"Eilean Siar Local Authority\"),OR($F176=1,$F176=5)),0,new_yllv2(VALUE(LEFT(Options!$B$14,2)),$C176,$D176,$E176,$F176,2016,$I176+$J176,1,$H176,$G176*$H176,Options!$B$8)))","v":{"$error":"#VALUE!"}},{"$f":"IF(AND(OR($E$2=\"Orkney Health Board\",$E$2=\"Orkney Islands Local Authority\"),$F176=1),0,IF(AND(OR($E$2=\"Shetland Health Board\",$E$2=\"Western Isles Health Board\",$E$2=\"Shetland Islands Local Authority\",$E$2=\"Eilean Siar Local Authority\"),OR($F176=1,$F176=5)),0,hosp_count(VALUE(LEFT(Options!$B$14,2)),$C176,$E176,$F176,2016,$I176,1,$H176,$G176*$H176, Options!$B$8)))","v":{"$error":"#VALUE!"}},{"$f":"IF(AND(OR($E$2=\"Orkney Health Board\",$E$2=\"Orkney Islands Local Authority\"),$F176=1),0,IF(AND(OR($E$2=\"Shetland Health Board\",$E$2=\"Western Isles Health Board\",$E$2=\"Shetland Islands Local Authority\",$E$2=\"Eilean Siar Local Authority\"),OR($F176=1,$F176=5)),0,hosp_count(VALUE(LEFT(Options!$B$14,2)),$C176,$E176,$F176,2016,$I176+$J176,1,$H176,$G176*$H176, Options!$B$8)))","v":{"$error":"#VALUE!"}},{"$f":"IF(AND(OR($E$2=\"Orkney Health Board\",$E$2=\"Orkney Islands Local Authority\"),$F176=1),0,IF(AND(OR($E$2=\"Shetland Health Board\",$E$2=\"Western Isles Health Board\",$E$2=\"Shetland Islands Local Authority\",$E$2=\"Eilean Siar Local Authority\"),OR($F176=1,$F176=5)),0,prem_mort(VALUE(LEFT(Options!$B$14,2)),$C176,$E176,$F176,2016,$I176,1,$H176,$G176*$H176,Options!$B$8)))","v":{"$error":"#VALUE!"}},{"$f":"IF(AND(OR($E$2=\"Orkney Health Board\",$E$2=\"Orkney Islands Local Authority\"),$F176=1),0,IF(AND(OR($E$2=\"Shetland Health Board\",$E$2=\"Western Isles Health Board\",$E$2=\"Shetland Islands Local Authority\",$E$2=\"Eilean Siar Local Authority\"),OR($F176=1,$F176=5)),0,prem_mort(VALUE(LEFT(Options!$B$14,2)),$C176,$E176,$F176,2016,$I176+$J176,1,$H176,$G176*$H176,Options!$B$8)))","v":{"$error":"#VALUE!"}},{"$error":"#VALUE!"},{"$error":"#VALUE!"},{"$error":"#VALUE!"},{"$error":"#VALUE!"},{"$error":"#VALUE!"},{"$error":"#VALUE!"},{"$error":"#VALUE!"},{"$error":"#VALUE!"},{"$error":"#VALUE!"},{"$error":"#VALUE!"},{"$error":"#VALUE!"},{"$error":"#VALUE!"},{"$error":"#VALUE!"},{"$error":"#VALUE!"},{"$error":"#VALUE!"},{"$error":"#VALUE!"},6600]
["SIMD Q4","Female 16-19",17.570053000000001,81.100049999999996,"female",4,{"$f":"HLOOKUP($E$2,'Prevalence Rates'!$C$3:$BC$249,'Prevalence Rates'!$BD177,FALSE)","v":0.1918},{"$f":"HLOOKUP($E$2,'Population 2016'!$C$3:$BC$249,'Population 2016'!BD177,FALSE)","v":23408},0,{"$f":"ROUND(0.807*(HLOOKUP($E$2,'Population at Risk'!$C$3:$BC$249,'Population at Risk'!$BD177,FALSE)),0)","v":3623},{"$f":"IF(AND(OR($E$2=\"Orkney Health Board\",$E$2=\"Orkney Islands Local Authority\"),$F177=1),0,IF(AND(OR($E$2=\"Shetland Health Board\",$E$2=\"Western Isles Health Board\",$E$2=\"Shetland Islands Local Authority\",$E$2=\"Eilean Siar Local Authority\"),OR($F177=1,$F177=5)),0,new_ci(VALUE(LEFT(Options!$B$14,2)),$C177,$E177,$F177,2016,$I177,1,$H177,$G177*$H177,Options!$B$8)))","v":3.3423166773999999},{"$f":"IF(AND(OR($E$2=\"Orkney Health Board\",$E$2=\"Orkney Islands Local Authority\"),$F177=1),0,IF(AND(OR($E$2=\"Shetland Health Board\",$E$2=\"Western Isles Health Board\",$E$2=\"Shetland Islands Local Authority\",$E$2=\"Eilean Siar Local Authority\"),OR($F177=1,$F177=5)),0,new_ci(VALUE(LEFT(Options!$B$14,2)),$C177,$E177,$F177,2016,$I177+$J177,1,$H177,$G177*$H177,Options!$B$8)))","v":3.3361880105999999},{"$f":"IF(AND(OR($E$2=\"Orkney Health Board\",$E$2=\"Orkney Islands Local Authority\"),$F177=1),0,IF(AND(OR($E$2=\"Shetland Health Board\",$E$2=\"Western Isles Health Board\",$E$2=\"Shetland Islands Local Authority\",$E$2=\"Eilean Siar Local Authority\"),OR($F177=1,$F177=5)),0,new_yllv2(VALUE(LEFT(Options!$B$14,2)),$C177,$D177,$E177,$F177,2016,$I177,1,$H177,$G177*$H177,Options!$B$8)))","v":208.99505181090001},{"$f":"IF(AND(OR($E$2=\"Orkney Health Board\",$E$2=\"Orkney Islands Local Authority\"),$F177=1),0,IF(AND(OR($E$2=\"Shetland Health Board\",$E$2=\"Western Isles Health Board\",$E$2=\"Shetland Islands Local Authority\",$E$2=\"Eilean Siar Local Authority\"),OR($F177=1,$F177=5)),0,new_yllv2(VALUE(LEFT(Options!$B$14,2)),$C177,$D177,$E177,$F177,2016,$I177+$J177,1,$H177,$G177*$H177,Options!$B$8)))","v":208.61182629429999},{"$f":"IF(AND(OR($E$2=\"Orkney Health Board\",$E$2=\"Orkney Islands Local Authority\"),$F177=1),0,IF(AND(OR($E$2=\"Shetland Health Board\",$E$2=\"Western Isles Health Board\",$E$2=\"Shetland Islands Local Authority\",$E$2=\"Eilean Siar Local Authority\"),OR($F177=1,$F177=5)),0,hosp_count(VALUE(LEFT(Options!$B$14,2)),$C177,$E177,$F177,2016,$I177,1,$H177,$G177*$H177, Options!$B$8)))","v":2068.4330629423998},{"$f":"IF(AND(OR($E$2=\"Orkney Health Board\",$E$2=\"Orkney Islands Local Authority\"),$F177=1),0,IF(AND(OR($E$2=\"Shetland Health Board\",$E$2=\"Western Isles Health Board\",$E$2=\"Shetland Islands Local Authority\",$E$2=\"Eilean Siar Local Authority\"),OR($F177=1,$F177=5)),0,hosp_count(VALUE(LEFT(Options!$B$14,2)),$C177,$E177,$F177,2016,$I177+$J177,1,$H177,$G177*$H177, Options!$B$8)))","v":2066.1546128615},{"$f":"IF(AND(OR($E$2=\"Orkney Health Board\",$E$2=\"Orkney Islands Local Authority\"),$F177=1),0,IF(AND(OR($E$2=\"Shetland Health Board\",$E$2=\"Western Isles Health Board\",$E$2=\"Shetland Islands Local Authority\",$E$2=\"Eilean Siar Local Authority\"),OR($F177=1,$F177=5)),0,prem_mort(VALUE(LEFT(Options!$B$14,2)),$C177,$E177,$F177,2016,$I177,1,$H177,$G177*$H177,Options!$B$8)))","v":3.3423166773999999},{"$f":"IF(AND(OR($E$2=\"Orkney Health Board\",$E$2=\"Orkney Islands Local Authority\"),$F177=1),0,IF(AND(OR($E$2=\"Shetland Health Board\",$E$2=\"Western Isles Health Board\",$E$2=\"Shetland Islands Local Authority\",$E$2=\"Eilean Siar Local Authority\"),OR($F177=1,$F177=5)),0,prem_mort(VALUE(LEFT(Options!$B$14,2)),$C177,$E177,$F177,2016,$I177+$J177,1,$H177,$G177*$H177,Options!$B$8)))","v":3.3361880105999999},14.278523057928913,14.252341125256322,892.83600397684552,891.19884780545112,8836.436529999999,8826.7028915819374,14.278523057928913,14.252341125256322,62825.50145488722,62710.300951127814,3928478.4174981201,3921274.9303439851,38880320.731999993,38837492.722960524,62825.50145488722,62710.300951127814,4400]
[null,"Female 20-24",22.077057,81.667060000000006,"female",4,{"$f":"HLOOKUP($E$2,'Prevalence Rates'!$C$3:$BC$249,'Prevalence Rates'!$BD178,FALSE)","v":0.1918},{"$f":"HLOOKUP($E$2,'Population 2016'!$C$3:$BC$249,'Population 2016'!BD178,FALSE)","v":34833},0,{"$f":"ROUND(0.807*(HLOOKUP($E$2,'Population at Risk'!$C$3:$BC$249,'Population at Risk'!$BD178,FALSE)),0)","v":5392},{"$f":"IF(AND(OR($E$2=\"Orkney Health Board\",$E$2=\"Orkney Islands Local Authority\"),$F178=1),0,IF(AND(OR($E$2=\"Shetland Health Board\",$E$2=\"Western Isles Health Board\",$E$2=\"Shetland Islands Local Authority\",$E$2=\"Eilean Siar Local Authority\"),OR($F178=1,$F178=5)),0,new_ci(VALUE(LEFT(Options!$B$14,2)),$C178,$E178,$F178,2016,$I178,1,$H178,$G178*$H178,Options!$B$8)))","v":7.2969458565999998},{"$f":"IF(AND(OR($E$2=\"Orkney Health Board\",$E$2=\"Orkney Islands Local Authority\"),$F178=1),0,IF(AND(OR($E$2=\"Shetland Health Board\",$E$2=\"Western Isles Health Board\",$E$2=\"Shetland Islands Local Authority\",$E$2=\"Eilean Siar Local Authority\"),OR($F178=1,$F178=5)),0,new_ci(VALUE(LEFT(Options!$B$14,2)),$C178,$E178,$F178,2016,$I178+$J178,1,$H178,$G178*$H178,Options!$B$8)))","v":7.2835661478000002},{"$f":"IF(AND(OR($E$2=\"Orkney Health Board\",$E$2=\"Orkney Islands Local Authority\"),$F178=1),0,IF(AND(OR($E$2=\"Shetland Health Board\",$E$2=\"Western Isles Health Board\",$E$2=\"Shetland Islands Local Authority\",$E$2=\"Eilean Siar Local Authority\"),OR($F178=1,$F178=5)),0,new_yllv2(VALUE(LEFT(Options!$B$14,2)),$C178,$D178,$E178,$F178,2016,$I178,1,$H178,$G178*$H178,Options!$B$8)))","v":427.52807962899999},{"$f":"IF(AND(OR($E$2=\"Orkney Health Board\",$E$2=\"Orkney Islands Local Authority\"),$F178=1),0,IF(AND(OR($E$2=\"Shetland Health Board\",$E$2=\"Western Isles Health Board\",$E$2=\"Shetland Islands Local Authority\",$E$2=\"Eilean Siar Local Authority\"),OR($F178=1,$F178=5)),0,new_yllv2(VALUE(LEFT(Options!$B$14,2)),$C178,$D178,$E178,$F178,2016,$I178+$J178,1,$H178,$G178*$H178,Options!$B$8)))","v":426.7441624503},{"$f":"IF(AND(OR($E$2=\"Orkney Health Board\",$E$2=\"Orkney Islands Local Authority\"),$F178=1),0,IF(AND(OR($E$2=\"Shetland Health Board\",$E$2=\"Western Isles Health Board\",$E$2=\"Shetland Islands Local Authority\",$E$2=\"Eilean Siar Local Authority\"),OR($F178=1,$F178=5)),0,hosp_count(VALUE(LEFT(Options!$B$14,2)),$C178,$E178,$F178,2016,$I178,1,$H178,$G178*$H178, Options!$B$8)))","v":3447.4902269472},{"$f":"IF(AND(OR($E$2=\"Orkney Health Board\",$E$2=\"Orkney Islands Local Authority\"),$F178=1),0,IF(AND(OR($E$2=\"Shetland Health Board\",$E$2=\"Western Isles Health Board\",$E$2=\"Shetland Islands Local Authority\",$E$2=\"Eilean Siar Local Authority\"),OR($F178=1,$F178=5)),0,hosp_count(VALUE(LEFT(Options!$B$14,2)),$C178,$E178,$F178,2016,$I178+$J178,1,$H178,$G178*$H178, Options!$B$8)))","v":3443.6922179189},{"$f":"IF(AND(OR($E$2=\"Orkney Health Board\",$E$2=\"Orkney Islands Local Authority\"),$F178=1),0,IF(AND(OR($E$2=\"Shetland Health Board\",$E$2=\"Western Isles Health Board\",$E$2=\"Shetland Islands Local Authority\",$E$2=\"Eilean Siar Local Authority\"),OR($F178=1,$F178=5)),0,prem_mort(VALUE(LEFT(Options!$B$14,2)),$C178,$E178,$F178,2016,$I178,1,$H178,$G178*$H178,Options!$B$8)))","v":7.2969458565999998},{"$f":"IF(AND(OR($E$2=\"Orkney Health Board\",$E$2=\"Orkney Islands Local Authority\"),$F178=1),0,IF(AND(OR($E$2=\"Shetland Health Board\",$E$2=\"Western Isles Health Board\",$E$2=\"Shetland Islands Local Authority\",$E$2=\"Eilean Siar Local Authority\"),OR($F178=1,$F178=5)),0,prem_mort(VALUE(LEFT(Options!$B$14,2)),$C178,$E178,$F178,2016,$I178+$J178,1,$H178,$G178*$H178,Options!$B$8)))","v":7.2835661478000002},20.948370386128097,20.909959371285851,1227.3650837682655,1225.1145822935148,9897.1958399999985,9886.2923604596217,20.948370386128097,20.909959371285851,125690.22231676859,125459.7562277151,7364190.5026095929,7350687.4937610887,59383175.039999992,59317754.162757732,125690.22231676859,125459.7562277151,6000]
[null,"Female 25-29",26.975186999999998,81.645189999999999,"female",4,{"$f":"HLOOKUP($E$2,'Prevalence Rates'!$C$3:$BC$249,'Prevalence Rates'!$BD179,FALSE)","v":0.18720000000000001},{"$f":"HLOOKUP($E$2,'Population 2016'!$C$3:$BC$249,'Population 2016'!BD179,FALSE)","v":33433},0,{"$f":"ROUND(0.807*(HLOOKUP($E$2,'Population at Risk'!$C$3:$BC$249,'Population at Risk'!$BD179,FALSE)),0)","v":5051},{"$f":"IF(AND(OR($E$2=\"Orkney Health Board\",$E$2=\"Orkney Islands Local Authority\"),$F179=1),0,IF(AND(OR($E$2=\"Shetland Health Board\",$E$2=\"Western Isles Health Board\",$E$2=\"Shetland Islands Local Authority\",$E$2=\"Eilean Siar Local Authority\"),OR($F179=1,$F179=5)),0,new_ci(VALUE(LEFT(Options!$B$14,2)),$C179,$E179,$F179,2016,$I179,1,$H179,$G179*$H179,Options!$B$8)))","v":10.6225955701},{"$f":"IF(AND(OR($E$2=\"Orkney Health Board\",$E$2=\"Orkney Islands Local Authority\"),$F179=1),0,IF(AND(OR($E$2=\"Shetland Health Board\",$E$2=\"Western Isles Health Board\",$E$2=\"Shetland Islands Local Authority\",$E$2=\"Eilean Siar Local Authority\"),OR($F179=1,$F179=5)),0,new_ci(VALUE(LEFT(Options!$B$14,2)),$C179,$E179,$F179,2016,$I179+$J179,1,$H179,$G179*$H179,Options!$B$8)))","v":10.603526024700001},{"$f":"IF(AND(OR($E$2=\"Orkney Health Board\",$E$2=\"Orkney Islands Local Authority\"),$F179=1),0,IF(AND(OR($E$2=\"Shetland Health Board\",$E$2=\"Western Isles Health Board\",$E$2=\"Shetland Islands Local Authority\",$E$2=\"Eilean Siar Local Authority\"),OR($F179=1,$F179=5)),0,new_yllv2(VALUE(LEFT(Options!$B$14,2)),$C179,$D179,$E179,$F179,2016,$I179,1,$H179,$G179*$H179,Options!$B$8)))","v":570.11473611509996},{"$f":"IF(AND(OR($E$2=\"Orkney Health Board\",$E$2=\"Orkney Islands Local Authority\"),$F179=1),0,IF(AND(OR($E$2=\"Shetland Health Board\",$E$2=\"Western Isles Health Board\",$E$2=\"Shetland Islands Local Authority\",$E$2=\"Eilean Siar Local Authority\"),OR($F179=1,$F179=5)),0,new_yllv2(VALUE(LEFT(Options!$B$14,2)),$C179,$D179,$E179,$F179,2016,$I179+$J179,1,$H179,$G179*$H179,Options!$B$8)))","v":569.09127355620001},{"$f":"IF(AND(OR($E$2=\"Orkney Health Board\",$E$2=\"Orkney Islands Local Authority\"),$F179=1),0,IF(AND(OR($E$2=\"Shetland Health Board\",$E$2=\"Western Isles Health Board\",$E$2=\"Shetland Islands Local Authority\",$E$2=\"Eilean Siar Local Authority\"),OR($F179=1,$F179=5)),0,hosp_count(VALUE(LEFT(Options!$B$14,2)),$C179,$E179,$F179,2016,$I179,1,$H179,$G179*$H179, Options!$B$8)))","v":3742.7879046867001},{"$f":"IF(AND(OR($E$2=\"Orkney Health Board\",$E$2=\"Orkney Islands Local Authority\"),$F179=1),0,IF(AND(OR($E$2=\"Shetland Health Board\",$E$2=\"Western Isles Health Board\",$E$2=\"Shetland Islands Local Authority\",$E$2=\"Eilean Siar Local Authority\"),OR($F179=1,$F179=5)),0,hosp_count(VALUE(LEFT(Options!$B$14,2)),$C179,$E179,$F179,2016,$I179+$J179,1,$H179,$G179*$H179, Options!$B$8)))","v":3738.7543652930999},{"$f":"IF(AND(OR($E$2=\"Orkney Health Board\",$E$2=\"Orkney Islands Local Authority\"),$F179=1),0,IF(AND(OR($E$2=\"Shetland Health Board\",$E$2=\"Western Isles Health Board\",$E$2=\"Shetland Islands Local Authority\",$E$2=\"Eilean Siar Local Authority\"),OR($F179=1,$F179=5)),0,prem_mort(VALUE(LEFT(Options!$B$14,2)),$C179,$E179,$F179,2016,$I179,1,$H179,$G179*$H179,Options!$B$8)))","v":10.6225955701},{"$f":"IF(AND(OR($E$2=\"Orkney Health Board\",$E$2=\"Orkney Islands Local Authority\"),$F179=1),0,IF(AND(OR($E$2=\"Shetland Health Board\",$E$2=\"Western Isles Health Board\",$E$2=\"Shetland Islands Local Authority\",$E$2=\"Eilean Siar Local Authority\"),OR($F179=1,$F179=5)),0,prem_mort(VALUE(LEFT(Options!$B$14,2)),$C179,$E179,$F179,2016,$I179+$J179,1,$H179,$G179*$H179,Options!$B$8)))","v":10.603526024700001},31.772786079921033,31.715747987617025,1705.2455242278586,1702.184289642569,11194.89099,11182.82644480932,31.772786079921033,31.715747987617025,190636.71647952619,190294.48792570215,10231473.145367151,10213105.737855414,67169345.939999998,67096958.66885592,190636.71647952619,190294.48792570215,6000]
[null,"Female 30-34",31.999904999999998,81.799899999999994,"female",4,{"$f":"HLOOKUP($E$2,'Prevalence Rates'!$C$3:$BC$249,'Prevalence Rates'!$BD180,FALSE)","v":0.18720000000000001},{"$f":"HLOOKUP($E$2,'Population 2016'!$C$3:$BC$249,'Population 2016'!BD180,FALSE)","v":33838},0,{"$f":"ROUND(0.807*(HLOOKUP($E$2,'Population at Risk'!$C$3:$BC$249,'Population at Risk'!$BD180,FALSE)),0)","v":5112},{"$f":"IF(AND(OR($E$2=\"Orkney Health Board\",$E$2=\"Orkney Islands Local Authority\"),$F180=1),0,IF(AND(OR($E$2=\"Shetland Health Board\",$E$2=\"Western Isles Health Board\",$E$2=\"Shetland Islands Local Authority\",$E$2=\"Eilean Siar Local Authority\"),OR($F180=1,$F180=5)),0,new_ci(VALUE(LEFT(Options!$B$14,2)),$C180,$E180,$F180,2016,$I180,1,$H180,$G180*$H180,Options!$B$8)))","v":16.482635503699999},{"$f":"IF(AND(OR($E$2=\"Orkney Health Board\",$E$2=\"Orkney Islands Local Authority\"),$F180=1),0,IF(AND(OR($E$2=\"Shetland Health Board\",$E$2=\"Western Isles Health Board\",$E$2=\"Shetland Islands Local Authority\",$E$2=\"Eilean Siar Local Authority\"),OR($F180=1,$F180=5)),0,new_ci(VALUE(LEFT(Options!$B$14,2)),$C180,$E180,$F180,2016,$I180+$J180,1,$H180,$G180*$H180,Options!$B$8)))","v":16.453053382099998},{"$f":"IF(AND(OR($E$2=\"Orkney Health Board\",$E$2=\"Orkney Islands Local Authority\"),$F180=1),0,IF(AND(OR($E$2=\"Shetland Health Board\",$E$2=\"Western Isles Health Board\",$E$2=\"Shetland Islands Local Authority\",$E$2=\"Eilean Siar Local Authority\"),OR($F180=1,$F180=5)),0,new_yllv2(VALUE(LEFT(Options!$B$14,2)),$C180,$D180,$E180,$F180,2016,$I180,1,$H180,$G180*$H180,Options!$B$8)))","v":804.3525301674},{"$f":"IF(AND(OR($E$2=\"Orkney Health Board\",$E$2=\"Orkney Islands Local Authority\"),$F180=1),0,IF(AND(OR($E$2=\"Shetland Health Board\",$E$2=\"Western Isles Health Board\",$E$2=\"Shetland Islands Local Authority\",$E$2=\"Eilean Siar Local Authority\"),OR($F180=1,$F180=5)),0,new_yllv2(VALUE(LEFT(Options!$B$14,2)),$C180,$D180,$E180,$F180,2016,$I180+$J180,1,$H180,$G180*$H180,Options!$B$8)))","v":802.90892278119998},{"$f":"IF(AND(OR($E$2=\"Orkney Health Board\",$E$2=\"Orkney Islands Local Authority\"),$F180=1),0,IF(AND(OR($E$2=\"Shetland Health Board\",$E$2=\"Western Isles Health Board\",$E$2=\"Shetland Islands Local Authority\",$E$2=\"Eilean Siar Local Authority\"),OR($F180=1,$F180=5)),0,hosp_count(VALUE(LEFT(Options!$B$14,2)),$C180,$E180,$F180,2016,$I180,1,$H180,$G180*$H180, Options!$B$8)))","v":4298.4820839800004},{"$f":"IF(AND(OR($E$2=\"Orkney Health Board\",$E$2=\"Orkney Islands Local Authority\"),$F180=1),0,IF(AND(OR($E$2=\"Shetland Health Board\",$E$2=\"Western Isles Health Board\",$E$2=\"Shetland Islands Local Authority\",$E$2=\"Eilean Siar Local Authority\"),OR($F180=1,$F180=5)),0,hosp_count(VALUE(LEFT(Options!$B$14,2)),$C180,$E180,$F180,2016,$I180+$J180,1,$H180,$G180*$H180, Options!$B$8)))","v":4293.8498519884997},{"$f":"IF(AND(OR($E$2=\"Orkney Health Board\",$E$2=\"Orkney Islands Local Authority\"),$F180=1),0,IF(AND(OR($E$2=\"Shetland Health Board\",$E$2=\"Western Isles Health Board\",$E$2=\"Shetland Islands Local Authority\",$E$2=\"Eilean Siar Local Authority\"),OR($F180=1,$F180=5)),0,prem_mort(VALUE(LEFT(Options!$B$14,2)),$C180,$E180,$F180,2016,$I180,1,$H180,$G180*$H180,Options!$B$8)))","v":16.482635503699999},{"$f":"IF(AND(OR($E$2=\"Orkney Health Board\",$E$2=\"Orkney Islands Local Authority\"),$F180=1),0,IF(AND(OR($E$2=\"Shetland Health Board\",$E$2=\"Western Isles Health Board\",$E$2=\"Shetland Islands Local Authority\",$E$2=\"Eilean Siar Local Authority\"),OR($F180=1,$F180=5)),0,prem_mort(VALUE(LEFT(Options!$B$14,2)),$C180,$E180,$F180,2016,$I180+$J180,1,$H180,$G180*$H180,Options!$B$8)))","v":16.453053382099998},48.710430591938056,48.623007808085582,2377.0687693344757,2372.8025379194987,12703.121000000001,12689.431562115076,48.710430591938056,48.623007808085582,316617.79884759738,316049.5507525563,15450947.000674093,15423216.496476742,82570286.5,82481305.153747991,316617.79884759738,316049.5507525563,6500]
[null,"Female 35-39",36.918118,81.898120000000006,"female",4,{"$f":"HLOOKUP($E$2,'Prevalence Rates'!$C$3:$BC$249,'Prevalence Rates'!$BD181,FALSE)","v":0.15670000000000001},{"$f":"HLOOKUP($E$2,'Population 2016'!$C$3:$BC$249,'Population 2016'!BD181,FALSE)","v":32800},0,{"$f":"ROUND(0.807*(HLOOKUP($E$2,'Population at Risk'!$C$3:$BC$249,'Population at Risk'!$BD181,FALSE)),0)","v":4148},{"$f":"IF(AND(OR($E$2=\"Orkney Health Board\",$E$2=\"Orkney Islands Local Authority\"),$F181=1),0,IF(AND(OR($E$2=\"Shetland Health Board\",$E$2=\"Western Isles Health Board\",$E$2=\"Shetland Islands Local Authority\",$E$2=\"Eilean Siar Local Authority\"),OR($F181=1,$F181=5)),0,new_ci(VALUE(LEFT(Options!$B$14,2)),$C181,$E181,$F181,2016,$I181,1,$H181,$G181*$H181,Options!$B$8)))","v":24.272249862199999},{"$f":"IF(AND(OR($E$2=\"Orkney Health Board\",$E$2=\"Orkney Islands Local Authority\"),$F181=1),0,IF(AND(OR($E$2=\"Shetland Health Board\",$E$2=\"Western Isles Health Board\",$E$2=\"Shetland Islands Local Authority\",$E$2=\"Eilean Siar Local Authority\"),OR($F181=1,$F181=5)),0,new_ci(VALUE(LEFT(Options!$B$14,2)),$C181,$E181,$F181,2016,$I181+$J181,1,$H181,$G181*$H181,Options!$B$8)))","v":24.235003311},{"$f":"IF(AND(OR($E$2=\"Orkney Health Board\",$E$2=\"Orkney Islands Local Authority\"),$F181=1),0,IF(AND(OR($E$2=\"Shetland Health Board\",$E$2=\"Western Isles Health Board\",$E$2=\"Shetland Islands Local Authority\",$E$2=\"Eilean Siar Local Authority\"),OR($F181=1,$F181=5)),0,new_yllv2(VALUE(LEFT(Options!$B$14,2)),$C181,$D181,$E181,$F181,2016,$I181,1,$H181,$G181*$H181,Options!$B$8)))","v":1067.4935974841001},{"$f":"IF(AND(OR($E$2=\"Orkney Health Board\",$E$2=\"Orkney Islands Local Authority\"),$F181=1),0,IF(AND(OR($E$2=\"Shetland Health Board\",$E$2=\"Western Isles Health Board\",$E$2=\"Shetland Islands Local Authority\",$E$2=\"Eilean Siar Local Authority\"),OR($F181=1,$F181=5)),0,new_yllv2(VALUE(LEFT(Options!$B$14,2)),$C181,$D181,$E181,$F181,2016,$I181+$J181,1,$H181,$G181*$H181,Options!$B$8)))","v":1065.8554940878},{"$f":"IF(AND(OR($E$2=\"Orkney Health Board\",$E$2=\"Orkney Islands Local Authority\"),$F181=1),0,IF(AND(OR($E$2=\"Shetland Health Board\",$E$2=\"Western Isles Health Board\",$E$2=\"Shetland Islands Local Authority\",$E$2=\"Eilean Siar Local Authority\"),OR($F181=1,$F181=5)),0,hosp_count(VALUE(LEFT(Options!$B$14,2)),$C181,$E181,$F181,2016,$I181,1,$H181,$G181*$H181, Options!$B$8)))","v":4715.32218784},{"$f":"IF(AND(OR($E$2=\"Orkney Health Board\",$E$2=\"Orkney Islands Local Authority\"),$F181=1),0,IF(AND(OR($E$2=\"Shetland Health Board\",$E$2=\"Western Isles Health Board\",$E$2=\"Shetland Islands Local Authority\",$E$2=\"Eilean Siar Local Authority\"),OR($F181=1,$F181=5)),0,hosp_count(VALUE(LEFT(Options!$B$14,2)),$C181,$E181,$F181,2016,$I181+$J181,1,$H181,$G181*$H181, Options!$B$8)))","v":4711.002809089},{"$f":"IF(AND(OR($E$2=\"Orkney Health Board\",$E$2=\"Orkney Islands Local Authority\"),$F181=1),0,IF(AND(OR($E$2=\"Shetland Health Board\",$E$2=\"Western Isles Health Board\",$E$2=\"Shetland Islands Local Authority\",$E$2=\"Eilean Siar Local Authority\"),OR($F181=1,$F181=5)),0,prem_mort(VALUE(LEFT(Options!$B$14,2)),$C181,$E181,$F181,2016,$I181,1,$H181,$G181*$H181,Options!$B$8)))","v":24.272249862199999},{"$f":"IF(AND(OR($E$2=\"Orkney Health Board\",$E$2=\"Orkney Islands Local Authority\"),$F181=1),0,IF(AND(OR($E$2=\"Shetland Health Board\",$E$2=\"Western Isles Health Board\",$E$2=\"Shetland Islands Local Authority\",$E$2=\"Eilean Siar Local Authority\"),OR($F181=1,$F181=5)),0,prem_mort(VALUE(LEFT(Options!$B$14,2)),$C181,$E181,$F181,2016,$I181+$J181,1,$H181,$G181*$H181,Options!$B$8)))","v":24.235003311},74.000761775000001,73.887205216463414,3254.5536508661585,3249.5594331945126,14375.98228,14362.813442344514,74.000761775000001,73.887205216463414,518005.33242500003,517210.4365152439,22781875.556063108,22746916.032361589,100631875.96000001,100539694.0964116,518005.33242500003,517210.4365152439,7000]
[null,"Female 40-44",42.077438000000001,82.30744,"female",4,{"$f":"HLOOKUP($E$2,'Prevalence Rates'!$C$3:$BC$249,'Prevalence Rates'!$BD182,FALSE)","v":0.15670000000000001},{"$f":"HLOOKUP($E$2,'Population 2016'!$C$3:$BC$249,'Population 2016'!BD182,FALSE)","v":35805},0,{"$f":"ROUND(0.807*(HLOOKUP($E$2,'Population at Risk'!$C$3:$BC$249,'Population at Risk'!$BD182,FALSE)),0)","v":4528},{"$f":"IF(AND(OR($E$2=\"Orkney Health Board\",$E$2=\"Orkney Islands Local Authority\"),$F182=1),0,IF(AND(OR($E$2=\"Shetland Health Board\",$E$2=\"Western Isles Health Board\",$E$2=\"Shetland Islands Local Authority\",$E$2=\"Eilean Siar Local Authority\"),OR($F182=1,$F182=5)),0,new_ci(VALUE(LEFT(Options!$B$14,2)),$C182,$E182,$F182,2016,$I182,1,$H182,$G182*$H182,Options!$B$8)))","v":41.083136646299998},{"$f":"IF(AND(OR($E$2=\"Orkney Health Board\",$E$2=\"Orkney Islands Local Authority\"),$F182=1),0,IF(AND(OR($E$2=\"Shetland Health Board\",$E$2=\"Western Isles Health Board\",$E$2=\"Shetland Islands Local Authority\",$E$2=\"Eilean Siar Local Authority\"),OR($F182=1,$F182=5)),0,new_ci(VALUE(LEFT(Options!$B$14,2)),$C182,$E182,$F182,2016,$I182+$J182,1,$H182,$G182*$H182,Options!$B$8)))","v":41.020120923100002},{"$f":"IF(AND(OR($E$2=\"Orkney Health Board\",$E$2=\"Orkney Islands Local Authority\"),$F182=1),0,IF(AND(OR($E$2=\"Shetland Health Board\",$E$2=\"Western Isles Health Board\",$E$2=\"Shetland Islands Local Authority\",$E$2=\"Eilean Siar Local Authority\"),OR($F182=1,$F182=5)),0,new_yllv2(VALUE(LEFT(Options!$B$14,2)),$C182,$D182,$E182,$F182,2016,$I182,1,$H182,$G182*$H182,Options!$B$8)))","v":1611.6915328006},{"$f":"IF(AND(OR($E$2=\"Orkney Health Board\",$E$2=\"Orkney Islands Local Authority\"),$F182=1),0,IF(AND(OR($E$2=\"Shetland Health Board\",$E$2=\"Western Isles Health Board\",$E$2=\"Shetland Islands Local Authority\",$E$2=\"Eilean Siar Local Authority\"),OR($F182=1,$F182=5)),0,new_yllv2(VALUE(LEFT(Options!$B$14,2)),$C182,$D182,$E182,$F182,2016,$I182+$J182,1,$H182,$G182*$H182,Options!$B$8)))","v":1609.2194258535001},{"$f":"IF(AND(OR($E$2=\"Orkney Health Board\",$E$2=\"Orkney Islands Local Authority\"),$F182=1),0,IF(AND(OR($E$2=\"Shetland Health Board\",$E$2=\"Western Isles Health Board\",$E$2=\"Shetland Islands Local Authority\",$E$2=\"Eilean Siar Local Authority\"),OR($F182=1,$F182=5)),0,hosp_count(VALUE(LEFT(Options!$B$14,2)),$C182,$E182,$F182,2016,$I182,1,$H182,$G182*$H182, Options!$B$8)))","v":5860.6013343570003},{"$f":"IF(AND(OR($E$2=\"Orkney Health Board\",$E$2=\"Orkney Islands Local Authority\"),$F182=1),0,IF(AND(OR($E$2=\"Shetland Health Board\",$E$2=\"Western Isles Health Board\",$E$2=\"Shetland Islands Local Authority\",$E$2=\"Eilean Siar Local Authority\"),OR($F182=1,$F182=5)),0,hosp_count(VALUE(LEFT(Options!$B$14,2)),$C182,$E182,$F182,2016,$I182+$J182,1,$H182,$G182*$H182, Options!$B$8)))","v":5855.2328717163},{"$f":"IF(AND(OR($E$2=\"Orkney Health Board\",$E$2=\"Orkney Islands Local Authority\"),$F182=1),0,IF(AND(OR($E$2=\"Shetland Health Board\",$E$2=\"Western Isles Health Board\",$E$2=\"Shetland Islands Local Authority\",$E$2=\"Eilean Siar Local Authority\"),OR($F182=1,$F182=5)),0,prem_mort(VALUE(LEFT(Options!$B$14,2)),$C182,$E182,$F182,2016,$I182,1,$H182,$G182*$H182,Options!$B$8)))","v":41.083136646299998},{"$f":"IF(AND(OR($E$2=\"Orkney Health Board\",$E$2=\"Orkney Islands Local Authority\"),$F182=1),0,IF(AND(OR($E$2=\"Shetland Health Board\",$E$2=\"Western Isles Health Board\",$E$2=\"Shetland Islands Local Authority\",$E$2=\"Eilean Siar Local Authority\"),OR($F182=1,$F182=5)),0,prem_mort(VALUE(LEFT(Options!$B$14,2)),$C182,$E182,$F182,2016,$I182+$J182,1,$H182,$G182*$H182,Options!$B$8)))","v":41.020120923100002},114.74133960703813,114.56534261443933,4501.3029822667222,4494.3986198952662,16368.108740000001,16353.115128379557,114.74133960703813,114.56534261443933,803189.37724926695,801957.39830107533,31509120.875867054,31460790.339266863,114576761.18000001,114471805.8986569,803189.37724926695,801957.39830107533,7000]
[null,"Female 45-49",47.025772000000003,82.585769999999997,"female",4,{"$f":"HLOOKUP($E$2,'Prevalence Rates'!$C$3:$BC$249,'Prevalence Rates'!$BD183,FALSE)","v":0.14949999999999999},{"$f":"HLOOKUP($E$2,'Population 2016'!$C$3:$BC$249,'Population 2016'!BD183,FALSE)","v":42189},0,{"$f":"ROUND(0.807*(HLOOKUP($E$2,'Population at Risk'!$C$3:$BC$249,'Population at Risk'!$BD183,FALSE)),0)","v":5090},{"$f":"IF(AND(OR($E$2=\"Orkney Health Board\",$E$2=\"Orkney Islands Local Authority\"),$F183=1),0,IF(AND(OR($E$2=\"Shetland Health Board\",$E$2=\"Western Isles Health Board\",$E$2=\"Shetland Islands Local Authority\",$E$2=\"Eilean Siar Local Authority\"),OR($F183=1,$F183=5)),0,new_ci(VALUE(LEFT(Options!$B$14,2)),$C183,$E183,$F183,2016,$I183,1,$H183,$G183*$H183,Options!$B$8)))","v":73.716616172100004},{"$f":"IF(AND(OR($E$2=\"Orkney Health Board\",$E$2=\"Orkney Islands Local Authority\"),$F183=1),0,IF(AND(OR($E$2=\"Shetland Health Board\",$E$2=\"Western Isles Health Board\",$E$2=\"Shetland Islands Local Authority\",$E$2=\"Eilean Siar Local Authority\"),OR($F183=1,$F183=5)),0,new_ci(VALUE(LEFT(Options!$B$14,2)),$C183,$E183,$F183,2016,$I183+$J183,1,$H183,$G183*$H183,Options!$B$8)))","v":73.608261270100002},{"$f":"IF(AND(OR($E$2=\"Orkney Health Board\",$E$2=\"Orkney Islands Local Authority\"),$F183=1),0,IF(AND(OR($E$2=\"Shetland Health Board\",$E$2=\"Western Isles Health Board\",$E$2=\"Shetland Islands Local Authority\",$E$2=\"Eilean Siar Local Authority\"),OR($F183=1,$F183=5)),0,new_yllv2(VALUE(LEFT(Options!$B$14,2)),$C183,$D183,$E183,$F183,2016,$I183,1,$H183,$G183*$H183,Options!$B$8)))","v":2547.6461074744998},{"$f":"IF(AND(OR($E$2=\"Orkney Health Board\",$E$2=\"Orkney Islands Local Authority\"),$F183=1),0,IF(AND(OR($E$2=\"Shetland Health Board\",$E$2=\"Western Isles Health Board\",$E$2=\"Shetland Islands Local Authority\",$E$2=\"Eilean Siar Local Authority\"),OR($F183=1,$F183=5)),0,new_yllv2(VALUE(LEFT(Options!$B$14,2)),$C183,$D183,$E183,$F183,2016,$I183+$J183,1,$H183,$G183*$H183,Options!$B$8)))","v":2543.9013622780999},{"$f":"IF(AND(OR($E$2=\"Orkney Health Board\",$E$2=\"Orkney Islands Local Authority\"),$F183=1),0,IF(AND(OR($E$2=\"Shetland Health Board\",$E$2=\"Western Isles Health Board\",$E$2=\"Shetland Islands Local Authority\",$E$2=\"Eilean Siar Local Authority\"),OR($F183=1,$F183=5)),0,hosp_count(VALUE(LEFT(Options!$B$14,2)),$C183,$E183,$F183,2016,$I183,1,$H183,$G183*$H183, Options!$B$8)))","v":7820.8484750382004},{"$f":"IF(AND(OR($E$2=\"Orkney Health Board\",$E$2=\"Orkney Islands Local Authority\"),$F183=1),0,IF(AND(OR($E$2=\"Shetland Health Board\",$E$2=\"Western Isles Health Board\",$E$2=\"Shetland Islands Local Authority\",$E$2=\"Eilean Siar Local Authority\"),OR($F183=1,$F183=5)),0,hosp_count(VALUE(LEFT(Options!$B$14,2)),$C183,$E183,$F183,2016,$I183+$J183,1,$H183,$G183*$H183, Options!$B$8)))","v":7813.98879855},{"$f":"IF(AND(OR($E$2=\"Orkney Health Board\",$E$2=\"Orkney Islands Local Authority\"),$F183=1),0,IF(AND(OR($E$2=\"Shetland Health Board\",$E$2=\"Western Isles Health Board\",$E$2=\"Shetland Islands Local Authority\",$E$2=\"Eilean Siar Local Authority\"),OR($F183=1,$F183=5)),0,prem_mort(VALUE(LEFT(Options!$B$14,2)),$C183,$E183,$F183,2016,$I183,1,$H183,$G183*$H183,Options!$B$8)))","v":73.716616172100004},{"$f":"IF(AND(OR($E$2=\"Orkney Health Board\",$E$2=\"Orkney Islands Local Authority\"),$F183=1),0,IF(AND(OR($E$2=\"Shetland Health Board\",$E$2=\"Western Isles Health Board\",$E$2=\"Shetland Islands Local Authority\",$E$2=\"Eilean Siar Local Authority\"),OR($F183=1,$F183=5)),0,prem_mort(VALUE(LEFT(Options!$B$14,2)),$C183,$E183,$F183,2016,$I183+$J183,1,$H183,$G183*$H183,Options!$B$8)))","v":73.608261270100002},174.72947017492714,174.47263805755054,6038.6501397864367,6029.7740223235915,18537.648380000002,18521.388984213896,174.72947017492714,174.47263805755054,1223106.2912244899,1221308.4664028538,42270550.97850506,42208418.15626514,129763538.66000001,129649722.88949727,1223106.2912244899,1221308.4664028538,7000]
[null,"Female 50-54",51.990825999999998,82.980829999999997,"female",4,{"$f":"HLOOKUP($E$2,'Prevalence Rates'!$C$3:$BC$249,'Prevalence Rates'!$BD184,FALSE)","v":0.14949999999999999},{"$f":"HLOOKUP($E$2,'Population 2016'!$C$3:$BC$249,'Population 2016'!BD184,FALSE)","v":44075},0,{"$f":"ROUND(0.807*(HLOOKUP($E$2,'Population at Risk'!$C$3:$BC$249,'Population at Risk'!$BD184,FALSE)),0)","v":5317},{"$f":"IF(AND(OR($E$2=\"Orkney Health Board\",$E$2=\"Orkney Islands Local Authority\"),$F184=1),0,IF(AND(OR($E$2=\"Shetland Health Board\",$E$2=\"Western Isles Health Board\",$E$2=\"Shetland Islands Local Authority\",$E$2=\"Eilean Siar Local Authority\"),OR($F184=1,$F184=5)),0,new_ci(VALUE(LEFT(Options!$B$14,2)),$C184,$E184,$F184,2016,$I184,1,$H184,$G184*$H184,Options!$B$8)))","v":117.4216952737},{"$f":"IF(AND(OR($E$2=\"Orkney Health Board\",$E$2=\"Orkney Islands Local Authority\"),$F184=1),0,IF(AND(OR($E$2=\"Shetland Health Board\",$E$2=\"Western Isles Health Board\",$E$2=\"Shetland Islands Local Authority\",$E$2=\"Eilean Siar Local Authority\"),OR($F184=1,$F184=5)),0,new_ci(VALUE(LEFT(Options!$B$14,2)),$C184,$E184,$F184,2016,$I184+$J184,1,$H184,$G184*$H184,Options!$B$8)))","v":117.2492862317},{"$f":"IF(AND(OR($E$2=\"Orkney Health Board\",$E$2=\"Orkney Islands Local Authority\"),$F184=1),0,IF(AND(OR($E$2=\"Shetland Health Board\",$E$2=\"Western Isles Health Board\",$E$2=\"Shetland Islands Local Authority\",$E$2=\"Eilean Siar Local Authority\"),OR($F184=1,$F184=5)),0,new_yllv2(VALUE(LEFT(Options!$B$14,2)),$C184,$D184,$E184,$F184,2016,$I184,1,$H184,$G184*$H184,Options!$B$8)))","v":3521.4771109449998},{"$f":"IF(AND(OR($E$2=\"Orkney Health Board\",$E$2=\"Orkney Islands Local Authority\"),$F184=1),0,IF(AND(OR($E$2=\"Shetland Health Board\",$E$2=\"Western Isles Health Board\",$E$2=\"Shetland Islands Local Authority\",$E$2=\"Eilean Siar Local Authority\"),OR($F184=1,$F184=5)),0,new_yllv2(VALUE(LEFT(Options!$B$14,2)),$C184,$D184,$E184,$F184,2016,$I184+$J184,1,$H184,$G184*$H184,Options!$B$8)))","v":3516.3065630858},{"$f":"IF(AND(OR($E$2=\"Orkney Health Board\",$E$2=\"Orkney Islands Local Authority\"),$F184=1),0,IF(AND(OR($E$2=\"Shetland Health Board\",$E$2=\"Western Isles Health Board\",$E$2=\"Shetland Islands Local Authority\",$E$2=\"Eilean Siar Local Authority\"),OR($F184=1,$F184=5)),0,hosp_count(VALUE(LEFT(Options!$B$14,2)),$C184,$E184,$F184,2016,$I184,1,$H184,$G184*$H184, Options!$B$8)))","v":9257.3301240100009},{"$f":"IF(AND(OR($E$2=\"Orkney Health Board\",$E$2=\"Orkney Islands Local Authority\"),$F184=1),0,IF(AND(OR($E$2=\"Shetland Health Board\",$E$2=\"Western Isles Health Board\",$E$2=\"Shetland Islands Local Authority\",$E$2=\"Eilean Siar Local Authority\"),OR($F184=1,$F184=5)),0,hosp_count(VALUE(LEFT(Options!$B$14,2)),$C184,$E184,$F184,2016,$I184+$J184,1,$H184,$G184*$H184, Options!$B$8)))","v":9249.2113336543007},{"$f":"IF(AND(OR($E$2=\"Orkney Health Board\",$E$2=\"Orkney Islands Local Authority\"),$F184=1),0,IF(AND(OR($E$2=\"Shetland Health Board\",$E$2=\"Western Isles Health Board\",$E$2=\"Shetland Islands Local Authority\",$E$2=\"Eilean Siar Local Authority\"),OR($F184=1,$F184=5)),0,prem_mort(VALUE(LEFT(Options!$B$14,2)),$C184,$E184,$F184,2016,$I184,1,$H184,$G184*$H184,Options!$B$8)))","v":117.4216952737},{"$f":"IF(AND(OR($E$2=\"Orkney Health Board\",$E$2=\"Orkney Islands Local Authority\"),$F184=1),0,IF(AND(OR($E$2=\"Shetland Health Board\",$E$2=\"Western Isles Health Board\",$E$2=\"Shetland Islands Local Authority\",$E$2=\"Eilean Siar Local Authority\"),OR($F184=1,$F184=5)),0,prem_mort(VALUE(LEFT(Options!$B$14,2)),$C184,$E184,$F184,2016,$I184+$J184,1,$H184,$G184*$H184,Options!$B$8)))","v":117.2492862317},266.41337555008511,266.02220358865571,7989.7381984004542,7978.0069497125351,21003.585080000004,20985.164682142487,266.41337555008511,266.02220358865571,1864893.6288505958,1862155.42512059,55928167.388803177,55846048.647987746,147025095.56000003,146896152.77499741,1864893.6288505958,1862155.42512059,7000]
[null,"Female 55-59",56.953040999999999,83.473039999999997,"female",4,{"$f":"HLOOKUP($E$2,'Prevalence Rates'!$C$3:$BC$249,'Prevalence Rates'!$BD185,FALSE)","v":0.13770000000000002},{"$f":"HLOOKUP($E$2,'Population 2016'!$C$3:$BC$249,'Population 2016'!BD185,FALSE)","v":39814},0,{"$f":"ROUND(0.807*(HLOOKUP($E$2,'Population at Risk'!$C$3:$BC$249,'Population at Risk'!$BD185,FALSE)),0)","v":4424},{"$f":"IF(AND(OR($E$2=\"Orkney Health Board\",$E$2=\"Orkney Islands Local Authority\"),$F185=1),0,IF(AND(OR($E$2=\"Shetland Health Board\",$E$2=\"Western Isles Health Board\",$E$2=\"Shetland Islands Local Authority\",$E$2=\"Eilean Siar Local Authority\"),OR($F185=1,$F185=5)),0,new_ci(VALUE(LEFT(Options!$B$14,2)),$C185,$E185,$F185,2016,$I185,1,$H185,$G185*$H185,Options!$B$8)))","v":161.6472863027},{"$f":"IF(AND(OR($E$2=\"Orkney Health Board\",$E$2=\"Orkney Islands Local Authority\"),$F185=1),0,IF(AND(OR($E$2=\"Shetland Health Board\",$E$2=\"Western Isles Health Board\",$E$2=\"Shetland Islands Local Authority\",$E$2=\"Eilean Siar Local Authority\"),OR($F185=1,$F185=5)),0,new_ci(VALUE(LEFT(Options!$B$14,2)),$C185,$E185,$F185,2016,$I185+$J185,1,$H185,$G185*$H185,Options!$B$8)))","v":161.42715381389999},{"$f":"IF(AND(OR($E$2=\"Orkney Health Board\",$E$2=\"Orkney Islands Local Authority\"),$F185=1),0,IF(AND(OR($E$2=\"Shetland Health Board\",$E$2=\"Western Isles Health Board\",$E$2=\"Shetland Islands Local Authority\",$E$2=\"Eilean Siar Local Authority\"),OR($F185=1,$F185=5)),0,new_yllv2(VALUE(LEFT(Options!$B$14,2)),$C185,$D185,$E185,$F185,2016,$I185,1,$H185,$G185*$H185,Options!$B$8)))","v":4125.2385847976002},{"$f":"IF(AND(OR($E$2=\"Orkney Health Board\",$E$2=\"Orkney Islands Local Authority\"),$F185=1),0,IF(AND(OR($E$2=\"Shetland Health Board\",$E$2=\"Western Isles Health Board\",$E$2=\"Shetland Islands Local Authority\",$E$2=\"Eilean Siar Local Authority\"),OR($F185=1,$F185=5)),0,new_yllv2(VALUE(LEFT(Options!$B$14,2)),$C185,$D185,$E185,$F185,2016,$I185+$J185,1,$H185,$G185*$H185,Options!$B$8)))","v":4119.6208039036001},{"$f":"IF(AND(OR($E$2=\"Orkney Health Board\",$E$2=\"Orkney Islands Local Authority\"),$F185=1),0,IF(AND(OR($E$2=\"Shetland Health Board\",$E$2=\"Western Isles Health Board\",$E$2=\"Shetland Islands Local Authority\",$E$2=\"Eilean Siar Local Authority\"),OR($F185=1,$F185=5)),0,hosp_count(VALUE(LEFT(Options!$B$14,2)),$C185,$E185,$F185,2016,$I185,1,$H185,$G185*$H185, Options!$B$8)))","v":9474.0793686367997},{"$f":"IF(AND(OR($E$2=\"Orkney Health Board\",$E$2=\"Orkney Islands Local Authority\"),$F185=1),0,IF(AND(OR($E$2=\"Shetland Health Board\",$E$2=\"Western Isles Health Board\",$E$2=\"Shetland Islands Local Authority\",$E$2=\"Eilean Siar Local Authority\"),OR($F185=1,$F185=5)),0,hosp_count(VALUE(LEFT(Options!$B$14,2)),$C185,$E185,$F185,2016,$I185+$J185,1,$H185,$G185*$H185, Options!$B$8)))","v":9466.3799168008009},{"$f":"IF(AND(OR($E$2=\"Orkney Health Board\",$E$2=\"Orkney Islands Local Authority\"),$F185=1),0,IF(AND(OR($E$2=\"Shetland Health Board\",$E$2=\"Western Isles Health Board\",$E$2=\"Shetland Islands Local Authority\",$E$2=\"Eilean Siar Local Authority\"),OR($F185=1,$F185=5)),0,prem_mort(VALUE(LEFT(Options!$B$14,2)),$C185,$E185,$F185,2016,$I185,1,$H185,$G185*$H185,Options!$B$8)))","v":161.6472863027},{"$f":"IF(AND(OR($E$2=\"Orkney Health Board\",$E$2=\"Orkney Islands Local Authority\"),$F185=1),0,IF(AND(OR($E$2=\"Shetland Health Board\",$E$2=\"Western Isles Health Board\",$E$2=\"Shetland Islands Local Authority\",$E$2=\"Eilean Siar Local Authority\"),OR($F185=1,$F185=5)),0,prem_mort(VALUE(LEFT(Options!$B$14,2)),$C185,$E185,$F185,2016,$I185+$J185,1,$H185,$G185*$H185,Options!$B$8)))","v":161.42715381389999},406.00614432787461,405.45324211056413,10361.27639724117,10347.166333208419,23795.849119999999,23776.510566134526,406.00614432787461,405.45324211056413,2639039.9381311848,2635446.073718667,67348296.582067609,67256581.165854722,154673019.28,154547318.67987442,2639039.9381311848,2635446.073718667,6500]
[null,"Female 60-64",61.947387999999997,84.167389999999997,"female",4,{"$f":"HLOOKUP($E$2,'Prevalence Rates'!$C$3:$BC$249,'Prevalence Rates'!$BD186,FALSE)","v":0.13770000000000002},{"$f":"HLOOKUP($E$2,'Population 2016'!$C$3:$BC$249,'Population 2016'!BD186,FALSE)","v":35061},0,{"$f":"ROUND(0.807*(HLOOKUP($E$2,'Population at Risk'!$C$3:$BC$249,'Population at Risk'!$BD186,FALSE)),0)","v":3896},{"$f":"IF(AND(OR($E$2=\"Orkney Health Board\",$E$2=\"Orkney Islands Local Authority\"),$F186=1),0,IF(AND(OR($E$2=\"Shetland Health Board\",$E$2=\"Western Isles Health Board\",$E$2=\"Shetland Islands Local Authority\",$E$2=\"Eilean Siar Local Authority\"),OR($F186=1,$F186=5)),0,new_ci(VALUE(LEFT(Options!$B$14,2)),$C186,$E186,$F186,2016,$I186,1,$H186,$G186*$H186,Options!$B$8)))","v":217.44296402040001},{"$f":"IF(AND(OR($E$2=\"Orkney Health Board\",$E$2=\"Orkney Islands Local Authority\"),$F186=1),0,IF(AND(OR($E$2=\"Shetland Health Board\",$E$2=\"Western Isles Health Board\",$E$2=\"Shetland Islands Local Authority\",$E$2=\"Eilean Siar Local Authority\"),OR($F186=1,$F186=5)),0,new_ci(VALUE(LEFT(Options!$B$14,2)),$C186,$E186,$F186,2016,$I186+$J186,1,$H186,$G186*$H186,Options!$B$8)))","v":217.14752917160001},{"$f":"IF(AND(OR($E$2=\"Orkney Health Board\",$E$2=\"Orkney Islands Local Authority\"),$F186=1),0,IF(AND(OR($E$2=\"Shetland Health Board\",$E$2=\"Western Isles Health Board\",$E$2=\"Shetland Islands Local Authority\",$E$2=\"Eilean Siar Local Authority\"),OR($F186=1,$F186=5)),0,new_yllv2(VALUE(LEFT(Options!$B$14,2)),$C186,$D186,$E186,$F186,2016,$I186,1,$H186,$G186*$H186,Options!$B$8)))","v":4614.1401313987999},{"$f":"IF(AND(OR($E$2=\"Orkney Health Board\",$E$2=\"Orkney Islands Local Authority\"),$F186=1),0,IF(AND(OR($E$2=\"Shetland Health Board\",$E$2=\"Western Isles Health Board\",$E$2=\"Shetland Islands Local Authority\",$E$2=\"Eilean Siar Local Authority\"),OR($F186=1,$F186=5)),0,new_yllv2(VALUE(LEFT(Options!$B$14,2)),$C186,$D186,$E186,$F186,2016,$I186+$J186,1,$H186,$G186*$H186,Options!$B$8)))","v":4607.8710033163998},{"$f":"IF(AND(OR($E$2=\"Orkney Health Board\",$E$2=\"Orkney Islands Local Authority\"),$F186=1),0,IF(AND(OR($E$2=\"Shetland Health Board\",$E$2=\"Western Isles Health Board\",$E$2=\"Shetland Islands Local Authority\",$E$2=\"Eilean Siar Local Authority\"),OR($F186=1,$F186=5)),0,hosp_count(VALUE(LEFT(Options!$B$14,2)),$C186,$E186,$F186,2016,$I186,1,$H186,$G186*$H186, Options!$B$8)))","v":9459.8509845723001},{"$f":"IF(AND(OR($E$2=\"Orkney Health Board\",$E$2=\"Orkney Islands Local Authority\"),$F186=1),0,IF(AND(OR($E$2=\"Shetland Health Board\",$E$2=\"Western Isles Health Board\",$E$2=\"Shetland Islands Local Authority\",$E$2=\"Eilean Siar Local Authority\"),OR($F186=1,$F186=5)),0,hosp_count(VALUE(LEFT(Options!$B$14,2)),$C186,$E186,$F186,2016,$I186+$J186,1,$H186,$G186*$H186, Options!$B$8)))","v":9452.1628239722995},{"$f":"IF(AND(OR($E$2=\"Orkney Health Board\",$E$2=\"Orkney Islands Local Authority\"),$F186=1),0,IF(AND(OR($E$2=\"Shetland Health Board\",$E$2=\"Western Isles Health Board\",$E$2=\"Shetland Islands Local Authority\",$E$2=\"Eilean Siar Local Authority\"),OR($F186=1,$F186=5)),0,prem_mort(VALUE(LEFT(Options!$B$14,2)),$C186,$E186,$F186,2016,$I186,1,$H186,$G186*$H186,Options!$B$8)))","v":217.44296402040001},{"$f":"IF(AND(OR($E$2=\"Orkney Health Board\",$E$2=\"Orkney Islands Local Authority\"),$F186=1),0,IF(AND(OR($E$2=\"Shetland Health Board\",$E$2=\"Western Isles Health Board\",$E$2=\"Shetland Islands Local Authority\",$E$2=\"Eilean Siar Local Authority\"),OR($F186=1,$F186=5)),0,prem_mort(VALUE(LEFT(Options!$B$14,2)),$C186,$E186,$F186,2016,$I186+$J186,1,$H186,$G186*$H186,Options!$B$8)))","v":217.14752917160001},620.18471812098915,619.34208713841588,13160.32095889678,13142.440327761331,26981.121429999999,26959.19347415162,620.18471812098915,619.34208713841588,3721108.3087259349,3716052.5228304951,78961925.753380686,78854641.966567993,161886728.57999998,161755160.84490973,3721108.3087259349,3716052.5228304951,6000]
[null,"Female 65-69",67.063927000000007,85.193929999999995,"female",4,{"$f":"HLOOKUP($E$2,'Prevalence Rates'!$C$3:$BC$249,'Prevalence Rates'!$BD187,FALSE)","v":0.11560000000000001},{"$f":"HLOOKUP($E$2,'Population 2016'!$C$3:$BC$249,'Population 2016'!BD187,FALSE)","v":34888},0,{"$f":"ROUND(0.807*(HLOOKUP($E$2,'Population at Risk'!$C$3:$BC$249,'Population at Risk'!$BD187,FALSE)),0)","v":3255},{"$f":"IF(AND(OR($E$2=\"Orkney Health Board\",$E$2=\"Orkney Islands Local Authority\"),$F187=1),0,IF(AND(OR($E$2=\"Shetland Health Board\",$E$2=\"Western Isles Health Board\",$E$2=\"Shetland Islands Local Authority\",$E$2=\"Eilean Siar Local Authority\"),OR($F187=1,$F187=5)),0,new_ci(VALUE(LEFT(Options!$B$14,2)),$C187,$E187,$F187,2016,$I187,1,$H187,$G187*$H187,Options!$B$8)))","v":333.75559501880002},{"$f":"IF(AND(OR($E$2=\"Orkney Health Board\",$E$2=\"Orkney Islands Local Authority\"),$F187=1),0,IF(AND(OR($E$2=\"Shetland Health Board\",$E$2=\"Western Isles Health Board\",$E$2=\"Shetland Islands Local Authority\",$E$2=\"Eilean Siar Local Authority\"),OR($F187=1,$F187=5)),0,new_ci(VALUE(LEFT(Options!$B$14,2)),$C187,$E187,$F187,2016,$I187+$J187,1,$H187,$G187*$H187,Options!$B$8)))","v":333.37022775679998},{"$f":"IF(AND(OR($E$2=\"Orkney Health Board\",$E$2=\"Orkney Islands Local Authority\"),$F187=1),0,IF(AND(OR($E$2=\"Shetland Health Board\",$E$2=\"Western Isles Health Board\",$E$2=\"Shetland Islands Local Authority\",$E$2=\"Eilean Siar Local Authority\"),OR($F187=1,$F187=5)),0,new_yllv2(VALUE(LEFT(Options!$B$14,2)),$C187,$D187,$E187,$F187,2016,$I187,1,$H187,$G187*$H187,Options!$B$8)))","v":5717.2343439387996},{"$f":"IF(AND(OR($E$2=\"Orkney Health Board\",$E$2=\"Orkney Islands Local Authority\"),$F187=1),0,IF(AND(OR($E$2=\"Shetland Health Board\",$E$2=\"Western Isles Health Board\",$E$2=\"Shetland Islands Local Authority\",$E$2=\"Eilean Siar Local Authority\"),OR($F187=1,$F187=5)),0,new_yllv2(VALUE(LEFT(Options!$B$14,2)),$C187,$D187,$E187,$F187,2016,$I187+$J187,1,$H187,$G187*$H187,Options!$B$8)))","v":5710.6330015846997},{"$f":"IF(AND(OR($E$2=\"Orkney Health Board\",$E$2=\"Orkney Islands Local Authority\"),$F187=1),0,IF(AND(OR($E$2=\"Shetland Health Board\",$E$2=\"Western Isles Health Board\",$E$2=\"Shetland Islands Local Authority\",$E$2=\"Eilean Siar Local Authority\"),OR($F187=1,$F187=5)),0,hosp_count(VALUE(LEFT(Options!$B$14,2)),$C187,$E187,$F187,2016,$I187,1,$H187,$G187*$H187, Options!$B$8)))","v":10706.0606319744},{"$f":"IF(AND(OR($E$2=\"Orkney Health Board\",$E$2=\"Orkney Islands Local Authority\"),$F187=1),0,IF(AND(OR($E$2=\"Shetland Health Board\",$E$2=\"Western Isles Health Board\",$E$2=\"Shetland Islands Local Authority\",$E$2=\"Eilean Siar Local Authority\"),OR($F187=1,$F187=5)),0,hosp_count(VALUE(LEFT(Options!$B$14,2)),$C187,$E187,$F187,2016,$I187+$J187,1,$H187,$G187*$H187, Options!$B$8)))","v":10698.671673176499},{"$f":"IF(AND(OR($E$2=\"Orkney Health Board\",$E$2=\"Orkney Islands Local Authority\"),$F187=1),0,IF(AND(OR($E$2=\"Shetland Health Board\",$E$2=\"Western Isles Health Board\",$E$2=\"Shetland Islands Local Authority\",$E$2=\"Eilean Siar Local Authority\"),OR($F187=1,$F187=5)),0,prem_mort(VALUE(LEFT(Options!$B$14,2)),$C187,$E187,$F187,2016,$I187,1,$H187,$G187*$H187,Options!$B$8)))","v":333.75559501880002},{"$f":"IF(AND(OR($E$2=\"Orkney Health Board\",$E$2=\"Orkney Islands Local Authority\"),$F187=1),0,IF(AND(OR($E$2=\"Shetland Health Board\",$E$2=\"Western Isles Health Board\",$E$2=\"Shetland Islands Local Authority\",$E$2=\"Eilean Siar Local Authority\"),OR($F187=1,$F187=5)),0,prem_mort(VALUE(LEFT(Options!$B$14,2)),$C187,$E187,$F187,2016,$I187+$J187,1,$H187,$G187*$H187,Options!$B$8)))","v":333.37022775679998},956.6486901479019,955.54410615913775,16387.394932179548,16368.47340513844,30686.942880000002,30665.763796080311,956.6486901479019,955.54410615913775,5261567.7958134608,5255492.5838752575,90130672.126987517,90026603.728261426,168778185.84,168661700.87844172,5261567.7958134608,5255492.5838752575,5500]
[null,"Female 70-74",71.938164,86.248159999999999,"female",4,{"$f":"HLOOKUP($E$2,'Prevalence Rates'!$C$3:$BC$249,'Prevalence Rates'!$BD188,FALSE)","v":0.11560000000000001},{"$f":"HLOOKUP($E$2,'Population 2016'!$C$3:$BC$249,'Population 2016'!BD188,FALSE)","v":26320},0,{"$f":"ROUND(0.807*(HLOOKUP($E$2,'Population at Risk'!$C$3:$BC$249,'Population at Risk'!$BD188,FALSE)),0)","v":2455},{"$f":"IF(AND(OR($E$2=\"Orkney Health Board\",$E$2=\"Orkney Islands Local Authority\"),$F188=1),0,IF(AND(OR($E$2=\"Shetland Health Board\",$E$2=\"Western Isles Health Board\",$E$2=\"Shetland Islands Local Authority\",$E$2=\"Eilean Siar Local Authority\"),OR($F188=1,$F188=5)),0,new_ci(VALUE(LEFT(Options!$B$14,2)),$C188,$E188,$F188,2016,$I188,1,$H188,$G188*$H188,Options!$B$8)))","v":380.15236666409999},{"$f":"IF(AND(OR($E$2=\"Orkney Health Board\",$E$2=\"Orkney Islands Local Authority\"),$F188=1),0,IF(AND(OR($E$2=\"Shetland Health Board\",$E$2=\"Western Isles Health Board\",$E$2=\"Shetland Islands Local Authority\",$E$2=\"Eilean Siar Local Authority\"),OR($F188=1,$F188=5)),0,new_ci(VALUE(LEFT(Options!$B$14,2)),$C188,$E188,$F188,2016,$I188+$J188,1,$H188,$G188*$H188,Options!$B$8)))","v":379.71594941559999},{"$f":"IF(AND(OR($E$2=\"Orkney Health Board\",$E$2=\"Orkney Islands Local Authority\"),$F188=1),0,IF(AND(OR($E$2=\"Shetland Health Board\",$E$2=\"Western Isles Health Board\",$E$2=\"Shetland Islands Local Authority\",$E$2=\"Eilean Siar Local Authority\"),OR($F188=1,$F188=5)),0,new_yllv2(VALUE(LEFT(Options!$B$14,2)),$C188,$D188,$E188,$F188,2016,$I188,1,$H188,$G188*$H188,Options!$B$8)))","v":5059.8264796897001},{"$f":"IF(AND(OR($E$2=\"Orkney Health Board\",$E$2=\"Orkney Islands Local Authority\"),$F188=1),0,IF(AND(OR($E$2=\"Shetland Health Board\",$E$2=\"Western Isles Health Board\",$E$2=\"Shetland Islands Local Authority\",$E$2=\"Eilean Siar Local Authority\"),OR($F188=1,$F188=5)),0,new_yllv2(VALUE(LEFT(Options!$B$14,2)),$C188,$D188,$E188,$F188,2016,$I188+$J188,1,$H188,$G188*$H188,Options!$B$8)))","v":5054.0177678578002},{"$f":"IF(AND(OR($E$2=\"Orkney Health Board\",$E$2=\"Orkney Islands Local Authority\"),$F188=1),0,IF(AND(OR($E$2=\"Shetland Health Board\",$E$2=\"Western Isles Health Board\",$E$2=\"Shetland Islands Local Authority\",$E$2=\"Eilean Siar Local Authority\"),OR($F188=1,$F188=5)),0,hosp_count(VALUE(LEFT(Options!$B$14,2)),$C188,$E188,$F188,2016,$I188,1,$H188,$G188*$H188, Options!$B$8)))","v":9130.3243339839992},{"$f":"IF(AND(OR($E$2=\"Orkney Health Board\",$E$2=\"Orkney Islands Local Authority\"),$F188=1),0,IF(AND(OR($E$2=\"Shetland Health Board\",$E$2=\"Western Isles Health Board\",$E$2=\"Shetland Islands Local Authority\",$E$2=\"Eilean Siar Local Authority\"),OR($F188=1,$F188=5)),0,hosp_count(VALUE(LEFT(Options!$B$14,2)),$C188,$E188,$F188,2016,$I188+$J188,1,$H188,$G188*$H188, Options!$B$8)))","v":9124.0244806801002},{"$f":"IF(AND(OR($E$2=\"Orkney Health Board\",$E$2=\"Orkney Islands Local Authority\"),$F188=1),0,IF(AND(OR($E$2=\"Shetland Health Board\",$E$2=\"Western Isles Health Board\",$E$2=\"Shetland Islands Local Authority\",$E$2=\"Eilean Siar Local Authority\"),OR($F188=1,$F188=5)),0,prem_mort(VALUE(LEFT(Options!$B$14,2)),$C188,$E188,$F188,2016,$I188,1,$H188,$G188*$H188,Options!$B$8)))","v":380.15236666409999},{"$f":"IF(AND(OR($E$2=\"Orkney Health Board\",$E$2=\"Orkney Islands Local Authority\"),$F188=1),0,IF(AND(OR($E$2=\"Shetland Health Board\",$E$2=\"Western Isles Health Board\",$E$2=\"Shetland Islands Local Authority\",$E$2=\"Eilean Siar Local Authority\"),OR($F188=1,$F188=5)),0,prem_mort(VALUE(LEFT(Options!$B$14,2)),$C188,$E188,$F188,2016,$I188+$J188,1,$H188,$G188*$H188,Options!$B$8)))","v":379.71594941559999},1444.3478976599545,1442.6897774148936,19224.264740462386,19202.195166632981,34689.682119999998,34665.746507143238,1444.3478976599545,1442.6897774148936,7221739.4882997721,7213448.8870744677,{"$f":"U188*$AI188","v":96121323.702311933},{"$f":"V188*$AI188","v":96010975.833164901},{"$f":"W188*$AI188","v":173448410.59999999},{"$f":"X188*$AI188","v":173328732.53571618},{"$f":"Y188*$AI188","v":7221739.4882997721},{"$f":"Z188*$AI188","v":7213448.8870744677},5000]
[null,"Female 75-79",76.942824999999999,87.812830000000005,"female",4,{"$f":"HLOOKUP($E$2,'Prevalence Rates'!$C$3:$BC$249,'Prevalence Rates'!$BD189,FALSE)","v":6.1400000000000003E-2},{"$f":"HLOOKUP($E$2,'Population 2016'!$C$3:$BC$249,'Population 2016'!BD189,FALSE)","v":20708},0,{"$f":"ROUND(0.807*(HLOOKUP($E$2,'Population at Risk'!$C$3:$BC$249,'Population at Risk'!$BD189,FALSE)),0)","v":1026},{"$f":"IF(AND(OR($E$2=\"Orkney Health Board\",$E$2=\"Orkney Islands Local Authority\"),$F189=1),0,IF(AND(OR($E$2=\"Shetland Health Board\",$E$2=\"Western Isles Health Board\",$E$2=\"Shetland Islands Local Authority\",$E$2=\"Eilean Siar Local Authority\"),OR($F189=1,$F189=5)),0,new_ci(VALUE(LEFT(Options!$B$14,2)),$C189,$E189,$F189,2016,$I189,1,$H189,$G189*$H189,Options!$B$8)))","v":456.05314785780001},{"$f":"IF(AND(OR($E$2=\"Orkney Health Board\",$E$2=\"Orkney Islands Local Authority\"),$F189=1),0,IF(AND(OR($E$2=\"Shetland Health Board\",$E$2=\"Western Isles Health Board\",$E$2=\"Shetland Islands Local Authority\",$E$2=\"Eilean Siar Local Authority\"),OR($F189=1,$F189=5)),0,new_ci(VALUE(LEFT(Options!$B$14,2)),$C189,$E189,$F189,2016,$I189+$J189,1,$H189,$G189*$H189,Options!$B$8)))","v":455.76653875919999},{"$f":"IF(AND(OR($E$2=\"Orkney Health Board\",$E$2=\"Orkney Islands Local Authority\"),$F189=1),0,IF(AND(OR($E$2=\"Shetland Health Board\",$E$2=\"Western Isles Health Board\",$E$2=\"Shetland Islands Local Authority\",$E$2=\"Eilean Siar Local Authority\"),OR($F189=1,$F189=5)),0,new_yllv2(VALUE(LEFT(Options!$B$14,2)),$C189,$D189,$E189,$F189,2016,$I189,1,$H189,$G189*$H189,Options!$B$8)))","v":4501.2468496222},{"$f":"IF(AND(OR($E$2=\"Orkney Health Board\",$E$2=\"Orkney Islands Local Authority\"),$F189=1),0,IF(AND(OR($E$2=\"Shetland Health Board\",$E$2=\"Western Isles Health Board\",$E$2=\"Shetland Islands Local Authority\",$E$2=\"Eilean Siar Local Authority\"),OR($F189=1,$F189=5)),0,new_yllv2(VALUE(LEFT(Options!$B$14,2)),$C189,$D189,$E189,$F189,2016,$I189+$J189,1,$H189,$G189*$H189,Options!$B$8)))","v":4498.4180163860001},{"$f":"IF(AND(OR($E$2=\"Orkney Health Board\",$E$2=\"Orkney Islands Local Authority\"),$F189=1),0,IF(AND(OR($E$2=\"Shetland Health Board\",$E$2=\"Western Isles Health Board\",$E$2=\"Shetland Islands Local Authority\",$E$2=\"Eilean Siar Local Authority\"),OR($F189=1,$F189=5)),0,hosp_count(VALUE(LEFT(Options!$B$14,2)),$C189,$E189,$F189,2016,$I189,1,$H189,$G189*$H189, Options!$B$8)))","v":8147.2292633240004},{"$f":"IF(AND(OR($E$2=\"Orkney Health Board\",$E$2=\"Orkney Islands Local Authority\"),$F189=1),0,IF(AND(OR($E$2=\"Shetland Health Board\",$E$2=\"Western Isles Health Board\",$E$2=\"Shetland Islands Local Authority\",$E$2=\"Eilean Siar Local Authority\"),OR($F189=1,$F189=5)),0,hosp_count(VALUE(LEFT(Options!$B$14,2)),$C189,$E189,$F189,2016,$I189+$J189,1,$H189,$G189*$H189, Options!$B$8)))","v":8144.1571020716001},{"$f":"IF(AND(OR($E$2=\"Orkney Health Board\",$E$2=\"Orkney Islands Local Authority\"),$F189=1),0,IF(AND(OR($E$2=\"Shetland Health Board\",$E$2=\"Western Isles Health Board\",$E$2=\"Shetland Islands Local Authority\",$E$2=\"Eilean Siar Local Authority\"),OR($F189=1,$F189=5)),0,prem_mort(VALUE(LEFT(Options!$B$14,2)),$C189,$E189,$F189,2016,$I189,1,$H189,$G189*$H189,Options!$B$8)))","v":0},{"$f":"IF(AND(OR($E$2=\"Orkney Health Board\",$E$2=\"Orkney Islands Local Authority\"),$F189=1),0,IF(AND(OR($E$2=\"Shetland Health Board\",$E$2=\"Western Isles Health Board\",$E$2=\"Shetland Islands Local Authority\",$E$2=\"Eilean Siar Local Authority\"),OR($F189=1,$F189=5)),0,prem_mort(VALUE(LEFT(Options!$B$14,2)),$C189,$E189,$F189,2016,$I189+$J189,1,$H189,$G189*$H189,Options!$B$8)))","v":0},{"$f":"K189*100000/$H189","v":2202.3041716138691},{"$f":"L189*100000/$H189","v":2200.9201214950745},{"$f":"M189*100000/$H189","v":21736.753185349626},{"$f":"N189*100000/$H189","v":21723.092603757003},{"$f":"O189*100000/$H189","v":39343.390300000006},{"$f":"P189*100000/$H189","v":39328.554674867686},{"$f":"Q189*100000/$H189","v":0},{"$f":"R189*100000/$H189","v":0},{"$f":"S189*$AI189","v":8809216.686455477},{"$f":"T189*$AI189","v":8803680.4859802984},86947012.741398498,86892370.415028006,157373561.20000002,157314218.69947076,0,0,4000]
[null,"Female 80-84",81.856712000000002,89.736710000000002,"female",4,{"$f":"HLOOKUP($E$2,'Prevalence Rates'!$C$3:$BC$249,'Prevalence Rates'!$BD190,FALSE)","v":6.1400000000000003E-2},{"$f":"HLOOKUP($E$2,'Population 2016'!$C$3:$BC$249,'Population 2016'!BD190,FALSE)","v":15634},0,{"$f":"ROUND(0.807*(HLOOKUP($E$2,'Population at Risk'!$C$3:$BC$249,'Population at Risk'!$BD190,FALSE)),0)","v":775},{"$f":"IF(AND(OR($E$2=\"Orkney Health Board\",$E$2=\"Orkney Islands Local Authority\"),$F190=1),0,IF(AND(OR($E$2=\"Shetland Health Board\",$E$2=\"Western Isles Health Board\",$E$2=\"Shetland Islands Local Authority\",$E$2=\"Eilean Siar Local Authority\"),OR($F190=1,$F190=5)),0,new_ci(VALUE(LEFT(Options!$B$14,2)),$C190,$E190,$F190,2016,$I190,1,$H190,$G190*$H190,Options!$B$8)))","v":519.85319858219998},{"$f":"IF(AND(OR($E$2=\"Orkney Health Board\",$E$2=\"Orkney Islands Local Authority\"),$F190=1),0,IF(AND(OR($E$2=\"Shetland Health Board\",$E$2=\"Western Isles Health Board\",$E$2=\"Shetland Islands Local Authority\",$E$2=\"Eilean Siar Local Authority\"),OR($F190=1,$F190=5)),0,new_ci(VALUE(LEFT(Options!$B$14,2)),$C190,$E190,$F190,2016,$I190+$J190,1,$H190,$G190*$H190,Options!$B$8)))","v":519.53081214470001},{"$f":"IF(AND(OR($E$2=\"Orkney Health Board\",$E$2=\"Orkney Islands Local Authority\"),$F190=1),0,IF(AND(OR($E$2=\"Shetland Health Board\",$E$2=\"Western Isles Health Board\",$E$2=\"Shetland Islands Local Authority\",$E$2=\"Eilean Siar Local Authority\"),OR($F190=1,$F190=5)),0,new_yllv2(VALUE(LEFT(Options!$B$14,2)),$C190,$D190,$E190,$F190,2016,$I190,1,$H190,$G190*$H190,Options!$B$8)))","v":3576.5889665391001},{"$f":"IF(AND(OR($E$2=\"Orkney Health Board\",$E$2=\"Orkney Islands Local Authority\"),$F190=1),0,IF(AND(OR($E$2=\"Shetland Health Board\",$E$2=\"Western Isles Health Board\",$E$2=\"Shetland Islands Local Authority\",$E$2=\"Eilean Siar Local Authority\"),OR($F190=1,$F190=5)),0,new_yllv2(VALUE(LEFT(Options!$B$14,2)),$C190,$D190,$E190,$F190,2016,$I190+$J190,1,$H190,$G190*$H190,Options!$B$8)))","v":3574.3709484939},{"$f":"IF(AND(OR($E$2=\"Orkney Health Board\",$E$2=\"Orkney Islands Local Authority\"),$F190=1),0,IF(AND(OR($E$2=\"Shetland Health Board\",$E$2=\"Western Isles Health Board\",$E$2=\"Shetland Islands Local Authority\",$E$2=\"Eilean Siar Local Authority\"),OR($F190=1,$F190=5)),0,hosp_count(VALUE(LEFT(Options!$B$14,2)),$C190,$E190,$F190,2016,$I190,1,$H190,$G190*$H190, Options!$B$8)))","v":6960.2000923551996},{"$f":"IF(AND(OR($E$2=\"Orkney Health Board\",$E$2=\"Orkney Islands Local Authority\"),$F190=1),0,IF(AND(OR($E$2=\"Shetland Health Board\",$E$2=\"Western Isles Health Board\",$E$2=\"Shetland Islands Local Authority\",$E$2=\"Eilean Siar Local Authority\"),OR($F190=1,$F190=5)),0,hosp_count(VALUE(LEFT(Options!$B$14,2)),$C190,$E190,$F190,2016,$I190+$J190,1,$H190,$G190*$H190, Options!$B$8)))","v":6957.5741922984998},{"$f":"IF(AND(OR($E$2=\"Orkney Health Board\",$E$2=\"Orkney Islands Local Authority\"),$F190=1),0,IF(AND(OR($E$2=\"Shetland Health Board\",$E$2=\"Western Isles Health Board\",$E$2=\"Shetland Islands Local Authority\",$E$2=\"Eilean Siar Local Authority\"),OR($F190=1,$F190=5)),0,prem_mort(VALUE(LEFT(Options!$B$14,2)),$C190,$E190,$F190,2016,$I190,1,$H190,$G190*$H190,Options!$B$8)))","v":0},{"$f":"IF(AND(OR($E$2=\"Orkney Health Board\",$E$2=\"Orkney Islands Local Authority\"),$F190=1),0,IF(AND(OR($E$2=\"Shetland Health Board\",$E$2=\"Western Isles Health Board\",$E$2=\"Shetland Islands Local Authority\",$E$2=\"Eilean Siar Local Authority\"),OR($F190=1,$F190=5)),0,prem_mort(VALUE(LEFT(Options!$B$14,2)),$C190,$E190,$F190,2016,$I190+$J190,1,$H190,$G190*$H190,Options!$B$8)))","v":0},3325.1451872981961,3323.083101859409,22876.992238320967,22862.805094626452,44519.637280000003,44502.841194182547,0,0,8312862.9682454905,8307707.7546485225,57192480.595802419,57157012.736566134,111299093.2,111257102.98545636,0,0,2500]
[null,"Female 85-89",86.730819999999994,92.220819999999989,"female",4,{"$f":"HLOOKUP($E$2,'Prevalence Rates'!$C$3:$BC$249,'Prevalence Rates'!$BD191,FALSE)","v":6.1400000000000003E-2},{"$f":"HLOOKUP($E$2,'Population 2016'!$C$3:$BC$249,'Population 2016'!BD191,FALSE)","v":9988},0,{"$f":"ROUND(0.807*(HLOOKUP($E$2,'Population at Risk'!$C$3:$BC$249,'Population at Risk'!$BD191,FALSE)),0)","v":495},{"$f":"IF(AND(OR($E$2=\"Orkney Health Board\",$E$2=\"Orkney Islands Local Authority\"),$F191=1),0,IF(AND(OR($E$2=\"Shetland Health Board\",$E$2=\"Western Isles Health Board\",$E$2=\"Shetland Islands Local Authority\",$E$2=\"Eilean Siar Local Authority\"),OR($F191=1,$F191=5)),0,new_ci(VALUE(LEFT(Options!$B$14,2)),$C191,$E191,$F191,2016,$I191,1,$H191,$G191*$H191,Options!$B$8)))","v":498.27074104040003},{"$f":"IF(AND(OR($E$2=\"Orkney Health Board\",$E$2=\"Orkney Islands Local Authority\"),$F191=1),0,IF(AND(OR($E$2=\"Shetland Health Board\",$E$2=\"Western Isles Health Board\",$E$2=\"Shetland Islands Local Authority\",$E$2=\"Eilean Siar Local Authority\"),OR($F191=1,$F191=5)),0,new_ci(VALUE(LEFT(Options!$B$14,2)),$C191,$E191,$F191,2016,$I191+$J191,1,$H191,$G191*$H191,Options!$B$8)))","v":497.96817466639999},{"$f":"IF(AND(OR($E$2=\"Orkney Health Board\",$E$2=\"Orkney Islands Local Authority\"),$F191=1),0,IF(AND(OR($E$2=\"Shetland Health Board\",$E$2=\"Western Isles Health Board\",$E$2=\"Shetland Islands Local Authority\",$E$2=\"Eilean Siar Local Authority\"),OR($F191=1,$F191=5)),0,new_yllv2(VALUE(LEFT(Options!$B$14,2)),$C191,$D191,$E191,$F191,2016,$I191,1,$H191,$G191*$H191,Options!$B$8)))","v":2237.2356272714001},{"$f":"IF(AND(OR($E$2=\"Orkney Health Board\",$E$2=\"Orkney Islands Local Authority\"),$F191=1),0,IF(AND(OR($E$2=\"Shetland Health Board\",$E$2=\"Western Isles Health Board\",$E$2=\"Shetland Islands Local Authority\",$E$2=\"Eilean Siar Local Authority\"),OR($F191=1,$F191=5)),0,new_yllv2(VALUE(LEFT(Options!$B$14,2)),$C191,$D191,$E191,$F191,2016,$I191+$J191,1,$H191,$G191*$H191,Options!$B$8)))","v":2235.8771042520998},{"$f":"IF(AND(OR($E$2=\"Orkney Health Board\",$E$2=\"Orkney Islands Local Authority\"),$F191=1),0,IF(AND(OR($E$2=\"Shetland Health Board\",$E$2=\"Western Isles Health Board\",$E$2=\"Shetland Islands Local Authority\",$E$2=\"Eilean Siar Local Authority\"),OR($F191=1,$F191=5)),0,hosp_count(VALUE(LEFT(Options!$B$14,2)),$C191,$E191,$F191,2016,$I191,1,$H191,$G191*$H191, Options!$B$8)))","v":5026.6128475639998},{"$f":"IF(AND(OR($E$2=\"Orkney Health Board\",$E$2=\"Orkney Islands Local Authority\"),$F191=1),0,IF(AND(OR($E$2=\"Shetland Health Board\",$E$2=\"Western Isles Health Board\",$E$2=\"Shetland Islands Local Authority\",$E$2=\"Eilean Siar Local Authority\"),OR($F191=1,$F191=5)),0,hosp_count(VALUE(LEFT(Options!$B$14,2)),$C191,$E191,$F191,2016,$I191+$J191,1,$H191,$G191*$H191, Options!$B$8)))","v":5024.7168971628998},{"$f":"IF(AND(OR($E$2=\"Orkney Health Board\",$E$2=\"Orkney Islands Local Authority\"),$F191=1),0,IF(AND(OR($E$2=\"Shetland Health Board\",$E$2=\"Western Isles Health Board\",$E$2=\"Shetland Islands Local Authority\",$E$2=\"Eilean Siar Local Authority\"),OR($F191=1,$F191=5)),0,prem_mort(VALUE(LEFT(Options!$B$14,2)),$C191,$E191,$F191,2016,$I191,1,$H191,$G191*$H191,Options!$B$8)))","v":0},{"$f":"IF(AND(OR($E$2=\"Orkney Health Board\",$E$2=\"Orkney Islands Local Authority\"),$F191=1),0,IF(AND(OR($E$2=\"Shetland Health Board\",$E$2=\"Western Isles Health Board\",$E$2=\"Shetland Islands Local Authority\",$E$2=\"Eilean Siar Local Authority\"),OR($F191=1,$F191=5)),0,prem_mort(VALUE(LEFT(Options!$B$14,2)),$C191,$E191,$F191,2016,$I191+$J191,1,$H191,$G191*$H191,Options!$B$8)))","v":0},4988.6938430156188,4985.6645441169403,22399.235355140168,22385.6338030847,50326.520299999996,50307.538017249703,0,0,7483040.7645234279,7478496.8161754105,33598853.032710254,33578450.704627052,75489780.449999988,75461307.025874555,0,0,1500]
[null,"Female 90+",92.779342999999997,96.279340000000005,"female",4,{"$f":"HLOOKUP($E$2,'Prevalence Rates'!$C$3:$BC$249,'Prevalence Rates'!$BD192,FALSE)","v":6.1400000000000003E-2},{"$f":"HLOOKUP($E$2,'Population 2016'!$C$3:$BC$249,'Population 2016'!BD192,FALSE)","v":5998},0,{"$f":"ROUND(0.807*(HLOOKUP($E$2,'Population at Risk'!$C$3:$BC$249,'Population at Risk'!$BD192,FALSE)),0)","v":297},{"$f":"IF(AND(OR($E$2=\"Orkney Health Board\",$E$2=\"Orkney Islands Local Authority\"),$F192=1),0,IF(AND(OR($E$2=\"Shetland Health Board\",$E$2=\"Western Isles Health Board\",$E$2=\"Shetland Islands Local Authority\",$E$2=\"Eilean Siar Local Authority\"),OR($F192=1,$F192=5)),0,new_ci(VALUE(LEFT(Options!$B$14,2)),$C192,$E192,$F192,2016,$I192,1,$H192,$G192*$H192,Options!$B$8)))","v":491.8061077758},{"$f":"IF(AND(OR($E$2=\"Orkney Health Board\",$E$2=\"Orkney Islands Local Authority\"),$F192=1),0,IF(AND(OR($E$2=\"Shetland Health Board\",$E$2=\"Western Isles Health Board\",$E$2=\"Shetland Islands Local Authority\",$E$2=\"Eilean Siar Local Authority\"),OR($F192=1,$F192=5)),0,new_ci(VALUE(LEFT(Options!$B$14,2)),$C192,$E192,$F192,2016,$I192+$J192,1,$H192,$G192*$H192,Options!$B$8)))","v":491.51980886400003},{"$f":"IF(AND(OR($E$2=\"Orkney Health Board\",$E$2=\"Orkney Islands Local Authority\"),$F192=1),0,IF(AND(OR($E$2=\"Shetland Health Board\",$E$2=\"Western Isles Health Board\",$E$2=\"Shetland Islands Local Authority\",$E$2=\"Eilean Siar Local Authority\"),OR($F192=1,$F192=5)),0,new_yllv2(VALUE(LEFT(Options!$B$14,2)),$C192,$D192,$E192,$F192,2016,$I192,1,$H192,$G192*$H192,Options!$B$8)))","v":1229.5137940212001},{"$f":"IF(AND(OR($E$2=\"Orkney Health Board\",$E$2=\"Orkney Islands Local Authority\"),$F192=1),0,IF(AND(OR($E$2=\"Shetland Health Board\",$E$2=\"Western Isles Health Board\",$E$2=\"Shetland Islands Local Authority\",$E$2=\"Eilean Siar Local Authority\"),OR($F192=1,$F192=5)),0,new_yllv2(VALUE(LEFT(Options!$B$14,2)),$C192,$D192,$E192,$F192,2016,$I192+$J192,1,$H192,$G192*$H192,Options!$B$8)))","v":1228.7980476006001},{"$f":"IF(AND(OR($E$2=\"Orkney Health Board\",$E$2=\"Orkney Islands Local Authority\"),$F192=1),0,IF(AND(OR($E$2=\"Shetland Health Board\",$E$2=\"Western Isles Health Board\",$E$2=\"Shetland Islands Local Authority\",$E$2=\"Eilean Siar Local Authority\"),OR($F192=1,$F192=5)),0,hosp_count(VALUE(LEFT(Options!$B$14,2)),$C192,$E192,$F192,2016,$I192,1,$H192,$G192*$H192, Options!$B$8)))","v":3514.6176669343999},{"$f":"IF(AND(OR($E$2=\"Orkney Health Board\",$E$2=\"Orkney Islands Local Authority\"),$F192=1),0,IF(AND(OR($E$2=\"Shetland Health Board\",$E$2=\"Western Isles Health Board\",$E$2=\"Shetland Islands Local Authority\",$E$2=\"Eilean Siar Local Authority\"),OR($F192=1,$F192=5)),0,hosp_count(VALUE(LEFT(Options!$B$14,2)),$C192,$E192,$F192,2016,$I192+$J192,1,$H192,$G192*$H192, Options!$B$8)))","v":3513.2931639207},{"$f":"IF(AND(OR($E$2=\"Orkney Health Board\",$E$2=\"Orkney Islands Local Authority\"),$F192=1),0,IF(AND(OR($E$2=\"Shetland Health Board\",$E$2=\"Western Isles Health Board\",$E$2=\"Shetland Islands Local Authority\",$E$2=\"Eilean Siar Local Authority\"),OR($F192=1,$F192=5)),0,prem_mort(VALUE(LEFT(Options!$B$14,2)),$C192,$E192,$F192,2016,$I192,1,$H192,$G192*$H192,Options!$B$8)))","v":0},{"$f":"IF(AND(OR($E$2=\"Orkney Health Board\",$E$2=\"Orkney Islands Local Authority\"),$F192=1),0,IF(AND(OR($E$2=\"Shetland Health Board\",$E$2=\"Western Isles Health Board\",$E$2=\"Shetland Islands Local Authority\",$E$2=\"Eilean Siar Local Authority\"),OR($F192=1,$F192=5)),0,prem_mort(VALUE(LEFT(Options!$B$14,2)),$C192,$E192,$F192,2016,$I192+$J192,1,$H192,$G192*$H192,Options!$B$8)))","v":0},8199.5016301400465,8194.7283905301774,20498.729476845616,20486.796392140717,58596.493280000002,58574.410868967985,0,0,8199501.6301400466,8194728.3905301774,20498729.476845615,20486796.392140716,58596493.280000001,58574410.868967988,0,0,1000]
[null,"Male 0-4",2.0320822999999999,77.402082000000007,"male",4,{"$f":"HLOOKUP($E$2,'Prevalence Rates'!$C$3:$BC$249,'Prevalence Rates'!$BD193,FALSE)","v":0},{"$f":"HLOOKUP($E$2,'Population 2016'!$C$3:$BC$249,'Population 2016'!BD193,FALSE)","v":0},0,{"$f":"ROUND(0.807*(HLOOKUP($E$2,'Population at Risk'!$C$3:$BC$249,'Population at Risk'!$BD193,FALSE)),0)","v":0},{"$f":"IF(AND(OR($E$2=\"Orkney Health Board\",$E$2=\"Orkney Islands Local Authority\"),$F193=1),0,IF(AND(OR($E$2=\"Shetland Health Board\",$E$2=\"Western Isles Health Board\",$E$2=\"Shetland Islands Local Authority\",$E$2=\"Eilean Siar Local Authority\"),OR($F193=1,$F193=5)),0,new_ci(VALUE(LEFT(Options!$B$14,2)),$C193,$E193,$F193,2016,$I193,1,$H193,$G193*$H193,Options!$B$8)))","v":{"$error":"#VALUE!"}},{"$f":"IF(AND(OR($E$2=\"Orkney Health Board\",$E$2=\"Orkney Islands Local Authority\"),$F193=1),0,IF(AND(OR($E$2=\"Shetland Health Board\",$E$2=\"Western Isles Health Board\",$E$2=\"Shetland Islands Local Authority\",$E$2=\"Eilean Siar Local Authority\"),OR($F193=1,$F193=5)),0,new_ci(VALUE(LEFT(Options!$B$14,2)),$C193,$E193,$F193,2016,$I193+$J193,1,$H193,$G193*$H193,Options!$B$8)))","v":{"$error":"#VALUE!"}},{"$f":"IF(AND(OR($E$2=\"Orkney Health Board\",$E$2=\"Orkney Islands Local Authority\"),$F193=1),0,IF(AND(OR($E$2=\"Shetland Health Board\",$E$2=\"Western Isles Health Board\",$E$2=\"Shetland Islands Local Authority\",$E$2=\"Eilean Siar Local Authority\"),OR($F193=1,$F193=5)),0,new_yllv2(VALUE(LEFT(Options!$B$14,2)),$C193,$D193,$E193,$F193,2016,$I193,1,$H193,$G193*$H193,Options!$B$8)))","v":{"$error":"#VALUE!"}},{"$f":"IF(AND(OR($E$2=\"Orkney Health Board\",$E$2=\"Orkney Islands Local Authority\"),$F193=1),0,IF(AND(OR($E$2=\"Shetland Health Board\",$E$2=\"Western Isles Health Board\",$E$2=\"Shetland Islands Local Authority\",$E$2=\"Eilean Siar Local Authority\"),OR($F193=1,$F193=5)),0,new_yllv2(VALUE(LEFT(Options!$B$14,2)),$C193,$D193,$E193,$F193,2016,$I193+$J193,1,$H193,$G193*$H193,Options!$B$8)))","v":{"$error":"#VALUE!"}},{"$f":"IF(AND(OR($E$2=\"Orkney Health Board\",$E$2=\"Orkney Islands Local Authority\"),$F193=1),0,IF(AND(OR($E$2=\"Shetland Health Board\",$E$2=\"Western Isles Health Board\",$E$2=\"Shetland Islands Local Authority\",$E$2=\"Eilean Siar Local Authority\"),OR($F193=1,$F193=5)),0,hosp_count(VALUE(LEFT(Options!$B$14,2)),$C193,$E193,$F193,2016,$I193,1,$H193,$G193*$H193, Options!$B$8)))","v":{"$error":"#VALUE!"}},{"$f":"IF(AND(OR($E$2=\"Orkney Health Board\",$E$2=\"Orkney Islands Local Authority\"),$F193=1),0,IF(AND(OR($E$2=\"Shetland Health Board\",$E$2=\"Western Isles Health Board\",$E$2=\"Shetland Islands Local Authority\",$E$2=\"Eilean Siar Local Authority\"),OR($F193=1,$F193=5)),0,hosp_count(VALUE(LEFT(Options!$B$14,2)),$C193,$E193,$F193,2016,$I193+$J193,1,$H193,$G193*$H193, Options!$B$8)))","v":{"$error":"#VALUE!"}},{"$f":"IF(AND(OR($E$2=\"Orkney Health Board\",$E$2=\"Orkney Islands Local Authority\"),$F193=1),0,IF(AND(OR($E$2=\"Shetland Health Board\",$E$2=\"Western Isles Health Board\",$E$2=\"Shetland Islands Local Authority\",$E$2=\"Eilean Siar Local Authority\"),OR($F193=1,$F193=5)),0,prem_mort(VALUE(LEFT(Options!$B$14,2)),$C193,$E193,$F193,2016,$I193,1,$H193,$G193*$H193,Options!$B$8)))","v":{"$error":"#VALUE!"}},{"$f":"IF(AND(OR($E$2=\"Orkney Health Board\",$E$2=\"Orkney Islands Local Authority\"),$F193=1),0,IF(AND(OR($E$2=\"Shetland Health Board\",$E$2=\"Western Isles Health Board\",$E$2=\"Shetland Islands Local Authority\",$E$2=\"Eilean Siar Local Authority\"),OR($F193=1,$F193=5)),0,prem_mort(VALUE(LEFT(Options!$B$14,2)),$C193,$E193,$F193,2016,$I193+$J193,1,$H193,$G193*$H193,Options!$B$8)))","v":{"$error":"#VALUE!"}},{"$error":"#VALUE!"},{"$error":"#VALUE!"},{"$error":"#VALUE!"},{"$error":"#VALUE!"},{"$error":"#VALUE!"},{"$error":"#VALUE!"},{"$error":"#VALUE!"},{"$error":"#VALUE!"},{"$error":"#VALUE!"},{"$error":"#VALUE!"},{"$error":"#VALUE!"},{"$error":"#VALUE!"},{"$error":"#VALUE!"},{"$error":"#VALUE!"},{"$error":"#VALUE!"},{"$error":"#VALUE!"},5000]
[null,"Male 5-9",6.9784756000000003,77.398476000000002,"male",4,{"$f":"HLOOKUP($E$2,'Prevalence Rates'!$C$3:$BC$249,'Prevalence Rates'!$BD194,FALSE)","v":0},{"$f":"HLOOKUP($E$2,'Population 2016'!$C$3:$BC$249,'Population 2016'!BD194,FALSE)","v":0},0,{"$f":"ROUND(0.807*(HLOOKUP($E$2,'Population at Risk'!$C$3:$BC$249,'Population at Risk'!$BD194,FALSE)),0)","v":0},{"$f":"IF(AND(OR($E$2=\"Orkney Health Board\",$E$2=\"Orkney Islands Local Authority\"),$F194=1),0,IF(AND(OR($E$2=\"Shetland Health Board\",$E$2=\"Western Isles Health Board\",$E$2=\"Shetland Islands Local Authority\",$E$2=\"Eilean Siar Local Authority\"),OR($F194=1,$F194=5)),0,new_ci(VALUE(LEFT(Options!$B$14,2)),$C194,$E194,$F194,2016,$I194,1,$H194,$G194*$H194,Options!$B$8)))","v":{"$error":"#VALUE!"}},{"$f":"IF(AND(OR($E$2=\"Orkney Health Board\",$E$2=\"Orkney Islands Local Authority\"),$F194=1),0,IF(AND(OR($E$2=\"Shetland Health Board\",$E$2=\"Western Isles Health Board\",$E$2=\"Shetland Islands Local Authority\",$E$2=\"Eilean Siar Local Authority\"),OR($F194=1,$F194=5)),0,new_ci(VALUE(LEFT(Options!$B$14,2)),$C194,$E194,$F194,2016,$I194+$J194,1,$H194,$G194*$H194,Options!$B$8)))","v":{"$error":"#VALUE!"}},{"$f":"IF(AND(OR($E$2=\"Orkney Health Board\",$E$2=\"Orkney Islands Local Authority\"),$F194=1),0,IF(AND(OR($E$2=\"Shetland Health Board\",$E$2=\"Western Isles Health Board\",$E$2=\"Shetland Islands Local Authority\",$E$2=\"Eilean Siar Local Authority\"),OR($F194=1,$F194=5)),0,new_yllv2(VALUE(LEFT(Options!$B$14,2)),$C194,$D194,$E194,$F194,2016,$I194,1,$H194,$G194*$H194,Options!$B$8)))","v":{"$error":"#VALUE!"}},{"$f":"IF(AND(OR($E$2=\"Orkney Health Board\",$E$2=\"Orkney Islands Local Authority\"),$F194=1),0,IF(AND(OR($E$2=\"Shetland Health Board\",$E$2=\"Western Isles Health Board\",$E$2=\"Shetland Islands Local Authority\",$E$2=\"Eilean Siar Local Authority\"),OR($F194=1,$F194=5)),0,new_yllv2(VALUE(LEFT(Options!$B$14,2)),$C194,$D194,$E194,$F194,2016,$I194+$J194,1,$H194,$G194*$H194,Options!$B$8)))","v":{"$error":"#VALUE!"}},{"$f":"IF(AND(OR($E$2=\"Orkney Health Board\",$E$2=\"Orkney Islands Local Authority\"),$F194=1),0,IF(AND(OR($E$2=\"Shetland Health Board\",$E$2=\"Western Isles Health Board\",$E$2=\"Shetland Islands Local Authority\",$E$2=\"Eilean Siar Local Authority\"),OR($F194=1,$F194=5)),0,hosp_count(VALUE(LEFT(Options!$B$14,2)),$C194,$E194,$F194,2016,$I194,1,$H194,$G194*$H194, Options!$B$8)))","v":{"$error":"#VALUE!"}},{"$f":"IF(AND(OR($E$2=\"Orkney Health Board\",$E$2=\"Orkney Islands Local Authority\"),$F194=1),0,IF(AND(OR($E$2=\"Shetland Health Board\",$E$2=\"Western Isles Health Board\",$E$2=\"Shetland Islands Local Authority\",$E$2=\"Eilean Siar Local Authority\"),OR($F194=1,$F194=5)),0,hosp_count(VALUE(LEFT(Options!$B$14,2)),$C194,$E194,$F194,2016,$I194+$J194,1,$H194,$G194*$H194, Options!$B$8)))","v":{"$error":"#VALUE!"}},{"$f":"IF(AND(OR($E$2=\"Orkney Health Board\",$E$2=\"Orkney Islands Local Authority\"),$F194=1),0,IF(AND(OR($E$2=\"Shetland Health Board\",$E$2=\"Western Isles Health Board\",$E$2=\"Shetland Islands Local Authority\",$E$2=\"Eilean Siar Local Authority\"),OR($F194=1,$F194=5)),0,prem_mort(VALUE(LEFT(Options!$B$14,2)),$C194,$E194,$F194,2016,$I194,1,$H194,$G194*$H194,Options!$B$8)))","v":{"$error":"#VALUE!"}},{"$f":"IF(AND(OR($E$2=\"Orkney Health Board\",$E$2=\"Orkney Islands Local Authority\"),$F194=1),0,IF(AND(OR($E$2=\"Shetland Health Board\",$E$2=\"Western Isles Health Board\",$E$2=\"Shetland Islands Local Authority\",$E$2=\"Eilean Siar Local Authority\"),OR($F194=1,$F194=5)),0,prem_mort(VALUE(LEFT(Options!$B$14,2)),$C194,$E194,$F194,2016,$I194+$J194,1,$H194,$G194*$H194,Options!$B$8)))","v":{"$error":"#VALUE!"}},{"$error":"#VALUE!"},{"$error":"#VALUE!"},{"$error":"#VALUE!"},{"$error":"#VALUE!"},{"$error":"#VALUE!"},{"$error":"#VALUE!"},{"$error":"#VALUE!"},{"$error":"#VALUE!"},{"$error":"#VALUE!"},{"$error":"#VALUE!"},{"$error":"#VALUE!"},{"$error":"#VALUE!"},{"$error":"#VALUE!"},{"$error":"#VALUE!"},{"$error":"#VALUE!"},{"$error":"#VALUE!"},5500]
[null,"Male 10-15",12.471144000000001,77.921140000000008,"male",4,{"$f":"HLOOKUP($E$2,'Prevalence Rates'!$C$3:$BC$249,'Prevalence Rates'!$BD195,FALSE)","v":0},{"$f":"HLOOKUP($E$2,'Population 2016'!$C$3:$BC$249,'Population 2016'!BD195,FALSE)","v":0},0,{"$f":"ROUND(0.807*(HLOOKUP($E$2,'Population at Risk'!$C$3:$BC$249,'Population at Risk'!$BD195,FALSE)),0)","v":0},{"$f":"IF(AND(OR($E$2=\"Orkney Health Board\",$E$2=\"Orkney Islands Local Authority\"),$F195=1),0,IF(AND(OR($E$2=\"Shetland Health Board\",$E$2=\"Western Isles Health Board\",$E$2=\"Shetland Islands Local Authority\",$E$2=\"Eilean Siar Local Authority\"),OR($F195=1,$F195=5)),0,new_ci(VALUE(LEFT(Options!$B$14,2)),$C195,$E195,$F195,2016,$I195,1,$H195,$G195*$H195,Options!$B$8)))","v":{"$error":"#VALUE!"}},{"$f":"IF(AND(OR($E$2=\"Orkney Health Board\",$E$2=\"Orkney Islands Local Authority\"),$F195=1),0,IF(AND(OR($E$2=\"Shetland Health Board\",$E$2=\"Western Isles Health Board\",$E$2=\"Shetland Islands Local Authority\",$E$2=\"Eilean Siar Local Authority\"),OR($F195=1,$F195=5)),0,new_ci(VALUE(LEFT(Options!$B$14,2)),$C195,$E195,$F195,2016,$I195+$J195,1,$H195,$G195*$H195,Options!$B$8)))","v":{"$error":"#VALUE!"}},{"$f":"IF(AND(OR($E$2=\"Orkney Health Board\",$E$2=\"Orkney Islands Local Authority\"),$F195=1),0,IF(AND(OR($E$2=\"Shetland Health Board\",$E$2=\"Western Isles Health Board\",$E$2=\"Shetland Islands Local Authority\",$E$2=\"Eilean Siar Local Authority\"),OR($F195=1,$F195=5)),0,new_yllv2(VALUE(LEFT(Options!$B$14,2)),$C195,$D195,$E195,$F195,2016,$I195,1,$H195,$G195*$H195,Options!$B$8)))","v":{"$error":"#VALUE!"}},{"$f":"IF(AND(OR($E$2=\"Orkney Health Board\",$E$2=\"Orkney Islands Local Authority\"),$F195=1),0,IF(AND(OR($E$2=\"Shetland Health Board\",$E$2=\"Western Isles Health Board\",$E$2=\"Shetland Islands Local Authority\",$E$2=\"Eilean Siar Local Authority\"),OR($F195=1,$F195=5)),0,new_yllv2(VALUE(LEFT(Options!$B$14,2)),$C195,$D195,$E195,$F195,2016,$I195+$J195,1,$H195,$G195*$H195,Options!$B$8)))","v":{"$error":"#VALUE!"}},{"$f":"IF(AND(OR($E$2=\"Orkney Health Board\",$E$2=\"Orkney Islands Local Authority\"),$F195=1),0,IF(AND(OR($E$2=\"Shetland Health Board\",$E$2=\"Western Isles Health Board\",$E$2=\"Shetland Islands Local Authority\",$E$2=\"Eilean Siar Local Authority\"),OR($F195=1,$F195=5)),0,hosp_count(VALUE(LEFT(Options!$B$14,2)),$C195,$E195,$F195,2016,$I195,1,$H195,$G195*$H195, Options!$B$8)))","v":{"$error":"#VALUE!"}},{"$f":"IF(AND(OR($E$2=\"Orkney Health Board\",$E$2=\"Orkney Islands Local Authority\"),$F195=1),0,IF(AND(OR($E$2=\"Shetland Health Board\",$E$2=\"Western Isles Health Board\",$E$2=\"Shetland Islands Local Authority\",$E$2=\"Eilean Siar Local Authority\"),OR($F195=1,$F195=5)),0,hosp_count(VALUE(LEFT(Options!$B$14,2)),$C195,$E195,$F195,2016,$I195+$J195,1,$H195,$G195*$H195, Options!$B$8)))","v":{"$error":"#VALUE!"}},{"$f":"IF(AND(OR($E$2=\"Orkney Health Board\",$E$2=\"Orkney Islands Local Authority\"),$F195=1),0,IF(AND(OR($E$2=\"Shetland Health Board\",$E$2=\"Western Isles Health Board\",$E$2=\"Shetland Islands Local Authority\",$E$2=\"Eilean Siar Local Authority\"),OR($F195=1,$F195=5)),0,prem_mort(VALUE(LEFT(Options!$B$14,2)),$C195,$E195,$F195,2016,$I195,1,$H195,$G195*$H195,Options!$B$8)))","v":{"$error":"#VALUE!"}},{"$f":"IF(AND(OR($E$2=\"Orkney Health Board\",$E$2=\"Orkney Islands Local Authority\"),$F195=1),0,IF(AND(OR($E$2=\"Shetland Health Board\",$E$2=\"Western Isles Health Board\",$E$2=\"Shetland Islands Local Authority\",$E$2=\"Eilean Siar Local Authority\"),OR($F195=1,$F195=5)),0,prem_mort(VALUE(LEFT(Options!$B$14,2)),$C195,$E195,$F195,2016,$I195+$J195,1,$H195,$G195*$H195,Options!$B$8)))","v":{"$error":"#VALUE!"}},{"$error":"#VALUE!"},{"$error":"#VALUE!"},{"$error":"#VALUE!"},{"$error":"#VALUE!"},{"$error":"#VALUE!"},{"$error":"#VALUE!"},{"$error":"#VALUE!"},{"$error":"#VALUE!"},{"$error":"#VALUE!"},{"$error":"#VALUE!"},{"$error":"#VALUE!"},{"$error":"#VALUE!"},{"$error":"#VALUE!"},{"$error":"#VALUE!"},{"$error":"#VALUE!"},{"$error":"#VALUE!"},6600]
[null,"Male 16-19",17.556318000000001,77.07632000000001,"male",4,{"$f":"HLOOKUP($E$2,'Prevalence Rates'!$C$3:$BC$249,'Prevalence Rates'!$BD196,FALSE)","v":0.2054},{"$f":"HLOOKUP($E$2,'Population 2016'!$C$3:$BC$249,'Population 2016'!BD196,FALSE)","v":24732},0,{"$f":"ROUND(0.807*(HLOOKUP($E$2,'Population at Risk'!$C$3:$BC$249,'Population at Risk'!$BD196,FALSE)),0)","v":4100},{"$f":"IF(AND(OR($E$2=\"Orkney Health Board\",$E$2=\"Orkney Islands Local Authority\"),$F196=1),0,IF(AND(OR($E$2=\"Shetland Health Board\",$E$2=\"Western Isles Health Board\",$E$2=\"Shetland Islands Local Authority\",$E$2=\"Eilean Siar Local Authority\"),OR($F196=1,$F196=5)),0,new_ci(VALUE(LEFT(Options!$B$14,2)),$C196,$E196,$F196,2016,$I196,1,$H196,$G196*$H196,Options!$B$8)))","v":8.3961033542999992},{"$f":"IF(AND(OR($E$2=\"Orkney Health Board\",$E$2=\"Orkney Islands Local Authority\"),$F196=1),0,IF(AND(OR($E$2=\"Shetland Health Board\",$E$2=\"Western Isles Health Board\",$E$2=\"Shetland Islands Local Authority\",$E$2=\"Eilean Siar Local Authority\"),OR($F196=1,$F196=5)),0,new_ci(VALUE(LEFT(Options!$B$14,2)),$C196,$E196,$F196,2016,$I196+$J196,1,$H196,$G196*$H196,Options!$B$8)))","v":8.3848103142999992},{"$f":"IF(AND(OR($E$2=\"Orkney Health Board\",$E$2=\"Orkney Islands Local Authority\"),$F196=1),0,IF(AND(OR($E$2=\"Shetland Health Board\",$E$2=\"Western Isles Health Board\",$E$2=\"Shetland Islands Local Authority\",$E$2=\"Eilean Siar Local Authority\"),OR($F196=1,$F196=5)),0,new_yllv2(VALUE(LEFT(Options!$B$14,2)),$C196,$D196,$E196,$F196,2016,$I196,1,$H196,$G196*$H196,Options!$B$8)))","v":491.33998508579998},{"$f":"IF(AND(OR($E$2=\"Orkney Health Board\",$E$2=\"Orkney Islands Local Authority\"),$F196=1),0,IF(AND(OR($E$2=\"Shetland Health Board\",$E$2=\"Western Isles Health Board\",$E$2=\"Shetland Islands Local Authority\",$E$2=\"Eilean Siar Local Authority\"),OR($F196=1,$F196=5)),0,new_yllv2(VALUE(LEFT(Options!$B$14,2)),$C196,$D196,$E196,$F196,2016,$I196+$J196,1,$H196,$G196*$H196,Options!$B$8)))","v":490.6791163625},{"$f":"IF(AND(OR($E$2=\"Orkney Health Board\",$E$2=\"Orkney Islands Local Authority\"),$F196=1),0,IF(AND(OR($E$2=\"Shetland Health Board\",$E$2=\"Western Isles Health Board\",$E$2=\"Shetland Islands Local Authority\",$E$2=\"Eilean Siar Local Authority\"),OR($F196=1,$F196=5)),0,hosp_count(VALUE(LEFT(Options!$B$14,2)),$C196,$E196,$F196,2016,$I196,1,$H196,$G196*$H196, Options!$B$8)))","v":1479.5226009359999},{"$f":"IF(AND(OR($E$2=\"Orkney Health Board\",$E$2=\"Orkney Islands Local Authority\"),$F196=1),0,IF(AND(OR($E$2=\"Shetland Health Board\",$E$2=\"Western Isles Health Board\",$E$2=\"Shetland Islands Local Authority\",$E$2=\"Eilean Siar Local Authority\"),OR($F196=1,$F196=5)),0,hosp_count(VALUE(LEFT(Options!$B$14,2)),$C196,$E196,$F196,2016,$I196+$J196,1,$H196,$G196*$H196, Options!$B$8)))","v":1478.264688085},{"$f":"IF(AND(OR($E$2=\"Orkney Health Board\",$E$2=\"Orkney Islands Local Authority\"),$F196=1),0,IF(AND(OR($E$2=\"Shetland Health Board\",$E$2=\"Western Isles Health Board\",$E$2=\"Shetland Islands Local Authority\",$E$2=\"Eilean Siar Local Authority\"),OR($F196=1,$F196=5)),0,prem_mort(VALUE(LEFT(Options!$B$14,2)),$C196,$E196,$F196,2016,$I196,1,$H196,$G196*$H196,Options!$B$8)))","v":8.3961033542999992},{"$f":"IF(AND(OR($E$2=\"Orkney Health Board\",$E$2=\"Orkney Islands Local Authority\"),$F196=1),0,IF(AND(OR($E$2=\"Shetland Health Board\",$E$2=\"Western Isles Health Board\",$E$2=\"Shetland Islands Local Authority\",$E$2=\"Eilean Siar Local Authority\"),OR($F196=1,$F196=5)),0,prem_mort(VALUE(LEFT(Options!$B$14,2)),$C196,$E196,$F196,2016,$I196+$J196,1,$H196,$G196*$H196,Options!$B$8)))","v":8.3848103142999992},33.948339617903926,33.902677964984633,1986.6569023362445,1983.9847823164321,5982.2197999999989,5977.1336247978325,33.948339617903926,33.902677964984633,149372.69431877727,149171.78304593239,8741290.370279476,8729533.0421923008,26321767.119999994,26299387.949110463,149372.69431877727,149171.78304593239,4400]
[null,"Male 20-24",22.054632000000002,77.704629999999995,"male",4,{"$f":"HLOOKUP($E$2,'Prevalence Rates'!$C$3:$BC$249,'Prevalence Rates'!$BD197,FALSE)","v":0.2054},{"$f":"HLOOKUP($E$2,'Population 2016'!$C$3:$BC$249,'Population 2016'!BD197,FALSE)","v":35228},0,{"$f":"ROUND(0.807*(HLOOKUP($E$2,'Population at Risk'!$C$3:$BC$249,'Population at Risk'!$BD197,FALSE)),0)","v":5839},{"$f":"IF(AND(OR($E$2=\"Orkney Health Board\",$E$2=\"Orkney Islands Local Authority\"),$F197=1),0,IF(AND(OR($E$2=\"Shetland Health Board\",$E$2=\"Western Isles Health Board\",$E$2=\"Shetland Islands Local Authority\",$E$2=\"Eilean Siar Local Authority\"),OR($F197=1,$F197=5)),0,new_ci(VALUE(LEFT(Options!$B$14,2)),$C197,$E197,$F197,2016,$I197,1,$H197,$G197*$H197,Options!$B$8)))","v":16.794447352599999},{"$f":"IF(AND(OR($E$2=\"Orkney Health Board\",$E$2=\"Orkney Islands Local Authority\"),$F197=1),0,IF(AND(OR($E$2=\"Shetland Health Board\",$E$2=\"Western Isles Health Board\",$E$2=\"Shetland Islands Local Authority\",$E$2=\"Eilean Siar Local Authority\"),OR($F197=1,$F197=5)),0,new_ci(VALUE(LEFT(Options!$B$14,2)),$C197,$E197,$F197,2016,$I197+$J197,1,$H197,$G197*$H197,Options!$B$8)))","v":16.771865603999998},{"$f":"IF(AND(OR($E$2=\"Orkney Health Board\",$E$2=\"Orkney Islands Local Authority\"),$F197=1),0,IF(AND(OR($E$2=\"Shetland Health Board\",$E$2=\"Western Isles Health Board\",$E$2=\"Shetland Islands Local Authority\",$E$2=\"Eilean Siar Local Authority\"),OR($F197=1,$F197=5)),0,new_yllv2(VALUE(LEFT(Options!$B$14,2)),$C197,$D197,$E197,$F197,2016,$I197,1,$H197,$G197*$H197,Options!$B$8)))","v":917.81651423070002},{"$f":"IF(AND(OR($E$2=\"Orkney Health Board\",$E$2=\"Orkney Islands Local Authority\"),$F197=1),0,IF(AND(OR($E$2=\"Shetland Health Board\",$E$2=\"Western Isles Health Board\",$E$2=\"Shetland Islands Local Authority\",$E$2=\"Eilean Siar Local Authority\"),OR($F197=1,$F197=5)),0,new_yllv2(VALUE(LEFT(Options!$B$14,2)),$C197,$D197,$E197,$F197,2016,$I197+$J197,1,$H197,$G197*$H197,Options!$B$8)))","v":916.58242171489997},{"$f":"IF(AND(OR($E$2=\"Orkney Health Board\",$E$2=\"Orkney Islands Local Authority\"),$F197=1),0,IF(AND(OR($E$2=\"Shetland Health Board\",$E$2=\"Western Isles Health Board\",$E$2=\"Shetland Islands Local Authority\",$E$2=\"Eilean Siar Local Authority\"),OR($F197=1,$F197=5)),0,hosp_count(VALUE(LEFT(Options!$B$14,2)),$C197,$E197,$F197,2016,$I197,1,$H197,$G197*$H197, Options!$B$8)))","v":2472.2563462364001},{"$f":"IF(AND(OR($E$2=\"Orkney Health Board\",$E$2=\"Orkney Islands Local Authority\"),$F197=1),0,IF(AND(OR($E$2=\"Shetland Health Board\",$E$2=\"Western Isles Health Board\",$E$2=\"Shetland Islands Local Authority\",$E$2=\"Eilean Siar Local Authority\"),OR($F197=1,$F197=5)),0,hosp_count(VALUE(LEFT(Options!$B$14,2)),$C197,$E197,$F197,2016,$I197+$J197,1,$H197,$G197*$H197, Options!$B$8)))","v":2470.1547552462998},{"$f":"IF(AND(OR($E$2=\"Orkney Health Board\",$E$2=\"Orkney Islands Local Authority\"),$F197=1),0,IF(AND(OR($E$2=\"Shetland Health Board\",$E$2=\"Western Isles Health Board\",$E$2=\"Shetland Islands Local Authority\",$E$2=\"Eilean Siar Local Authority\"),OR($F197=1,$F197=5)),0,prem_mort(VALUE(LEFT(Options!$B$14,2)),$C197,$E197,$F197,2016,$I197,1,$H197,$G197*$H197,Options!$B$8)))","v":16.794447352599999},{"$f":"IF(AND(OR($E$2=\"Orkney Health Board\",$E$2=\"Orkney Islands Local Authority\"),$F197=1),0,IF(AND(OR($E$2=\"Shetland Health Board\",$E$2=\"Western Isles Health Board\",$E$2=\"Shetland Islands Local Authority\",$E$2=\"Eilean Siar Local Authority\"),OR($F197=1,$F197=5)),0,prem_mort(VALUE(LEFT(Options!$B$14,2)),$C197,$E197,$F197,2016,$I197+$J197,1,$H197,$G197*$H197,Options!$B$8)))","v":16.771865603999998},47.673575998069715,47.609474293175879,2605.3608329473714,2601.8576749032018,7017.8731299999999,7011.9074464809237,47.673575998069715,47.609474293175879,286041.45598841831,285656.84575905529,15632164.997684227,15611146.049419211,42107238.780000001,42071444.678885542,286041.45598841831,285656.84575905529,6000]
[null,"Male 25-29",26.959762999999999,77.789760000000001,"male",4,{"$f":"HLOOKUP($E$2,'Prevalence Rates'!$C$3:$BC$249,'Prevalence Rates'!$BD198,FALSE)","v":0.23650000000000002},{"$f":"HLOOKUP($E$2,'Population 2016'!$C$3:$BC$249,'Population 2016'!BD198,FALSE)","v":33718},0,{"$f":"ROUND(0.807*(HLOOKUP($E$2,'Population at Risk'!$C$3:$BC$249,'Population at Risk'!$BD198,FALSE)),0)","v":6435},{"$f":"IF(AND(OR($E$2=\"Orkney Health Board\",$E$2=\"Orkney Islands Local Authority\"),$F198=1),0,IF(AND(OR($E$2=\"Shetland Health Board\",$E$2=\"Western Isles Health Board\",$E$2=\"Shetland Islands Local Authority\",$E$2=\"Eilean Siar Local Authority\"),OR($F198=1,$F198=5)),0,new_ci(VALUE(LEFT(Options!$B$14,2)),$C198,$E198,$F198,2016,$I198,1,$H198,$G198*$H198,Options!$B$8)))","v":23.276548504499999},{"$f":"IF(AND(OR($E$2=\"Orkney Health Board\",$E$2=\"Orkney Islands Local Authority\"),$F198=1),0,IF(AND(OR($E$2=\"Shetland Health Board\",$E$2=\"Western Isles Health Board\",$E$2=\"Shetland Islands Local Authority\",$E$2=\"Eilean Siar Local Authority\"),OR($F198=1,$F198=5)),0,new_ci(VALUE(LEFT(Options!$B$14,2)),$C198,$E198,$F198,2016,$I198+$J198,1,$H198,$G198*$H198,Options!$B$8)))","v":23.241349698000001},{"$f":"IF(AND(OR($E$2=\"Orkney Health Board\",$E$2=\"Orkney Islands Local Authority\"),$F198=1),0,IF(AND(OR($E$2=\"Shetland Health Board\",$E$2=\"Western Isles Health Board\",$E$2=\"Shetland Islands Local Authority\",$E$2=\"Eilean Siar Local Authority\"),OR($F198=1,$F198=5)),0,new_yllv2(VALUE(LEFT(Options!$B$14,2)),$C198,$D198,$E198,$F198,2016,$I198,1,$H198,$G198*$H198,Options!$B$8)))","v":1159.8703421496},{"$f":"IF(AND(OR($E$2=\"Orkney Health Board\",$E$2=\"Orkney Islands Local Authority\"),$F198=1),0,IF(AND(OR($E$2=\"Shetland Health Board\",$E$2=\"Western Isles Health Board\",$E$2=\"Shetland Islands Local Authority\",$E$2=\"Eilean Siar Local Authority\"),OR($F198=1,$F198=5)),0,new_yllv2(VALUE(LEFT(Options!$B$14,2)),$C198,$D198,$E198,$F198,2016,$I198+$J198,1,$H198,$G198*$H198,Options!$B$8)))","v":1158.1163857273},{"$f":"IF(AND(OR($E$2=\"Orkney Health Board\",$E$2=\"Orkney Islands Local Authority\"),$F198=1),0,IF(AND(OR($E$2=\"Shetland Health Board\",$E$2=\"Western Isles Health Board\",$E$2=\"Shetland Islands Local Authority\",$E$2=\"Eilean Siar Local Authority\"),OR($F198=1,$F198=5)),0,hosp_count(VALUE(LEFT(Options!$B$14,2)),$C198,$E198,$F198,2016,$I198,1,$H198,$G198*$H198, Options!$B$8)))","v":2816.3180454054},{"$f":"IF(AND(OR($E$2=\"Orkney Health Board\",$E$2=\"Orkney Islands Local Authority\"),$F198=1),0,IF(AND(OR($E$2=\"Shetland Health Board\",$E$2=\"Western Isles Health Board\",$E$2=\"Shetland Islands Local Authority\",$E$2=\"Eilean Siar Local Authority\"),OR($F198=1,$F198=5)),0,hosp_count(VALUE(LEFT(Options!$B$14,2)),$C198,$E198,$F198,2016,$I198+$J198,1,$H198,$G198*$H198, Options!$B$8)))","v":2813.5984074489002},{"$f":"IF(AND(OR($E$2=\"Orkney Health Board\",$E$2=\"Orkney Islands Local Authority\"),$F198=1),0,IF(AND(OR($E$2=\"Shetland Health Board\",$E$2=\"Western Isles Health Board\",$E$2=\"Shetland Islands Local Authority\",$E$2=\"Eilean Siar Local Authority\"),OR($F198=1,$F198=5)),0,prem_mort(VALUE(LEFT(Options!$B$14,2)),$C198,$E198,$F198,2016,$I198,1,$H198,$G198*$H198,Options!$B$8)))","v":23.276548504499999},{"$f":"IF(AND(OR($E$2=\"Orkney Health Board\",$E$2=\"Orkney Islands Local Authority\"),$F198=1),0,IF(AND(OR($E$2=\"Shetland Health Board\",$E$2=\"Western Isles Health Board\",$E$2=\"Shetland Islands Local Authority\",$E$2=\"Eilean Siar Local Authority\"),OR($F198=1,$F198=5)),0,prem_mort(VALUE(LEFT(Options!$B$14,2)),$C198,$E198,$F198,2016,$I198+$J198,1,$H198,$G198*$H198,Options!$B$8)))","v":23.241349698000001},69.03300463995491,68.92861290112107,3439.9144141099709,3434.7125740770512,8352.5655299999999,8344.4996958565171,69.03300463995491,68.92861290112107,414198.02783972945,413571.67740672641,20639486.484659825,20608275.444462307,50115393.18,50066998.175139099,414198.02783972945,413571.67740672641,6000]
[null,"Male 30-34",31.981521999999998,78.061520000000002,"male",4,{"$f":"HLOOKUP($E$2,'Prevalence Rates'!$C$3:$BC$249,'Prevalence Rates'!$BD199,FALSE)","v":0.23650000000000002},{"$f":"HLOOKUP($E$2,'Population 2016'!$C$3:$BC$249,'Population 2016'!BD199,FALSE)","v":32346},0,{"$f":"ROUND(0.807*(HLOOKUP($E$2,'Population at Risk'!$C$3:$BC$249,'Population at Risk'!$BD199,FALSE)),0)","v":6173},{"$f":"IF(AND(OR($E$2=\"Orkney Health Board\",$E$2=\"Orkney Islands Local Authority\"),$F199=1),0,IF(AND(OR($E$2=\"Shetland Health Board\",$E$2=\"Western Isles Health Board\",$E$2=\"Shetland Islands Local Authority\",$E$2=\"Eilean Siar Local Authority\"),OR($F199=1,$F199=5)),0,new_ci(VALUE(LEFT(Options!$B$14,2)),$C199,$E199,$F199,2016,$I199,1,$H199,$G199*$H199,Options!$B$8)))","v":32.617901963900003},{"$f":"IF(AND(OR($E$2=\"Orkney Health Board\",$E$2=\"Orkney Islands Local Authority\"),$F199=1),0,IF(AND(OR($E$2=\"Shetland Health Board\",$E$2=\"Western Isles Health Board\",$E$2=\"Shetland Islands Local Authority\",$E$2=\"Eilean Siar Local Authority\"),OR($F199=1,$F199=5)),0,new_ci(VALUE(LEFT(Options!$B$14,2)),$C199,$E199,$F199,2016,$I199+$J199,1,$H199,$G199*$H199,Options!$B$8)))","v":32.568594509100002},{"$f":"IF(AND(OR($E$2=\"Orkney Health Board\",$E$2=\"Orkney Islands Local Authority\"),$F199=1),0,IF(AND(OR($E$2=\"Shetland Health Board\",$E$2=\"Western Isles Health Board\",$E$2=\"Shetland Islands Local Authority\",$E$2=\"Eilean Siar Local Authority\"),OR($F199=1,$F199=5)),0,new_yllv2(VALUE(LEFT(Options!$B$14,2)),$C199,$D199,$E199,$F199,2016,$I199,1,$H199,$G199*$H199,Options!$B$8)))","v":1470.4149552967999},{"$f":"IF(AND(OR($E$2=\"Orkney Health Board\",$E$2=\"Orkney Islands Local Authority\"),$F199=1),0,IF(AND(OR($E$2=\"Shetland Health Board\",$E$2=\"Western Isles Health Board\",$E$2=\"Shetland Islands Local Authority\",$E$2=\"Eilean Siar Local Authority\"),OR($F199=1,$F199=5)),0,new_yllv2(VALUE(LEFT(Options!$B$14,2)),$C199,$D199,$E199,$F199,2016,$I199+$J199,1,$H199,$G199*$H199,Options!$B$8)))","v":1468.192175333},{"$f":"IF(AND(OR($E$2=\"Orkney Health Board\",$E$2=\"Orkney Islands Local Authority\"),$F199=1),0,IF(AND(OR($E$2=\"Shetland Health Board\",$E$2=\"Western Isles Health Board\",$E$2=\"Shetland Islands Local Authority\",$E$2=\"Eilean Siar Local Authority\"),OR($F199=1,$F199=5)),0,hosp_count(VALUE(LEFT(Options!$B$14,2)),$C199,$E199,$F199,2016,$I199,1,$H199,$G199*$H199, Options!$B$8)))","v":3228.8860305809999},{"$f":"IF(AND(OR($E$2=\"Orkney Health Board\",$E$2=\"Orkney Islands Local Authority\"),$F199=1),0,IF(AND(OR($E$2=\"Shetland Health Board\",$E$2=\"Western Isles Health Board\",$E$2=\"Shetland Islands Local Authority\",$E$2=\"Eilean Siar Local Authority\"),OR($F199=1,$F199=5)),0,hosp_count(VALUE(LEFT(Options!$B$14,2)),$C199,$E199,$F199,2016,$I199+$J199,1,$H199,$G199*$H199, Options!$B$8)))","v":3225.7680664864001},{"$f":"IF(AND(OR($E$2=\"Orkney Health Board\",$E$2=\"Orkney Islands Local Authority\"),$F199=1),0,IF(AND(OR($E$2=\"Shetland Health Board\",$E$2=\"Western Isles Health Board\",$E$2=\"Shetland Islands Local Authority\",$E$2=\"Eilean Siar Local Authority\"),OR($F199=1,$F199=5)),0,prem_mort(VALUE(LEFT(Options!$B$14,2)),$C199,$E199,$F199,2016,$I199,1,$H199,$G199*$H199,Options!$B$8)))","v":32.617901963900003},{"$f":"IF(AND(OR($E$2=\"Orkney Health Board\",$E$2=\"Orkney Islands Local Authority\"),$F199=1),0,IF(AND(OR($E$2=\"Shetland Health Board\",$E$2=\"Western Isles Health Board\",$E$2=\"Shetland Islands Local Authority\",$E$2=\"Eilean Siar Local Authority\"),OR($F199=1,$F199=5)),0,prem_mort(VALUE(LEFT(Options!$B$14,2)),$C199,$E199,$F199,2016,$I199+$J199,1,$H199,$G199*$H199,Options!$B$8)))","v":32.568594509100002},100.84060459995054,100.68816703487295,4545.8942536845352,4539.0223685556175,9982.3348499999993,9972.6954383429184,100.84060459995054,100.68816703487295,655463.92989967845,654473.08572667418,29548312.648949478,29503645.395611513,64885176.524999999,64822520.349228971,655463.92989967845,654473.08572667418,6500]
[null,"Male 35-39",36.926009999999998,78.336009999999987,"male",4,{"$f":"HLOOKUP($E$2,'Prevalence Rates'!$C$3:$BC$249,'Prevalence Rates'!$BD200,FALSE)","v":0.20830000000000001},{"$f":"HLOOKUP($E$2,'Population 2016'!$C$3:$BC$249,'Population 2016'!BD200,FALSE)","v":32021},0,{"$f":"ROUND(0.807*(HLOOKUP($E$2,'Population at Risk'!$C$3:$BC$249,'Population at Risk'!$BD200,FALSE)),0)","v":5383},{"$f":"IF(AND(OR($E$2=\"Orkney Health Board\",$E$2=\"Orkney Islands Local Authority\"),$F200=1),0,IF(AND(OR($E$2=\"Shetland Health Board\",$E$2=\"Western Isles Health Board\",$E$2=\"Shetland Islands Local Authority\",$E$2=\"Eilean Siar Local Authority\"),OR($F200=1,$F200=5)),0,new_ci(VALUE(LEFT(Options!$B$14,2)),$C200,$E200,$F200,2016,$I200,1,$H200,$G200*$H200,Options!$B$8)))","v":46.890394556499999},{"$f":"IF(AND(OR($E$2=\"Orkney Health Board\",$E$2=\"Orkney Islands Local Authority\"),$F200=1),0,IF(AND(OR($E$2=\"Shetland Health Board\",$E$2=\"Western Isles Health Board\",$E$2=\"Shetland Islands Local Authority\",$E$2=\"Eilean Siar Local Authority\"),OR($F200=1,$F200=5)),0,new_ci(VALUE(LEFT(Options!$B$14,2)),$C200,$E200,$F200,2016,$I200+$J200,1,$H200,$G200*$H200,Options!$B$8)))","v":46.826653376899998},{"$f":"IF(AND(OR($E$2=\"Orkney Health Board\",$E$2=\"Orkney Islands Local Authority\"),$F200=1),0,IF(AND(OR($E$2=\"Shetland Health Board\",$E$2=\"Western Isles Health Board\",$E$2=\"Shetland Islands Local Authority\",$E$2=\"Eilean Siar Local Authority\"),OR($F200=1,$F200=5)),0,new_yllv2(VALUE(LEFT(Options!$B$14,2)),$C200,$D200,$E200,$F200,2016,$I200,1,$H200,$G200*$H200,Options!$B$8)))","v":1894.8408440282001},{"$f":"IF(AND(OR($E$2=\"Orkney Health Board\",$E$2=\"Orkney Islands Local Authority\"),$F200=1),0,IF(AND(OR($E$2=\"Shetland Health Board\",$E$2=\"Western Isles Health Board\",$E$2=\"Shetland Islands Local Authority\",$E$2=\"Eilean Siar Local Authority\"),OR($F200=1,$F200=5)),0,new_yllv2(VALUE(LEFT(Options!$B$14,2)),$C200,$D200,$E200,$F200,2016,$I200+$J200,1,$H200,$G200*$H200,Options!$B$8)))","v":1892.2650629605},{"$f":"IF(AND(OR($E$2=\"Orkney Health Board\",$E$2=\"Orkney Islands Local Authority\"),$F200=1),0,IF(AND(OR($E$2=\"Shetland Health Board\",$E$2=\"Western Isles Health Board\",$E$2=\"Shetland Islands Local Authority\",$E$2=\"Eilean Siar Local Authority\"),OR($F200=1,$F200=5)),0,hosp_count(VALUE(LEFT(Options!$B$14,2)),$C200,$E200,$F200,2016,$I200,1,$H200,$G200*$H200, Options!$B$8)))","v":3809.6765630297},{"$f":"IF(AND(OR($E$2=\"Orkney Health Board\",$E$2=\"Orkney Islands Local Authority\"),$F200=1),0,IF(AND(OR($E$2=\"Shetland Health Board\",$E$2=\"Western Isles Health Board\",$E$2=\"Shetland Islands Local Authority\",$E$2=\"Eilean Siar Local Authority\"),OR($F200=1,$F200=5)),0,hosp_count(VALUE(LEFT(Options!$B$14,2)),$C200,$E200,$F200,2016,$I200+$J200,1,$H200,$G200*$H200, Options!$B$8)))","v":3806.3961240402},{"$f":"IF(AND(OR($E$2=\"Orkney Health Board\",$E$2=\"Orkney Islands Local Authority\"),$F200=1),0,IF(AND(OR($E$2=\"Shetland Health Board\",$E$2=\"Western Isles Health Board\",$E$2=\"Shetland Islands Local Authority\",$E$2=\"Eilean Siar Local Authority\"),OR($F200=1,$F200=5)),0,prem_mort(VALUE(LEFT(Options!$B$14,2)),$C200,$E200,$F200,2016,$I200,1,$H200,$G200*$H200,Options!$B$8)))","v":46.890394556499999},{"$f":"IF(AND(OR($E$2=\"Orkney Health Board\",$E$2=\"Orkney Islands Local Authority\"),$F200=1),0,IF(AND(OR($E$2=\"Shetland Health Board\",$E$2=\"Western Isles Health Board\",$E$2=\"Shetland Islands Local Authority\",$E$2=\"Eilean Siar Local Authority\"),OR($F200=1,$F200=5)),0,prem_mort(VALUE(LEFT(Options!$B$14,2)),$C200,$E200,$F200,2016,$I200+$J200,1,$H200,$G200*$H200,Options!$B$8)))","v":46.826653376899998},146.43638411198901,146.23732355922675,5917.4942819655853,5909.4502450282635,11897.431570000001,11887.186921208582,146.43638411198901,146.23732355922675,1025054.688783923,1023661.2649145873,41422459.9737591,41366151.715197846,83282020.99000001,83210308.448460072,1025054.688783923,1023661.2649145873,7000]
[null,"Male 40-44",42.067703000000002,78.907700000000006,"male",4,{"$f":"HLOOKUP($E$2,'Prevalence Rates'!$C$3:$BC$249,'Prevalence Rates'!$BD201,FALSE)","v":0.20830000000000001},{"$f":"HLOOKUP($E$2,'Population 2016'!$C$3:$BC$249,'Population 2016'!BD201,FALSE)","v":34348},0,{"$f":"ROUND(0.807*(HLOOKUP($E$2,'Population at Risk'!$C$3:$BC$249,'Population at Risk'!$BD201,FALSE)),0)","v":5774},{"$f":"IF(AND(OR($E$2=\"Orkney Health Board\",$E$2=\"Orkney Islands Local Authority\"),$F201=1),0,IF(AND(OR($E$2=\"Shetland Health Board\",$E$2=\"Western Isles Health Board\",$E$2=\"Shetland Islands Local Authority\",$E$2=\"Eilean Siar Local Authority\"),OR($F201=1,$F201=5)),0,new_ci(VALUE(LEFT(Options!$B$14,2)),$C201,$E201,$F201,2016,$I201,1,$H201,$G201*$H201,Options!$B$8)))","v":74.126306714600005},{"$f":"IF(AND(OR($E$2=\"Orkney Health Board\",$E$2=\"Orkney Islands Local Authority\"),$F201=1),0,IF(AND(OR($E$2=\"Shetland Health Board\",$E$2=\"Western Isles Health Board\",$E$2=\"Shetland Islands Local Authority\",$E$2=\"Eilean Siar Local Authority\"),OR($F201=1,$F201=5)),0,new_ci(VALUE(LEFT(Options!$B$14,2)),$C201,$E201,$F201,2016,$I201+$J201,1,$H201,$G201*$H201,Options!$B$8)))","v":74.025619702599997},{"$f":"IF(AND(OR($E$2=\"Orkney Health Board\",$E$2=\"Orkney Islands Local Authority\"),$F201=1),0,IF(AND(OR($E$2=\"Shetland Health Board\",$E$2=\"Western Isles Health Board\",$E$2=\"Shetland Islands Local Authority\",$E$2=\"Eilean Siar Local Authority\"),OR($F201=1,$F201=5)),0,new_yllv2(VALUE(LEFT(Options!$B$14,2)),$C201,$D201,$E201,$F201,2016,$I201,1,$H201,$G201*$H201,Options!$B$8)))","v":2656.6866102723002},{"$f":"IF(AND(OR($E$2=\"Orkney Health Board\",$E$2=\"Orkney Islands Local Authority\"),$F201=1),0,IF(AND(OR($E$2=\"Shetland Health Board\",$E$2=\"Western Isles Health Board\",$E$2=\"Shetland Islands Local Authority\",$E$2=\"Eilean Siar Local Authority\"),OR($F201=1,$F201=5)),0,new_yllv2(VALUE(LEFT(Options!$B$14,2)),$C201,$D201,$E201,$F201,2016,$I201+$J201,1,$H201,$G201*$H201,Options!$B$8)))","v":2653.0779880642999},{"$f":"IF(AND(OR($E$2=\"Orkney Health Board\",$E$2=\"Orkney Islands Local Authority\"),$F201=1),0,IF(AND(OR($E$2=\"Shetland Health Board\",$E$2=\"Western Isles Health Board\",$E$2=\"Shetland Islands Local Authority\",$E$2=\"Eilean Siar Local Authority\"),OR($F201=1,$F201=5)),0,hosp_count(VALUE(LEFT(Options!$B$14,2)),$C201,$E201,$F201,2016,$I201,1,$H201,$G201*$H201, Options!$B$8)))","v":4904.7371514212},{"$f":"IF(AND(OR($E$2=\"Orkney Health Board\",$E$2=\"Orkney Islands Local Authority\"),$F201=1),0,IF(AND(OR($E$2=\"Shetland Health Board\",$E$2=\"Western Isles Health Board\",$E$2=\"Shetland Islands Local Authority\",$E$2=\"Eilean Siar Local Authority\"),OR($F201=1,$F201=5)),0,hosp_count(VALUE(LEFT(Options!$B$14,2)),$C201,$E201,$F201,2016,$I201+$J201,1,$H201,$G201*$H201, Options!$B$8)))","v":4900.5139149836996},{"$f":"IF(AND(OR($E$2=\"Orkney Health Board\",$E$2=\"Orkney Islands Local Authority\"),$F201=1),0,IF(AND(OR($E$2=\"Shetland Health Board\",$E$2=\"Western Isles Health Board\",$E$2=\"Shetland Islands Local Authority\",$E$2=\"Eilean Siar Local Authority\"),OR($F201=1,$F201=5)),0,prem_mort(VALUE(LEFT(Options!$B$14,2)),$C201,$E201,$F201,2016,$I201,1,$H201,$G201*$H201,Options!$B$8)))","v":74.126306714600005},{"$f":"IF(AND(OR($E$2=\"Orkney Health Board\",$E$2=\"Orkney Islands Local Authority\"),$F201=1),0,IF(AND(OR($E$2=\"Shetland Health Board\",$E$2=\"Western Isles Health Board\",$E$2=\"Shetland Islands Local Authority\",$E$2=\"Eilean Siar Local Authority\"),OR($F201=1,$F201=5)),0,prem_mort(VALUE(LEFT(Options!$B$14,2)),$C201,$E201,$F201,2016,$I201+$J201,1,$H201,$G201*$H201,Options!$B$8)))","v":74.025619702599997},215.80967367707001,215.51653575928728,7734.6180571570403,7724.1119950631764,14279.54219,14267.246753766447,215.80967367707001,215.51653575928728,1510667.71573949,1508615.750315011,54142326.400099285,54068783.965442233,99956795.329999998,99870727.276365131,1510667.71573949,1508615.750315011,7000]
[null,"Male 45-49",47.038155000000003,79.418149999999997,"male",4,{"$f":"HLOOKUP($E$2,'Prevalence Rates'!$C$3:$BC$249,'Prevalence Rates'!$BD202,FALSE)","v":0.2069},{"$f":"HLOOKUP($E$2,'Population 2016'!$C$3:$BC$249,'Population 2016'!BD202,FALSE)","v":39846},0,{"$f":"ROUND(0.807*(HLOOKUP($E$2,'Population at Risk'!$C$3:$BC$249,'Population at Risk'!$BD202,FALSE)),0)","v":6653},{"$f":"IF(AND(OR($E$2=\"Orkney Health Board\",$E$2=\"Orkney Islands Local Authority\"),$F202=1),0,IF(AND(OR($E$2=\"Shetland Health Board\",$E$2=\"Western Isles Health Board\",$E$2=\"Shetland Islands Local Authority\",$E$2=\"Eilean Siar Local Authority\"),OR($F202=1,$F202=5)),0,new_ci(VALUE(LEFT(Options!$B$14,2)),$C202,$E202,$F202,2016,$I202,1,$H202,$G202*$H202,Options!$B$8)))","v":125.0818977317},{"$f":"IF(AND(OR($E$2=\"Orkney Health Board\",$E$2=\"Orkney Islands Local Authority\"),$F202=1),0,IF(AND(OR($E$2=\"Shetland Health Board\",$E$2=\"Western Isles Health Board\",$E$2=\"Shetland Islands Local Authority\",$E$2=\"Eilean Siar Local Authority\"),OR($F202=1,$F202=5)),0,new_ci(VALUE(LEFT(Options!$B$14,2)),$C202,$E202,$F202,2016,$I202+$J202,1,$H202,$G202*$H202,Options!$B$8)))","v":124.9131403949},{"$f":"IF(AND(OR($E$2=\"Orkney Health Board\",$E$2=\"Orkney Islands Local Authority\"),$F202=1),0,IF(AND(OR($E$2=\"Shetland Health Board\",$E$2=\"Western Isles Health Board\",$E$2=\"Shetland Islands Local Authority\",$E$2=\"Eilean Siar Local Authority\"),OR($F202=1,$F202=5)),0,new_yllv2(VALUE(LEFT(Options!$B$14,2)),$C202,$D202,$E202,$F202,2016,$I202,1,$H202,$G202*$H202,Options!$B$8)))","v":3925.0693254112998},{"$f":"IF(AND(OR($E$2=\"Orkney Health Board\",$E$2=\"Orkney Islands Local Authority\"),$F202=1),0,IF(AND(OR($E$2=\"Shetland Health Board\",$E$2=\"Western Isles Health Board\",$E$2=\"Shetland Islands Local Authority\",$E$2=\"Eilean Siar Local Authority\"),OR($F202=1,$F202=5)),0,new_yllv2(VALUE(LEFT(Options!$B$14,2)),$C202,$D202,$E202,$F202,2016,$I202+$J202,1,$H202,$G202*$H202,Options!$B$8)))","v":3919.7737210262999},{"$f":"IF(AND(OR($E$2=\"Orkney Health Board\",$E$2=\"Orkney Islands Local Authority\"),$F202=1),0,IF(AND(OR($E$2=\"Shetland Health Board\",$E$2=\"Western Isles Health Board\",$E$2=\"Shetland Islands Local Authority\",$E$2=\"Eilean Siar Local Authority\"),OR($F202=1,$F202=5)),0,hosp_count(VALUE(LEFT(Options!$B$14,2)),$C202,$E202,$F202,2016,$I202,1,$H202,$G202*$H202, Options!$B$8)))","v":6787.6640703324001},{"$f":"IF(AND(OR($E$2=\"Orkney Health Board\",$E$2=\"Orkney Islands Local Authority\"),$F202=1),0,IF(AND(OR($E$2=\"Shetland Health Board\",$E$2=\"Western Isles Health Board\",$E$2=\"Shetland Islands Local Authority\",$E$2=\"Eilean Siar Local Authority\"),OR($F202=1,$F202=5)),0,hosp_count(VALUE(LEFT(Options!$B$14,2)),$C202,$E202,$F202,2016,$I202+$J202,1,$H202,$G202*$H202, Options!$B$8)))","v":6781.8554515959004},{"$f":"IF(AND(OR($E$2=\"Orkney Health Board\",$E$2=\"Orkney Islands Local Authority\"),$F202=1),0,IF(AND(OR($E$2=\"Shetland Health Board\",$E$2=\"Western Isles Health Board\",$E$2=\"Shetland Islands Local Authority\",$E$2=\"Eilean Siar Local Authority\"),OR($F202=1,$F202=5)),0,prem_mort(VALUE(LEFT(Options!$B$14,2)),$C202,$E202,$F202,2016,$I202,1,$H202,$G202*$H202,Options!$B$8)))","v":125.0818977317},{"$f":"IF(AND(OR($E$2=\"Orkney Health Board\",$E$2=\"Orkney Islands Local Authority\"),$F202=1),0,IF(AND(OR($E$2=\"Shetland Health Board\",$E$2=\"Western Isles Health Board\",$E$2=\"Shetland Islands Local Authority\",$E$2=\"Eilean Siar Local Authority\"),OR($F202=1,$F202=5)),0,prem_mort(VALUE(LEFT(Options!$B$14,2)),$C202,$E202,$F202,2016,$I202+$J202,1,$H202,$G202*$H202,Options!$B$8)))","v":124.9131403949},313.91331057496359,313.48978666591375,9850.5981162759126,9837.3079381275402,17034.74394,17020.166269125886,313.91331057496359,313.48978666591375,2197393.1740247449,2194428.5066613965,68954186.813931391,68861155.566892788,119243207.58,119141163.8838812,2197393.1740247449,2194428.5066613965,7000]
[null,"Male 50-54",51.998646000000001,79.988649999999993,"male",4,{"$f":"HLOOKUP($E$2,'Prevalence Rates'!$C$3:$BC$249,'Prevalence Rates'!$BD203,FALSE)","v":0.2069},{"$f":"HLOOKUP($E$2,'Population 2016'!$C$3:$BC$249,'Population 2016'!BD203,FALSE)","v":42258},0,{"$f":"ROUND(0.807*(HLOOKUP($E$2,'Population at Risk'!$C$3:$BC$249,'Population at Risk'!$BD203,FALSE)),0)","v":7056},{"$f":"IF(AND(OR($E$2=\"Orkney Health Board\",$E$2=\"Orkney Islands Local Authority\"),$F203=1),0,IF(AND(OR($E$2=\"Shetland Health Board\",$E$2=\"Western Isles Health Board\",$E$2=\"Shetland Islands Local Authority\",$E$2=\"Eilean Siar Local Authority\"),OR($F203=1,$F203=5)),0,new_ci(VALUE(LEFT(Options!$B$14,2)),$C203,$E203,$F203,2016,$I203,1,$H203,$G203*$H203,Options!$B$8)))","v":192.763713395},{"$f":"IF(AND(OR($E$2=\"Orkney Health Board\",$E$2=\"Orkney Islands Local Authority\"),$F203=1),0,IF(AND(OR($E$2=\"Shetland Health Board\",$E$2=\"Western Isles Health Board\",$E$2=\"Shetland Islands Local Authority\",$E$2=\"Eilean Siar Local Authority\"),OR($F203=1,$F203=5)),0,new_ci(VALUE(LEFT(Options!$B$14,2)),$C203,$E203,$F203,2016,$I203+$J203,1,$H203,$G203*$H203,Options!$B$8)))","v":192.50402084300001},{"$f":"IF(AND(OR($E$2=\"Orkney Health Board\",$E$2=\"Orkney Islands Local Authority\"),$F203=1),0,IF(AND(OR($E$2=\"Shetland Health Board\",$E$2=\"Western Isles Health Board\",$E$2=\"Shetland Islands Local Authority\",$E$2=\"Eilean Siar Local Authority\"),OR($F203=1,$F203=5)),0,new_yllv2(VALUE(LEFT(Options!$B$14,2)),$C203,$D203,$E203,$F203,2016,$I203,1,$H203,$G203*$H203,Options!$B$8)))","v":5202.6933955859004},{"$f":"IF(AND(OR($E$2=\"Orkney Health Board\",$E$2=\"Orkney Islands Local Authority\"),$F203=1),0,IF(AND(OR($E$2=\"Shetland Health Board\",$E$2=\"Western Isles Health Board\",$E$2=\"Shetland Islands Local Authority\",$E$2=\"Eilean Siar Local Authority\"),OR($F203=1,$F203=5)),0,new_yllv2(VALUE(LEFT(Options!$B$14,2)),$C203,$D203,$E203,$F203,2016,$I203+$J203,1,$H203,$G203*$H203,Options!$B$8)))","v":5195.6842925686997},{"$f":"IF(AND(OR($E$2=\"Orkney Health Board\",$E$2=\"Orkney Islands Local Authority\"),$F203=1),0,IF(AND(OR($E$2=\"Shetland Health Board\",$E$2=\"Western Isles Health Board\",$E$2=\"Shetland Islands Local Authority\",$E$2=\"Eilean Siar Local Authority\"),OR($F203=1,$F203=5)),0,hosp_count(VALUE(LEFT(Options!$B$14,2)),$C203,$E203,$F203,2016,$I203,1,$H203,$G203*$H203, Options!$B$8)))","v":8584.4469732443995},{"$f":"IF(AND(OR($E$2=\"Orkney Health Board\",$E$2=\"Orkney Islands Local Authority\"),$F203=1),0,IF(AND(OR($E$2=\"Shetland Health Board\",$E$2=\"Western Isles Health Board\",$E$2=\"Shetland Islands Local Authority\",$E$2=\"Eilean Siar Local Authority\"),OR($F203=1,$F203=5)),0,hosp_count(VALUE(LEFT(Options!$B$14,2)),$C203,$E203,$F203,2016,$I203+$J203,1,$H203,$G203*$H203, Options!$B$8)))","v":8577.1004526858997},{"$f":"IF(AND(OR($E$2=\"Orkney Health Board\",$E$2=\"Orkney Islands Local Authority\"),$F203=1),0,IF(AND(OR($E$2=\"Shetland Health Board\",$E$2=\"Western Isles Health Board\",$E$2=\"Shetland Islands Local Authority\",$E$2=\"Eilean Siar Local Authority\"),OR($F203=1,$F203=5)),0,prem_mort(VALUE(LEFT(Options!$B$14,2)),$C203,$E203,$F203,2016,$I203,1,$H203,$G203*$H203,Options!$B$8)))","v":192.763713395},{"$f":"IF(AND(OR($E$2=\"Orkney Health Board\",$E$2=\"Orkney Islands Local Authority\"),$F203=1),0,IF(AND(OR($E$2=\"Shetland Health Board\",$E$2=\"Western Isles Health Board\",$E$2=\"Shetland Islands Local Authority\",$E$2=\"Eilean Siar Local Authority\"),OR($F203=1,$F203=5)),0,prem_mort(VALUE(LEFT(Options!$B$14,2)),$C203,$E203,$F203,2016,$I203+$J203,1,$H203,$G203*$H203,Options!$B$8)))","v":192.50402084300001},456.15910217000328,455.54456160490321,12311.735992204791,12295.149539894694,20314.371179999998,20296.986257480003,456.15910217000328,455.54456160490321,3193113.7151900232,3188811.9312343225,86182151.945433542,86066046.779262856,142200598.25999999,142078903.80236003,3193113.7151900232,3188811.9312343225,7000]
[null,"Male 55-59",56.950867000000002,80.660870000000003,"male",4,{"$f":"HLOOKUP($E$2,'Prevalence Rates'!$C$3:$BC$249,'Prevalence Rates'!$BD204,FALSE)","v":0.14940000000000001},{"$f":"HLOOKUP($E$2,'Population 2016'!$C$3:$BC$249,'Population 2016'!BD204,FALSE)","v":38483},0,{"$f":"ROUND(0.807*(HLOOKUP($E$2,'Population at Risk'!$C$3:$BC$249,'Population at Risk'!$BD204,FALSE)),0)","v":4640},{"$f":"IF(AND(OR($E$2=\"Orkney Health Board\",$E$2=\"Orkney Islands Local Authority\"),$F204=1),0,IF(AND(OR($E$2=\"Shetland Health Board\",$E$2=\"Western Isles Health Board\",$E$2=\"Shetland Islands Local Authority\",$E$2=\"Eilean Siar Local Authority\"),OR($F204=1,$F204=5)),0,new_ci(VALUE(LEFT(Options!$B$14,2)),$C204,$E204,$F204,2016,$I204,1,$H204,$G204*$H204,Options!$B$8)))","v":254.8523852811},{"$f":"IF(AND(OR($E$2=\"Orkney Health Board\",$E$2=\"Orkney Islands Local Authority\"),$F204=1),0,IF(AND(OR($E$2=\"Shetland Health Board\",$E$2=\"Western Isles Health Board\",$E$2=\"Shetland Islands Local Authority\",$E$2=\"Eilean Siar Local Authority\"),OR($F204=1,$F204=5)),0,new_ci(VALUE(LEFT(Options!$B$14,2)),$C204,$E204,$F204,2016,$I204+$J204,1,$H204,$G204*$H204,Options!$B$8)))","v":254.59385144110001},{"$f":"IF(AND(OR($E$2=\"Orkney Health Board\",$E$2=\"Orkney Islands Local Authority\"),$F204=1),0,IF(AND(OR($E$2=\"Shetland Health Board\",$E$2=\"Western Isles Health Board\",$E$2=\"Shetland Islands Local Authority\",$E$2=\"Eilean Siar Local Authority\"),OR($F204=1,$F204=5)),0,new_yllv2(VALUE(LEFT(Options!$B$14,2)),$C204,$D204,$E204,$F204,2016,$I204,1,$H204,$G204*$H204,Options!$B$8)))","v":5787.6984342909},{"$f":"IF(AND(OR($E$2=\"Orkney Health Board\",$E$2=\"Orkney Islands Local Authority\"),$F204=1),0,IF(AND(OR($E$2=\"Shetland Health Board\",$E$2=\"Western Isles Health Board\",$E$2=\"Shetland Islands Local Authority\",$E$2=\"Eilean Siar Local Authority\"),OR($F204=1,$F204=5)),0,new_yllv2(VALUE(LEFT(Options!$B$14,2)),$C204,$D204,$E204,$F204,2016,$I204+$J204,1,$H204,$G204*$H204,Options!$B$8)))","v":5781.8271300089},{"$f":"IF(AND(OR($E$2=\"Orkney Health Board\",$E$2=\"Orkney Islands Local Authority\"),$F204=1),0,IF(AND(OR($E$2=\"Shetland Health Board\",$E$2=\"Western Isles Health Board\",$E$2=\"Shetland Islands Local Authority\",$E$2=\"Eilean Siar Local Authority\"),OR($F204=1,$F204=5)),0,hosp_count(VALUE(LEFT(Options!$B$14,2)),$C204,$E204,$F204,2016,$I204,1,$H204,$G204*$H204, Options!$B$8)))","v":9319.9287622851007},{"$f":"IF(AND(OR($E$2=\"Orkney Health Board\",$E$2=\"Orkney Islands Local Authority\"),$F204=1),0,IF(AND(OR($E$2=\"Shetland Health Board\",$E$2=\"Western Isles Health Board\",$E$2=\"Shetland Islands Local Authority\",$E$2=\"Eilean Siar Local Authority\"),OR($F204=1,$F204=5)),0,hosp_count(VALUE(LEFT(Options!$B$14,2)),$C204,$E204,$F204,2016,$I204+$J204,1,$H204,$G204*$H204, Options!$B$8)))","v":9314.0209827473009},{"$f":"IF(AND(OR($E$2=\"Orkney Health Board\",$E$2=\"Orkney Islands Local Authority\"),$F204=1),0,IF(AND(OR($E$2=\"Shetland Health Board\",$E$2=\"Western Isles Health Board\",$E$2=\"Shetland Islands Local Authority\",$E$2=\"Eilean Siar Local Authority\"),OR($F204=1,$F204=5)),0,prem_mort(VALUE(LEFT(Options!$B$14,2)),$C204,$E204,$F204,2016,$I204,1,$H204,$G204*$H204,Options!$B$8)))","v":254.8523852811},{"$f":"IF(AND(OR($E$2=\"Orkney Health Board\",$E$2=\"Orkney Islands Local Authority\"),$F204=1),0,IF(AND(OR($E$2=\"Shetland Health Board\",$E$2=\"Western Isles Health Board\",$E$2=\"Shetland Islands Local Authority\",$E$2=\"Eilean Siar Local Authority\"),OR($F204=1,$F204=5)),0,prem_mort(VALUE(LEFT(Options!$B$14,2)),$C204,$E204,$F204,2016,$I204+$J204,1,$H204,$G204*$H204,Options!$B$8)))","v":254.59385144110001},662.24666809006578,661.57485497778248,15039.623819065302,15024.366941269911,24218.30097,24202.949309428321,662.24666809006578,661.57485497778248,4304603.3425854277,4300236.5573555864,97757554.823924467,97658385.118254423,157418956.30500001,157319170.51128408,4304603.3425854277,4300236.5573555864,6500]
[null,"Male 60-64",61.942988999999997,81.612989999999996,"male",4,{"$f":"HLOOKUP($E$2,'Prevalence Rates'!$C$3:$BC$249,'Prevalence Rates'!$BD205,FALSE)","v":0.14940000000000001},{"$f":"HLOOKUP($E$2,'Population 2016'!$C$3:$BC$249,'Population 2016'!BD205,FALSE)","v":33820},0,{"$f":"ROUND(0.807*(HLOOKUP($E$2,'Population at Risk'!$C$3:$BC$249,'Population at Risk'!$BD205,FALSE)),0)","v":4078},{"$f":"IF(AND(OR($E$2=\"Orkney Health Board\",$E$2=\"Orkney Islands Local Authority\"),$F205=1),0,IF(AND(OR($E$2=\"Shetland Health Board\",$E$2=\"Western Isles Health Board\",$E$2=\"Shetland Islands Local Authority\",$E$2=\"Eilean Siar Local Authority\"),OR($F205=1,$F205=5)),0,new_ci(VALUE(LEFT(Options!$B$14,2)),$C205,$E205,$F205,2016,$I205,1,$H205,$G205*$H205,Options!$B$8)))","v":325.9599783187},{"$f":"IF(AND(OR($E$2=\"Orkney Health Board\",$E$2=\"Orkney Islands Local Authority\"),$F205=1),0,IF(AND(OR($E$2=\"Shetland Health Board\",$E$2=\"Western Isles Health Board\",$E$2=\"Shetland Islands Local Authority\",$E$2=\"Eilean Siar Local Authority\"),OR($F205=1,$F205=5)),0,new_ci(VALUE(LEFT(Options!$B$14,2)),$C205,$E205,$F205,2016,$I205+$J205,1,$H205,$G205*$H205,Options!$B$8)))","v":325.63042739050002},{"$f":"IF(AND(OR($E$2=\"Orkney Health Board\",$E$2=\"Orkney Islands Local Authority\"),$F205=1),0,IF(AND(OR($E$2=\"Shetland Health Board\",$E$2=\"Western Isles Health Board\",$E$2=\"Shetland Islands Local Authority\",$E$2=\"Eilean Siar Local Authority\"),OR($F205=1,$F205=5)),0,new_yllv2(VALUE(LEFT(Options!$B$14,2)),$C205,$D205,$E205,$F205,2016,$I205,1,$H205,$G205*$H205,Options!$B$8)))","v":6085.6731211700999},{"$f":"IF(AND(OR($E$2=\"Orkney Health Board\",$E$2=\"Orkney Islands Local Authority\"),$F205=1),0,IF(AND(OR($E$2=\"Shetland Health Board\",$E$2=\"Western Isles Health Board\",$E$2=\"Shetland Islands Local Authority\",$E$2=\"Eilean Siar Local Authority\"),OR($F205=1,$F205=5)),0,new_yllv2(VALUE(LEFT(Options!$B$14,2)),$C205,$D205,$E205,$F205,2016,$I205+$J205,1,$H205,$G205*$H205,Options!$B$8)))","v":6079.5204050110997},{"$f":"IF(AND(OR($E$2=\"Orkney Health Board\",$E$2=\"Orkney Islands Local Authority\"),$F205=1),0,IF(AND(OR($E$2=\"Shetland Health Board\",$E$2=\"Western Isles Health Board\",$E$2=\"Shetland Islands Local Authority\",$E$2=\"Eilean Siar Local Authority\"),OR($F205=1,$F205=5)),0,hosp_count(VALUE(LEFT(Options!$B$14,2)),$C205,$E205,$F205,2016,$I205,1,$H205,$G205*$H205, Options!$B$8)))","v":9778.5092826239998},{"$f":"IF(AND(OR($E$2=\"Orkney Health Board\",$E$2=\"Orkney Islands Local Authority\"),$F205=1),0,IF(AND(OR($E$2=\"Shetland Health Board\",$E$2=\"Western Isles Health Board\",$E$2=\"Shetland Islands Local Authority\",$E$2=\"Eilean Siar Local Authority\"),OR($F205=1,$F205=5)),0,hosp_count(VALUE(LEFT(Options!$B$14,2)),$C205,$E205,$F205,2016,$I205+$J205,1,$H205,$G205*$H205, Options!$B$8)))","v":9772.3104646364009},{"$f":"IF(AND(OR($E$2=\"Orkney Health Board\",$E$2=\"Orkney Islands Local Authority\"),$F205=1),0,IF(AND(OR($E$2=\"Shetland Health Board\",$E$2=\"Western Isles Health Board\",$E$2=\"Shetland Islands Local Authority\",$E$2=\"Eilean Siar Local Authority\"),OR($F205=1,$F205=5)),0,prem_mort(VALUE(LEFT(Options!$B$14,2)),$C205,$E205,$F205,2016,$I205,1,$H205,$G205*$H205,Options!$B$8)))","v":325.9599783187},{"$f":"IF(AND(OR($E$2=\"Orkney Health Board\",$E$2=\"Orkney Islands Local Authority\"),$F205=1),0,IF(AND(OR($E$2=\"Shetland Health Board\",$E$2=\"Western Isles Health Board\",$E$2=\"Shetland Islands Local Authority\",$E$2=\"Eilean Siar Local Authority\"),OR($F205=1,$F205=5)),0,prem_mort(VALUE(LEFT(Options!$B$14,2)),$C205,$E205,$F205,2016,$I205+$J205,1,$H205,$G205*$H205,Options!$B$8)))","v":325.63042739050002},963.80833329006509,962.83390712743937,17994.302546333827,17976.11000890331,28913.392320000003,28895.063467286815,963.80833329006509,962.83390712743937,5782849.9997403901,5777003.4427646361,107965815.27800296,107856660.05341986,173480353.92000002,173370380.80372089,5782849.9997403901,5777003.4427646361,6000]
[null,"Male 65-69",67.054419999999993,82.954419999999999,"male",4,{"$f":"HLOOKUP($E$2,'Prevalence Rates'!$C$3:$BC$249,'Prevalence Rates'!$BD206,FALSE)","v":0.11320000000000001},{"$f":"HLOOKUP($E$2,'Population 2016'!$C$3:$BC$249,'Population 2016'!BD206,FALSE)","v":33114},0,{"$f":"ROUND(0.807*(HLOOKUP($E$2,'Population at Risk'!$C$3:$BC$249,'Population at Risk'!$BD206,FALSE)),0)","v":3025},{"$f":"IF(AND(OR($E$2=\"Orkney Health Board\",$E$2=\"Orkney Islands Local Authority\"),$F206=1),0,IF(AND(OR($E$2=\"Shetland Health Board\",$E$2=\"Western Isles Health Board\",$E$2=\"Shetland Islands Local Authority\",$E$2=\"Eilean Siar Local Authority\"),OR($F206=1,$F206=5)),0,new_ci(VALUE(LEFT(Options!$B$14,2)),$C206,$E206,$F206,2016,$I206,1,$H206,$G206*$H206,Options!$B$8)))","v":468.34976528689998},{"$f":"IF(AND(OR($E$2=\"Orkney Health Board\",$E$2=\"Orkney Islands Local Authority\"),$F206=1),0,IF(AND(OR($E$2=\"Shetland Health Board\",$E$2=\"Western Isles Health Board\",$E$2=\"Shetland Islands Local Authority\",$E$2=\"Eilean Siar Local Authority\"),OR($F206=1,$F206=5)),0,new_ci(VALUE(LEFT(Options!$B$14,2)),$C206,$E206,$F206,2016,$I206+$J206,1,$H206,$G206*$H206,Options!$B$8)))","v":467.98262315440002},{"$f":"IF(AND(OR($E$2=\"Orkney Health Board\",$E$2=\"Orkney Islands Local Authority\"),$F206=1),0,IF(AND(OR($E$2=\"Shetland Health Board\",$E$2=\"Western Isles Health Board\",$E$2=\"Shetland Islands Local Authority\",$E$2=\"Eilean Siar Local Authority\"),OR($F206=1,$F206=5)),0,new_yllv2(VALUE(LEFT(Options!$B$14,2)),$C206,$D206,$E206,$F206,2016,$I206,1,$H206,$G206*$H206,Options!$B$8)))","v":6978.4115027748003},{"$f":"IF(AND(OR($E$2=\"Orkney Health Board\",$E$2=\"Orkney Islands Local Authority\"),$F206=1),0,IF(AND(OR($E$2=\"Shetland Health Board\",$E$2=\"Western Isles Health Board\",$E$2=\"Shetland Islands Local Authority\",$E$2=\"Eilean Siar Local Authority\"),OR($F206=1,$F206=5)),0,new_yllv2(VALUE(LEFT(Options!$B$14,2)),$C206,$D206,$E206,$F206,2016,$I206+$J206,1,$H206,$G206*$H206,Options!$B$8)))","v":6972.9410850005997},{"$f":"IF(AND(OR($E$2=\"Orkney Health Board\",$E$2=\"Orkney Islands Local Authority\"),$F206=1),0,IF(AND(OR($E$2=\"Shetland Health Board\",$E$2=\"Western Isles Health Board\",$E$2=\"Shetland Islands Local Authority\",$E$2=\"Eilean Siar Local Authority\"),OR($F206=1,$F206=5)),0,hosp_count(VALUE(LEFT(Options!$B$14,2)),$C206,$E206,$F206,2016,$I206,1,$H206,$G206*$H206, Options!$B$8)))","v":11479.031884186799},{"$f":"IF(AND(OR($E$2=\"Orkney Health Board\",$E$2=\"Orkney Islands Local Authority\"),$F206=1),0,IF(AND(OR($E$2=\"Shetland Health Board\",$E$2=\"Western Isles Health Board\",$E$2=\"Shetland Islands Local Authority\",$E$2=\"Eilean Siar Local Authority\"),OR($F206=1,$F206=5)),0,hosp_count(VALUE(LEFT(Options!$B$14,2)),$C206,$E206,$F206,2016,$I206+$J206,1,$H206,$G206*$H206, Options!$B$8)))","v":11473.4281093639},{"$f":"IF(AND(OR($E$2=\"Orkney Health Board\",$E$2=\"Orkney Islands Local Authority\"),$F206=1),0,IF(AND(OR($E$2=\"Shetland Health Board\",$E$2=\"Western Isles Health Board\",$E$2=\"Shetland Islands Local Authority\",$E$2=\"Eilean Siar Local Authority\"),OR($F206=1,$F206=5)),0,prem_mort(VALUE(LEFT(Options!$B$14,2)),$C206,$E206,$F206,2016,$I206,1,$H206,$G206*$H206,Options!$B$8)))","v":468.34976528689998},{"$f":"IF(AND(OR($E$2=\"Orkney Health Board\",$E$2=\"Orkney Islands Local Authority\"),$F206=1),0,IF(AND(OR($E$2=\"Shetland Health Board\",$E$2=\"Western Isles Health Board\",$E$2=\"Shetland Islands Local Authority\",$E$2=\"Eilean Siar Local Authority\"),OR($F206=1,$F206=5)),0,prem_mort(VALUE(LEFT(Options!$B$14,2)),$C206,$E206,$F206,2016,$I206+$J206,1,$H206,$G206*$H206,Options!$B$8)))","v":467.98262315440002},1414.3557567400494,1413.247034953192,21073.900775426708,21057.380820802682,34665.192620000002,34648.269944325359,1414.3557567400494,1413.247034953192,7778956.6620702716,7772858.6922425563,115906454.26484689,115815594.51441476,190658559.41,190565484.69378948,7778956.6620702716,7772858.6922425563,5500]
[null,"Male 70-74",71.891098,84.341099999999997,"male",4,{"$f":"HLOOKUP($E$2,'Prevalence Rates'!$C$3:$BC$249,'Prevalence Rates'!$BD207,FALSE)","v":0.11320000000000001},{"$f":"HLOOKUP($E$2,'Population 2016'!$C$3:$BC$249,'Population 2016'!BD207,FALSE)","v":24360},0,{"$f":"ROUND(0.807*(HLOOKUP($E$2,'Population at Risk'!$C$3:$BC$249,'Population at Risk'!$BD207,FALSE)),0)","v":2225},{"$f":"IF(AND(OR($E$2=\"Orkney Health Board\",$E$2=\"Orkney Islands Local Authority\"),$F207=1),0,IF(AND(OR($E$2=\"Shetland Health Board\",$E$2=\"Western Isles Health Board\",$E$2=\"Shetland Islands Local Authority\",$E$2=\"Eilean Siar Local Authority\"),OR($F207=1,$F207=5)),0,new_ci(VALUE(LEFT(Options!$B$14,2)),$C207,$E207,$F207,2016,$I207,1,$H207,$G207*$H207,Options!$B$8)))","v":494.73537380400001},{"$f":"IF(AND(OR($E$2=\"Orkney Health Board\",$E$2=\"Orkney Islands Local Authority\"),$F207=1),0,IF(AND(OR($E$2=\"Shetland Health Board\",$E$2=\"Western Isles Health Board\",$E$2=\"Shetland Islands Local Authority\",$E$2=\"Eilean Siar Local Authority\"),OR($F207=1,$F207=5)),0,new_ci(VALUE(LEFT(Options!$B$14,2)),$C207,$E207,$F207,2016,$I207+$J207,1,$H207,$G207*$H207,Options!$B$8)))","v":494.350487074},{"$f":"IF(AND(OR($E$2=\"Orkney Health Board\",$E$2=\"Orkney Islands Local Authority\"),$F207=1),0,IF(AND(OR($E$2=\"Shetland Health Board\",$E$2=\"Western Isles Health Board\",$E$2=\"Shetland Islands Local Authority\",$E$2=\"Eilean Siar Local Authority\"),OR($F207=1,$F207=5)),0,new_yllv2(VALUE(LEFT(Options!$B$14,2)),$C207,$D207,$E207,$F207,2016,$I207,1,$H207,$G207*$H207,Options!$B$8)))","v":5664.7210195264997},{"$f":"IF(AND(OR($E$2=\"Orkney Health Board\",$E$2=\"Orkney Islands Local Authority\"),$F207=1),0,IF(AND(OR($E$2=\"Shetland Health Board\",$E$2=\"Western Isles Health Board\",$E$2=\"Shetland Islands Local Authority\",$E$2=\"Eilean Siar Local Authority\"),OR($F207=1,$F207=5)),0,new_yllv2(VALUE(LEFT(Options!$B$14,2)),$C207,$D207,$E207,$F207,2016,$I207+$J207,1,$H207,$G207*$H207,Options!$B$8)))","v":5660.3140656982996},{"$f":"IF(AND(OR($E$2=\"Orkney Health Board\",$E$2=\"Orkney Islands Local Authority\"),$F207=1),0,IF(AND(OR($E$2=\"Shetland Health Board\",$E$2=\"Western Isles Health Board\",$E$2=\"Shetland Islands Local Authority\",$E$2=\"Eilean Siar Local Authority\"),OR($F207=1,$F207=5)),0,hosp_count(VALUE(LEFT(Options!$B$14,2)),$C207,$E207,$F207,2016,$I207,1,$H207,$G207*$H207, Options!$B$8)))","v":10026.054313548},{"$f":"IF(AND(OR($E$2=\"Orkney Health Board\",$E$2=\"Orkney Islands Local Authority\"),$F207=1),0,IF(AND(OR($E$2=\"Shetland Health Board\",$E$2=\"Western Isles Health Board\",$E$2=\"Shetland Islands Local Authority\",$E$2=\"Eilean Siar Local Authority\"),OR($F207=1,$F207=5)),0,hosp_count(VALUE(LEFT(Options!$B$14,2)),$C207,$E207,$F207,2016,$I207+$J207,1,$H207,$G207*$H207, Options!$B$8)))","v":10021.1605335568},{"$f":"IF(AND(OR($E$2=\"Orkney Health Board\",$E$2=\"Orkney Islands Local Authority\"),$F207=1),0,IF(AND(OR($E$2=\"Shetland Health Board\",$E$2=\"Western Isles Health Board\",$E$2=\"Shetland Islands Local Authority\",$E$2=\"Eilean Siar Local Authority\"),OR($F207=1,$F207=5)),0,prem_mort(VALUE(LEFT(Options!$B$14,2)),$C207,$E207,$F207,2016,$I207,1,$H207,$G207*$H207,Options!$B$8)))","v":494.73537380400001},{"$f":"IF(AND(OR($E$2=\"Orkney Health Board\",$E$2=\"Orkney Islands Local Authority\"),$F207=1),0,IF(AND(OR($E$2=\"Shetland Health Board\",$E$2=\"Western Isles Health Board\",$E$2=\"Shetland Islands Local Authority\",$E$2=\"Eilean Siar Local Authority\"),OR($F207=1,$F207=5)),0,prem_mort(VALUE(LEFT(Options!$B$14,2)),$C207,$E207,$F207,2016,$I207+$J207,1,$H207,$G207*$H207,Options!$B$8)))","v":494.350487074},2030.9333900000001,2029.3533952134649,23254.191377366584,23236.100433901065,41157.85843,41137.76902116913,2030.9333900000001,2029.3533952134649,10154666.950000001,10146766.976067325,116270956.88683292,116180502.16950533,205789292.15000001,205688845.10584566,10154666.950000001,10146766.976067325,5000]
[null,"Male 75-79",76.907700000000006,86.357700000000008,"male",4,{"$f":"HLOOKUP($E$2,'Prevalence Rates'!$C$3:$BC$249,'Prevalence Rates'!$BD208,FALSE)","v":4.07E-2},{"$f":"HLOOKUP($E$2,'Population 2016'!$C$3:$BC$249,'Population 2016'!BD208,FALSE)","v":17285},0,{"$f":"ROUND(0.807*(HLOOKUP($E$2,'Population at Risk'!$C$3:$BC$249,'Population at Risk'!$BD208,FALSE)),0)","v":568},{"$f":"IF(AND(OR($E$2=\"Orkney Health Board\",$E$2=\"Orkney Islands Local Authority\"),$F208=1),0,IF(AND(OR($E$2=\"Shetland Health Board\",$E$2=\"Western Isles Health Board\",$E$2=\"Shetland Islands Local Authority\",$E$2=\"Eilean Siar Local Authority\"),OR($F208=1,$F208=5)),0,new_ci(VALUE(LEFT(Options!$B$14,2)),$C208,$E208,$F208,2016,$I208,1,$H208,$G208*$H208,Options!$B$8)))","v":510.40318023930001},{"$f":"IF(AND(OR($E$2=\"Orkney Health Board\",$E$2=\"Orkney Islands Local Authority\"),$F208=1),0,IF(AND(OR($E$2=\"Shetland Health Board\",$E$2=\"Western Isles Health Board\",$E$2=\"Shetland Islands Local Authority\",$E$2=\"Eilean Siar Local Authority\"),OR($F208=1,$F208=5)),0,new_ci(VALUE(LEFT(Options!$B$14,2)),$C208,$E208,$F208,2016,$I208+$J208,1,$H208,$G208*$H208,Options!$B$8)))","v":510.25359954089998},{"$f":"IF(AND(OR($E$2=\"Orkney Health Board\",$E$2=\"Orkney Islands Local Authority\"),$F208=1),0,IF(AND(OR($E$2=\"Shetland Health Board\",$E$2=\"Western Isles Health Board\",$E$2=\"Shetland Islands Local Authority\",$E$2=\"Eilean Siar Local Authority\"),OR($F208=1,$F208=5)),0,new_yllv2(VALUE(LEFT(Options!$B$14,2)),$C208,$D208,$E208,$F208,2016,$I208,1,$H208,$G208*$H208,Options!$B$8)))","v":4312.9068730220997},{"$f":"IF(AND(OR($E$2=\"Orkney Health Board\",$E$2=\"Orkney Islands Local Authority\"),$F208=1),0,IF(AND(OR($E$2=\"Shetland Health Board\",$E$2=\"Western Isles Health Board\",$E$2=\"Shetland Islands Local Authority\",$E$2=\"Eilean Siar Local Authority\"),OR($F208=1,$F208=5)),0,new_yllv2(VALUE(LEFT(Options!$B$14,2)),$C208,$D208,$E208,$F208,2016,$I208+$J208,1,$H208,$G208*$H208,Options!$B$8)))","v":4311.6429161205997},{"$f":"IF(AND(OR($E$2=\"Orkney Health Board\",$E$2=\"Orkney Islands Local Authority\"),$F208=1),0,IF(AND(OR($E$2=\"Shetland Health Board\",$E$2=\"Western Isles Health Board\",$E$2=\"Shetland Islands Local Authority\",$E$2=\"Eilean Siar Local Authority\"),OR($F208=1,$F208=5)),0,hosp_count(VALUE(LEFT(Options!$B$14,2)),$C208,$E208,$F208,2016,$I208,1,$H208,$G208*$H208, Options!$B$8)))","v":8500.7040771635002},{"$f":"IF(AND(OR($E$2=\"Orkney Health Board\",$E$2=\"Orkney Islands Local Authority\"),$F208=1),0,IF(AND(OR($E$2=\"Shetland Health Board\",$E$2=\"Western Isles Health Board\",$E$2=\"Shetland Islands Local Authority\",$E$2=\"Eilean Siar Local Authority\"),OR($F208=1,$F208=5)),0,hosp_count(VALUE(LEFT(Options!$B$14,2)),$C208,$E208,$F208,2016,$I208+$J208,1,$H208,$G208*$H208, Options!$B$8)))","v":8499.1603448403002},{"$f":"IF(AND(OR($E$2=\"Orkney Health Board\",$E$2=\"Orkney Islands Local Authority\"),$F208=1),0,IF(AND(OR($E$2=\"Shetland Health Board\",$E$2=\"Western Isles Health Board\",$E$2=\"Shetland Islands Local Authority\",$E$2=\"Eilean Siar Local Authority\"),OR($F208=1,$F208=5)),0,prem_mort(VALUE(LEFT(Options!$B$14,2)),$C208,$E208,$F208,2016,$I208,1,$H208,$G208*$H208,Options!$B$8)))","v":0},{"$f":"IF(AND(OR($E$2=\"Orkney Health Board\",$E$2=\"Orkney Islands Local Authority\"),$F208=1),0,IF(AND(OR($E$2=\"Shetland Health Board\",$E$2=\"Western Isles Health Board\",$E$2=\"Shetland Islands Local Authority\",$E$2=\"Eilean Siar Local Authority\"),OR($F208=1,$F208=5)),0,prem_mort(VALUE(LEFT(Options!$B$14,2)),$C208,$E208,$F208,2016,$I208+$J208,1,$H208,$G208*$H208,Options!$B$8)))","v":0},2952.8676901319063,2952.0023114891524,24951.731981614692,24944.419532083306,49179.659110000001,49170.728058086781,0,0,11811470.760527626,11808009.245956609,99806927.926458761,99777678.128333226,196718636.44,196682912.23234713,0,0,4000]
[null,"Male 80-84",81.797089,88.627089999999995,"male",4,{"$f":"HLOOKUP($E$2,'Prevalence Rates'!$C$3:$BC$249,'Prevalence Rates'!$BD209,FALSE)","v":4.07E-2},{"$f":"HLOOKUP($E$2,'Population 2016'!$C$3:$BC$249,'Population 2016'!BD209,FALSE)","v":11713},0,{"$f":"ROUND(0.807*(HLOOKUP($E$2,'Population at Risk'!$C$3:$BC$249,'Population at Risk'!$BD209,FALSE)),0)","v":385},{"$f":"IF(AND(OR($E$2=\"Orkney Health Board\",$E$2=\"Orkney Islands Local Authority\"),$F209=1),0,IF(AND(OR($E$2=\"Shetland Health Board\",$E$2=\"Western Isles Health Board\",$E$2=\"Shetland Islands Local Authority\",$E$2=\"Eilean Siar Local Authority\"),OR($F209=1,$F209=5)),0,new_ci(VALUE(LEFT(Options!$B$14,2)),$C209,$E209,$F209,2016,$I209,1,$H209,$G209*$H209,Options!$B$8)))","v":496.88532565539998},{"$f":"IF(AND(OR($E$2=\"Orkney Health Board\",$E$2=\"Orkney Islands Local Authority\"),$F209=1),0,IF(AND(OR($E$2=\"Shetland Health Board\",$E$2=\"Western Isles Health Board\",$E$2=\"Shetland Islands Local Authority\",$E$2=\"Eilean Siar Local Authority\"),OR($F209=1,$F209=5)),0,new_ci(VALUE(LEFT(Options!$B$14,2)),$C209,$E209,$F209,2016,$I209+$J209,1,$H209,$G209*$H209,Options!$B$8)))","v":496.74221499539999},{"$f":"IF(AND(OR($E$2=\"Orkney Health Board\",$E$2=\"Orkney Islands Local Authority\"),$F209=1),0,IF(AND(OR($E$2=\"Shetland Health Board\",$E$2=\"Western Isles Health Board\",$E$2=\"Shetland Islands Local Authority\",$E$2=\"Eilean Siar Local Authority\"),OR($F209=1,$F209=5)),0,new_yllv2(VALUE(LEFT(Options!$B$14,2)),$C209,$D209,$E209,$F209,2016,$I209,1,$H209,$G209*$H209,Options!$B$8)))","v":2896.8419454563},{"$f":"IF(AND(OR($E$2=\"Orkney Health Board\",$E$2=\"Orkney Islands Local Authority\"),$F209=1),0,IF(AND(OR($E$2=\"Shetland Health Board\",$E$2=\"Western Isles Health Board\",$E$2=\"Shetland Islands Local Authority\",$E$2=\"Eilean Siar Local Authority\"),OR($F209=1,$F209=5)),0,new_yllv2(VALUE(LEFT(Options!$B$14,2)),$C209,$D209,$E209,$F209,2016,$I209+$J209,1,$H209,$G209*$H209,Options!$B$8)))","v":2896.0076101653999},{"$f":"IF(AND(OR($E$2=\"Orkney Health Board\",$E$2=\"Orkney Islands Local Authority\"),$F209=1),0,IF(AND(OR($E$2=\"Shetland Health Board\",$E$2=\"Western Isles Health Board\",$E$2=\"Shetland Islands Local Authority\",$E$2=\"Eilean Siar Local Authority\"),OR($F209=1,$F209=5)),0,hosp_count(VALUE(LEFT(Options!$B$14,2)),$C209,$E209,$F209,2016,$I209,1,$H209,$G209*$H209, Options!$B$8)))","v":6852.1264324473996},{"$f":"IF(AND(OR($E$2=\"Orkney Health Board\",$E$2=\"Orkney Islands Local Authority\"),$F209=1),0,IF(AND(OR($E$2=\"Shetland Health Board\",$E$2=\"Western Isles Health Board\",$E$2=\"Shetland Islands Local Authority\",$E$2=\"Eilean Siar Local Authority\"),OR($F209=1,$F209=5)),0,hosp_count(VALUE(LEFT(Options!$B$14,2)),$C209,$E209,$F209,2016,$I209+$J209,1,$H209,$G209*$H209, Options!$B$8)))","v":6850.8817571013997},{"$f":"IF(AND(OR($E$2=\"Orkney Health Board\",$E$2=\"Orkney Islands Local Authority\"),$F209=1),0,IF(AND(OR($E$2=\"Shetland Health Board\",$E$2=\"Western Isles Health Board\",$E$2=\"Shetland Islands Local Authority\",$E$2=\"Eilean Siar Local Authority\"),OR($F209=1,$F209=5)),0,prem_mort(VALUE(LEFT(Options!$B$14,2)),$C209,$E209,$F209,2016,$I209,1,$H209,$G209*$H209,Options!$B$8)))","v":0},{"$f":"IF(AND(OR($E$2=\"Orkney Health Board\",$E$2=\"Orkney Islands Local Authority\"),$F209=1),0,IF(AND(OR($E$2=\"Shetland Health Board\",$E$2=\"Western Isles Health Board\",$E$2=\"Shetland Islands Local Authority\",$E$2=\"Eilean Siar Local Authority\"),OR($F209=1,$F209=5)),0,prem_mort(VALUE(LEFT(Options!$B$14,2)),$C209,$E209,$F209,2016,$I209+$J209,1,$H209,$G209*$H209,Options!$B$8)))","v":0},4242.1696034781871,4240.9477930111843,24731.853030447364,24724.729874203022,58500.182979999998,58489.556536339107,0,0,10605424.008695468,10602369.48252796,61829632.57611841,61811824.685507551,146250457.44999999,146223891.34084776,0,0,2500]
[null,"Male 85-89",86.630752999999999,91.420750000000012,"male",4,{"$f":"HLOOKUP($E$2,'Prevalence Rates'!$C$3:$BC$249,'Prevalence Rates'!$BD210,FALSE)","v":4.07E-2},{"$f":"HLOOKUP($E$2,'Population 2016'!$C$3:$BC$249,'Population 2016'!BD210,FALSE)","v":6184},0,{"$f":"ROUND(0.807*(HLOOKUP($E$2,'Population at Risk'!$C$3:$BC$249,'Population at Risk'!$BD210,FALSE)),0)","v":203},{"$f":"IF(AND(OR($E$2=\"Orkney Health Board\",$E$2=\"Orkney Islands Local Authority\"),$F210=1),0,IF(AND(OR($E$2=\"Shetland Health Board\",$E$2=\"Western Isles Health Board\",$E$2=\"Shetland Islands Local Authority\",$E$2=\"Eilean Siar Local Authority\"),OR($F210=1,$F210=5)),0,new_ci(VALUE(LEFT(Options!$B$14,2)),$C210,$E210,$F210,2016,$I210,1,$H210,$G210*$H210,Options!$B$8)))","v":374.21458838130002},{"$f":"IF(AND(OR($E$2=\"Orkney Health Board\",$E$2=\"Orkney Islands Local Authority\"),$F210=1),0,IF(AND(OR($E$2=\"Shetland Health Board\",$E$2=\"Western Isles Health Board\",$E$2=\"Shetland Islands Local Authority\",$E$2=\"Eilean Siar Local Authority\"),OR($F210=1,$F210=5)),0,new_ci(VALUE(LEFT(Options!$B$14,2)),$C210,$E210,$F210,2016,$I210+$J210,1,$H210,$G210*$H210,Options!$B$8)))","v":374.10962757639999},{"$f":"IF(AND(OR($E$2=\"Orkney Health Board\",$E$2=\"Orkney Islands Local Authority\"),$F210=1),0,IF(AND(OR($E$2=\"Shetland Health Board\",$E$2=\"Western Isles Health Board\",$E$2=\"Shetland Islands Local Authority\",$E$2=\"Eilean Siar Local Authority\"),OR($F210=1,$F210=5)),0,new_yllv2(VALUE(LEFT(Options!$B$14,2)),$C210,$D210,$E210,$F210,2016,$I210,1,$H210,$G210*$H210,Options!$B$8)))","v":1418.2721673214},{"$f":"IF(AND(OR($E$2=\"Orkney Health Board\",$E$2=\"Orkney Islands Local Authority\"),$F210=1),0,IF(AND(OR($E$2=\"Shetland Health Board\",$E$2=\"Western Isles Health Board\",$E$2=\"Shetland Islands Local Authority\",$E$2=\"Eilean Siar Local Authority\"),OR($F210=1,$F210=5)),0,new_yllv2(VALUE(LEFT(Options!$B$14,2)),$C210,$D210,$E210,$F210,2016,$I210+$J210,1,$H210,$G210*$H210,Options!$B$8)))","v":1417.8743661857},{"$f":"IF(AND(OR($E$2=\"Orkney Health Board\",$E$2=\"Orkney Islands Local Authority\"),$F210=1),0,IF(AND(OR($E$2=\"Shetland Health Board\",$E$2=\"Western Isles Health Board\",$E$2=\"Shetland Islands Local Authority\",$E$2=\"Eilean Siar Local Authority\"),OR($F210=1,$F210=5)),0,hosp_count(VALUE(LEFT(Options!$B$14,2)),$C210,$E210,$F210,2016,$I210,1,$H210,$G210*$H210, Options!$B$8)))","v":4294.7648959575999},{"$f":"IF(AND(OR($E$2=\"Orkney Health Board\",$E$2=\"Orkney Islands Local Authority\"),$F210=1),0,IF(AND(OR($E$2=\"Shetland Health Board\",$E$2=\"Western Isles Health Board\",$E$2=\"Shetland Islands Local Authority\",$E$2=\"Eilean Siar Local Authority\"),OR($F210=1,$F210=5)),0,hosp_count(VALUE(LEFT(Options!$B$14,2)),$C210,$E210,$F210,2016,$I210+$J210,1,$H210,$G210*$H210, Options!$B$8)))","v":4293.9857764302997},{"$f":"IF(AND(OR($E$2=\"Orkney Health Board\",$E$2=\"Orkney Islands Local Authority\"),$F210=1),0,IF(AND(OR($E$2=\"Shetland Health Board\",$E$2=\"Western Isles Health Board\",$E$2=\"Shetland Islands Local Authority\",$E$2=\"Eilean Siar Local Authority\"),OR($F210=1,$F210=5)),0,prem_mort(VALUE(LEFT(Options!$B$14,2)),$C210,$E210,$F210,2016,$I210,1,$H210,$G210*$H210,Options!$B$8)))","v":0},{"$f":"IF(AND(OR($E$2=\"Orkney Health Board\",$E$2=\"Orkney Islands Local Authority\"),$F210=1),0,IF(AND(OR($E$2=\"Shetland Health Board\",$E$2=\"Western Isles Health Board\",$E$2=\"Shetland Islands Local Authority\",$E$2=\"Eilean Siar Local Authority\"),OR($F210=1,$F210=5)),0,prem_mort(VALUE(LEFT(Options!$B$14,2)),$C210,$E210,$F210,2016,$I210+$J210,1,$H210,$G210*$H210,Options!$B$8)))","v":0},6051.3355171620315,6049.6382208344112,22934.543456038165,22928.110708048189,69449.626390000005,69437.027432572766,0,0,9077003.2757430468,9074457.3312516175,34401815.184057251,34392166.062072285,104174439.58500001,104155541.14885914,0,0,1500]
[null,"Male 90+",92.215477000000007,95.515479999999997,"male",4,{"$f":"HLOOKUP($E$2,'Prevalence Rates'!$C$3:$BC$249,'Prevalence Rates'!$BD211,FALSE)","v":4.07E-2},{"$f":"HLOOKUP($E$2,'Population 2016'!$C$3:$BC$249,'Population 2016'!BD211,FALSE)","v":2544},0,{"$f":"ROUND(0.807*(HLOOKUP($E$2,'Population at Risk'!$C$3:$BC$249,'Population at Risk'!$BD211,FALSE)),0)","v":84},{"$f":"IF(AND(OR($E$2=\"Orkney Health Board\",$E$2=\"Orkney Islands Local Authority\"),$F211=1),0,IF(AND(OR($E$2=\"Shetland Health Board\",$E$2=\"Western Isles Health Board\",$E$2=\"Shetland Islands Local Authority\",$E$2=\"Eilean Siar Local Authority\"),OR($F211=1,$F211=5)),0,new_ci(VALUE(LEFT(Options!$B$14,2)),$C211,$E211,$F211,2016,$I211,1,$H211,$G211*$H211,Options!$B$8)))","v":230.8205958126},{"$f":"IF(AND(OR($E$2=\"Orkney Health Board\",$E$2=\"Orkney Islands Local Authority\"),$F211=1),0,IF(AND(OR($E$2=\"Shetland Health Board\",$E$2=\"Western Isles Health Board\",$E$2=\"Shetland Islands Local Authority\",$E$2=\"Eilean Siar Local Authority\"),OR($F211=1,$F211=5)),0,new_ci(VALUE(LEFT(Options!$B$14,2)),$C211,$E211,$F211,2016,$I211+$J211,1,$H211,$G211*$H211,Options!$B$8)))","v":230.75823564059999},{"$f":"IF(AND(OR($E$2=\"Orkney Health Board\",$E$2=\"Orkney Islands Local Authority\"),$F211=1),0,IF(AND(OR($E$2=\"Shetland Health Board\",$E$2=\"Western Isles Health Board\",$E$2=\"Shetland Islands Local Authority\",$E$2=\"Eilean Siar Local Authority\"),OR($F211=1,$F211=5)),0,new_yllv2(VALUE(LEFT(Options!$B$14,2)),$C211,$D211,$E211,$F211,2016,$I211,1,$H211,$G211*$H211,Options!$B$8)))","v":530.88806283079998},{"$f":"IF(AND(OR($E$2=\"Orkney Health Board\",$E$2=\"Orkney Islands Local Authority\"),$F211=1),0,IF(AND(OR($E$2=\"Shetland Health Board\",$E$2=\"Western Isles Health Board\",$E$2=\"Shetland Islands Local Authority\",$E$2=\"Eilean Siar Local Authority\"),OR($F211=1,$F211=5)),0,new_yllv2(VALUE(LEFT(Options!$B$14,2)),$C211,$D211,$E211,$F211,2016,$I211+$J211,1,$H211,$G211*$H211,Options!$B$8)))","v":530.74463424810006},{"$f":"IF(AND(OR($E$2=\"Orkney Health Board\",$E$2=\"Orkney Islands Local Authority\"),$F211=1),0,IF(AND(OR($E$2=\"Shetland Health Board\",$E$2=\"Western Isles Health Board\",$E$2=\"Shetland Islands Local Authority\",$E$2=\"Eilean Siar Local Authority\"),OR($F211=1,$F211=5)),0,hosp_count(VALUE(LEFT(Options!$B$14,2)),$C211,$E211,$F211,2016,$I211,1,$H211,$G211*$H211, Options!$B$8)))","v":2154.1580945711999},{"$f":"IF(AND(OR($E$2=\"Orkney Health Board\",$E$2=\"Orkney Islands Local Authority\"),$F211=1),0,IF(AND(OR($E$2=\"Shetland Health Board\",$E$2=\"Western Isles Health Board\",$E$2=\"Shetland Islands Local Authority\",$E$2=\"Eilean Siar Local Authority\"),OR($F211=1,$F211=5)),0,hosp_count(VALUE(LEFT(Options!$B$14,2)),$C211,$E211,$F211,2016,$I211+$J211,1,$H211,$G211*$H211, Options!$B$8)))","v":2153.7650173423999},{"$f":"IF(AND(OR($E$2=\"Orkney Health Board\",$E$2=\"Orkney Islands Local Authority\"),$F211=1),0,IF(AND(OR($E$2=\"Shetland Health Board\",$E$2=\"Western Isles Health Board\",$E$2=\"Shetland Islands Local Authority\",$E$2=\"Eilean Siar Local Authority\"),OR($F211=1,$F211=5)),0,prem_mort(VALUE(LEFT(Options!$B$14,2)),$C211,$E211,$F211,2016,$I211,1,$H211,$G211*$H211,Options!$B$8)))","v":0},{"$f":"IF(AND(OR($E$2=\"Orkney Health Board\",$E$2=\"Orkney Islands Local Authority\"),$F211=1),0,IF(AND(OR($E$2=\"Shetland Health Board\",$E$2=\"Western Isles Health Board\",$E$2=\"Shetland Islands Local Authority\",$E$2=\"Eilean Siar Local Authority\"),OR($F211=1,$F211=5)),0,prem_mort(VALUE(LEFT(Options!$B$14,2)),$C211,$E211,$F211,2016,$I211+$J211,1,$H211,$G211*$H211,Options!$B$8)))","v":0},9073.1366278537735,9070.6853632311322,20868.241463474842,20862.603547488212,84676.025729999994,84660.574581069188,0,0,9073136.6278537735,9070685.3632311318,20868241.463474844,20862603.547488213,84676025.729999989,84660574.581069186,0,0,1000]
[null,"Female 0-4",2.0384007,81.468401,"female",5,{"$f":"HLOOKUP($E$2,'Prevalence Rates'!$C$3:$BC$249,'Prevalence Rates'!$BD212,FALSE)","v":0},{"$f":"HLOOKUP($E$2,'Population 2016'!$C$3:$BC$249,'Population 2016'!BD212,FALSE)","v":0},0,{"$f":"ROUND(0.807*(HLOOKUP($E$2,'Population at Risk'!$C$3:$BC$249,'Population at Risk'!$BD212,FALSE)),0)","v":0},{"$f":"IF(AND(OR($E$2=\"Orkney Health Board\",$E$2=\"Orkney Islands Local Authority\"),$F212=1),0,IF(AND(OR($E$2=\"Shetland Health Board\",$E$2=\"Western Isles Health Board\",$E$2=\"Shetland Islands Local Authority\",$E$2=\"Eilean Siar Local Authority\"),OR($F212=1,$F212=5)),0,new_ci(VALUE(LEFT(Options!$B$14,2)),$C212,$E212,$F212,2016,$I212,1,$H212,$G212*$H212,Options!$B$8)))","v":{"$error":"#VALUE!"}},{"$f":"IF(AND(OR($E$2=\"Orkney Health Board\",$E$2=\"Orkney Islands Local Authority\"),$F212=1),0,IF(AND(OR($E$2=\"Shetland Health Board\",$E$2=\"Western Isles Health Board\",$E$2=\"Shetland Islands Local Authority\",$E$2=\"Eilean Siar Local Authority\"),OR($F212=1,$F212=5)),0,new_ci(VALUE(LEFT(Options!$B$14,2)),$C212,$E212,$F212,2016,$I212+$J212,1,$H212,$G212*$H212,Options!$B$8)))","v":{"$error":"#VALUE!"}},{"$f":"IF(AND(OR($E$2=\"Orkney Health Board\",$E$2=\"Orkney Islands Local Authority\"),$F212=1),0,IF(AND(OR($E$2=\"Shetland Health Board\",$E$2=\"Western Isles Health Board\",$E$2=\"Shetland Islands Local Authority\",$E$2=\"Eilean Siar Local Authority\"),OR($F212=1,$F212=5)),0,new_yllv2(VALUE(LEFT(Options!$B$14,2)),$C212,$D212,$E212,$F212,2016,$I212,1,$H212,$G212*$H212,Options!$B$8)))","v":{"$error":"#VALUE!"}},{"$f":"IF(AND(OR($E$2=\"Orkney Health Board\",$E$2=\"Orkney Islands Local Authority\"),$F212=1),0,IF(AND(OR($E$2=\"Shetland Health Board\",$E$2=\"Western Isles Health Board\",$E$2=\"Shetland Islands Local Authority\",$E$2=\"Eilean Siar Local Authority\"),OR($F212=1,$F212=5)),0,new_yllv2(VALUE(LEFT(Options!$B$14,2)),$C212,$D212,$E212,$F212,2016,$I212+$J212,1,$H212,$G212*$H212,Options!$B$8)))","v":{"$error":"#VALUE!"}},{"$f":"IF(AND(OR($E$2=\"Orkney Health Board\",$E$2=\"Orkney Islands Local Authority\"),$F212=1),0,IF(AND(OR($E$2=\"Shetland Health Board\",$E$2=\"Western Isles Health Board\",$E$2=\"Shetland Islands Local Authority\",$E$2=\"Eilean Siar Local Authority\"),OR($F212=1,$F212=5)),0,hosp_count(VALUE(LEFT(Options!$B$14,2)),$C212,$E212,$F212,2016,$I212,1,$H212,$G212*$H212, Options!$B$8)))","v":{"$error":"#VALUE!"}},{"$f":"IF(AND(OR($E$2=\"Orkney Health Board\",$E$2=\"Orkney Islands Local Authority\"),$F212=1),0,IF(AND(OR($E$2=\"Shetland Health Board\",$E$2=\"Western Isles Health Board\",$E$2=\"Shetland Islands Local Authority\",$E$2=\"Eilean Siar Local Authority\"),OR($F212=1,$F212=5)),0,hosp_count(VALUE(LEFT(Options!$B$14,2)),$C212,$E212,$F212,2016,$I212+$J212,1,$H212,$G212*$H212, Options!$B$8)))","v":{"$error":"#VALUE!"}},{"$f":"IF(AND(OR($E$2=\"Orkney Health Board\",$E$2=\"Orkney Islands Local Authority\"),$F212=1),0,IF(AND(OR($E$2=\"Shetland Health Board\",$E$2=\"Western Isles Health Board\",$E$2=\"Shetland Islands Local Authority\",$E$2=\"Eilean Siar Local Authority\"),OR($F212=1,$F212=5)),0,prem_mort(VALUE(LEFT(Options!$B$14,2)),$C212,$E212,$F212,2016,$I212,1,$H212,$G212*$H212,Options!$B$8)))","v":{"$error":"#VALUE!"}},{"$f":"IF(AND(OR($E$2=\"Orkney Health Board\",$E$2=\"Orkney Islands Local Authority\"),$F212=1),0,IF(AND(OR($E$2=\"Shetland Health Board\",$E$2=\"Western Isles Health Board\",$E$2=\"Shetland Islands Local Authority\",$E$2=\"Eilean Siar Local Authority\"),OR($F212=1,$F212=5)),0,prem_mort(VALUE(LEFT(Options!$B$14,2)),$C212,$E212,$F212,2016,$I212+$J212,1,$H212,$G212*$H212,Options!$B$8)))","v":{"$error":"#VALUE!"}},{"$error":"#VALUE!"},{"$error":"#VALUE!"},{"$error":"#VALUE!"},{"$error":"#VALUE!"},{"$error":"#VALUE!"},{"$error":"#VALUE!"},{"$error":"#VALUE!"},{"$error":"#VALUE!"},{"$error":"#VALUE!"},{"$error":"#VALUE!"},{"$error":"#VALUE!"},{"$error":"#VALUE!"},{"$error":"#VALUE!"},{"$error":"#VALUE!"},{"$error":"#VALUE!"},{"$error":"#VALUE!"},5000]
[null,"Female 5-9",6.9792794999999996,81.439279999999997,"female",5,{"$f":"HLOOKUP($E$2,'Prevalence Rates'!$C$3:$BC$249,'Prevalence Rates'!$BD213,FALSE)","v":0},{"$f":"HLOOKUP($E$2,'Population 2016'!$C$3:$BC$249,'Population 2016'!BD213,FALSE)","v":0},0,{"$f":"ROUND(0.807*(HLOOKUP($E$2,'Population at Risk'!$C$3:$BC$249,'Population at Risk'!$BD213,FALSE)),0)","v":0},{"$f":"IF(AND(OR($E$2=\"Orkney Health Board\",$E$2=\"Orkney Islands Local Authority\"),$F213=1),0,IF(AND(OR($E$2=\"Shetland Health Board\",$E$2=\"Western Isles Health Board\",$E$2=\"Shetland Islands Local Authority\",$E$2=\"Eilean Siar Local Authority\"),OR($F213=1,$F213=5)),0,new_ci(VALUE(LEFT(Options!$B$14,2)),$C213,$E213,$F213,2016,$I213,1,$H213,$G213*$H213,Options!$B$8)))","v":{"$error":"#VALUE!"}},{"$f":"IF(AND(OR($E$2=\"Orkney Health Board\",$E$2=\"Orkney Islands Local Authority\"),$F213=1),0,IF(AND(OR($E$2=\"Shetland Health Board\",$E$2=\"Western Isles Health Board\",$E$2=\"Shetland Islands Local Authority\",$E$2=\"Eilean Siar Local Authority\"),OR($F213=1,$F213=5)),0,new_ci(VALUE(LEFT(Options!$B$14,2)),$C213,$E213,$F213,2016,$I213+$J213,1,$H213,$G213*$H213,Options!$B$8)))","v":{"$error":"#VALUE!"}},{"$f":"IF(AND(OR($E$2=\"Orkney Health Board\",$E$2=\"Orkney Islands Local Authority\"),$F213=1),0,IF(AND(OR($E$2=\"Shetland Health Board\",$E$2=\"Western Isles Health Board\",$E$2=\"Shetland Islands Local Authority\",$E$2=\"Eilean Siar Local Authority\"),OR($F213=1,$F213=5)),0,new_yllv2(VALUE(LEFT(Options!$B$14,2)),$C213,$D213,$E213,$F213,2016,$I213,1,$H213,$G213*$H213,Options!$B$8)))","v":{"$error":"#VALUE!"}},{"$f":"IF(AND(OR($E$2=\"Orkney Health Board\",$E$2=\"Orkney Islands Local Authority\"),$F213=1),0,IF(AND(OR($E$2=\"Shetland Health Board\",$E$2=\"Western Isles Health Board\",$E$2=\"Shetland Islands Local Authority\",$E$2=\"Eilean Siar Local Authority\"),OR($F213=1,$F213=5)),0,new_yllv2(VALUE(LEFT(Options!$B$14,2)),$C213,$D213,$E213,$F213,2016,$I213+$J213,1,$H213,$G213*$H213,Options!$B$8)))","v":{"$error":"#VALUE!"}},{"$f":"IF(AND(OR($E$2=\"Orkney Health Board\",$E$2=\"Orkney Islands Local Authority\"),$F213=1),0,IF(AND(OR($E$2=\"Shetland Health Board\",$E$2=\"Western Isles Health Board\",$E$2=\"Shetland Islands Local Authority\",$E$2=\"Eilean Siar Local Authority\"),OR($F213=1,$F213=5)),0,hosp_count(VALUE(LEFT(Options!$B$14,2)),$C213,$E213,$F213,2016,$I213,1,$H213,$G213*$H213, Options!$B$8)))","v":{"$error":"#VALUE!"}},{"$f":"IF(AND(OR($E$2=\"Orkney Health Board\",$E$2=\"Orkney Islands Local Authority\"),$F213=1),0,IF(AND(OR($E$2=\"Shetland Health Board\",$E$2=\"Western Isles Health Board\",$E$2=\"Shetland Islands Local Authority\",$E$2=\"Eilean Siar Local Authority\"),OR($F213=1,$F213=5)),0,hosp_count(VALUE(LEFT(Options!$B$14,2)),$C213,$E213,$F213,2016,$I213+$J213,1,$H213,$G213*$H213, Options!$B$8)))","v":{"$error":"#VALUE!"}},{"$f":"IF(AND(OR($E$2=\"Orkney Health Board\",$E$2=\"Orkney Islands Local Authority\"),$F213=1),0,IF(AND(OR($E$2=\"Shetland Health Board\",$E$2=\"Western Isles Health Board\",$E$2=\"Shetland Islands Local Authority\",$E$2=\"Eilean Siar Local Authority\"),OR($F213=1,$F213=5)),0,prem_mort(VALUE(LEFT(Options!$B$14,2)),$C213,$E213,$F213,2016,$I213,1,$H213,$G213*$H213,Options!$B$8)))","v":{"$error":"#VALUE!"}},{"$f":"IF(AND(OR($E$2=\"Orkney Health Board\",$E$2=\"Orkney Islands Local Authority\"),$F213=1),0,IF(AND(OR($E$2=\"Shetland Health Board\",$E$2=\"Western Isles Health Board\",$E$2=\"Shetland Islands Local Authority\",$E$2=\"Eilean Siar Local Authority\"),OR($F213=1,$F213=5)),0,prem_mort(VALUE(LEFT(Options!$B$14,2)),$C213,$E213,$F213,2016,$I213+$J213,1,$H213,$G213*$H213,Options!$B$8)))","v":{"$error":"#VALUE!"}},{"$error":"#VALUE!"},{"$error":"#VALUE!"},{"$error":"#VALUE!"},{"$error":"#VALUE!"},{"$error":"#VALUE!"},{"$error":"#VALUE!"},{"$error":"#VALUE!"},{"$error":"#VALUE!"},{"$error":"#VALUE!"},{"$error":"#VALUE!"},{"$error":"#VALUE!"},{"$error":"#VALUE!"},{"$error":"#VALUE!"},{"$error":"#VALUE!"},{"$error":"#VALUE!"},{"$error":"#VALUE!"},5500]
[null,"Female 10-15",12.478312000000001,81.948309999999992,"female",5,{"$f":"HLOOKUP($E$2,'Prevalence Rates'!$C$3:$BC$249,'Prevalence Rates'!$BD214,FALSE)","v":0},{"$f":"HLOOKUP($E$2,'Population 2016'!$C$3:$BC$249,'Population 2016'!BD214,FALSE)","v":0},0,{"$f":"ROUND(0.807*(HLOOKUP($E$2,'Population at Risk'!$C$3:$BC$249,'Population at Risk'!$BD214,FALSE)),0)","v":0},{"$f":"IF(AND(OR($E$2=\"Orkney Health Board\",$E$2=\"Orkney Islands Local Authority\"),$F214=1),0,IF(AND(OR($E$2=\"Shetland Health Board\",$E$2=\"Western Isles Health Board\",$E$2=\"Shetland Islands Local Authority\",$E$2=\"Eilean Siar Local Authority\"),OR($F214=1,$F214=5)),0,new_ci(VALUE(LEFT(Options!$B$14,2)),$C214,$E214,$F214,2016,$I214,1,$H214,$G214*$H214,Options!$B$8)))","v":{"$error":"#VALUE!"}},{"$f":"IF(AND(OR($E$2=\"Orkney Health Board\",$E$2=\"Orkney Islands Local Authority\"),$F214=1),0,IF(AND(OR($E$2=\"Shetland Health Board\",$E$2=\"Western Isles Health Board\",$E$2=\"Shetland Islands Local Authority\",$E$2=\"Eilean Siar Local Authority\"),OR($F214=1,$F214=5)),0,new_ci(VALUE(LEFT(Options!$B$14,2)),$C214,$E214,$F214,2016,$I214+$J214,1,$H214,$G214*$H214,Options!$B$8)))","v":{"$error":"#VALUE!"}},{"$f":"IF(AND(OR($E$2=\"Orkney Health Board\",$E$2=\"Orkney Islands Local Authority\"),$F214=1),0,IF(AND(OR($E$2=\"Shetland Health Board\",$E$2=\"Western Isles Health Board\",$E$2=\"Shetland Islands Local Authority\",$E$2=\"Eilean Siar Local Authority\"),OR($F214=1,$F214=5)),0,new_yllv2(VALUE(LEFT(Options!$B$14,2)),$C214,$D214,$E214,$F214,2016,$I214,1,$H214,$G214*$H214,Options!$B$8)))","v":{"$error":"#VALUE!"}},{"$f":"IF(AND(OR($E$2=\"Orkney Health Board\",$E$2=\"Orkney Islands Local Authority\"),$F214=1),0,IF(AND(OR($E$2=\"Shetland Health Board\",$E$2=\"Western Isles Health Board\",$E$2=\"Shetland Islands Local Authority\",$E$2=\"Eilean Siar Local Authority\"),OR($F214=1,$F214=5)),0,new_yllv2(VALUE(LEFT(Options!$B$14,2)),$C214,$D214,$E214,$F214,2016,$I214+$J214,1,$H214,$G214*$H214,Options!$B$8)))","v":{"$error":"#VALUE!"}},{"$f":"IF(AND(OR($E$2=\"Orkney Health Board\",$E$2=\"Orkney Islands Local Authority\"),$F214=1),0,IF(AND(OR($E$2=\"Shetland Health Board\",$E$2=\"Western Isles Health Board\",$E$2=\"Shetland Islands Local Authority\",$E$2=\"Eilean Siar Local Authority\"),OR($F214=1,$F214=5)),0,hosp_count(VALUE(LEFT(Options!$B$14,2)),$C214,$E214,$F214,2016,$I214,1,$H214,$G214*$H214, Options!$B$8)))","v":{"$error":"#VALUE!"}},{"$f":"IF(AND(OR($E$2=\"Orkney Health Board\",$E$2=\"Orkney Islands Local Authority\"),$F214=1),0,IF(AND(OR($E$2=\"Shetland Health Board\",$E$2=\"Western Isles Health Board\",$E$2=\"Shetland Islands Local Authority\",$E$2=\"Eilean Siar Local Authority\"),OR($F214=1,$F214=5)),0,hosp_count(VALUE(LEFT(Options!$B$14,2)),$C214,$E214,$F214,2016,$I214+$J214,1,$H214,$G214*$H214, Options!$B$8)))","v":{"$error":"#VALUE!"}},{"$f":"IF(AND(OR($E$2=\"Orkney Health Board\",$E$2=\"Orkney Islands Local Authority\"),$F214=1),0,IF(AND(OR($E$2=\"Shetland Health Board\",$E$2=\"Western Isles Health Board\",$E$2=\"Shetland Islands Local Authority\",$E$2=\"Eilean Siar Local Authority\"),OR($F214=1,$F214=5)),0,prem_mort(VALUE(LEFT(Options!$B$14,2)),$C214,$E214,$F214,2016,$I214,1,$H214,$G214*$H214,Options!$B$8)))","v":{"$error":"#VALUE!"}},{"$f":"IF(AND(OR($E$2=\"Orkney Health Board\",$E$2=\"Orkney Islands Local Authority\"),$F214=1),0,IF(AND(OR($E$2=\"Shetland Health Board\",$E$2=\"Western Isles Health Board\",$E$2=\"Shetland Islands Local Authority\",$E$2=\"Eilean Siar Local Authority\"),OR($F214=1,$F214=5)),0,prem_mort(VALUE(LEFT(Options!$B$14,2)),$C214,$E214,$F214,2016,$I214+$J214,1,$H214,$G214*$H214,Options!$B$8)))","v":{"$error":"#VALUE!"}},{"$error":"#VALUE!"},{"$error":"#VALUE!"},{"$error":"#VALUE!"},{"$error":"#VALUE!"},{"$error":"#VALUE!"},{"$error":"#VALUE!"},{"$error":"#VALUE!"},{"$error":"#VALUE!"},{"$error":"#VALUE!"},{"$error":"#VALUE!"},{"$error":"#VALUE!"},{"$error":"#VALUE!"},{"$error":"#VALUE!"},{"$error":"#VALUE!"},{"$error":"#VALUE!"},{"$error":"#VALUE!"},6600]
["SIMD Q5 (least deprived)","Female 16-19",17.570053000000001,81.100049999999996,"female",5,{"$f":"HLOOKUP($E$2,'Prevalence Rates'!$C$3:$BC$249,'Prevalence Rates'!$BD215,FALSE)","v":9.8299999999999998E-2},{"$f":"HLOOKUP($E$2,'Population 2016'!$C$3:$BC$249,'Population 2016'!BD215,FALSE)","v":25268},0,{"$f":"ROUND(0.807*(HLOOKUP($E$2,'Population at Risk'!$C$3:$BC$249,'Population at Risk'!$BD215,FALSE)),0)","v":2004},{"$f":"IF(AND(OR($E$2=\"Orkney Health Board\",$E$2=\"Orkney Islands Local Authority\"),$F215=1),0,IF(AND(OR($E$2=\"Shetland Health Board\",$E$2=\"Western Isles Health Board\",$E$2=\"Shetland Islands Local Authority\",$E$2=\"Eilean Siar Local Authority\"),OR($F215=1,$F215=5)),0,new_ci(VALUE(LEFT(Options!$B$14,2)),$C215,$E215,$F215,2016,$I215,1,$H215,$G215*$H215,Options!$B$8)))","v":2.6542100654},{"$f":"IF(AND(OR($E$2=\"Orkney Health Board\",$E$2=\"Orkney Islands Local Authority\"),$F215=1),0,IF(AND(OR($E$2=\"Shetland Health Board\",$E$2=\"Western Isles Health Board\",$E$2=\"Shetland Islands Local Authority\",$E$2=\"Eilean Siar Local Authority\"),OR($F215=1,$F215=5)),0,new_ci(VALUE(LEFT(Options!$B$14,2)),$C215,$E215,$F215,2016,$I215+$J215,1,$H215,$G215*$H215,Options!$B$8)))","v":2.6515435429999998},{"$f":"IF(AND(OR($E$2=\"Orkney Health Board\",$E$2=\"Orkney Islands Local Authority\"),$F215=1),0,IF(AND(OR($E$2=\"Shetland Health Board\",$E$2=\"Western Isles Health Board\",$E$2=\"Shetland Islands Local Authority\",$E$2=\"Eilean Siar Local Authority\"),OR($F215=1,$F215=5)),0,new_yllv2(VALUE(LEFT(Options!$B$14,2)),$C215,$D215,$E215,$F215,2016,$I215,1,$H215,$G215*$H215,Options!$B$8)))","v":165.9677474268},{"$f":"IF(AND(OR($E$2=\"Orkney Health Board\",$E$2=\"Orkney Islands Local Authority\"),$F215=1),0,IF(AND(OR($E$2=\"Shetland Health Board\",$E$2=\"Western Isles Health Board\",$E$2=\"Shetland Islands Local Authority\",$E$2=\"Eilean Siar Local Authority\"),OR($F215=1,$F215=5)),0,new_yllv2(VALUE(LEFT(Options!$B$14,2)),$C215,$D215,$E215,$F215,2016,$I215+$J215,1,$H215,$G215*$H215,Options!$B$8)))","v":165.80100978920001},{"$f":"IF(AND(OR($E$2=\"Orkney Health Board\",$E$2=\"Orkney Islands Local Authority\"),$F215=1),0,IF(AND(OR($E$2=\"Shetland Health Board\",$E$2=\"Western Isles Health Board\",$E$2=\"Shetland Islands Local Authority\",$E$2=\"Eilean Siar Local Authority\"),OR($F215=1,$F215=5)),0,hosp_count(VALUE(LEFT(Options!$B$14,2)),$C215,$E215,$F215,2016,$I215,1,$H215,$G215*$H215, Options!$B$8)))","v":1985.9311626015999},{"$f":"IF(AND(OR($E$2=\"Orkney Health Board\",$E$2=\"Orkney Islands Local Authority\"),$F215=1),0,IF(AND(OR($E$2=\"Shetland Health Board\",$E$2=\"Western Isles Health Board\",$E$2=\"Shetland Islands Local Authority\",$E$2=\"Eilean Siar Local Authority\"),OR($F215=1,$F215=5)),0,hosp_count(VALUE(LEFT(Options!$B$14,2)),$C215,$E215,$F215,2016,$I215+$J215,1,$H215,$G215*$H215, Options!$B$8)))","v":1984.7555277934},{"$f":"IF(AND(OR($E$2=\"Orkney Health Board\",$E$2=\"Orkney Islands Local Authority\"),$F215=1),0,IF(AND(OR($E$2=\"Shetland Health Board\",$E$2=\"Western Isles Health Board\",$E$2=\"Shetland Islands Local Authority\",$E$2=\"Eilean Siar Local Authority\"),OR($F215=1,$F215=5)),0,prem_mort(VALUE(LEFT(Options!$B$14,2)),$C215,$E215,$F215,2016,$I215,1,$H215,$G215*$H215,Options!$B$8)))","v":2.6542100654},{"$f":"IF(AND(OR($E$2=\"Orkney Health Board\",$E$2=\"Orkney Islands Local Authority\"),$F215=1),0,IF(AND(OR($E$2=\"Shetland Health Board\",$E$2=\"Western Isles Health Board\",$E$2=\"Shetland Islands Local Authority\",$E$2=\"Eilean Siar Local Authority\"),OR($F215=1,$F215=5)),0,prem_mort(VALUE(LEFT(Options!$B$14,2)),$C215,$E215,$F215,2016,$I215+$J215,1,$H215,$G215*$H215,Options!$B$8)))","v":2.6515435429999998},10.504234863859429,10.493681902010449,656.82977452429952,656.16989785182841,7859.4711200000002,7854.8184573112239,10.504234863859429,10.493681902010449,46218.633400981489,46172.200368845974,2890051.0079069179,2887147.550548045,34581672.928000003,34561201.212169386,46218.633400981489,46172.200368845974,4400]
[null,"Female 20-24",22.077057,81.667060000000006,"female",5,{"$f":"HLOOKUP($E$2,'Prevalence Rates'!$C$3:$BC$249,'Prevalence Rates'!$BD216,FALSE)","v":9.8299999999999998E-2},{"$f":"HLOOKUP($E$2,'Population 2016'!$C$3:$BC$249,'Population 2016'!BD216,FALSE)","v":38013},0,{"$f":"ROUND(0.807*(HLOOKUP($E$2,'Population at Risk'!$C$3:$BC$249,'Population at Risk'!$BD216,FALSE)),0)","v":3015},{"$f":"IF(AND(OR($E$2=\"Orkney Health Board\",$E$2=\"Orkney Islands Local Authority\"),$F216=1),0,IF(AND(OR($E$2=\"Shetland Health Board\",$E$2=\"Western Isles Health Board\",$E$2=\"Shetland Islands Local Authority\",$E$2=\"Eilean Siar Local Authority\"),OR($F216=1,$F216=5)),0,new_ci(VALUE(LEFT(Options!$B$14,2)),$C216,$E216,$F216,2016,$I216,1,$H216,$G216*$H216,Options!$B$8)))","v":5.8582485121000003},{"$f":"IF(AND(OR($E$2=\"Orkney Health Board\",$E$2=\"Orkney Islands Local Authority\"),$F216=1),0,IF(AND(OR($E$2=\"Shetland Health Board\",$E$2=\"Western Isles Health Board\",$E$2=\"Shetland Islands Local Authority\",$E$2=\"Eilean Siar Local Authority\"),OR($F216=1,$F216=5)),0,new_ci(VALUE(LEFT(Options!$B$14,2)),$C216,$E216,$F216,2016,$I216+$J216,1,$H216,$G216*$H216,Options!$B$8)))","v":5.8523626290999999},{"$f":"IF(AND(OR($E$2=\"Orkney Health Board\",$E$2=\"Orkney Islands Local Authority\"),$F216=1),0,IF(AND(OR($E$2=\"Shetland Health Board\",$E$2=\"Western Isles Health Board\",$E$2=\"Shetland Islands Local Authority\",$E$2=\"Eilean Siar Local Authority\"),OR($F216=1,$F216=5)),0,new_yllv2(VALUE(LEFT(Options!$B$14,2)),$C216,$D216,$E216,$F216,2016,$I216,1,$H216,$G216*$H216,Options!$B$8)))","v":343.23479789869998},{"$f":"IF(AND(OR($E$2=\"Orkney Health Board\",$E$2=\"Orkney Islands Local Authority\"),$F216=1),0,IF(AND(OR($E$2=\"Shetland Health Board\",$E$2=\"Western Isles Health Board\",$E$2=\"Shetland Islands Local Authority\",$E$2=\"Eilean Siar Local Authority\"),OR($F216=1,$F216=5)),0,new_yllv2(VALUE(LEFT(Options!$B$14,2)),$C216,$D216,$E216,$F216,2016,$I216+$J216,1,$H216,$G216*$H216,Options!$B$8)))","v":342.88994399609999},{"$f":"IF(AND(OR($E$2=\"Orkney Health Board\",$E$2=\"Orkney Islands Local Authority\"),$F216=1),0,IF(AND(OR($E$2=\"Shetland Health Board\",$E$2=\"Western Isles Health Board\",$E$2=\"Shetland Islands Local Authority\",$E$2=\"Eilean Siar Local Authority\"),OR($F216=1,$F216=5)),0,hosp_count(VALUE(LEFT(Options!$B$14,2)),$C216,$E216,$F216,2016,$I216,1,$H216,$G216*$H216, Options!$B$8)))","v":3346.2660715352999},{"$f":"IF(AND(OR($E$2=\"Orkney Health Board\",$E$2=\"Orkney Islands Local Authority\"),$F216=1),0,IF(AND(OR($E$2=\"Shetland Health Board\",$E$2=\"Western Isles Health Board\",$E$2=\"Shetland Islands Local Authority\",$E$2=\"Eilean Siar Local Authority\"),OR($F216=1,$F216=5)),0,hosp_count(VALUE(LEFT(Options!$B$14,2)),$C216,$E216,$F216,2016,$I216+$J216,1,$H216,$G216*$H216, Options!$B$8)))","v":3344.2850141509002},{"$f":"IF(AND(OR($E$2=\"Orkney Health Board\",$E$2=\"Orkney Islands Local Authority\"),$F216=1),0,IF(AND(OR($E$2=\"Shetland Health Board\",$E$2=\"Western Isles Health Board\",$E$2=\"Shetland Islands Local Authority\",$E$2=\"Eilean Siar Local Authority\"),OR($F216=1,$F216=5)),0,prem_mort(VALUE(LEFT(Options!$B$14,2)),$C216,$E216,$F216,2016,$I216,1,$H216,$G216*$H216,Options!$B$8)))","v":5.8582485121000003},{"$f":"IF(AND(OR($E$2=\"Orkney Health Board\",$E$2=\"Orkney Islands Local Authority\"),$F216=1),0,IF(AND(OR($E$2=\"Shetland Health Board\",$E$2=\"Western Isles Health Board\",$E$2=\"Shetland Islands Local Authority\",$E$2=\"Eilean Siar Local Authority\"),OR($F216=1,$F216=5)),0,prem_mort(VALUE(LEFT(Options!$B$14,2)),$C216,$E216,$F216,2016,$I216+$J216,1,$H216,$G216*$H216,Options!$B$8)))","v":5.8523626290999999},15.411171210112331,15.395687341435826,902.94056743403576,902.03336752190035,8802.9518100000005,8797.7402839841634,15.411171210112331,15.395687341435826,92467.027260673989,92374.124048614962,5417643.4046042142,5412200.2051314022,52817710.859999999,52786441.703904979,92467.027260673989,92374.124048614962,6000]
[null,"Female 25-29",26.975186999999998,81.645189999999999,"female",5,{"$f":"HLOOKUP($E$2,'Prevalence Rates'!$C$3:$BC$249,'Prevalence Rates'!$BD217,FALSE)","v":0.1003},{"$f":"HLOOKUP($E$2,'Population 2016'!$C$3:$BC$249,'Population 2016'!BD217,FALSE)","v":32371},0,{"$f":"ROUND(0.807*(HLOOKUP($E$2,'Population at Risk'!$C$3:$BC$249,'Population at Risk'!$BD217,FALSE)),0)","v":2620},{"$f":"IF(AND(OR($E$2=\"Orkney Health Board\",$E$2=\"Orkney Islands Local Authority\"),$F217=1),0,IF(AND(OR($E$2=\"Shetland Health Board\",$E$2=\"Western Isles Health Board\",$E$2=\"Shetland Islands Local Authority\",$E$2=\"Eilean Siar Local Authority\"),OR($F217=1,$F217=5)),0,new_ci(VALUE(LEFT(Options!$B$14,2)),$C217,$E217,$F217,2016,$I217,1,$H217,$G217*$H217,Options!$B$8)))","v":7.5666501322000004},{"$f":"IF(AND(OR($E$2=\"Orkney Health Board\",$E$2=\"Orkney Islands Local Authority\"),$F217=1),0,IF(AND(OR($E$2=\"Shetland Health Board\",$E$2=\"Western Isles Health Board\",$E$2=\"Shetland Islands Local Authority\",$E$2=\"Eilean Siar Local Authority\"),OR($F217=1,$F217=5)),0,new_ci(VALUE(LEFT(Options!$B$14,2)),$C217,$E217,$F217,2016,$I217+$J217,1,$H217,$G217*$H217,Options!$B$8)))","v":7.5589048881999998},{"$f":"IF(AND(OR($E$2=\"Orkney Health Board\",$E$2=\"Orkney Islands Local Authority\"),$F217=1),0,IF(AND(OR($E$2=\"Shetland Health Board\",$E$2=\"Western Isles Health Board\",$E$2=\"Shetland Islands Local Authority\",$E$2=\"Eilean Siar Local Authority\"),OR($F217=1,$F217=5)),0,new_yllv2(VALUE(LEFT(Options!$B$14,2)),$C217,$D217,$E217,$F217,2016,$I217,1,$H217,$G217*$H217,Options!$B$8)))","v":406.10213529510003},{"$f":"IF(AND(OR($E$2=\"Orkney Health Board\",$E$2=\"Orkney Islands Local Authority\"),$F217=1),0,IF(AND(OR($E$2=\"Shetland Health Board\",$E$2=\"Western Isles Health Board\",$E$2=\"Shetland Islands Local Authority\",$E$2=\"Eilean Siar Local Authority\"),OR($F217=1,$F217=5)),0,new_yllv2(VALUE(LEFT(Options!$B$14,2)),$C217,$D217,$E217,$F217,2016,$I217+$J217,1,$H217,$G217*$H217,Options!$B$8)))","v":405.6864480264},{"$f":"IF(AND(OR($E$2=\"Orkney Health Board\",$E$2=\"Orkney Islands Local Authority\"),$F217=1),0,IF(AND(OR($E$2=\"Shetland Health Board\",$E$2=\"Western Isles Health Board\",$E$2=\"Shetland Islands Local Authority\",$E$2=\"Eilean Siar Local Authority\"),OR($F217=1,$F217=5)),0,hosp_count(VALUE(LEFT(Options!$B$14,2)),$C217,$E217,$F217,2016,$I217,1,$H217,$G217*$H217, Options!$B$8)))","v":3223.2362970265999},{"$f":"IF(AND(OR($E$2=\"Orkney Health Board\",$E$2=\"Orkney Islands Local Authority\"),$F217=1),0,IF(AND(OR($E$2=\"Shetland Health Board\",$E$2=\"Western Isles Health Board\",$E$2=\"Shetland Islands Local Authority\",$E$2=\"Eilean Siar Local Authority\"),OR($F217=1,$F217=5)),0,hosp_count(VALUE(LEFT(Options!$B$14,2)),$C217,$E217,$F217,2016,$I217+$J217,1,$H217,$G217*$H217, Options!$B$8)))","v":3221.2910904771002},{"$f":"IF(AND(OR($E$2=\"Orkney Health Board\",$E$2=\"Orkney Islands Local Authority\"),$F217=1),0,IF(AND(OR($E$2=\"Shetland Health Board\",$E$2=\"Western Isles Health Board\",$E$2=\"Shetland Islands Local Authority\",$E$2=\"Eilean Siar Local Authority\"),OR($F217=1,$F217=5)),0,prem_mort(VALUE(LEFT(Options!$B$14,2)),$C217,$E217,$F217,2016,$I217,1,$H217,$G217*$H217,Options!$B$8)))","v":7.5666501322000004},{"$f":"IF(AND(OR($E$2=\"Orkney Health Board\",$E$2=\"Orkney Islands Local Authority\"),$F217=1),0,IF(AND(OR($E$2=\"Shetland Health Board\",$E$2=\"Western Isles Health Board\",$E$2=\"Shetland Islands Local Authority\",$E$2=\"Eilean Siar Local Authority\"),OR($F217=1,$F217=5)),0,prem_mort(VALUE(LEFT(Options!$B$14,2)),$C217,$E217,$F217,2016,$I217+$J217,1,$H217,$G217*$H217,Options!$B$8)))","v":7.5589048881999998},23.374780303975783,23.350853814216428,1254.5245290386458,1253.2403942615304,9957.1724599999998,9951.1633575641772,23.374780303975783,23.350853814216428,140248.68182385468,140105.12288529857,7527147.1742318748,7519442.3655691817,59743034.759999998,59706980.145385064,140248.68182385468,140105.12288529857,6000]
[null,"Female 30-34",31.999904999999998,81.799899999999994,"female",5,{"$f":"HLOOKUP($E$2,'Prevalence Rates'!$C$3:$BC$249,'Prevalence Rates'!$BD218,FALSE)","v":0.1003},{"$f":"HLOOKUP($E$2,'Population 2016'!$C$3:$BC$249,'Population 2016'!BD218,FALSE)","v":31633},0,{"$f":"ROUND(0.807*(HLOOKUP($E$2,'Population at Risk'!$C$3:$BC$249,'Population at Risk'!$BD218,FALSE)),0)","v":2560},{"$f":"IF(AND(OR($E$2=\"Orkney Health Board\",$E$2=\"Orkney Islands Local Authority\"),$F218=1),0,IF(AND(OR($E$2=\"Shetland Health Board\",$E$2=\"Western Isles Health Board\",$E$2=\"Shetland Islands Local Authority\",$E$2=\"Eilean Siar Local Authority\"),OR($F218=1,$F218=5)),0,new_ci(VALUE(LEFT(Options!$B$14,2)),$C218,$E218,$F218,2016,$I218,1,$H218,$G218*$H218,Options!$B$8)))","v":11.336153937600001},{"$f":"IF(AND(OR($E$2=\"Orkney Health Board\",$E$2=\"Orkney Islands Local Authority\"),$F218=1),0,IF(AND(OR($E$2=\"Shetland Health Board\",$E$2=\"Western Isles Health Board\",$E$2=\"Shetland Islands Local Authority\",$E$2=\"Eilean Siar Local Authority\"),OR($F218=1,$F218=5)),0,new_ci(VALUE(LEFT(Options!$B$14,2)),$C218,$E218,$F218,2016,$I218+$J218,1,$H218,$G218*$H218,Options!$B$8)))","v":11.3245525296},{"$f":"IF(AND(OR($E$2=\"Orkney Health Board\",$E$2=\"Orkney Islands Local Authority\"),$F218=1),0,IF(AND(OR($E$2=\"Shetland Health Board\",$E$2=\"Western Isles Health Board\",$E$2=\"Shetland Islands Local Authority\",$E$2=\"Eilean Siar Local Authority\"),OR($F218=1,$F218=5)),0,new_yllv2(VALUE(LEFT(Options!$B$14,2)),$C218,$D218,$E218,$F218,2016,$I218,1,$H218,$G218*$H218,Options!$B$8)))","v":553.20425547410002},{"$f":"IF(AND(OR($E$2=\"Orkney Health Board\",$E$2=\"Orkney Islands Local Authority\"),$F218=1),0,IF(AND(OR($E$2=\"Shetland Health Board\",$E$2=\"Western Isles Health Board\",$E$2=\"Shetland Islands Local Authority\",$E$2=\"Eilean Siar Local Authority\"),OR($F218=1,$F218=5)),0,new_yllv2(VALUE(LEFT(Options!$B$14,2)),$C218,$D218,$E218,$F218,2016,$I218+$J218,1,$H218,$G218*$H218,Options!$B$8)))","v":552.63810682170003},{"$f":"IF(AND(OR($E$2=\"Orkney Health Board\",$E$2=\"Orkney Islands Local Authority\"),$F218=1),0,IF(AND(OR($E$2=\"Shetland Health Board\",$E$2=\"Western Isles Health Board\",$E$2=\"Shetland Islands Local Authority\",$E$2=\"Eilean Siar Local Authority\"),OR($F218=1,$F218=5)),0,hosp_count(VALUE(LEFT(Options!$B$14,2)),$C218,$E218,$F218,2016,$I218,1,$H218,$G218*$H218, Options!$B$8)))","v":3574.1022803198998},{"$f":"IF(AND(OR($E$2=\"Orkney Health Board\",$E$2=\"Orkney Islands Local Authority\"),$F218=1),0,IF(AND(OR($E$2=\"Shetland Health Board\",$E$2=\"Western Isles Health Board\",$E$2=\"Shetland Islands Local Authority\",$E$2=\"Eilean Siar Local Authority\"),OR($F218=1,$F218=5)),0,hosp_count(VALUE(LEFT(Options!$B$14,2)),$C218,$E218,$F218,2016,$I218+$J218,1,$H218,$G218*$H218, Options!$B$8)))","v":3571.9455541540001},{"$f":"IF(AND(OR($E$2=\"Orkney Health Board\",$E$2=\"Orkney Islands Local Authority\"),$F218=1),0,IF(AND(OR($E$2=\"Shetland Health Board\",$E$2=\"Western Isles Health Board\",$E$2=\"Shetland Islands Local Authority\",$E$2=\"Eilean Siar Local Authority\"),OR($F218=1,$F218=5)),0,prem_mort(VALUE(LEFT(Options!$B$14,2)),$C218,$E218,$F218,2016,$I218,1,$H218,$G218*$H218,Options!$B$8)))","v":11.336153937600001},{"$f":"IF(AND(OR($E$2=\"Orkney Health Board\",$E$2=\"Orkney Islands Local Authority\"),$F218=1),0,IF(AND(OR($E$2=\"Shetland Health Board\",$E$2=\"Western Isles Health Board\",$E$2=\"Shetland Islands Local Authority\",$E$2=\"Eilean Siar Local Authority\"),OR($F218=1,$F218=5)),0,prem_mort(VALUE(LEFT(Options!$B$14,2)),$C218,$E218,$F218,2016,$I218+$J218,1,$H218,$G218*$H218,Options!$B$8)))","v":11.3245525296},35.836480692947241,35.799805676350644,1748.8200786333894,1747.0303380068285,11298.651029999999,11291.833067220941,35.836480692947241,35.799805676350644,232937.12450415705,232698.73689627918,11367330.51111703,11355697.197044386,73441231.694999993,73396914.936936125,232937.12450415705,232698.73689627918,6500]
[null,"Female 35-39",36.918118,81.898120000000006,"female",5,{"$f":"HLOOKUP($E$2,'Prevalence Rates'!$C$3:$BC$249,'Prevalence Rates'!$BD219,FALSE)","v":9.2200000000000004E-2},{"$f":"HLOOKUP($E$2,'Population 2016'!$C$3:$BC$249,'Population 2016'!BD219,FALSE)","v":33676},0,{"$f":"ROUND(0.807*(HLOOKUP($E$2,'Population at Risk'!$C$3:$BC$249,'Population at Risk'!$BD219,FALSE)),0)","v":2506},{"$f":"IF(AND(OR($E$2=\"Orkney Health Board\",$E$2=\"Orkney Islands Local Authority\"),$F219=1),0,IF(AND(OR($E$2=\"Shetland Health Board\",$E$2=\"Western Isles Health Board\",$E$2=\"Shetland Islands Local Authority\",$E$2=\"Eilean Siar Local Authority\"),OR($F219=1,$F219=5)),0,new_ci(VALUE(LEFT(Options!$B$14,2)),$C219,$E219,$F219,2016,$I219,1,$H219,$G219*$H219,Options!$B$8)))","v":18.334786159899998},{"$f":"IF(AND(OR($E$2=\"Orkney Health Board\",$E$2=\"Orkney Islands Local Authority\"),$F219=1),0,IF(AND(OR($E$2=\"Shetland Health Board\",$E$2=\"Western Isles Health Board\",$E$2=\"Shetland Islands Local Authority\",$E$2=\"Eilean Siar Local Authority\"),OR($F219=1,$F219=5)),0,new_ci(VALUE(LEFT(Options!$B$14,2)),$C219,$E219,$F219,2016,$I219+$J219,1,$H219,$G219*$H219,Options!$B$8)))","v":18.3174323605},{"$f":"IF(AND(OR($E$2=\"Orkney Health Board\",$E$2=\"Orkney Islands Local Authority\"),$F219=1),0,IF(AND(OR($E$2=\"Shetland Health Board\",$E$2=\"Western Isles Health Board\",$E$2=\"Shetland Islands Local Authority\",$E$2=\"Eilean Siar Local Authority\"),OR($F219=1,$F219=5)),0,new_yllv2(VALUE(LEFT(Options!$B$14,2)),$C219,$D219,$E219,$F219,2016,$I219,1,$H219,$G219*$H219,Options!$B$8)))","v":806.36393198200005},{"$f":"IF(AND(OR($E$2=\"Orkney Health Board\",$E$2=\"Orkney Islands Local Authority\"),$F219=1),0,IF(AND(OR($E$2=\"Shetland Health Board\",$E$2=\"Western Isles Health Board\",$E$2=\"Shetland Islands Local Authority\",$E$2=\"Eilean Siar Local Authority\"),OR($F219=1,$F219=5)),0,new_yllv2(VALUE(LEFT(Options!$B$14,2)),$C219,$D219,$E219,$F219,2016,$I219+$J219,1,$H219,$G219*$H219,Options!$B$8)))","v":805.60071184970002},{"$f":"IF(AND(OR($E$2=\"Orkney Health Board\",$E$2=\"Orkney Islands Local Authority\"),$F219=1),0,IF(AND(OR($E$2=\"Shetland Health Board\",$E$2=\"Western Isles Health Board\",$E$2=\"Shetland Islands Local Authority\",$E$2=\"Eilean Siar Local Authority\"),OR($F219=1,$F219=5)),0,hosp_count(VALUE(LEFT(Options!$B$14,2)),$C219,$E219,$F219,2016,$I219,1,$H219,$G219*$H219, Options!$B$8)))","v":4306.0016290455997},{"$f":"IF(AND(OR($E$2=\"Orkney Health Board\",$E$2=\"Orkney Islands Local Authority\"),$F219=1),0,IF(AND(OR($E$2=\"Shetland Health Board\",$E$2=\"Western Isles Health Board\",$E$2=\"Shetland Islands Local Authority\",$E$2=\"Eilean Siar Local Authority\"),OR($F219=1,$F219=5)),0,hosp_count(VALUE(LEFT(Options!$B$14,2)),$C219,$E219,$F219,2016,$I219+$J219,1,$H219,$G219*$H219, Options!$B$8)))","v":4303.6022398823998},{"$f":"IF(AND(OR($E$2=\"Orkney Health Board\",$E$2=\"Orkney Islands Local Authority\"),$F219=1),0,IF(AND(OR($E$2=\"Shetland Health Board\",$E$2=\"Western Isles Health Board\",$E$2=\"Shetland Islands Local Authority\",$E$2=\"Eilean Siar Local Authority\"),OR($F219=1,$F219=5)),0,prem_mort(VALUE(LEFT(Options!$B$14,2)),$C219,$E219,$F219,2016,$I219,1,$H219,$G219*$H219,Options!$B$8)))","v":18.334786159899998},{"$f":"IF(AND(OR($E$2=\"Orkney Health Board\",$E$2=\"Orkney Islands Local Authority\"),$F219=1),0,IF(AND(OR($E$2=\"Shetland Health Board\",$E$2=\"Western Isles Health Board\",$E$2=\"Shetland Islands Local Authority\",$E$2=\"Eilean Siar Local Authority\"),OR($F219=1,$F219=5)),0,prem_mort(VALUE(LEFT(Options!$B$14,2)),$C219,$E219,$F219,2016,$I219+$J219,1,$H219,$G219*$H219,Options!$B$8)))","v":18.3174323605},54.444667299857464,54.393135647048339,2394.4765767371423,2392.210214543592,12786.55906,12779.4341367217,54.444667299857464,54.393135647048339,381112.67109900224,380751.9495293384,16761336.037159996,16745471.501805143,89505913.420000002,89456038.957051903,381112.67109900224,380751.9495293384,7000]
[null,"Female 40-44",42.077438000000001,82.30744,"female",5,{"$f":"HLOOKUP($E$2,'Prevalence Rates'!$C$3:$BC$249,'Prevalence Rates'!$BD220,FALSE)","v":9.2200000000000004E-2},{"$f":"HLOOKUP($E$2,'Population 2016'!$C$3:$BC$249,'Population 2016'!BD220,FALSE)","v":36508},0,{"$f":"ROUND(0.807*(HLOOKUP($E$2,'Population at Risk'!$C$3:$BC$249,'Population at Risk'!$BD220,FALSE)),0)","v":2716},{"$f":"IF(AND(OR($E$2=\"Orkney Health Board\",$E$2=\"Orkney Islands Local Authority\"),$F220=1),0,IF(AND(OR($E$2=\"Shetland Health Board\",$E$2=\"Western Isles Health Board\",$E$2=\"Shetland Islands Local Authority\",$E$2=\"Eilean Siar Local Authority\"),OR($F220=1,$F220=5)),0,new_ci(VALUE(LEFT(Options!$B$14,2)),$C220,$E220,$F220,2016,$I220,1,$H220,$G220*$H220,Options!$B$8)))","v":30.821471305700001},{"$f":"IF(AND(OR($E$2=\"Orkney Health Board\",$E$2=\"Orkney Islands Local Authority\"),$F220=1),0,IF(AND(OR($E$2=\"Shetland Health Board\",$E$2=\"Western Isles Health Board\",$E$2=\"Shetland Islands Local Authority\",$E$2=\"Eilean Siar Local Authority\"),OR($F220=1,$F220=5)),0,new_ci(VALUE(LEFT(Options!$B$14,2)),$C220,$E220,$F220,2016,$I220+$J220,1,$H220,$G220*$H220,Options!$B$8)))","v":30.792316946900002},{"$f":"IF(AND(OR($E$2=\"Orkney Health Board\",$E$2=\"Orkney Islands Local Authority\"),$F220=1),0,IF(AND(OR($E$2=\"Shetland Health Board\",$E$2=\"Western Isles Health Board\",$E$2=\"Shetland Islands Local Authority\",$E$2=\"Eilean Siar Local Authority\"),OR($F220=1,$F220=5)),0,new_yllv2(VALUE(LEFT(Options!$B$14,2)),$C220,$D220,$E220,$F220,2016,$I220,1,$H220,$G220*$H220,Options!$B$8)))","v":1209.1263809656},{"$f":"IF(AND(OR($E$2=\"Orkney Health Board\",$E$2=\"Orkney Islands Local Authority\"),$F220=1),0,IF(AND(OR($E$2=\"Shetland Health Board\",$E$2=\"Western Isles Health Board\",$E$2=\"Shetland Islands Local Authority\",$E$2=\"Eilean Siar Local Authority\"),OR($F220=1,$F220=5)),0,new_yllv2(VALUE(LEFT(Options!$B$14,2)),$C220,$D220,$E220,$F220,2016,$I220+$J220,1,$H220,$G220*$H220,Options!$B$8)))","v":1207.9826554115},{"$f":"IF(AND(OR($E$2=\"Orkney Health Board\",$E$2=\"Orkney Islands Local Authority\"),$F220=1),0,IF(AND(OR($E$2=\"Shetland Health Board\",$E$2=\"Western Isles Health Board\",$E$2=\"Shetland Islands Local Authority\",$E$2=\"Eilean Siar Local Authority\"),OR($F220=1,$F220=5)),0,hosp_count(VALUE(LEFT(Options!$B$14,2)),$C220,$E220,$F220,2016,$I220,1,$H220,$G220*$H220, Options!$B$8)))","v":5314.9930810692003},{"$f":"IF(AND(OR($E$2=\"Orkney Health Board\",$E$2=\"Orkney Islands Local Authority\"),$F220=1),0,IF(AND(OR($E$2=\"Shetland Health Board\",$E$2=\"Western Isles Health Board\",$E$2=\"Shetland Islands Local Authority\",$E$2=\"Eilean Siar Local Authority\"),OR($F220=1,$F220=5)),0,hosp_count(VALUE(LEFT(Options!$B$14,2)),$C220,$E220,$F220,2016,$I220+$J220,1,$H220,$G220*$H220, Options!$B$8)))","v":5312.0322724080997},{"$f":"IF(AND(OR($E$2=\"Orkney Health Board\",$E$2=\"Orkney Islands Local Authority\"),$F220=1),0,IF(AND(OR($E$2=\"Shetland Health Board\",$E$2=\"Western Isles Health Board\",$E$2=\"Shetland Islands Local Authority\",$E$2=\"Eilean Siar Local Authority\"),OR($F220=1,$F220=5)),0,prem_mort(VALUE(LEFT(Options!$B$14,2)),$C220,$E220,$F220,2016,$I220,1,$H220,$G220*$H220,Options!$B$8)))","v":30.821471305700001},{"$f":"IF(AND(OR($E$2=\"Orkney Health Board\",$E$2=\"Orkney Islands Local Authority\"),$F220=1),0,IF(AND(OR($E$2=\"Shetland Health Board\",$E$2=\"Western Isles Health Board\",$E$2=\"Shetland Islands Local Authority\",$E$2=\"Eilean Siar Local Authority\"),OR($F220=1,$F220=5)),0,prem_mort(VALUE(LEFT(Options!$B$14,2)),$C220,$E220,$F220,2016,$I220+$J220,1,$H220,$G220*$H220,Options!$B$8)))","v":30.792316946900002},84.423883274076914,84.344025821463802,3311.949109689931,3308.8163016640187,14558.433990000001,14550.323962989207,84.423883274076914,84.344025821463802,590967.18291853846,590408.18075024663,23183643.767829519,23161714.111648131,{"$f":"W220*$AI220","v":101909037.93000001},{"$f":"X220*$AI220","v":101852267.74092445},{"$f":"Y220*$AI220","v":590967.18291853846},{"$f":"Z220*$AI220","v":590408.18075024663},7000]
[null,"Female 45-49",47.025772000000003,82.585769999999997,"female",5,{"$f":"HLOOKUP($E$2,'Prevalence Rates'!$C$3:$BC$249,'Prevalence Rates'!$BD221,FALSE)","v":9.98E-2},{"$f":"HLOOKUP($E$2,'Population 2016'!$C$3:$BC$249,'Population 2016'!BD221,FALSE)","v":41785},0,{"$f":"ROUND(0.807*(HLOOKUP($E$2,'Population at Risk'!$C$3:$BC$249,'Population at Risk'!$BD221,FALSE)),0)","v":3365},{"$f":"IF(AND(OR($E$2=\"Orkney Health Board\",$E$2=\"Orkney Islands Local Authority\"),$F221=1),0,IF(AND(OR($E$2=\"Shetland Health Board\",$E$2=\"Western Isles Health Board\",$E$2=\"Shetland Islands Local Authority\",$E$2=\"Eilean Siar Local Authority\"),OR($F221=1,$F221=5)),0,new_ci(VALUE(LEFT(Options!$B$14,2)),$C221,$E221,$F221,2016,$I221,1,$H221,$G221*$H221,Options!$B$8)))","v":53.7241065718},{"$f":"IF(AND(OR($E$2=\"Orkney Health Board\",$E$2=\"Orkney Islands Local Authority\"),$F221=1),0,IF(AND(OR($E$2=\"Shetland Health Board\",$E$2=\"Western Isles Health Board\",$E$2=\"Shetland Islands Local Authority\",$E$2=\"Eilean Siar Local Authority\"),OR($F221=1,$F221=5)),0,new_ci(VALUE(LEFT(Options!$B$14,2)),$C221,$E221,$F221,2016,$I221+$J221,1,$H221,$G221*$H221,Options!$B$8)))","v":53.669432724799996},{"$f":"IF(AND(OR($E$2=\"Orkney Health Board\",$E$2=\"Orkney Islands Local Authority\"),$F221=1),0,IF(AND(OR($E$2=\"Shetland Health Board\",$E$2=\"Western Isles Health Board\",$E$2=\"Shetland Islands Local Authority\",$E$2=\"Eilean Siar Local Authority\"),OR($F221=1,$F221=5)),0,new_yllv2(VALUE(LEFT(Options!$B$14,2)),$C221,$D221,$E221,$F221,2016,$I221,1,$H221,$G221*$H221,Options!$B$8)))","v":1856.7050156732},{"$f":"IF(AND(OR($E$2=\"Orkney Health Board\",$E$2=\"Orkney Islands Local Authority\"),$F221=1),0,IF(AND(OR($E$2=\"Shetland Health Board\",$E$2=\"Western Isles Health Board\",$E$2=\"Shetland Islands Local Authority\",$E$2=\"Eilean Siar Local Authority\"),OR($F221=1,$F221=5)),0,new_yllv2(VALUE(LEFT(Options!$B$14,2)),$C221,$D221,$E221,$F221,2016,$I221+$J221,1,$H221,$G221*$H221,Options!$B$8)))","v":1854.8154876302001},{"$f":"IF(AND(OR($E$2=\"Orkney Health Board\",$E$2=\"Orkney Islands Local Authority\"),$F221=1),0,IF(AND(OR($E$2=\"Shetland Health Board\",$E$2=\"Western Isles Health Board\",$E$2=\"Shetland Islands Local Authority\",$E$2=\"Eilean Siar Local Authority\"),OR($F221=1,$F221=5)),0,hosp_count(VALUE(LEFT(Options!$B$14,2)),$C221,$E221,$F221,2016,$I221,1,$H221,$G221*$H221, Options!$B$8)))","v":6889.5555642705003},{"$f":"IF(AND(OR($E$2=\"Orkney Health Board\",$E$2=\"Orkney Islands Local Authority\"),$F221=1),0,IF(AND(OR($E$2=\"Shetland Health Board\",$E$2=\"Western Isles Health Board\",$E$2=\"Shetland Islands Local Authority\",$E$2=\"Eilean Siar Local Authority\"),OR($F221=1,$F221=5)),0,hosp_count(VALUE(LEFT(Options!$B$14,2)),$C221,$E221,$F221,2016,$I221+$J221,1,$H221,$G221*$H221, Options!$B$8)))","v":6885.4174976192999},{"$f":"IF(AND(OR($E$2=\"Orkney Health Board\",$E$2=\"Orkney Islands Local Authority\"),$F221=1),0,IF(AND(OR($E$2=\"Shetland Health Board\",$E$2=\"Western Isles Health Board\",$E$2=\"Shetland Islands Local Authority\",$E$2=\"Eilean Siar Local Authority\"),OR($F221=1,$F221=5)),0,prem_mort(VALUE(LEFT(Options!$B$14,2)),$C221,$E221,$F221,2016,$I221,1,$H221,$G221*$H221,Options!$B$8)))","v":53.7241065718},{"$f":"IF(AND(OR($E$2=\"Orkney Health Board\",$E$2=\"Orkney Islands Local Authority\"),$F221=1),0,IF(AND(OR($E$2=\"Shetland Health Board\",$E$2=\"Western Isles Health Board\",$E$2=\"Shetland Islands Local Authority\",$E$2=\"Eilean Siar Local Authority\"),OR($F221=1,$F221=5)),0,prem_mort(VALUE(LEFT(Options!$B$14,2)),$C221,$E221,$F221,2016,$I221+$J221,1,$H221,$G221*$H221,Options!$B$8)))","v":53.669432724799996},128.57270927797057,128.44186364676318,4443.472575501256,4438.9505507483545,16488.10713,16478.203895223884,128.57270927797057,128.44186364676318,900008.96494579397,899093.04552734224,31104308.028508794,31072653.855238482,115416749.91,115347427.26656719,900008.96494579397,899093.04552734224,7000]
[null,"Female 50-54",51.990825999999998,82.980829999999997,"female",5,{"$f":"HLOOKUP($E$2,'Prevalence Rates'!$C$3:$BC$249,'Prevalence Rates'!$BD222,FALSE)","v":9.98E-2},{"$f":"HLOOKUP($E$2,'Population 2016'!$C$3:$BC$249,'Population 2016'!BD222,FALSE)","v":42428},0,{"$f":"ROUND(0.807*(HLOOKUP($E$2,'Population at Risk'!$C$3:$BC$249,'Population at Risk'!$BD222,FALSE)),0)","v":3417},{"$f":"IF(AND(OR($E$2=\"Orkney Health Board\",$E$2=\"Orkney Islands Local Authority\"),$F222=1),0,IF(AND(OR($E$2=\"Shetland Health Board\",$E$2=\"Western Isles Health Board\",$E$2=\"Shetland Islands Local Authority\",$E$2=\"Eilean Siar Local Authority\"),OR($F222=1,$F222=5)),0,new_ci(VALUE(LEFT(Options!$B$14,2)),$C222,$E222,$F222,2016,$I222,1,$H222,$G222*$H222,Options!$B$8)))","v":83.185885085999999},{"$f":"IF(AND(OR($E$2=\"Orkney Health Board\",$E$2=\"Orkney Islands Local Authority\"),$F222=1),0,IF(AND(OR($E$2=\"Shetland Health Board\",$E$2=\"Western Isles Health Board\",$E$2=\"Shetland Islands Local Authority\",$E$2=\"Eilean Siar Local Authority\"),OR($F222=1,$F222=5)),0,new_ci(VALUE(LEFT(Options!$B$14,2)),$C222,$E222,$F222,2016,$I222+$J222,1,$H222,$G222*$H222,Options!$B$8)))","v":83.101288366800006},{"$f":"IF(AND(OR($E$2=\"Orkney Health Board\",$E$2=\"Orkney Islands Local Authority\"),$F222=1),0,IF(AND(OR($E$2=\"Shetland Health Board\",$E$2=\"Western Isles Health Board\",$E$2=\"Shetland Islands Local Authority\",$E$2=\"Eilean Siar Local Authority\"),OR($F222=1,$F222=5)),0,new_yllv2(VALUE(LEFT(Options!$B$14,2)),$C222,$D222,$E222,$F222,2016,$I222,1,$H222,$G222*$H222,Options!$B$8)))","v":2494.7450264726999},{"$f":"IF(AND(OR($E$2=\"Orkney Health Board\",$E$2=\"Orkney Islands Local Authority\"),$F222=1),0,IF(AND(OR($E$2=\"Shetland Health Board\",$E$2=\"Western Isles Health Board\",$E$2=\"Shetland Islands Local Authority\",$E$2=\"Eilean Siar Local Authority\"),OR($F222=1,$F222=5)),0,new_yllv2(VALUE(LEFT(Options!$B$14,2)),$C222,$D222,$E222,$F222,2016,$I222+$J222,1,$H222,$G222*$H222,Options!$B$8)))","v":2492.2079705255001},{"$f":"IF(AND(OR($E$2=\"Orkney Health Board\",$E$2=\"Orkney Islands Local Authority\"),$F222=1),0,IF(AND(OR($E$2=\"Shetland Health Board\",$E$2=\"Western Isles Health Board\",$E$2=\"Shetland Islands Local Authority\",$E$2=\"Eilean Siar Local Authority\"),OR($F222=1,$F222=5)),0,hosp_count(VALUE(LEFT(Options!$B$14,2)),$C222,$E222,$F222,2016,$I222,1,$H222,$G222*$H222, Options!$B$8)))","v":7926.1475104580004},{"$f":"IF(AND(OR($E$2=\"Orkney Health Board\",$E$2=\"Orkney Islands Local Authority\"),$F222=1),0,IF(AND(OR($E$2=\"Shetland Health Board\",$E$2=\"Western Isles Health Board\",$E$2=\"Shetland Islands Local Authority\",$E$2=\"Eilean Siar Local Authority\"),OR($F222=1,$F222=5)),0,hosp_count(VALUE(LEFT(Options!$B$14,2)),$C222,$E222,$F222,2016,$I222+$J222,1,$H222,$G222*$H222, Options!$B$8)))","v":7921.3865321788999},{"$f":"IF(AND(OR($E$2=\"Orkney Health Board\",$E$2=\"Orkney Islands Local Authority\"),$F222=1),0,IF(AND(OR($E$2=\"Shetland Health Board\",$E$2=\"Western Isles Health Board\",$E$2=\"Shetland Islands Local Authority\",$E$2=\"Eilean Siar Local Authority\"),OR($F222=1,$F222=5)),0,prem_mort(VALUE(LEFT(Options!$B$14,2)),$C222,$E222,$F222,2016,$I222,1,$H222,$G222*$H222,Options!$B$8)))","v":83.185885085999999},{"$f":"IF(AND(OR($E$2=\"Orkney Health Board\",$E$2=\"Orkney Islands Local Authority\"),$F222=1),0,IF(AND(OR($E$2=\"Shetland Health Board\",$E$2=\"Western Isles Health Board\",$E$2=\"Shetland Islands Local Authority\",$E$2=\"Eilean Siar Local Authority\"),OR($F222=1,$F222=5)),0,prem_mort(VALUE(LEFT(Options!$B$14,2)),$C222,$E222,$F222,2016,$I222+$J222,1,$H222,$G222*$H222,Options!$B$8)))","v":83.101288366800006},196.06364920807016,195.86426031582917,5879.9496240046665,5873.9699503287929,18681.407350000001,18670.186037944048,196.06364920807016,195.86426031582917,1372445.544456491,1371049.8222108041,41159647.368032664,41117789.65230155,130769851.45,130691302.26560834,1372445.544456491,1371049.8222108041,7000]
[null,"Female 55-59",56.953040999999999,83.473039999999997,"female",5,{"$f":"HLOOKUP($E$2,'Prevalence Rates'!$C$3:$BC$249,'Prevalence Rates'!$BD223,FALSE)","v":0.10840000000000001},{"$f":"HLOOKUP($E$2,'Population 2016'!$C$3:$BC$249,'Population 2016'!BD223,FALSE)","v":38314},0,{"$f":"ROUND(0.807*(HLOOKUP($E$2,'Population at Risk'!$C$3:$BC$249,'Population at Risk'!$BD223,FALSE)),0)","v":3352},{"$f":"IF(AND(OR($E$2=\"Orkney Health Board\",$E$2=\"Orkney Islands Local Authority\"),$F223=1),0,IF(AND(OR($E$2=\"Shetland Health Board\",$E$2=\"Western Isles Health Board\",$E$2=\"Shetland Islands Local Authority\",$E$2=\"Eilean Siar Local Authority\"),OR($F223=1,$F223=5)),0,new_ci(VALUE(LEFT(Options!$B$14,2)),$C223,$E223,$F223,2016,$I223,1,$H223,$G223*$H223,Options!$B$8)))","v":114.5025891201},{"$f":"IF(AND(OR($E$2=\"Orkney Health Board\",$E$2=\"Orkney Islands Local Authority\"),$F223=1),0,IF(AND(OR($E$2=\"Shetland Health Board\",$E$2=\"Western Isles Health Board\",$E$2=\"Shetland Islands Local Authority\",$E$2=\"Eilean Siar Local Authority\"),OR($F223=1,$F223=5)),0,new_ci(VALUE(LEFT(Options!$B$14,2)),$C223,$E223,$F223,2016,$I223+$J223,1,$H223,$G223*$H223,Options!$B$8)))","v":114.3770376137},{"$f":"IF(AND(OR($E$2=\"Orkney Health Board\",$E$2=\"Orkney Islands Local Authority\"),$F223=1),0,IF(AND(OR($E$2=\"Shetland Health Board\",$E$2=\"Western Isles Health Board\",$E$2=\"Shetland Islands Local Authority\",$E$2=\"Eilean Siar Local Authority\"),OR($F223=1,$F223=5)),0,new_yllv2(VALUE(LEFT(Options!$B$14,2)),$C223,$D223,$E223,$F223,2016,$I223,1,$H223,$G223*$H223,Options!$B$8)))","v":2922.1059598423999},{"$f":"IF(AND(OR($E$2=\"Orkney Health Board\",$E$2=\"Orkney Islands Local Authority\"),$F223=1),0,IF(AND(OR($E$2=\"Shetland Health Board\",$E$2=\"Western Isles Health Board\",$E$2=\"Shetland Islands Local Authority\",$E$2=\"Eilean Siar Local Authority\"),OR($F223=1,$F223=5)),0,new_yllv2(VALUE(LEFT(Options!$B$14,2)),$C223,$D223,$E223,$F223,2016,$I223+$J223,1,$H223,$G223*$H223,Options!$B$8)))","v":2918.9018855245999},{"$f":"IF(AND(OR($E$2=\"Orkney Health Board\",$E$2=\"Orkney Islands Local Authority\"),$F223=1),0,IF(AND(OR($E$2=\"Shetland Health Board\",$E$2=\"Western Isles Health Board\",$E$2=\"Shetland Islands Local Authority\",$E$2=\"Eilean Siar Local Authority\"),OR($F223=1,$F223=5)),0,hosp_count(VALUE(LEFT(Options!$B$14,2)),$C223,$E223,$F223,2016,$I223,1,$H223,$G223*$H223, Options!$B$8)))","v":8109.1411843690003},{"$f":"IF(AND(OR($E$2=\"Orkney Health Board\",$E$2=\"Orkney Islands Local Authority\"),$F223=1),0,IF(AND(OR($E$2=\"Shetland Health Board\",$E$2=\"Western Isles Health Board\",$E$2=\"Shetland Islands Local Authority\",$E$2=\"Eilean Siar Local Authority\"),OR($F223=1,$F223=5)),0,hosp_count(VALUE(LEFT(Options!$B$14,2)),$C223,$E223,$F223,2016,$I223+$J223,1,$H223,$G223*$H223, Options!$B$8)))","v":8103.8734965345002},{"$f":"IF(AND(OR($E$2=\"Orkney Health Board\",$E$2=\"Orkney Islands Local Authority\"),$F223=1),0,IF(AND(OR($E$2=\"Shetland Health Board\",$E$2=\"Western Isles Health Board\",$E$2=\"Shetland Islands Local Authority\",$E$2=\"Eilean Siar Local Authority\"),OR($F223=1,$F223=5)),0,prem_mort(VALUE(LEFT(Options!$B$14,2)),$C223,$E223,$F223,2016,$I223,1,$H223,$G223*$H223,Options!$B$8)))","v":114.5025891201},{"$f":"IF(AND(OR($E$2=\"Orkney Health Board\",$E$2=\"Orkney Islands Local Authority\"),$F223=1),0,IF(AND(OR($E$2=\"Shetland Health Board\",$E$2=\"Western Isles Health Board\",$E$2=\"Shetland Islands Local Authority\",$E$2=\"Eilean Siar Local Authority\"),OR($F223=1,$F223=5)),0,prem_mort(VALUE(LEFT(Options!$B$14,2)),$C223,$E223,$F223,2016,$I223+$J223,1,$H223,$G223*$H223,Options!$B$8)))","v":114.3770376137},298.85313232786967,298.52544138878739,7626.7316381541996,7618.3689657164487,21164.955850000002,21151.207121507803,298.85313232786967,298.52544138878739,1942545.3601311529,1940415.369027118,49573755.648002297,49519398.277156919,137572213.02500001,137482846.28980073,1942545.3601311529,1940415.369027118,6500]
[null,"Female 60-64",61.947387999999997,84.167389999999997,"female",5,{"$f":"HLOOKUP($E$2,'Prevalence Rates'!$C$3:$BC$249,'Prevalence Rates'!$BD224,FALSE)","v":0.10840000000000001},{"$f":"HLOOKUP($E$2,'Population 2016'!$C$3:$BC$249,'Population 2016'!BD224,FALSE)","v":33644},0,{"$f":"ROUND(0.807*(HLOOKUP($E$2,'Population at Risk'!$C$3:$BC$249,'Population at Risk'!$BD224,FALSE)),0)","v":2943},{"$f":"IF(AND(OR($E$2=\"Orkney Health Board\",$E$2=\"Orkney Islands Local Authority\"),$F224=1),0,IF(AND(OR($E$2=\"Shetland Health Board\",$E$2=\"Western Isles Health Board\",$E$2=\"Shetland Islands Local Authority\",$E$2=\"Eilean Siar Local Authority\"),OR($F224=1,$F224=5)),0,new_ci(VALUE(LEFT(Options!$B$14,2)),$C224,$E224,$F224,2016,$I224,1,$H224,$G224*$H224,Options!$B$8)))","v":153.63424864640001},{"$f":"IF(AND(OR($E$2=\"Orkney Health Board\",$E$2=\"Orkney Islands Local Authority\"),$F224=1),0,IF(AND(OR($E$2=\"Shetland Health Board\",$E$2=\"Western Isles Health Board\",$E$2=\"Shetland Islands Local Authority\",$E$2=\"Eilean Siar Local Authority\"),OR($F224=1,$F224=5)),0,new_ci(VALUE(LEFT(Options!$B$14,2)),$C224,$E224,$F224,2016,$I224+$J224,1,$H224,$G224*$H224,Options!$B$8)))","v":153.4661144678},{"$f":"IF(AND(OR($E$2=\"Orkney Health Board\",$E$2=\"Orkney Islands Local Authority\"),$F224=1),0,IF(AND(OR($E$2=\"Shetland Health Board\",$E$2=\"Western Isles Health Board\",$E$2=\"Shetland Islands Local Authority\",$E$2=\"Eilean Siar Local Authority\"),OR($F224=1,$F224=5)),0,new_yllv2(VALUE(LEFT(Options!$B$14,2)),$C224,$D224,$E224,$F224,2016,$I224,1,$H224,$G224*$H224,Options!$B$8)))","v":3260.1190635450998},{"$f":"IF(AND(OR($E$2=\"Orkney Health Board\",$E$2=\"Orkney Islands Local Authority\"),$F224=1),0,IF(AND(OR($E$2=\"Shetland Health Board\",$E$2=\"Western Isles Health Board\",$E$2=\"Shetland Islands Local Authority\",$E$2=\"Eilean Siar Local Authority\"),OR($F224=1,$F224=5)),0,new_yllv2(VALUE(LEFT(Options!$B$14,2)),$C224,$D224,$E224,$F224,2016,$I224+$J224,1,$H224,$G224*$H224,Options!$B$8)))","v":3256.5512559388999},{"$f":"IF(AND(OR($E$2=\"Orkney Health Board\",$E$2=\"Orkney Islands Local Authority\"),$F224=1),0,IF(AND(OR($E$2=\"Shetland Health Board\",$E$2=\"Western Isles Health Board\",$E$2=\"Shetland Islands Local Authority\",$E$2=\"Eilean Siar Local Authority\"),OR($F224=1,$F224=5)),0,hosp_count(VALUE(LEFT(Options!$B$14,2)),$C224,$E224,$F224,2016,$I224,1,$H224,$G224*$H224, Options!$B$8)))","v":8073.9077134924},{"$f":"IF(AND(OR($E$2=\"Orkney Health Board\",$E$2=\"Orkney Islands Local Authority\"),$F224=1),0,IF(AND(OR($E$2=\"Shetland Health Board\",$E$2=\"Western Isles Health Board\",$E$2=\"Shetland Islands Local Authority\",$E$2=\"Eilean Siar Local Authority\"),OR($F224=1,$F224=5)),0,hosp_count(VALUE(LEFT(Options!$B$14,2)),$C224,$E224,$F224,2016,$I224+$J224,1,$H224,$G224*$H224, Options!$B$8)))","v":8068.6636847870996},{"$f":"IF(AND(OR($E$2=\"Orkney Health Board\",$E$2=\"Orkney Islands Local Authority\"),$F224=1),0,IF(AND(OR($E$2=\"Shetland Health Board\",$E$2=\"Western Isles Health Board\",$E$2=\"Shetland Islands Local Authority\",$E$2=\"Eilean Siar Local Authority\"),OR($F224=1,$F224=5)),0,prem_mort(VALUE(LEFT(Options!$B$14,2)),$C224,$E224,$F224,2016,$I224,1,$H224,$G224*$H224,Options!$B$8)))","v":153.63424864640001},{"$f":"IF(AND(OR($E$2=\"Orkney Health Board\",$E$2=\"Orkney Islands Local Authority\"),$F224=1),0,IF(AND(OR($E$2=\"Shetland Health Board\",$E$2=\"Western Isles Health Board\",$E$2=\"Shetland Islands Local Authority\",$E$2=\"Eilean Siar Local Authority\"),OR($F224=1,$F224=5)),0,prem_mort(VALUE(LEFT(Options!$B$14,2)),$C224,$E224,$F224,2016,$I224+$J224,1,$H224,$G224*$H224,Options!$B$8)))","v":153.4661144678},456.64679778385454,456.14705287064555,9690.0459622669714,9679.441374209071,23998.06121,23982.474393018369,456.64679778385454,456.14705287064555,2739880.7867031274,2736882.3172238735,58140275.77360183,58076648.245254427,143988367.25999999,143894846.35811022,2739880.7867031274,2736882.3172238735,6000]
[null,"Female 65-69",67.063927000000007,85.193929999999995,"female",5,{"$f":"HLOOKUP($E$2,'Prevalence Rates'!$C$3:$BC$249,'Prevalence Rates'!$BD225,FALSE)","v":7.2599999999999998E-2},{"$f":"HLOOKUP($E$2,'Population 2016'!$C$3:$BC$249,'Population 2016'!BD225,FALSE)","v":33766},0,{"$f":"ROUND(0.807*(HLOOKUP($E$2,'Population at Risk'!$C$3:$BC$249,'Population at Risk'!$BD225,FALSE)),0)","v":1978},{"$f":"IF(AND(OR($E$2=\"Orkney Health Board\",$E$2=\"Orkney Islands Local Authority\"),$F225=1),0,IF(AND(OR($E$2=\"Shetland Health Board\",$E$2=\"Western Isles Health Board\",$E$2=\"Shetland Islands Local Authority\",$E$2=\"Eilean Siar Local Authority\"),OR($F225=1,$F225=5)),0,new_ci(VALUE(LEFT(Options!$B$14,2)),$C225,$E225,$F225,2016,$I225,1,$H225,$G225*$H225,Options!$B$8)))","v":237.96308208569999},{"$f":"IF(AND(OR($E$2=\"Orkney Health Board\",$E$2=\"Orkney Islands Local Authority\"),$F225=1),0,IF(AND(OR($E$2=\"Shetland Health Board\",$E$2=\"Western Isles Health Board\",$E$2=\"Shetland Islands Local Authority\",$E$2=\"Eilean Siar Local Authority\"),OR($F225=1,$F225=5)),0,new_ci(VALUE(LEFT(Options!$B$14,2)),$C225,$E225,$F225,2016,$I225+$J225,1,$H225,$G225*$H225,Options!$B$8)))","v":237.78453020149999},{"$f":"IF(AND(OR($E$2=\"Orkney Health Board\",$E$2=\"Orkney Islands Local Authority\"),$F225=1),0,IF(AND(OR($E$2=\"Shetland Health Board\",$E$2=\"Western Isles Health Board\",$E$2=\"Shetland Islands Local Authority\",$E$2=\"Eilean Siar Local Authority\"),OR($F225=1,$F225=5)),0,new_yllv2(VALUE(LEFT(Options!$B$14,2)),$C225,$D225,$E225,$F225,2016,$I225,1,$H225,$G225*$H225,Options!$B$8)))","v":4076.3083100172998},{"$f":"IF(AND(OR($E$2=\"Orkney Health Board\",$E$2=\"Orkney Islands Local Authority\"),$F225=1),0,IF(AND(OR($E$2=\"Shetland Health Board\",$E$2=\"Western Isles Health Board\",$E$2=\"Shetland Islands Local Authority\",$E$2=\"Eilean Siar Local Authority\"),OR($F225=1,$F225=5)),0,new_yllv2(VALUE(LEFT(Options!$B$14,2)),$C225,$D225,$E225,$F225,2016,$I225+$J225,1,$H225,$G225*$H225,Options!$B$8)))","v":4073.2497157052999},{"$f":"IF(AND(OR($E$2=\"Orkney Health Board\",$E$2=\"Orkney Islands Local Authority\"),$F225=1),0,IF(AND(OR($E$2=\"Shetland Health Board\",$E$2=\"Western Isles Health Board\",$E$2=\"Shetland Islands Local Authority\",$E$2=\"Eilean Siar Local Authority\"),OR($F225=1,$F225=5)),0,hosp_count(VALUE(LEFT(Options!$B$14,2)),$C225,$E225,$F225,2016,$I225,1,$H225,$G225*$H225, Options!$B$8)))","v":9216.1471731248002},{"$f":"IF(AND(OR($E$2=\"Orkney Health Board\",$E$2=\"Orkney Islands Local Authority\"),$F225=1),0,IF(AND(OR($E$2=\"Shetland Health Board\",$E$2=\"Western Isles Health Board\",$E$2=\"Shetland Islands Local Authority\",$E$2=\"Eilean Siar Local Authority\"),OR($F225=1,$F225=5)),0,hosp_count(VALUE(LEFT(Options!$B$14,2)),$C225,$E225,$F225,2016,$I225+$J225,1,$H225,$G225*$H225, Options!$B$8)))","v":9212.0626556879997},{"$f":"IF(AND(OR($E$2=\"Orkney Health Board\",$E$2=\"Orkney Islands Local Authority\"),$F225=1),0,IF(AND(OR($E$2=\"Shetland Health Board\",$E$2=\"Western Isles Health Board\",$E$2=\"Shetland Islands Local Authority\",$E$2=\"Eilean Siar Local Authority\"),OR($F225=1,$F225=5)),0,prem_mort(VALUE(LEFT(Options!$B$14,2)),$C225,$E225,$F225,2016,$I225,1,$H225,$G225*$H225,Options!$B$8)))","v":237.96308208569999},{"$f":"IF(AND(OR($E$2=\"Orkney Health Board\",$E$2=\"Orkney Islands Local Authority\"),$F225=1),0,IF(AND(OR($E$2=\"Shetland Health Board\",$E$2=\"Western Isles Health Board\",$E$2=\"Shetland Islands Local Authority\",$E$2=\"Eilean Siar Local Authority\"),OR($F225=1,$F225=5)),0,prem_mort(VALUE(LEFT(Options!$B$14,2)),$C225,$E225,$F225,2016,$I225+$J225,1,$H225,$G225*$H225,Options!$B$8)))","v":237.78453020149999},704.74169900402774,704.21290707072194,12072.227418164128,12063.169210760232,27294.163280000001,27282.06674076882,704.74169900402774,704.21290707072194,3876079.3445221526,3873170.9888889706,66397250.7999027,66347430.659181274,150117898.03999999,150051367.0742285,3876079.3445221526,3873170.9888889706,5500]
[null,"Female 70-74",71.938164,86.248159999999999,"female",5,{"$f":"HLOOKUP($E$2,'Prevalence Rates'!$C$3:$BC$249,'Prevalence Rates'!$BD226,FALSE)","v":7.2599999999999998E-2},{"$f":"HLOOKUP($E$2,'Population 2016'!$C$3:$BC$249,'Population 2016'!BD226,FALSE)","v":25722},0,{"$f":"ROUND(0.807*(HLOOKUP($E$2,'Population at Risk'!$C$3:$BC$249,'Population at Risk'!$BD226,FALSE)),0)","v":1507},{"$f":"IF(AND(OR($E$2=\"Orkney Health Board\",$E$2=\"Orkney Islands Local Authority\"),$F226=1),0,IF(AND(OR($E$2=\"Shetland Health Board\",$E$2=\"Western Isles Health Board\",$E$2=\"Shetland Islands Local Authority\",$E$2=\"Eilean Siar Local Authority\"),OR($F226=1,$F226=5)),0,new_ci(VALUE(LEFT(Options!$B$14,2)),$C226,$E226,$F226,2016,$I226,1,$H226,$G226*$H226,Options!$B$8)))","v":273.88260188850001},{"$f":"IF(AND(OR($E$2=\"Orkney Health Board\",$E$2=\"Orkney Islands Local Authority\"),$F226=1),0,IF(AND(OR($E$2=\"Shetland Health Board\",$E$2=\"Western Isles Health Board\",$E$2=\"Shetland Islands Local Authority\",$E$2=\"Eilean Siar Local Authority\"),OR($F226=1,$F226=5)),0,new_ci(VALUE(LEFT(Options!$B$14,2)),$C226,$E226,$F226,2016,$I226+$J226,1,$H226,$G226*$H226,Options!$B$8)))","v":273.67794586330001},{"$f":"IF(AND(OR($E$2=\"Orkney Health Board\",$E$2=\"Orkney Islands Local Authority\"),$F226=1),0,IF(AND(OR($E$2=\"Shetland Health Board\",$E$2=\"Western Isles Health Board\",$E$2=\"Shetland Islands Local Authority\",$E$2=\"Eilean Siar Local Authority\"),OR($F226=1,$F226=5)),0,new_yllv2(VALUE(LEFT(Options!$B$14,2)),$C226,$D226,$E226,$F226,2016,$I226,1,$H226,$G226*$H226,Options!$B$8)))","v":3645.3763356055001},{"$f":"IF(AND(OR($E$2=\"Orkney Health Board\",$E$2=\"Orkney Islands Local Authority\"),$F226=1),0,IF(AND(OR($E$2=\"Shetland Health Board\",$E$2=\"Western Isles Health Board\",$E$2=\"Shetland Islands Local Authority\",$E$2=\"Eilean Siar Local Authority\"),OR($F226=1,$F226=5)),0,new_yllv2(VALUE(LEFT(Options!$B$14,2)),$C226,$D226,$E226,$F226,2016,$I226+$J226,1,$H226,$G226*$H226,Options!$B$8)))","v":3642.6523647286999},{"$f":"IF(AND(OR($E$2=\"Orkney Health Board\",$E$2=\"Orkney Islands Local Authority\"),$F226=1),0,IF(AND(OR($E$2=\"Shetland Health Board\",$E$2=\"Western Isles Health Board\",$E$2=\"Shetland Islands Local Authority\",$E$2=\"Eilean Siar Local Authority\"),OR($F226=1,$F226=5)),0,hosp_count(VALUE(LEFT(Options!$B$14,2)),$C226,$E226,$F226,2016,$I226,1,$H226,$G226*$H226, Options!$B$8)))","v":7936.3573448597999},{"$f":"IF(AND(OR($E$2=\"Orkney Health Board\",$E$2=\"Orkney Islands Local Authority\"),$F226=1),0,IF(AND(OR($E$2=\"Shetland Health Board\",$E$2=\"Western Isles Health Board\",$E$2=\"Shetland Islands Local Authority\",$E$2=\"Eilean Siar Local Authority\"),OR($F226=1,$F226=5)),0,hosp_count(VALUE(LEFT(Options!$B$14,2)),$C226,$E226,$F226,2016,$I226+$J226,1,$H226,$G226*$H226, Options!$B$8)))","v":7932.8395183271004},{"$f":"IF(AND(OR($E$2=\"Orkney Health Board\",$E$2=\"Orkney Islands Local Authority\"),$F226=1),0,IF(AND(OR($E$2=\"Shetland Health Board\",$E$2=\"Western Isles Health Board\",$E$2=\"Shetland Islands Local Authority\",$E$2=\"Eilean Siar Local Authority\"),OR($F226=1,$F226=5)),0,prem_mort(VALUE(LEFT(Options!$B$14,2)),$C226,$E226,$F226,2016,$I226,1,$H226,$G226*$H226,Options!$B$8)))","v":273.88260188850001},{"$f":"IF(AND(OR($E$2=\"Orkney Health Board\",$E$2=\"Orkney Islands Local Authority\"),$F226=1),0,IF(AND(OR($E$2=\"Shetland Health Board\",$E$2=\"Western Isles Health Board\",$E$2=\"Shetland Islands Local Authority\",$E$2=\"Eilean Siar Local Authority\"),OR($F226=1,$F226=5)),0,prem_mort(VALUE(LEFT(Options!$B$14,2)),$C226,$E226,$F226,2016,$I226+$J226,1,$H226,$G226*$H226,Options!$B$8)))","v":273.67794586330001},1064.7795734721251,1063.9839276234352,14172.211863795585,14161.621820732058,30854.355590000003,30840.679256384032,1064.7795734721251,1063.9839276234352,5323897.8673606254,5319919.6381171755,70861059.318977922,70808109.103660285,154271777.95000002,154203396.28192016,5323897.8673606254,5319919.6381171755,5000]
[null,"Female 75-79",76.942824999999999,87.812830000000005,"female",5,{"$f":"HLOOKUP($E$2,'Prevalence Rates'!$C$3:$BC$249,'Prevalence Rates'!$BD227,FALSE)","v":5.0599999999999999E-2},{"$f":"HLOOKUP($E$2,'Population 2016'!$C$3:$BC$249,'Population 2016'!BD227,FALSE)","v":20290},0,{"$f":"ROUND(0.807*(HLOOKUP($E$2,'Population at Risk'!$C$3:$BC$249,'Population at Risk'!$BD227,FALSE)),0)","v":829},{"$f":"IF(AND(OR($E$2=\"Orkney Health Board\",$E$2=\"Orkney Islands Local Authority\"),$F227=1),0,IF(AND(OR($E$2=\"Shetland Health Board\",$E$2=\"Western Isles Health Board\",$E$2=\"Shetland Islands Local Authority\",$E$2=\"Eilean Siar Local Authority\"),OR($F227=1,$F227=5)),0,new_ci(VALUE(LEFT(Options!$B$14,2)),$C227,$E227,$F227,2016,$I227,1,$H227,$G227*$H227,Options!$B$8)))","v":329.73504543069998},{"$f":"IF(AND(OR($E$2=\"Orkney Health Board\",$E$2=\"Orkney Islands Local Authority\"),$F227=1),0,IF(AND(OR($E$2=\"Shetland Health Board\",$E$2=\"Western Isles Health Board\",$E$2=\"Shetland Islands Local Authority\",$E$2=\"Eilean Siar Local Authority\"),OR($F227=1,$F227=5)),0,new_ci(VALUE(LEFT(Options!$B$14,2)),$C227,$E227,$F227,2016,$I227+$J227,1,$H227,$G227*$H227,Options!$B$8)))","v":329.56157295280002},{"$f":"IF(AND(OR($E$2=\"Orkney Health Board\",$E$2=\"Orkney Islands Local Authority\"),$F227=1),0,IF(AND(OR($E$2=\"Shetland Health Board\",$E$2=\"Western Isles Health Board\",$E$2=\"Shetland Islands Local Authority\",$E$2=\"Eilean Siar Local Authority\"),OR($F227=1,$F227=5)),0,new_yllv2(VALUE(LEFT(Options!$B$14,2)),$C227,$D227,$E227,$F227,2016,$I227,1,$H227,$G227*$H227,Options!$B$8)))","v":3254.4865470762002},{"$f":"IF(AND(OR($E$2=\"Orkney Health Board\",$E$2=\"Orkney Islands Local Authority\"),$F227=1),0,IF(AND(OR($E$2=\"Shetland Health Board\",$E$2=\"Western Isles Health Board\",$E$2=\"Shetland Islands Local Authority\",$E$2=\"Eilean Siar Local Authority\"),OR($F227=1,$F227=5)),0,new_yllv2(VALUE(LEFT(Options!$B$14,2)),$C227,$D227,$E227,$F227,2016,$I227+$J227,1,$H227,$G227*$H227,Options!$B$8)))","v":3252.7743728519999},{"$f":"IF(AND(OR($E$2=\"Orkney Health Board\",$E$2=\"Orkney Islands Local Authority\"),$F227=1),0,IF(AND(OR($E$2=\"Shetland Health Board\",$E$2=\"Western Isles Health Board\",$E$2=\"Shetland Islands Local Authority\",$E$2=\"Eilean Siar Local Authority\"),OR($F227=1,$F227=5)),0,hosp_count(VALUE(LEFT(Options!$B$14,2)),$C227,$E227,$F227,2016,$I227,1,$H227,$G227*$H227, Options!$B$8)))","v":7100.1902926740004},{"$f":"IF(AND(OR($E$2=\"Orkney Health Board\",$E$2=\"Orkney Islands Local Authority\"),$F227=1),0,IF(AND(OR($E$2=\"Shetland Health Board\",$E$2=\"Western Isles Health Board\",$E$2=\"Shetland Islands Local Authority\",$E$2=\"Eilean Siar Local Authority\"),OR($F227=1,$F227=5)),0,hosp_count(VALUE(LEFT(Options!$B$14,2)),$C227,$E227,$F227,2016,$I227+$J227,1,$H227,$G227*$H227, Options!$B$8)))","v":7097.9696944731004},{"$f":"IF(AND(OR($E$2=\"Orkney Health Board\",$E$2=\"Orkney Islands Local Authority\"),$F227=1),0,IF(AND(OR($E$2=\"Shetland Health Board\",$E$2=\"Western Isles Health Board\",$E$2=\"Shetland Islands Local Authority\",$E$2=\"Eilean Siar Local Authority\"),OR($F227=1,$F227=5)),0,prem_mort(VALUE(LEFT(Options!$B$14,2)),$C227,$E227,$F227,2016,$I227,1,$H227,$G227*$H227,Options!$B$8)))","v":0},{"$f":"IF(AND(OR($E$2=\"Orkney Health Board\",$E$2=\"Orkney Islands Local Authority\"),$F227=1),0,IF(AND(OR($E$2=\"Shetland Health Board\",$E$2=\"Western Isles Health Board\",$E$2=\"Shetland Islands Local Authority\",$E$2=\"Eilean Siar Local Authority\"),OR($F227=1,$F227=5)),0,prem_mort(VALUE(LEFT(Options!$B$14,2)),$C227,$E227,$F227,2016,$I227+$J227,1,$H227,$G227*$H227,Options!$B$8)))","v":0},1625.1111159719073,1624.2561505805816,16039.854840198128,16031.41632751109,34993.545060000004,34982.60076132627,0,0,6500444.4638876291,6497024.602322326,64159419.36079251,64125665.310044356,139974180.24000001,139930403.04530507,0,0,4000]
[null,"Female 80-84",81.856712000000002,89.736710000000002,"female",5,{"$f":"HLOOKUP($E$2,'Prevalence Rates'!$C$3:$BC$249,'Prevalence Rates'!$BD228,FALSE)","v":5.0599999999999999E-2},{"$f":"HLOOKUP($E$2,'Population 2016'!$C$3:$BC$249,'Population 2016'!BD228,FALSE)","v":15640},0,{"$f":"ROUND(0.807*(HLOOKUP($E$2,'Population at Risk'!$C$3:$BC$249,'Population at Risk'!$BD228,FALSE)),0)","v":639},{"$f":"IF(AND(OR($E$2=\"Orkney Health Board\",$E$2=\"Orkney Islands Local Authority\"),$F228=1),0,IF(AND(OR($E$2=\"Shetland Health Board\",$E$2=\"Western Isles Health Board\",$E$2=\"Shetland Islands Local Authority\",$E$2=\"Eilean Siar Local Authority\"),OR($F228=1,$F228=5)),0,new_ci(VALUE(LEFT(Options!$B$14,2)),$C228,$E228,$F228,2016,$I228,1,$H228,$G228*$H228,Options!$B$8)))","v":384.36259439399998},{"$f":"IF(AND(OR($E$2=\"Orkney Health Board\",$E$2=\"Orkney Islands Local Authority\"),$F228=1),0,IF(AND(OR($E$2=\"Shetland Health Board\",$E$2=\"Western Isles Health Board\",$E$2=\"Shetland Islands Local Authority\",$E$2=\"Eilean Siar Local Authority\"),OR($F228=1,$F228=5)),0,new_ci(VALUE(LEFT(Options!$B$14,2)),$C228,$E228,$F228,2016,$I228+$J228,1,$H228,$G228*$H228,Options!$B$8)))","v":384.16245857159998},{"$f":"IF(AND(OR($E$2=\"Orkney Health Board\",$E$2=\"Orkney Islands Local Authority\"),$F228=1),0,IF(AND(OR($E$2=\"Shetland Health Board\",$E$2=\"Western Isles Health Board\",$E$2=\"Shetland Islands Local Authority\",$E$2=\"Eilean Siar Local Authority\"),OR($F228=1,$F228=5)),0,new_yllv2(VALUE(LEFT(Options!$B$14,2)),$C228,$D228,$E228,$F228,2016,$I228,1,$H228,$G228*$H228,Options!$B$8)))","v":2644.4138807055001},{"$f":"IF(AND(OR($E$2=\"Orkney Health Board\",$E$2=\"Orkney Islands Local Authority\"),$F228=1),0,IF(AND(OR($E$2=\"Shetland Health Board\",$E$2=\"Western Isles Health Board\",$E$2=\"Shetland Islands Local Authority\",$E$2=\"Eilean Siar Local Authority\"),OR($F228=1,$F228=5)),0,new_yllv2(VALUE(LEFT(Options!$B$14,2)),$C228,$D228,$E228,$F228,2016,$I228+$J228,1,$H228,$G228*$H228,Options!$B$8)))","v":2643.0369466477},{"$f":"IF(AND(OR($E$2=\"Orkney Health Board\",$E$2=\"Orkney Islands Local Authority\"),$F228=1),0,IF(AND(OR($E$2=\"Shetland Health Board\",$E$2=\"Western Isles Health Board\",$E$2=\"Shetland Islands Local Authority\",$E$2=\"Eilean Siar Local Authority\"),OR($F228=1,$F228=5)),0,hosp_count(VALUE(LEFT(Options!$B$14,2)),$C228,$E228,$F228,2016,$I228,1,$H228,$G228*$H228, Options!$B$8)))","v":6193.0491423240001},{"$f":"IF(AND(OR($E$2=\"Orkney Health Board\",$E$2=\"Orkney Islands Local Authority\"),$F228=1),0,IF(AND(OR($E$2=\"Shetland Health Board\",$E$2=\"Western Isles Health Board\",$E$2=\"Shetland Islands Local Authority\",$E$2=\"Eilean Siar Local Authority\"),OR($F228=1,$F228=5)),0,hosp_count(VALUE(LEFT(Options!$B$14,2)),$C228,$E228,$F228,2016,$I228+$J228,1,$H228,$G228*$H228, Options!$B$8)))","v":6191.1122916826998},{"$f":"IF(AND(OR($E$2=\"Orkney Health Board\",$E$2=\"Orkney Islands Local Authority\"),$F228=1),0,IF(AND(OR($E$2=\"Shetland Health Board\",$E$2=\"Western Isles Health Board\",$E$2=\"Shetland Islands Local Authority\",$E$2=\"Eilean Siar Local Authority\"),OR($F228=1,$F228=5)),0,prem_mort(VALUE(LEFT(Options!$B$14,2)),$C228,$E228,$F228,2016,$I228,1,$H228,$G228*$H228,Options!$B$8)))","v":0},{"$f":"IF(AND(OR($E$2=\"Orkney Health Board\",$E$2=\"Orkney Islands Local Authority\"),$F228=1),0,IF(AND(OR($E$2=\"Shetland Health Board\",$E$2=\"Western Isles Health Board\",$E$2=\"Shetland Islands Local Authority\",$E$2=\"Eilean Siar Local Authority\"),OR($F228=1,$F228=5)),0,prem_mort(VALUE(LEFT(Options!$B$14,2)),$C228,$E228,$F228,2016,$I228+$J228,1,$H228,$G228*$H228,Options!$B$8)))","v":0},2457.5613452301786,2456.2817044219951,16908.017140060743,16899.213213859974,39597.500910000002,39585.116954492965,0,0,6143903.3630754463,6140704.261054988,42270042.850151859,42248033.034649931,98993752.275000006,98962792.386232406,0,0,2500]
[null,"Female 85-89",86.730819999999994,92.220819999999989,"female",5,{"$f":"HLOOKUP($E$2,'Prevalence Rates'!$C$3:$BC$249,'Prevalence Rates'!$BD229,FALSE)","v":5.0599999999999999E-2},{"$f":"HLOOKUP($E$2,'Population 2016'!$C$3:$BC$249,'Population 2016'!BD229,FALSE)","v":9964},0,{"$f":"ROUND(0.807*(HLOOKUP($E$2,'Population at Risk'!$C$3:$BC$249,'Population at Risk'!$BD229,FALSE)),0)","v":407},{"$f":"IF(AND(OR($E$2=\"Orkney Health Board\",$E$2=\"Orkney Islands Local Authority\"),$F229=1),0,IF(AND(OR($E$2=\"Shetland Health Board\",$E$2=\"Western Isles Health Board\",$E$2=\"Shetland Islands Local Authority\",$E$2=\"Eilean Siar Local Authority\"),OR($F229=1,$F229=5)),0,new_ci(VALUE(LEFT(Options!$B$14,2)),$C229,$E229,$F229,2016,$I229,1,$H229,$G229*$H229,Options!$B$8)))","v":368.25056848790001},{"$f":"IF(AND(OR($E$2=\"Orkney Health Board\",$E$2=\"Orkney Islands Local Authority\"),$F229=1),0,IF(AND(OR($E$2=\"Shetland Health Board\",$E$2=\"Western Isles Health Board\",$E$2=\"Shetland Islands Local Authority\",$E$2=\"Eilean Siar Local Authority\"),OR($F229=1,$F229=5)),0,new_ci(VALUE(LEFT(Options!$B$14,2)),$C229,$E229,$F229,2016,$I229+$J229,1,$H229,$G229*$H229,Options!$B$8)))","v":368.06181686550002},{"$f":"IF(AND(OR($E$2=\"Orkney Health Board\",$E$2=\"Orkney Islands Local Authority\"),$F229=1),0,IF(AND(OR($E$2=\"Shetland Health Board\",$E$2=\"Western Isles Health Board\",$E$2=\"Shetland Islands Local Authority\",$E$2=\"Eilean Siar Local Authority\"),OR($F229=1,$F229=5)),0,new_yllv2(VALUE(LEFT(Options!$B$14,2)),$C229,$D229,$E229,$F229,2016,$I229,1,$H229,$G229*$H229,Options!$B$8)))","v":1653.4450525107},{"$f":"IF(AND(OR($E$2=\"Orkney Health Board\",$E$2=\"Orkney Islands Local Authority\"),$F229=1),0,IF(AND(OR($E$2=\"Shetland Health Board\",$E$2=\"Western Isles Health Board\",$E$2=\"Shetland Islands Local Authority\",$E$2=\"Eilean Siar Local Authority\"),OR($F229=1,$F229=5)),0,new_yllv2(VALUE(LEFT(Options!$B$14,2)),$C229,$D229,$E229,$F229,2016,$I229+$J229,1,$H229,$G229*$H229,Options!$B$8)))","v":1652.5975577260999},{"$f":"IF(AND(OR($E$2=\"Orkney Health Board\",$E$2=\"Orkney Islands Local Authority\"),$F229=1),0,IF(AND(OR($E$2=\"Shetland Health Board\",$E$2=\"Western Isles Health Board\",$E$2=\"Shetland Islands Local Authority\",$E$2=\"Eilean Siar Local Authority\"),OR($F229=1,$F229=5)),0,hosp_count(VALUE(LEFT(Options!$B$14,2)),$C229,$E229,$F229,2016,$I229,1,$H229,$G229*$H229, Options!$B$8)))","v":4460.1224511456003},{"$f":"IF(AND(OR($E$2=\"Orkney Health Board\",$E$2=\"Orkney Islands Local Authority\"),$F229=1),0,IF(AND(OR($E$2=\"Shetland Health Board\",$E$2=\"Western Isles Health Board\",$E$2=\"Shetland Islands Local Authority\",$E$2=\"Eilean Siar Local Authority\"),OR($F229=1,$F229=5)),0,hosp_count(VALUE(LEFT(Options!$B$14,2)),$C229,$E229,$F229,2016,$I229+$J229,1,$H229,$G229*$H229, Options!$B$8)))","v":4458.7278983079996},{"$f":"IF(AND(OR($E$2=\"Orkney Health Board\",$E$2=\"Orkney Islands Local Authority\"),$F229=1),0,IF(AND(OR($E$2=\"Shetland Health Board\",$E$2=\"Western Isles Health Board\",$E$2=\"Shetland Islands Local Authority\",$E$2=\"Eilean Siar Local Authority\"),OR($F229=1,$F229=5)),0,prem_mort(VALUE(LEFT(Options!$B$14,2)),$C229,$E229,$F229,2016,$I229,1,$H229,$G229*$H229,Options!$B$8)))","v":0},{"$f":"IF(AND(OR($E$2=\"Orkney Health Board\",$E$2=\"Orkney Islands Local Authority\"),$F229=1),0,IF(AND(OR($E$2=\"Shetland Health Board\",$E$2=\"Western Isles Health Board\",$E$2=\"Shetland Islands Local Authority\",$E$2=\"Eilean Siar Local Authority\"),OR($F229=1,$F229=5)),0,prem_mort(VALUE(LEFT(Options!$B$14,2)),$C229,$E229,$F229,2016,$I229+$J229,1,$H229,$G229*$H229,Options!$B$8)))","v":0},3695.8106030499803,3693.9162672169809,16594.189607694701,16585.684039804295,44762.369039999998,44748.373126334802,0,0,5543715.9045749707,5540874.4008254716,24891284.411542051,24878526.059706442,67143553.560000002,67122559.689502209,0,0,1500]
[null,"Female 90+",92.779342999999997,96.279340000000005,"female",5,{"$f":"HLOOKUP($E$2,'Prevalence Rates'!$C$3:$BC$249,'Prevalence Rates'!$BD230,FALSE)","v":5.0599999999999999E-2},{"$f":"HLOOKUP($E$2,'Population 2016'!$C$3:$BC$249,'Population 2016'!BD230,FALSE)","v":6057},0,{"$f":"ROUND(0.807*(HLOOKUP($E$2,'Population at Risk'!$C$3:$BC$249,'Population at Risk'!$BD230,FALSE)),0)","v":247},{"$f":"IF(AND(OR($E$2=\"Orkney Health Board\",$E$2=\"Orkney Islands Local Authority\"),$F230=1),0,IF(AND(OR($E$2=\"Shetland Health Board\",$E$2=\"Western Isles Health Board\",$E$2=\"Shetland Islands Local Authority\",$E$2=\"Eilean Siar Local Authority\"),OR($F230=1,$F230=5)),0,new_ci(VALUE(LEFT(Options!$B$14,2)),$C230,$E230,$F230,2016,$I230,1,$H230,$G230*$H230,Options!$B$8)))","v":369.64798685220001},{"$f":"IF(AND(OR($E$2=\"Orkney Health Board\",$E$2=\"Orkney Islands Local Authority\"),$F230=1),0,IF(AND(OR($E$2=\"Shetland Health Board\",$E$2=\"Western Isles Health Board\",$E$2=\"Shetland Islands Local Authority\",$E$2=\"Eilean Siar Local Authority\"),OR($F230=1,$F230=5)),0,new_ci(VALUE(LEFT(Options!$B$14,2)),$C230,$E230,$F230,2016,$I230+$J230,1,$H230,$G230*$H230,Options!$B$8)))","v":369.46456714689998},{"$f":"IF(AND(OR($E$2=\"Orkney Health Board\",$E$2=\"Orkney Islands Local Authority\"),$F230=1),0,IF(AND(OR($E$2=\"Shetland Health Board\",$E$2=\"Western Isles Health Board\",$E$2=\"Shetland Islands Local Authority\",$E$2=\"Eilean Siar Local Authority\"),OR($F230=1,$F230=5)),0,new_yllv2(VALUE(LEFT(Options!$B$14,2)),$C230,$D230,$E230,$F230,2016,$I230,1,$H230,$G230*$H230,Options!$B$8)))","v":924.11885818650001},{"$f":"IF(AND(OR($E$2=\"Orkney Health Board\",$E$2=\"Orkney Islands Local Authority\"),$F230=1),0,IF(AND(OR($E$2=\"Shetland Health Board\",$E$2=\"Western Isles Health Board\",$E$2=\"Shetland Islands Local Authority\",$E$2=\"Eilean Siar Local Authority\"),OR($F230=1,$F230=5)),0,new_yllv2(VALUE(LEFT(Options!$B$14,2)),$C230,$D230,$E230,$F230,2016,$I230+$J230,1,$H230,$G230*$H230,Options!$B$8)))","v":923.66030947360002},{"$f":"IF(AND(OR($E$2=\"Orkney Health Board\",$E$2=\"Orkney Islands Local Authority\"),$F230=1),0,IF(AND(OR($E$2=\"Shetland Health Board\",$E$2=\"Western Isles Health Board\",$E$2=\"Shetland Islands Local Authority\",$E$2=\"Eilean Siar Local Authority\"),OR($F230=1,$F230=5)),0,hosp_count(VALUE(LEFT(Options!$B$14,2)),$C230,$E230,$F230,2016,$I230,1,$H230,$G230*$H230, Options!$B$8)))","v":3156.7875870779999},{"$f":"IF(AND(OR($E$2=\"Orkney Health Board\",$E$2=\"Orkney Islands Local Authority\"),$F230=1),0,IF(AND(OR($E$2=\"Shetland Health Board\",$E$2=\"Western Isles Health Board\",$E$2=\"Shetland Islands Local Authority\",$E$2=\"Eilean Siar Local Authority\"),OR($F230=1,$F230=5)),0,hosp_count(VALUE(LEFT(Options!$B$14,2)),$C230,$E230,$F230,2016,$I230+$J230,1,$H230,$G230*$H230, Options!$B$8)))","v":3155.8021878029999},{"$f":"IF(AND(OR($E$2=\"Orkney Health Board\",$E$2=\"Orkney Islands Local Authority\"),$F230=1),0,IF(AND(OR($E$2=\"Shetland Health Board\",$E$2=\"Western Isles Health Board\",$E$2=\"Shetland Islands Local Authority\",$E$2=\"Eilean Siar Local Authority\"),OR($F230=1,$F230=5)),0,prem_mort(VALUE(LEFT(Options!$B$14,2)),$C230,$E230,$F230,2016,$I230,1,$H230,$G230*$H230,Options!$B$8)))","v":0},{"$f":"IF(AND(OR($E$2=\"Orkney Health Board\",$E$2=\"Orkney Islands Local Authority\"),$F230=1),0,IF(AND(OR($E$2=\"Shetland Health Board\",$E$2=\"Western Isles Health Board\",$E$2=\"Shetland Islands Local Authority\",$E$2=\"Eilean Siar Local Authority\"),OR($F230=1,$F230=5)),0,prem_mort(VALUE(LEFT(Options!$B$14,2)),$C230,$E230,$F230,2016,$I230+$J230,1,$H230,$G230*$H230,Options!$B$8)))","v":0},6102.8229627241217,6099.7947357916464,15257.039098340763,15249.468540095759,52118.005399999995,52101.736632045569,0,0,6102822.9627241213,6099794.7357916469,15257039.098340763,15249468.54009576,52118005.399999991,52101736.632045567,0,0,1000]
[null,"Male 0-4",2.0320822999999999,77.402082000000007,"male",5,{"$f":"HLOOKUP($E$2,'Prevalence Rates'!$C$3:$BC$249,'Prevalence Rates'!$BD231,FALSE)","v":0},{"$f":"HLOOKUP($E$2,'Population 2016'!$C$3:$BC$249,'Population 2016'!BD231,FALSE)","v":0},0,{"$f":"ROUND(0.807*(HLOOKUP($E$2,'Population at Risk'!$C$3:$BC$249,'Population at Risk'!$BD231,FALSE)),0)","v":0},{"$f":"IF(AND(OR($E$2=\"Orkney Health Board\",$E$2=\"Orkney Islands Local Authority\"),$F231=1),0,IF(AND(OR($E$2=\"Shetland Health Board\",$E$2=\"Western Isles Health Board\",$E$2=\"Shetland Islands Local Authority\",$E$2=\"Eilean Siar Local Authority\"),OR($F231=1,$F231=5)),0,new_ci(VALUE(LEFT(Options!$B$14,2)),$C231,$E231,$F231,2016,$I231,1,$H231,$G231*$H231,Options!$B$8)))","v":{"$error":"#VALUE!"}},{"$f":"IF(AND(OR($E$2=\"Orkney Health Board\",$E$2=\"Orkney Islands Local Authority\"),$F231=1),0,IF(AND(OR($E$2=\"Shetland Health Board\",$E$2=\"Western Isles Health Board\",$E$2=\"Shetland Islands Local Authority\",$E$2=\"Eilean Siar Local Authority\"),OR($F231=1,$F231=5)),0,new_ci(VALUE(LEFT(Options!$B$14,2)),$C231,$E231,$F231,2016,$I231+$J231,1,$H231,$G231*$H231,Options!$B$8)))","v":{"$error":"#VALUE!"}},{"$f":"IF(AND(OR($E$2=\"Orkney Health Board\",$E$2=\"Orkney Islands Local Authority\"),$F231=1),0,IF(AND(OR($E$2=\"Shetland Health Board\",$E$2=\"Western Isles Health Board\",$E$2=\"Shetland Islands Local Authority\",$E$2=\"Eilean Siar Local Authority\"),OR($F231=1,$F231=5)),0,new_yllv2(VALUE(LEFT(Options!$B$14,2)),$C231,$D231,$E231,$F231,2016,$I231,1,$H231,$G231*$H231,Options!$B$8)))","v":{"$error":"#VALUE!"}},{"$f":"IF(AND(OR($E$2=\"Orkney Health Board\",$E$2=\"Orkney Islands Local Authority\"),$F231=1),0,IF(AND(OR($E$2=\"Shetland Health Board\",$E$2=\"Western Isles Health Board\",$E$2=\"Shetland Islands Local Authority\",$E$2=\"Eilean Siar Local Authority\"),OR($F231=1,$F231=5)),0,new_yllv2(VALUE(LEFT(Options!$B$14,2)),$C231,$D231,$E231,$F231,2016,$I231+$J231,1,$H231,$G231*$H231,Options!$B$8)))","v":{"$error":"#VALUE!"}},{"$f":"IF(AND(OR($E$2=\"Orkney Health Board\",$E$2=\"Orkney Islands Local Authority\"),$F231=1),0,IF(AND(OR($E$2=\"Shetland Health Board\",$E$2=\"Western Isles Health Board\",$E$2=\"Shetland Islands Local Authority\",$E$2=\"Eilean Siar Local Authority\"),OR($F231=1,$F231=5)),0,hosp_count(VALUE(LEFT(Options!$B$14,2)),$C231,$E231,$F231,2016,$I231,1,$H231,$G231*$H231, Options!$B$8)))","v":{"$error":"#VALUE!"}},{"$f":"IF(AND(OR($E$2=\"Orkney Health Board\",$E$2=\"Orkney Islands Local Authority\"),$F231=1),0,IF(AND(OR($E$2=\"Shetland Health Board\",$E$2=\"Western Isles Health Board\",$E$2=\"Shetland Islands Local Authority\",$E$2=\"Eilean Siar Local Authority\"),OR($F231=1,$F231=5)),0,hosp_count(VALUE(LEFT(Options!$B$14,2)),$C231,$E231,$F231,2016,$I231+$J231,1,$H231,$G231*$H231, Options!$B$8)))","v":{"$error":"#VALUE!"}},{"$f":"IF(AND(OR($E$2=\"Orkney Health Board\",$E$2=\"Orkney Islands Local Authority\"),$F231=1),0,IF(AND(OR($E$2=\"Shetland Health Board\",$E$2=\"Western Isles Health Board\",$E$2=\"Shetland Islands Local Authority\",$E$2=\"Eilean Siar Local Authority\"),OR($F231=1,$F231=5)),0,prem_mort(VALUE(LEFT(Options!$B$14,2)),$C231,$E231,$F231,2016,$I231,1,$H231,$G231*$H231,Options!$B$8)))","v":{"$error":"#VALUE!"}},{"$f":"IF(AND(OR($E$2=\"Orkney Health Board\",$E$2=\"Orkney Islands Local Authority\"),$F231=1),0,IF(AND(OR($E$2=\"Shetland Health Board\",$E$2=\"Western Isles Health Board\",$E$2=\"Shetland Islands Local Authority\",$E$2=\"Eilean Siar Local Authority\"),OR($F231=1,$F231=5)),0,prem_mort(VALUE(LEFT(Options!$B$14,2)),$C231,$E231,$F231,2016,$I231+$J231,1,$H231,$G231*$H231,Options!$B$8)))","v":{"$error":"#VALUE!"}},{"$error":"#VALUE!"},{"$error":"#VALUE!"},{"$error":"#VALUE!"},{"$error":"#VALUE!"},{"$error":"#VALUE!"},{"$error":"#VALUE!"},{"$error":"#VALUE!"},{"$error":"#VALUE!"},{"$error":"#VALUE!"},{"$error":"#VALUE!"},{"$error":"#VALUE!"},{"$error":"#VALUE!"},{"$error":"#VALUE!"},{"$error":"#VALUE!"},{"$error":"#VALUE!"},{"$error":"#VALUE!"},5000]
[null,"Male 5-9",6.9784756000000003,77.398476000000002,"male",5,{"$f":"HLOOKUP($E$2,'Prevalence Rates'!$C$3:$BC$249,'Prevalence Rates'!$BD232,FALSE)","v":0},{"$f":"HLOOKUP($E$2,'Population 2016'!$C$3:$BC$249,'Population 2016'!BD232,FALSE)","v":0},0,{"$f":"ROUND(0.807*(HLOOKUP($E$2,'Population at Risk'!$C$3:$BC$249,'Population at Risk'!$BD232,FALSE)),0)","v":0},{"$f":"IF(AND(OR($E$2=\"Orkney Health Board\",$E$2=\"Orkney Islands Local Authority\"),$F232=1),0,IF(AND(OR($E$2=\"Shetland Health Board\",$E$2=\"Western Isles Health Board\",$E$2=\"Shetland Islands Local Authority\",$E$2=\"Eilean Siar Local Authority\"),OR($F232=1,$F232=5)),0,new_ci(VALUE(LEFT(Options!$B$14,2)),$C232,$E232,$F232,2016,$I232,1,$H232,$G232*$H232,Options!$B$8)))","v":{"$error":"#VALUE!"}},{"$f":"IF(AND(OR($E$2=\"Orkney Health Board\",$E$2=\"Orkney Islands Local Authority\"),$F232=1),0,IF(AND(OR($E$2=\"Shetland Health Board\",$E$2=\"Western Isles Health Board\",$E$2=\"Shetland Islands Local Authority\",$E$2=\"Eilean Siar Local Authority\"),OR($F232=1,$F232=5)),0,new_ci(VALUE(LEFT(Options!$B$14,2)),$C232,$E232,$F232,2016,$I232+$J232,1,$H232,$G232*$H232,Options!$B$8)))","v":{"$error":"#VALUE!"}},{"$f":"IF(AND(OR($E$2=\"Orkney Health Board\",$E$2=\"Orkney Islands Local Authority\"),$F232=1),0,IF(AND(OR($E$2=\"Shetland Health Board\",$E$2=\"Western Isles Health Board\",$E$2=\"Shetland Islands Local Authority\",$E$2=\"Eilean Siar Local Authority\"),OR($F232=1,$F232=5)),0,new_yllv2(VALUE(LEFT(Options!$B$14,2)),$C232,$D232,$E232,$F232,2016,$I232,1,$H232,$G232*$H232,Options!$B$8)))","v":{"$error":"#VALUE!"}},{"$f":"IF(AND(OR($E$2=\"Orkney Health Board\",$E$2=\"Orkney Islands Local Authority\"),$F232=1),0,IF(AND(OR($E$2=\"Shetland Health Board\",$E$2=\"Western Isles Health Board\",$E$2=\"Shetland Islands Local Authority\",$E$2=\"Eilean Siar Local Authority\"),OR($F232=1,$F232=5)),0,new_yllv2(VALUE(LEFT(Options!$B$14,2)),$C232,$D232,$E232,$F232,2016,$I232+$J232,1,$H232,$G232*$H232,Options!$B$8)))","v":{"$error":"#VALUE!"}},{"$f":"IF(AND(OR($E$2=\"Orkney Health Board\",$E$2=\"Orkney Islands Local Authority\"),$F232=1),0,IF(AND(OR($E$2=\"Shetland Health Board\",$E$2=\"Western Isles Health Board\",$E$2=\"Shetland Islands Local Authority\",$E$2=\"Eilean Siar Local Authority\"),OR($F232=1,$F232=5)),0,hosp_count(VALUE(LEFT(Options!$B$14,2)),$C232,$E232,$F232,2016,$I232,1,$H232,$G232*$H232, Options!$B$8)))","v":{"$error":"#VALUE!"}},{"$f":"IF(AND(OR($E$2=\"Orkney Health Board\",$E$2=\"Orkney Islands Local Authority\"),$F232=1),0,IF(AND(OR($E$2=\"Shetland Health Board\",$E$2=\"Western Isles Health Board\",$E$2=\"Shetland Islands Local Authority\",$E$2=\"Eilean Siar Local Authority\"),OR($F232=1,$F232=5)),0,hosp_count(VALUE(LEFT(Options!$B$14,2)),$C232,$E232,$F232,2016,$I232+$J232,1,$H232,$G232*$H232, Options!$B$8)))","v":{"$error":"#VALUE!"}},{"$f":"IF(AND(OR($E$2=\"Orkney Health Board\",$E$2=\"Orkney Islands Local Authority\"),$F232=1),0,IF(AND(OR($E$2=\"Shetland Health Board\",$E$2=\"Western Isles Health Board\",$E$2=\"Shetland Islands Local Authority\",$E$2=\"Eilean Siar Local Authority\"),OR($F232=1,$F232=5)),0,prem_mort(VALUE(LEFT(Options!$B$14,2)),$C232,$E232,$F232,2016,$I232,1,$H232,$G232*$H232,Options!$B$8)))","v":{"$error":"#VALUE!"}},{"$f":"IF(AND(OR($E$2=\"Orkney Health Board\",$E$2=\"Orkney Islands Local Authority\"),$F232=1),0,IF(AND(OR($E$2=\"Shetland Health Board\",$E$2=\"Western Isles Health Board\",$E$2=\"Shetland Islands Local Authority\",$E$2=\"Eilean Siar Local Authority\"),OR($F232=1,$F232=5)),0,prem_mort(VALUE(LEFT(Options!$B$14,2)),$C232,$E232,$F232,2016,$I232+$J232,1,$H232,$G232*$H232,Options!$B$8)))","v":{"$error":"#VALUE!"}},{"$error":"#VALUE!"},{"$error":"#VALUE!"},{"$error":"#VALUE!"},{"$error":"#VALUE!"},{"$error":"#VALUE!"},{"$error":"#VALUE!"},{"$error":"#VALUE!"},{"$error":"#VALUE!"},{"$error":"#VALUE!"},{"$error":"#VALUE!"},{"$error":"#VALUE!"},{"$error":"#VALUE!"},{"$error":"#VALUE!"},{"$error":"#VALUE!"},{"$error":"#VALUE!"},{"$error":"#VALUE!"},5500]
[null,"Male 10-15",12.471144000000001,77.921140000000008,"male",5,{"$f":"HLOOKUP($E$2,'Prevalence Rates'!$C$3:$BC$249,'Prevalence Rates'!$BD233,FALSE)","v":0},{"$f":"HLOOKUP($E$2,'Population 2016'!$C$3:$BC$249,'Population 2016'!BD233,FALSE)","v":0},0,{"$f":"ROUND(0.807*(HLOOKUP($E$2,'Population at Risk'!$C$3:$BC$249,'Population at Risk'!$BD233,FALSE)),0)","v":0},{"$f":"IF(AND(OR($E$2=\"Orkney Health Board\",$E$2=\"Orkney Islands Local Authority\"),$F233=1),0,IF(AND(OR($E$2=\"Shetland Health Board\",$E$2=\"Western Isles Health Board\",$E$2=\"Shetland Islands Local Authority\",$E$2=\"Eilean Siar Local Authority\"),OR($F233=1,$F233=5)),0,new_ci(VALUE(LEFT(Options!$B$14,2)),$C233,$E233,$F233,2016,$I233,1,$H233,$G233*$H233,Options!$B$8)))","v":{"$error":"#VALUE!"}},{"$f":"IF(AND(OR($E$2=\"Orkney Health Board\",$E$2=\"Orkney Islands Local Authority\"),$F233=1),0,IF(AND(OR($E$2=\"Shetland Health Board\",$E$2=\"Western Isles Health Board\",$E$2=\"Shetland Islands Local Authority\",$E$2=\"Eilean Siar Local Authority\"),OR($F233=1,$F233=5)),0,new_ci(VALUE(LEFT(Options!$B$14,2)),$C233,$E233,$F233,2016,$I233+$J233,1,$H233,$G233*$H233,Options!$B$8)))","v":{"$error":"#VALUE!"}},{"$f":"IF(AND(OR($E$2=\"Orkney Health Board\",$E$2=\"Orkney Islands Local Authority\"),$F233=1),0,IF(AND(OR($E$2=\"Shetland Health Board\",$E$2=\"Western Isles Health Board\",$E$2=\"Shetland Islands Local Authority\",$E$2=\"Eilean Siar Local Authority\"),OR($F233=1,$F233=5)),0,new_yllv2(VALUE(LEFT(Options!$B$14,2)),$C233,$D233,$E233,$F233,2016,$I233,1,$H233,$G233*$H233,Options!$B$8)))","v":{"$error":"#VALUE!"}},{"$f":"IF(AND(OR($E$2=\"Orkney Health Board\",$E$2=\"Orkney Islands Local Authority\"),$F233=1),0,IF(AND(OR($E$2=\"Shetland Health Board\",$E$2=\"Western Isles Health Board\",$E$2=\"Shetland Islands Local Authority\",$E$2=\"Eilean Siar Local Authority\"),OR($F233=1,$F233=5)),0,new_yllv2(VALUE(LEFT(Options!$B$14,2)),$C233,$D233,$E233,$F233,2016,$I233+$J233,1,$H233,$G233*$H233,Options!$B$8)))","v":{"$error":"#VALUE!"}},{"$f":"IF(AND(OR($E$2=\"Orkney Health Board\",$E$2=\"Orkney Islands Local Authority\"),$F233=1),0,IF(AND(OR($E$2=\"Shetland Health Board\",$E$2=\"Western Isles Health Board\",$E$2=\"Shetland Islands Local Authority\",$E$2=\"Eilean Siar Local Authority\"),OR($F233=1,$F233=5)),0,hosp_count(VALUE(LEFT(Options!$B$14,2)),$C233,$E233,$F233,2016,$I233,1,$H233,$G233*$H233, Options!$B$8)))","v":{"$error":"#VALUE!"}},{"$f":"IF(AND(OR($E$2=\"Orkney Health Board\",$E$2=\"Orkney Islands Local Authority\"),$F233=1),0,IF(AND(OR($E$2=\"Shetland Health Board\",$E$2=\"Western Isles Health Board\",$E$2=\"Shetland Islands Local Authority\",$E$2=\"Eilean Siar Local Authority\"),OR($F233=1,$F233=5)),0,hosp_count(VALUE(LEFT(Options!$B$14,2)),$C233,$E233,$F233,2016,$I233+$J233,1,$H233,$G233*$H233, Options!$B$8)))","v":{"$error":"#VALUE!"}},{"$f":"IF(AND(OR($E$2=\"Orkney Health Board\",$E$2=\"Orkney Islands Local Authority\"),$F233=1),0,IF(AND(OR($E$2=\"Shetland Health Board\",$E$2=\"Western Isles Health Board\",$E$2=\"Shetland Islands Local Authority\",$E$2=\"Eilean Siar Local Authority\"),OR($F233=1,$F233=5)),0,prem_mort(VALUE(LEFT(Options!$B$14,2)),$C233,$E233,$F233,2016,$I233,1,$H233,$G233*$H233,Options!$B$8)))","v":{"$error":"#VALUE!"}},{"$f":"IF(AND(OR($E$2=\"Orkney Health Board\",$E$2=\"Orkney Islands Local Authority\"),$F233=1),0,IF(AND(OR($E$2=\"Shetland Health Board\",$E$2=\"Western Isles Health Board\",$E$2=\"Shetland Islands Local Authority\",$E$2=\"Eilean Siar Local Authority\"),OR($F233=1,$F233=5)),0,prem_mort(VALUE(LEFT(Options!$B$14,2)),$C233,$E233,$F233,2016,$I233+$J233,1,$H233,$G233*$H233,Options!$B$8)))","v":{"$error":"#VALUE!"}},{"$error":"#VALUE!"},{"$error":"#VALUE!"},{"$error":"#VALUE!"},{"$error":"#VALUE!"},{"$error":"#VALUE!"},{"$error":"#VALUE!"},{"$error":"#VALUE!"},{"$error":"#VALUE!"},{"$error":"#VALUE!"},{"$error":"#VALUE!"},{"$error":"#VALUE!"},{"$error":"#VALUE!"},{"$error":"#VALUE!"},{"$error":"#VALUE!"},{"$error":"#VALUE!"},{"$error":"#VALUE!"},6600]
[null,"Male 16-19",17.556318000000001,77.07632000000001,"male",5,{"$f":"HLOOKUP($E$2,'Prevalence Rates'!$C$3:$BC$249,'Prevalence Rates'!$BD234,FALSE)","v":0.1351},{"$f":"HLOOKUP($E$2,'Population 2016'!$C$3:$BC$249,'Population 2016'!BD234,FALSE)","v":26907},0,{"$f":"ROUND(0.807*(HLOOKUP($E$2,'Population at Risk'!$C$3:$BC$249,'Population at Risk'!$BD234,FALSE)),0)","v":2934},{"$f":"IF(AND(OR($E$2=\"Orkney Health Board\",$E$2=\"Orkney Islands Local Authority\"),$F234=1),0,IF(AND(OR($E$2=\"Shetland Health Board\",$E$2=\"Western Isles Health Board\",$E$2=\"Shetland Islands Local Authority\",$E$2=\"Eilean Siar Local Authority\"),OR($F234=1,$F234=5)),0,new_ci(VALUE(LEFT(Options!$B$14,2)),$C234,$E234,$F234,2016,$I234,1,$H234,$G234*$H234,Options!$B$8)))","v":6.7201299437999999},{"$f":"IF(AND(OR($E$2=\"Orkney Health Board\",$E$2=\"Orkney Islands Local Authority\"),$F234=1),0,IF(AND(OR($E$2=\"Shetland Health Board\",$E$2=\"Western Isles Health Board\",$E$2=\"Shetland Islands Local Authority\",$E$2=\"Eilean Siar Local Authority\"),OR($F234=1,$F234=5)),0,new_ci(VALUE(LEFT(Options!$B$14,2)),$C234,$E234,$F234,2016,$I234+$J234,1,$H234,$G234*$H234,Options!$B$8)))","v":6.7138485432000001},{"$f":"IF(AND(OR($E$2=\"Orkney Health Board\",$E$2=\"Orkney Islands Local Authority\"),$F234=1),0,IF(AND(OR($E$2=\"Shetland Health Board\",$E$2=\"Western Isles Health Board\",$E$2=\"Shetland Islands Local Authority\",$E$2=\"Eilean Siar Local Authority\"),OR($F234=1,$F234=5)),0,new_yllv2(VALUE(LEFT(Options!$B$14,2)),$C234,$D234,$E234,$F234,2016,$I234,1,$H234,$G234*$H234,Options!$B$8)))","v":393.26201775139998},{"$f":"IF(AND(OR($E$2=\"Orkney Health Board\",$E$2=\"Orkney Islands Local Authority\"),$F234=1),0,IF(AND(OR($E$2=\"Shetland Health Board\",$E$2=\"Western Isles Health Board\",$E$2=\"Shetland Islands Local Authority\",$E$2=\"Eilean Siar Local Authority\"),OR($F234=1,$F234=5)),0,new_yllv2(VALUE(LEFT(Options!$B$14,2)),$C234,$D234,$E234,$F234,2016,$I234+$J234,1,$H234,$G234*$H234,Options!$B$8)))","v":392.89443017579998},{"$f":"IF(AND(OR($E$2=\"Orkney Health Board\",$E$2=\"Orkney Islands Local Authority\"),$F234=1),0,IF(AND(OR($E$2=\"Shetland Health Board\",$E$2=\"Western Isles Health Board\",$E$2=\"Shetland Islands Local Authority\",$E$2=\"Eilean Siar Local Authority\"),OR($F234=1,$F234=5)),0,hosp_count(VALUE(LEFT(Options!$B$14,2)),$C234,$E234,$F234,2016,$I234,1,$H234,$G234*$H234, Options!$B$8)))","v":1431.6729001742999},{"$f":"IF(AND(OR($E$2=\"Orkney Health Board\",$E$2=\"Orkney Islands Local Authority\"),$F234=1),0,IF(AND(OR($E$2=\"Shetland Health Board\",$E$2=\"Western Isles Health Board\",$E$2=\"Shetland Islands Local Authority\",$E$2=\"Eilean Siar Local Authority\"),OR($F234=1,$F234=5)),0,hosp_count(VALUE(LEFT(Options!$B$14,2)),$C234,$E234,$F234,2016,$I234+$J234,1,$H234,$G234*$H234, Options!$B$8)))","v":1430.8468779107},{"$f":"IF(AND(OR($E$2=\"Orkney Health Board\",$E$2=\"Orkney Islands Local Authority\"),$F234=1),0,IF(AND(OR($E$2=\"Shetland Health Board\",$E$2=\"Western Isles Health Board\",$E$2=\"Shetland Islands Local Authority\",$E$2=\"Eilean Siar Local Authority\"),OR($F234=1,$F234=5)),0,prem_mort(VALUE(LEFT(Options!$B$14,2)),$C234,$E234,$F234,2016,$I234,1,$H234,$G234*$H234,Options!$B$8)))","v":6.7201299437999999},{"$f":"IF(AND(OR($E$2=\"Orkney Health Board\",$E$2=\"Orkney Islands Local Authority\"),$F234=1),0,IF(AND(OR($E$2=\"Shetland Health Board\",$E$2=\"Western Isles Health Board\",$E$2=\"Shetland Islands Local Authority\",$E$2=\"Eilean Siar Local Authority\"),OR($F234=1,$F234=5)),0,prem_mort(VALUE(LEFT(Options!$B$14,2)),$C234,$E234,$F234,2016,$I234+$J234,1,$H234,$G234*$H234,Options!$B$8)))","v":6.7138485432000001},24.975396528041031,24.952051671312301,1461.5602547716205,1460.1941137094434,5320.819489999999,5317.7495741282928,24.975396528041031,24.952051671312301,109891.74472338054,109789.02735377413,6430865.1209951304,6424854.1003215509,23411605.755999994,23398098.126164488,109891.74472338054,109789.02735377413,4400]
[null,"Male 20-24",22.054632000000002,77.704629999999995,"male",5,{"$f":"HLOOKUP($E$2,'Prevalence Rates'!$C$3:$BC$249,'Prevalence Rates'!$BD235,FALSE)","v":0.1351},{"$f":"HLOOKUP($E$2,'Population 2016'!$C$3:$BC$249,'Population 2016'!BD235,FALSE)","v":38069},0,{"$f":"ROUND(0.807*(HLOOKUP($E$2,'Population at Risk'!$C$3:$BC$249,'Population at Risk'!$BD235,FALSE)),0)","v":4150},{"$f":"IF(AND(OR($E$2=\"Orkney Health Board\",$E$2=\"Orkney Islands Local Authority\"),$F235=1),0,IF(AND(OR($E$2=\"Shetland Health Board\",$E$2=\"Western Isles Health Board\",$E$2=\"Shetland Islands Local Authority\",$E$2=\"Eilean Siar Local Authority\"),OR($F235=1,$F235=5)),0,new_ci(VALUE(LEFT(Options!$B$14,2)),$C235,$E235,$F235,2016,$I235,1,$H235,$G235*$H235,Options!$B$8)))","v":13.352174465799999},{"$f":"IF(AND(OR($E$2=\"Orkney Health Board\",$E$2=\"Orkney Islands Local Authority\"),$F235=1),0,IF(AND(OR($E$2=\"Shetland Health Board\",$E$2=\"Western Isles Health Board\",$E$2=\"Shetland Islands Local Authority\",$E$2=\"Eilean Siar Local Authority\"),OR($F235=1,$F235=5)),0,new_ci(VALUE(LEFT(Options!$B$14,2)),$C235,$E235,$F235,2016,$I235+$J235,1,$H235,$G235*$H235,Options!$B$8)))","v":13.339698735800001},{"$f":"IF(AND(OR($E$2=\"Orkney Health Board\",$E$2=\"Orkney Islands Local Authority\"),$F235=1),0,IF(AND(OR($E$2=\"Shetland Health Board\",$E$2=\"Western Isles Health Board\",$E$2=\"Shetland Islands Local Authority\",$E$2=\"Eilean Siar Local Authority\"),OR($F235=1,$F235=5)),0,new_yllv2(VALUE(LEFT(Options!$B$14,2)),$C235,$D235,$E235,$F235,2016,$I235,1,$H235,$G235*$H235,Options!$B$8)))","v":729.69630785159995},{"$f":"IF(AND(OR($E$2=\"Orkney Health Board\",$E$2=\"Orkney Islands Local Authority\"),$F235=1),0,IF(AND(OR($E$2=\"Shetland Health Board\",$E$2=\"Western Isles Health Board\",$E$2=\"Shetland Islands Local Authority\",$E$2=\"Eilean Siar Local Authority\"),OR($F235=1,$F235=5)),0,new_yllv2(VALUE(LEFT(Options!$B$14,2)),$C235,$D235,$E235,$F235,2016,$I235+$J235,1,$H235,$G235*$H235,Options!$B$8)))","v":729.01450923209995},{"$f":"IF(AND(OR($E$2=\"Orkney Health Board\",$E$2=\"Orkney Islands Local Authority\"),$F235=1),0,IF(AND(OR($E$2=\"Shetland Health Board\",$E$2=\"Western Isles Health Board\",$E$2=\"Shetland Islands Local Authority\",$E$2=\"Eilean Siar Local Authority\"),OR($F235=1,$F235=5)),0,hosp_count(VALUE(LEFT(Options!$B$14,2)),$C235,$E235,$F235,2016,$I235,1,$H235,$G235*$H235, Options!$B$8)))","v":2376.2555364586001},{"$f":"IF(AND(OR($E$2=\"Orkney Health Board\",$E$2=\"Orkney Islands Local Authority\"),$F235=1),0,IF(AND(OR($E$2=\"Shetland Health Board\",$E$2=\"Western Isles Health Board\",$E$2=\"Shetland Islands Local Authority\",$E$2=\"Eilean Siar Local Authority\"),OR($F235=1,$F235=5)),0,hosp_count(VALUE(LEFT(Options!$B$14,2)),$C235,$E235,$F235,2016,$I235+$J235,1,$H235,$G235*$H235, Options!$B$8)))","v":2374.8848980037001},{"$f":"IF(AND(OR($E$2=\"Orkney Health Board\",$E$2=\"Orkney Islands Local Authority\"),$F235=1),0,IF(AND(OR($E$2=\"Shetland Health Board\",$E$2=\"Western Isles Health Board\",$E$2=\"Shetland Islands Local Authority\",$E$2=\"Eilean Siar Local Authority\"),OR($F235=1,$F235=5)),0,prem_mort(VALUE(LEFT(Options!$B$14,2)),$C235,$E235,$F235,2016,$I235,1,$H235,$G235*$H235,Options!$B$8)))","v":13.352174465799999},{"$f":"IF(AND(OR($E$2=\"Orkney Health Board\",$E$2=\"Orkney Islands Local Authority\"),$F235=1),0,IF(AND(OR($E$2=\"Shetland Health Board\",$E$2=\"Western Isles Health Board\",$E$2=\"Shetland Islands Local Authority\",$E$2=\"Eilean Siar Local Authority\"),OR($F235=1,$F235=5)),0,prem_mort(VALUE(LEFT(Options!$B$14,2)),$C235,$E235,$F235,2016,$I235+$J235,1,$H235,$G235*$H235,Options!$B$8)))","v":13.339698735800001},35.073614925004598,35.040843562478663,1916.7729855042157,1914.9820306078436,6241.9699400000009,6238.3695342764458,35.073614925004598,35.040843562478663,210441.6895500276,210245.06137487199,11500637.913025295,11489892.183647063,37451819.640000008,37430217.205658674,210441.6895500276,210245.06137487199,6000]
[null,"Male 25-29",26.959762999999999,77.789760000000001,"male",5,{"$f":"HLOOKUP($E$2,'Prevalence Rates'!$C$3:$BC$249,'Prevalence Rates'!$BD236,FALSE)","v":0.19260000000000002},{"$f":"HLOOKUP($E$2,'Population 2016'!$C$3:$BC$249,'Population 2016'!BD236,FALSE)","v":34280},0,{"$f":"ROUND(0.807*(HLOOKUP($E$2,'Population at Risk'!$C$3:$BC$249,'Population at Risk'!$BD236,FALSE)),0)","v":5328},{"$f":"IF(AND(OR($E$2=\"Orkney Health Board\",$E$2=\"Orkney Islands Local Authority\"),$F236=1),0,IF(AND(OR($E$2=\"Shetland Health Board\",$E$2=\"Western Isles Health Board\",$E$2=\"Shetland Islands Local Authority\",$E$2=\"Eilean Siar Local Authority\"),OR($F236=1,$F236=5)),0,new_ci(VALUE(LEFT(Options!$B$14,2)),$C236,$E236,$F236,2016,$I236,1,$H236,$G236*$H236,Options!$B$8)))","v":17.410591729099998},{"$f":"IF(AND(OR($E$2=\"Orkney Health Board\",$E$2=\"Orkney Islands Local Authority\"),$F236=1),0,IF(AND(OR($E$2=\"Shetland Health Board\",$E$2=\"Western Isles Health Board\",$E$2=\"Shetland Islands Local Authority\",$E$2=\"Eilean Siar Local Authority\"),OR($F236=1,$F236=5)),0,new_ci(VALUE(LEFT(Options!$B$14,2)),$C236,$E236,$F236,2016,$I236+$J236,1,$H236,$G236*$H236,Options!$B$8)))","v":17.3884240523},{"$f":"IF(AND(OR($E$2=\"Orkney Health Board\",$E$2=\"Orkney Islands Local Authority\"),$F236=1),0,IF(AND(OR($E$2=\"Shetland Health Board\",$E$2=\"Western Isles Health Board\",$E$2=\"Shetland Islands Local Authority\",$E$2=\"Eilean Siar Local Authority\"),OR($F236=1,$F236=5)),0,new_yllv2(VALUE(LEFT(Options!$B$14,2)),$C236,$D236,$E236,$F236,2016,$I236,1,$H236,$G236*$H236,Options!$B$8)))","v":867.5697336293},{"$f":"IF(AND(OR($E$2=\"Orkney Health Board\",$E$2=\"Orkney Islands Local Authority\"),$F236=1),0,IF(AND(OR($E$2=\"Shetland Health Board\",$E$2=\"Western Isles Health Board\",$E$2=\"Shetland Islands Local Authority\",$E$2=\"Eilean Siar Local Authority\"),OR($F236=1,$F236=5)),0,new_yllv2(VALUE(LEFT(Options!$B$14,2)),$C236,$D236,$E236,$F236,2016,$I236+$J236,1,$H236,$G236*$H236,Options!$B$8)))","v":866.46511836080003},{"$f":"IF(AND(OR($E$2=\"Orkney Health Board\",$E$2=\"Orkney Islands Local Authority\"),$F236=1),0,IF(AND(OR($E$2=\"Shetland Health Board\",$E$2=\"Western Isles Health Board\",$E$2=\"Shetland Islands Local Authority\",$E$2=\"Eilean Siar Local Authority\"),OR($F236=1,$F236=5)),0,hosp_count(VALUE(LEFT(Options!$B$14,2)),$C236,$E236,$F236,2016,$I236,1,$H236,$G236*$H236, Options!$B$8)))","v":2546.6945852919998},{"$f":"IF(AND(OR($E$2=\"Orkney Health Board\",$E$2=\"Orkney Islands Local Authority\"),$F236=1),0,IF(AND(OR($E$2=\"Shetland Health Board\",$E$2=\"Western Isles Health Board\",$E$2=\"Shetland Islands Local Authority\",$E$2=\"Eilean Siar Local Authority\"),OR($F236=1,$F236=5)),0,hosp_count(VALUE(LEFT(Options!$B$14,2)),$C236,$E236,$F236,2016,$I236+$J236,1,$H236,$G236*$H236, Options!$B$8)))","v":2544.6531285139999},{"$f":"IF(AND(OR($E$2=\"Orkney Health Board\",$E$2=\"Orkney Islands Local Authority\"),$F236=1),0,IF(AND(OR($E$2=\"Shetland Health Board\",$E$2=\"Western Isles Health Board\",$E$2=\"Shetland Islands Local Authority\",$E$2=\"Eilean Siar Local Authority\"),OR($F236=1,$F236=5)),0,prem_mort(VALUE(LEFT(Options!$B$14,2)),$C236,$E236,$F236,2016,$I236,1,$H236,$G236*$H236,Options!$B$8)))","v":17.410591729099998},{"$f":"IF(AND(OR($E$2=\"Orkney Health Board\",$E$2=\"Orkney Islands Local Authority\"),$F236=1),0,IF(AND(OR($E$2=\"Shetland Health Board\",$E$2=\"Western Isles Health Board\",$E$2=\"Shetland Islands Local Authority\",$E$2=\"Eilean Siar Local Authority\"),OR($F236=1,$F236=5)),0,prem_mort(VALUE(LEFT(Options!$B$14,2)),$C236,$E236,$F236,2016,$I236+$J236,1,$H236,$G236*$H236,Options!$B$8)))","v":17.3884240523},50.789357436114344,50.724690934364055,2530.8335286735705,2527.6111970851807,7429.0973899999999,7423.1421485239207,50.789357436114344,50.724690934364055,304736.14461668604,304348.14560618432,15185001.172041424,15165667.182511084,44574584.339999996,44538852.891143523,304736.14461668604,304348.14560618432,6000]
[null,"Male 30-34",31.981521999999998,78.061520000000002,"male",5,{"$f":"HLOOKUP($E$2,'Prevalence Rates'!$C$3:$BC$249,'Prevalence Rates'!$BD237,FALSE)","v":0.19260000000000002},{"$f":"HLOOKUP($E$2,'Population 2016'!$C$3:$BC$249,'Population 2016'!BD237,FALSE)","v":30164},0,{"$f":"ROUND(0.807*(HLOOKUP($E$2,'Population at Risk'!$C$3:$BC$249,'Population at Risk'!$BD237,FALSE)),0)","v":4688},{"$f":"IF(AND(OR($E$2=\"Orkney Health Board\",$E$2=\"Orkney Islands Local Authority\"),$F237=1),0,IF(AND(OR($E$2=\"Shetland Health Board\",$E$2=\"Western Isles Health Board\",$E$2=\"Shetland Islands Local Authority\",$E$2=\"Eilean Siar Local Authority\"),OR($F237=1,$F237=5)),0,new_ci(VALUE(LEFT(Options!$B$14,2)),$C237,$E237,$F237,2016,$I237,1,$H237,$G237*$H237,Options!$B$8)))","v":22.380034970600001},{"$f":"IF(AND(OR($E$2=\"Orkney Health Board\",$E$2=\"Orkney Islands Local Authority\"),$F237=1),0,IF(AND(OR($E$2=\"Shetland Health Board\",$E$2=\"Western Isles Health Board\",$E$2=\"Shetland Islands Local Authority\",$E$2=\"Eilean Siar Local Authority\"),OR($F237=1,$F237=5)),0,new_ci(VALUE(LEFT(Options!$B$14,2)),$C237,$E237,$F237,2016,$I237+$J237,1,$H237,$G237*$H237,Options!$B$8)))","v":22.3515492762},{"$f":"IF(AND(OR($E$2=\"Orkney Health Board\",$E$2=\"Orkney Islands Local Authority\"),$F237=1),0,IF(AND(OR($E$2=\"Shetland Health Board\",$E$2=\"Western Isles Health Board\",$E$2=\"Shetland Islands Local Authority\",$E$2=\"Eilean Siar Local Authority\"),OR($F237=1,$F237=5)),0,new_yllv2(VALUE(LEFT(Options!$B$14,2)),$C237,$D237,$E237,$F237,2016,$I237,1,$H237,$G237*$H237,Options!$B$8)))","v":1008.8919317146},{"$f":"IF(AND(OR($E$2=\"Orkney Health Board\",$E$2=\"Orkney Islands Local Authority\"),$F237=1),0,IF(AND(OR($E$2=\"Shetland Health Board\",$E$2=\"Western Isles Health Board\",$E$2=\"Shetland Islands Local Authority\",$E$2=\"Eilean Siar Local Authority\"),OR($F237=1,$F237=5)),0,new_yllv2(VALUE(LEFT(Options!$B$14,2)),$C237,$D237,$E237,$F237,2016,$I237+$J237,1,$H237,$G237*$H237,Options!$B$8)))","v":1007.607796668},{"$f":"IF(AND(OR($E$2=\"Orkney Health Board\",$E$2=\"Orkney Islands Local Authority\"),$F237=1),0,IF(AND(OR($E$2=\"Shetland Health Board\",$E$2=\"Western Isles Health Board\",$E$2=\"Shetland Islands Local Authority\",$E$2=\"Eilean Siar Local Authority\"),OR($F237=1,$F237=5)),0,hosp_count(VALUE(LEFT(Options!$B$14,2)),$C237,$E237,$F237,2016,$I237,1,$H237,$G237*$H237, Options!$B$8)))","v":2678.1643595263999},{"$f":"IF(AND(OR($E$2=\"Orkney Health Board\",$E$2=\"Orkney Islands Local Authority\"),$F237=1),0,IF(AND(OR($E$2=\"Shetland Health Board\",$E$2=\"Western Isles Health Board\",$E$2=\"Shetland Islands Local Authority\",$E$2=\"Eilean Siar Local Authority\"),OR($F237=1,$F237=5)),0,hosp_count(VALUE(LEFT(Options!$B$14,2)),$C237,$E237,$F237,2016,$I237+$J237,1,$H237,$G237*$H237, Options!$B$8)))","v":2676.0176376562999},{"$f":"IF(AND(OR($E$2=\"Orkney Health Board\",$E$2=\"Orkney Islands Local Authority\"),$F237=1),0,IF(AND(OR($E$2=\"Shetland Health Board\",$E$2=\"Western Isles Health Board\",$E$2=\"Shetland Islands Local Authority\",$E$2=\"Eilean Siar Local Authority\"),OR($F237=1,$F237=5)),0,prem_mort(VALUE(LEFT(Options!$B$14,2)),$C237,$E237,$F237,2016,$I237,1,$H237,$G237*$H237,Options!$B$8)))","v":22.380034970600001},{"$f":"IF(AND(OR($E$2=\"Orkney Health Board\",$E$2=\"Orkney Islands Local Authority\"),$F237=1),0,IF(AND(OR($E$2=\"Shetland Health Board\",$E$2=\"Western Isles Health Board\",$E$2=\"Shetland Islands Local Authority\",$E$2=\"Eilean Siar Local Authority\"),OR($F237=1,$F237=5)),0,prem_mort(VALUE(LEFT(Options!$B$14,2)),$C237,$E237,$F237,2016,$I237+$J237,1,$H237,$G237*$H237,Options!$B$8)))","v":22.3515492762},74.194519860098126,74.100083795915666,3344.688806904257,3340.4316293197185,8878.6777600000005,8871.5609257933302,74.194519860098126,74.100083795915666,482264.37909063784,481650.5446734518,21740477.24487767,21712805.590578169,57711405.440000005,57665146.017656647,482264.37909063784,481650.5446734518,6500]
[null,"Male 35-39",36.926009999999998,78.336009999999987,"male",5,{"$f":"HLOOKUP($E$2,'Prevalence Rates'!$C$3:$BC$249,'Prevalence Rates'!$BD238,FALSE)","v":0.12860000000000002},{"$f":"HLOOKUP($E$2,'Population 2016'!$C$3:$BC$249,'Population 2016'!BD238,FALSE)","v":31915},0,{"$f":"ROUND(0.807*(HLOOKUP($E$2,'Population at Risk'!$C$3:$BC$249,'Population at Risk'!$BD238,FALSE)),0)","v":3312},{"$f":"IF(AND(OR($E$2=\"Orkney Health Board\",$E$2=\"Orkney Islands Local Authority\"),$F238=1),0,IF(AND(OR($E$2=\"Shetland Health Board\",$E$2=\"Western Isles Health Board\",$E$2=\"Shetland Islands Local Authority\",$E$2=\"Eilean Siar Local Authority\"),OR($F238=1,$F238=5)),0,new_ci(VALUE(LEFT(Options!$B$14,2)),$C238,$E238,$F238,2016,$I238,1,$H238,$G238*$H238,Options!$B$8)))","v":34.3884371109},{"$f":"IF(AND(OR($E$2=\"Orkney Health Board\",$E$2=\"Orkney Islands Local Authority\"),$F238=1),0,IF(AND(OR($E$2=\"Shetland Health Board\",$E$2=\"Western Isles Health Board\",$E$2=\"Shetland Islands Local Authority\",$E$2=\"Eilean Siar Local Authority\"),OR($F238=1,$F238=5)),0,new_ci(VALUE(LEFT(Options!$B$14,2)),$C238,$E238,$F238,2016,$I238+$J238,1,$H238,$G238*$H238,Options!$B$8)))","v":34.357716323699997},{"$f":"IF(AND(OR($E$2=\"Orkney Health Board\",$E$2=\"Orkney Islands Local Authority\"),$F238=1),0,IF(AND(OR($E$2=\"Shetland Health Board\",$E$2=\"Western Isles Health Board\",$E$2=\"Shetland Islands Local Authority\",$E$2=\"Eilean Siar Local Authority\"),OR($F238=1,$F238=5)),0,new_yllv2(VALUE(LEFT(Options!$B$14,2)),$C238,$D238,$E238,$F238,2016,$I238,1,$H238,$G238*$H238,Options!$B$8)))","v":1389.6367436515},{"$f":"IF(AND(OR($E$2=\"Orkney Health Board\",$E$2=\"Orkney Islands Local Authority\"),$F238=1),0,IF(AND(OR($E$2=\"Shetland Health Board\",$E$2=\"Western Isles Health Board\",$E$2=\"Shetland Islands Local Authority\",$E$2=\"Eilean Siar Local Authority\"),OR($F238=1,$F238=5)),0,new_yllv2(VALUE(LEFT(Options!$B$14,2)),$C238,$D238,$E238,$F238,2016,$I238+$J238,1,$H238,$G238*$H238,Options!$B$8)))","v":1388.3953166407},{"$f":"IF(AND(OR($E$2=\"Orkney Health Board\",$E$2=\"Orkney Islands Local Authority\"),$F238=1),0,IF(AND(OR($E$2=\"Shetland Health Board\",$E$2=\"Western Isles Health Board\",$E$2=\"Shetland Islands Local Authority\",$E$2=\"Eilean Siar Local Authority\"),OR($F238=1,$F238=5)),0,hosp_count(VALUE(LEFT(Options!$B$14,2)),$C238,$E238,$F238,2016,$I238,1,$H238,$G238*$H238, Options!$B$8)))","v":3377.257887276},{"$f":"IF(AND(OR($E$2=\"Orkney Health Board\",$E$2=\"Orkney Islands Local Authority\"),$F238=1),0,IF(AND(OR($E$2=\"Shetland Health Board\",$E$2=\"Western Isles Health Board\",$E$2=\"Shetland Islands Local Authority\",$E$2=\"Eilean Siar Local Authority\"),OR($F238=1,$F238=5)),0,hosp_count(VALUE(LEFT(Options!$B$14,2)),$C238,$E238,$F238,2016,$I238+$J238,1,$H238,$G238*$H238, Options!$B$8)))","v":3375.3979979596002},{"$f":"IF(AND(OR($E$2=\"Orkney Health Board\",$E$2=\"Orkney Islands Local Authority\"),$F238=1),0,IF(AND(OR($E$2=\"Shetland Health Board\",$E$2=\"Western Isles Health Board\",$E$2=\"Shetland Islands Local Authority\",$E$2=\"Eilean Siar Local Authority\"),OR($F238=1,$F238=5)),0,prem_mort(VALUE(LEFT(Options!$B$14,2)),$C238,$E238,$F238,2016,$I238,1,$H238,$G238*$H238,Options!$B$8)))","v":34.3884371109},{"$f":"IF(AND(OR($E$2=\"Orkney Health Board\",$E$2=\"Orkney Islands Local Authority\"),$F238=1),0,IF(AND(OR($E$2=\"Shetland Health Board\",$E$2=\"Western Isles Health Board\",$E$2=\"Shetland Islands Local Authority\",$E$2=\"Eilean Siar Local Authority\"),OR($F238=1,$F238=5)),0,prem_mort(VALUE(LEFT(Options!$B$14,2)),$C238,$E238,$F238,2016,$I238+$J238,1,$H238,$G238*$H238,Options!$B$8)))","v":34.357716323699997},107.75007711389628,107.65381896819676,4354.1806161726463,4350.2908245047784,10582.039439999999,10576.21180623406,107.75007711389628,107.65381896819676,754250.53979727393,753576.73277737736,30479264.313208524,30452035.771533448,74074276.079999983,74033482.643638417,754250.53979727393,753576.73277737736,7000]
[null,"Male 40-44",42.067703000000002,78.907700000000006,"male",5,{"$f":"HLOOKUP($E$2,'Prevalence Rates'!$C$3:$BC$249,'Prevalence Rates'!$BD239,FALSE)","v":0.12860000000000002},{"$f":"HLOOKUP($E$2,'Population 2016'!$C$3:$BC$249,'Population 2016'!BD239,FALSE)","v":35113},0,{"$f":"ROUND(0.807*(HLOOKUP($E$2,'Population at Risk'!$C$3:$BC$249,'Population at Risk'!$BD239,FALSE)),0)","v":3644},{"$f":"IF(AND(OR($E$2=\"Orkney Health Board\",$E$2=\"Orkney Islands Local Authority\"),$F239=1),0,IF(AND(OR($E$2=\"Shetland Health Board\",$E$2=\"Western Isles Health Board\",$E$2=\"Shetland Islands Local Authority\",$E$2=\"Eilean Siar Local Authority\"),OR($F239=1,$F239=5)),0,new_ci(VALUE(LEFT(Options!$B$14,2)),$C239,$E239,$F239,2016,$I239,1,$H239,$G239*$H239,Options!$B$8)))","v":55.763946032299998},{"$f":"IF(AND(OR($E$2=\"Orkney Health Board\",$E$2=\"Orkney Islands Local Authority\"),$F239=1),0,IF(AND(OR($E$2=\"Shetland Health Board\",$E$2=\"Western Isles Health Board\",$E$2=\"Shetland Islands Local Authority\",$E$2=\"Eilean Siar Local Authority\"),OR($F239=1,$F239=5)),0,new_ci(VALUE(LEFT(Options!$B$14,2)),$C239,$E239,$F239,2016,$I239+$J239,1,$H239,$G239*$H239,Options!$B$8)))","v":55.714156967100003},{"$f":"IF(AND(OR($E$2=\"Orkney Health Board\",$E$2=\"Orkney Islands Local Authority\"),$F239=1),0,IF(AND(OR($E$2=\"Shetland Health Board\",$E$2=\"Western Isles Health Board\",$E$2=\"Shetland Islands Local Authority\",$E$2=\"Eilean Siar Local Authority\"),OR($F239=1,$F239=5)),0,new_yllv2(VALUE(LEFT(Options!$B$14,2)),$C239,$D239,$E239,$F239,2016,$I239,1,$H239,$G239*$H239,Options!$B$8)))","v":1998.5796585057999},{"$f":"IF(AND(OR($E$2=\"Orkney Health Board\",$E$2=\"Orkney Islands Local Authority\"),$F239=1),0,IF(AND(OR($E$2=\"Shetland Health Board\",$E$2=\"Western Isles Health Board\",$E$2=\"Shetland Islands Local Authority\",$E$2=\"Eilean Siar Local Authority\"),OR($F239=1,$F239=5)),0,new_yllv2(VALUE(LEFT(Options!$B$14,2)),$C239,$D239,$E239,$F239,2016,$I239+$J239,1,$H239,$G239*$H239,Options!$B$8)))","v":1996.7952185583999},{"$f":"IF(AND(OR($E$2=\"Orkney Health Board\",$E$2=\"Orkney Islands Local Authority\"),$F239=1),0,IF(AND(OR($E$2=\"Shetland Health Board\",$E$2=\"Western Isles Health Board\",$E$2=\"Shetland Islands Local Authority\",$E$2=\"Eilean Siar Local Authority\"),OR($F239=1,$F239=5)),0,hosp_count(VALUE(LEFT(Options!$B$14,2)),$C239,$E239,$F239,2016,$I239,1,$H239,$G239*$H239, Options!$B$8)))","v":4459.6254010723997},{"$f":"IF(AND(OR($E$2=\"Orkney Health Board\",$E$2=\"Orkney Islands Local Authority\"),$F239=1),0,IF(AND(OR($E$2=\"Shetland Health Board\",$E$2=\"Western Isles Health Board\",$E$2=\"Shetland Islands Local Authority\",$E$2=\"Eilean Siar Local Authority\"),OR($F239=1,$F239=5)),0,hosp_count(VALUE(LEFT(Options!$B$14,2)),$C239,$E239,$F239,2016,$I239+$J239,1,$H239,$G239*$H239, Options!$B$8)))","v":4457.1693566043996},{"$f":"IF(AND(OR($E$2=\"Orkney Health Board\",$E$2=\"Orkney Islands Local Authority\"),$F239=1),0,IF(AND(OR($E$2=\"Shetland Health Board\",$E$2=\"Western Isles Health Board\",$E$2=\"Shetland Islands Local Authority\",$E$2=\"Eilean Siar Local Authority\"),OR($F239=1,$F239=5)),0,prem_mort(VALUE(LEFT(Options!$B$14,2)),$C239,$E239,$F239,2016,$I239,1,$H239,$G239*$H239,Options!$B$8)))","v":55.763946032299998},{"$f":"IF(AND(OR($E$2=\"Orkney Health Board\",$E$2=\"Orkney Islands Local Authority\"),$F239=1),0,IF(AND(OR($E$2=\"Shetland Health Board\",$E$2=\"Western Isles Health Board\",$E$2=\"Shetland Islands Local Authority\",$E$2=\"Eilean Siar Local Authority\"),OR($F239=1,$F239=5)),0,prem_mort(VALUE(LEFT(Options!$B$14,2)),$C239,$E239,$F239,2016,$I239+$J239,1,$H239,$G239*$H239,Options!$B$8)))","v":55.714156967100003},158.81282155412524,158.67102488280693,5691.8510480614013,5686.7690557867454,12700.78148,12693.786792938226,158.81282155412524,158.67102488280693,1111689.7508788765,1110697.1741796485,39842957.336429812,39807383.390507221,88905470.359999999,88856507.550567582,1111689.7508788765,1110697.1741796485,7000]
[null,"Male 45-49",47.038155000000003,79.418149999999997,"male",5,{"$f":"HLOOKUP($E$2,'Prevalence Rates'!$C$3:$BC$249,'Prevalence Rates'!$BD240,FALSE)","v":0.12290000000000001},{"$f":"HLOOKUP($E$2,'Population 2016'!$C$3:$BC$249,'Population 2016'!BD240,FALSE)","v":39359},0,{"$f":"ROUND(0.807*(HLOOKUP($E$2,'Population at Risk'!$C$3:$BC$249,'Population at Risk'!$BD240,FALSE)),0)","v":3904},{"$f":"IF(AND(OR($E$2=\"Orkney Health Board\",$E$2=\"Orkney Islands Local Authority\"),$F240=1),0,IF(AND(OR($E$2=\"Shetland Health Board\",$E$2=\"Western Isles Health Board\",$E$2=\"Shetland Islands Local Authority\",$E$2=\"Eilean Siar Local Authority\"),OR($F240=1,$F240=5)),0,new_ci(VALUE(LEFT(Options!$B$14,2)),$C240,$E240,$F240,2016,$I240,1,$H240,$G240*$H240,Options!$B$8)))","v":90.935720677500001},{"$f":"IF(AND(OR($E$2=\"Orkney Health Board\",$E$2=\"Orkney Islands Local Authority\"),$F240=1),0,IF(AND(OR($E$2=\"Shetland Health Board\",$E$2=\"Western Isles Health Board\",$E$2=\"Shetland Islands Local Authority\",$E$2=\"Eilean Siar Local Authority\"),OR($F240=1,$F240=5)),0,new_ci(VALUE(LEFT(Options!$B$14,2)),$C240,$E240,$F240,2016,$I240+$J240,1,$H240,$G240*$H240,Options!$B$8)))","v":90.857828459900006},{"$f":"IF(AND(OR($E$2=\"Orkney Health Board\",$E$2=\"Orkney Islands Local Authority\"),$F240=1),0,IF(AND(OR($E$2=\"Shetland Health Board\",$E$2=\"Western Isles Health Board\",$E$2=\"Shetland Islands Local Authority\",$E$2=\"Eilean Siar Local Authority\"),OR($F240=1,$F240=5)),0,new_yllv2(VALUE(LEFT(Options!$B$14,2)),$C240,$D240,$E240,$F240,2016,$I240,1,$H240,$G240*$H240,Options!$B$8)))","v":2853.5624601813001},{"$f":"IF(AND(OR($E$2=\"Orkney Health Board\",$E$2=\"Orkney Islands Local Authority\"),$F240=1),0,IF(AND(OR($E$2=\"Shetland Health Board\",$E$2=\"Western Isles Health Board\",$E$2=\"Shetland Islands Local Authority\",$E$2=\"Eilean Siar Local Authority\"),OR($F240=1,$F240=5)),0,new_yllv2(VALUE(LEFT(Options!$B$14,2)),$C240,$D240,$E240,$F240,2016,$I240+$J240,1,$H240,$G240*$H240,Options!$B$8)))","v":2851.1182027824998},{"$f":"IF(AND(OR($E$2=\"Orkney Health Board\",$E$2=\"Orkney Islands Local Authority\"),$F240=1),0,IF(AND(OR($E$2=\"Shetland Health Board\",$E$2=\"Western Isles Health Board\",$E$2=\"Shetland Islands Local Authority\",$E$2=\"Eilean Siar Local Authority\"),OR($F240=1,$F240=5)),0,hosp_count(VALUE(LEFT(Options!$B$14,2)),$C240,$E240,$F240,2016,$I240,1,$H240,$G240*$H240, Options!$B$8)))","v":5963.4258802347003},{"$f":"IF(AND(OR($E$2=\"Orkney Health Board\",$E$2=\"Orkney Islands Local Authority\"),$F240=1),0,IF(AND(OR($E$2=\"Shetland Health Board\",$E$2=\"Western Isles Health Board\",$E$2=\"Shetland Islands Local Authority\",$E$2=\"Eilean Siar Local Authority\"),OR($F240=1,$F240=5)),0,hosp_count(VALUE(LEFT(Options!$B$14,2)),$C240,$E240,$F240,2016,$I240+$J240,1,$H240,$G240*$H240, Options!$B$8)))","v":5960.2787871171004},{"$f":"IF(AND(OR($E$2=\"Orkney Health Board\",$E$2=\"Orkney Islands Local Authority\"),$F240=1),0,IF(AND(OR($E$2=\"Shetland Health Board\",$E$2=\"Western Isles Health Board\",$E$2=\"Shetland Islands Local Authority\",$E$2=\"Eilean Siar Local Authority\"),OR($F240=1,$F240=5)),0,prem_mort(VALUE(LEFT(Options!$B$14,2)),$C240,$E240,$F240,2016,$I240,1,$H240,$G240*$H240,Options!$B$8)))","v":90.935720677500001},{"$f":"IF(AND(OR($E$2=\"Orkney Health Board\",$E$2=\"Orkney Islands Local Authority\"),$F240=1),0,IF(AND(OR($E$2=\"Shetland Health Board\",$E$2=\"Western Isles Health Board\",$E$2=\"Shetland Islands Local Authority\",$E$2=\"Eilean Siar Local Authority\"),OR($F240=1,$F240=5)),0,prem_mort(VALUE(LEFT(Options!$B$14,2)),$C240,$E240,$F240,2016,$I240+$J240,1,$H240,$G240*$H240,Options!$B$8)))","v":90.857828459900006},231.04174566808098,230.84384374577607,7250.0888238555353,7243.8786625231833,15151.365330000001,15143.369463444449,231.04174566808098,230.84384374577607,1617292.2196765668,1615906.9062204326,50750621.766988747,50707150.637662284,106059557.31,106003586.24411115,1617292.2196765668,1615906.9062204326,7000]
[null,"Male 50-54",51.998646000000001,79.988649999999993,"male",5,{"$f":"HLOOKUP($E$2,'Prevalence Rates'!$C$3:$BC$249,'Prevalence Rates'!$BD241,FALSE)","v":0.12290000000000001},{"$f":"HLOOKUP($E$2,'Population 2016'!$C$3:$BC$249,'Population 2016'!BD241,FALSE)","v":40044},0,{"$f":"ROUND(0.807*(HLOOKUP($E$2,'Population at Risk'!$C$3:$BC$249,'Population at Risk'!$BD241,FALSE)),0)","v":3972},{"$f":"IF(AND(OR($E$2=\"Orkney Health Board\",$E$2=\"Orkney Islands Local Authority\"),$F241=1),0,IF(AND(OR($E$2=\"Shetland Health Board\",$E$2=\"Western Isles Health Board\",$E$2=\"Shetland Islands Local Authority\",$E$2=\"Eilean Siar Local Authority\"),OR($F241=1,$F241=5)),0,new_ci(VALUE(LEFT(Options!$B$14,2)),$C241,$E241,$F241,2016,$I241,1,$H241,$G241*$H241,Options!$B$8)))","v":134.47126508650001},{"$f":"IF(AND(OR($E$2=\"Orkney Health Board\",$E$2=\"Orkney Islands Local Authority\"),$F241=1),0,IF(AND(OR($E$2=\"Shetland Health Board\",$E$2=\"Western Isles Health Board\",$E$2=\"Shetland Islands Local Authority\",$E$2=\"Eilean Siar Local Authority\"),OR($F241=1,$F241=5)),0,new_ci(VALUE(LEFT(Options!$B$14,2)),$C241,$E241,$F241,2016,$I241+$J241,1,$H241,$G241*$H241,Options!$B$8)))","v":134.35622166729999},{"$f":"IF(AND(OR($E$2=\"Orkney Health Board\",$E$2=\"Orkney Islands Local Authority\"),$F241=1),0,IF(AND(OR($E$2=\"Shetland Health Board\",$E$2=\"Western Isles Health Board\",$E$2=\"Shetland Islands Local Authority\",$E$2=\"Eilean Siar Local Authority\"),OR($F241=1,$F241=5)),0,new_yllv2(VALUE(LEFT(Options!$B$14,2)),$C241,$D241,$E241,$F241,2016,$I241,1,$H241,$G241*$H241,Options!$B$8)))","v":3629.3799825697001},{"$f":"IF(AND(OR($E$2=\"Orkney Health Board\",$E$2=\"Orkney Islands Local Authority\"),$F241=1),0,IF(AND(OR($E$2=\"Shetland Health Board\",$E$2=\"Western Isles Health Board\",$E$2=\"Shetland Islands Local Authority\",$E$2=\"Eilean Siar Local Authority\"),OR($F241=1,$F241=5)),0,new_yllv2(VALUE(LEFT(Options!$B$14,2)),$C241,$D241,$E241,$F241,2016,$I241+$J241,1,$H241,$G241*$H241,Options!$B$8)))","v":3626.2749602253002},{"$f":"IF(AND(OR($E$2=\"Orkney Health Board\",$E$2=\"Orkney Islands Local Authority\"),$F241=1),0,IF(AND(OR($E$2=\"Shetland Health Board\",$E$2=\"Western Isles Health Board\",$E$2=\"Shetland Islands Local Authority\",$E$2=\"Eilean Siar Local Authority\"),OR($F241=1,$F241=5)),0,hosp_count(VALUE(LEFT(Options!$B$14,2)),$C241,$E241,$F241,2016,$I241,1,$H241,$G241*$H241, Options!$B$8)))","v":7235.3075532060002},{"$f":"IF(AND(OR($E$2=\"Orkney Health Board\",$E$2=\"Orkney Islands Local Authority\"),$F241=1),0,IF(AND(OR($E$2=\"Shetland Health Board\",$E$2=\"Western Isles Health Board\",$E$2=\"Shetland Islands Local Authority\",$E$2=\"Eilean Siar Local Authority\"),OR($F241=1,$F241=5)),0,hosp_count(VALUE(LEFT(Options!$B$14,2)),$C241,$E241,$F241,2016,$I241+$J241,1,$H241,$G241*$H241, Options!$B$8)))","v":7231.4891936970998},{"$f":"IF(AND(OR($E$2=\"Orkney Health Board\",$E$2=\"Orkney Islands Local Authority\"),$F241=1),0,IF(AND(OR($E$2=\"Shetland Health Board\",$E$2=\"Western Isles Health Board\",$E$2=\"Shetland Islands Local Authority\",$E$2=\"Eilean Siar Local Authority\"),OR($F241=1,$F241=5)),0,prem_mort(VALUE(LEFT(Options!$B$14,2)),$C241,$E241,$F241,2016,$I241,1,$H241,$G241*$H241,Options!$B$8)))","v":134.47126508650001},{"$f":"IF(AND(OR($E$2=\"Orkney Health Board\",$E$2=\"Orkney Islands Local Authority\"),$F241=1),0,IF(AND(OR($E$2=\"Shetland Health Board\",$E$2=\"Western Isles Health Board\",$E$2=\"Shetland Islands Local Authority\",$E$2=\"Eilean Siar Local Authority\"),OR($F241=1,$F241=5)),0,prem_mort(VALUE(LEFT(Options!$B$14,2)),$C241,$E241,$F241,2016,$I241+$J241,1,$H241,$G241*$H241,Options!$B$8)))","v":134.35622166729999},335.80877306587757,335.52148053965635,9063.4801282831377,9055.7261018512145,18068.393650000002,18058.858240178553,335.80877306587757,335.52148053965635,2350661.4114611428,2348650.3637775946,63444360.897981964,63390082.7129585,126478755.55000001,126412007.68124987,2350661.4114611428,2348650.3637775946,7000]
[null,"Male 55-59",56.950867000000002,80.660870000000003,"male",5,{"$f":"HLOOKUP($E$2,'Prevalence Rates'!$C$3:$BC$249,'Prevalence Rates'!$BD242,FALSE)","v":0.11360000000000001},{"$f":"HLOOKUP($E$2,'Population 2016'!$C$3:$BC$249,'Population 2016'!BD242,FALSE)","v":36422},0,{"$f":"ROUND(0.807*(HLOOKUP($E$2,'Population at Risk'!$C$3:$BC$249,'Population at Risk'!$BD242,FALSE)),0)","v":3339},{"$f":"IF(AND(OR($E$2=\"Orkney Health Board\",$E$2=\"Orkney Islands Local Authority\"),$F242=1),0,IF(AND(OR($E$2=\"Shetland Health Board\",$E$2=\"Western Isles Health Board\",$E$2=\"Shetland Islands Local Authority\",$E$2=\"Eilean Siar Local Authority\"),OR($F242=1,$F242=5)),0,new_ci(VALUE(LEFT(Options!$B$14,2)),$C242,$E242,$F242,2016,$I242,1,$H242,$G242*$H242,Options!$B$8)))","v":177.61516113729999},{"$f":"IF(AND(OR($E$2=\"Orkney Health Board\",$E$2=\"Orkney Islands Local Authority\"),$F242=1),0,IF(AND(OR($E$2=\"Shetland Health Board\",$E$2=\"Western Isles Health Board\",$E$2=\"Shetland Islands Local Authority\",$E$2=\"Eilean Siar Local Authority\"),OR($F242=1,$F242=5)),0,new_ci(VALUE(LEFT(Options!$B$14,2)),$C242,$E242,$F242,2016,$I242+$J242,1,$H242,$G242*$H242,Options!$B$8)))","v":177.47391709659999},{"$f":"IF(AND(OR($E$2=\"Orkney Health Board\",$E$2=\"Orkney Islands Local Authority\"),$F242=1),0,IF(AND(OR($E$2=\"Shetland Health Board\",$E$2=\"Western Isles Health Board\",$E$2=\"Shetland Islands Local Authority\",$E$2=\"Eilean Siar Local Authority\"),OR($F242=1,$F242=5)),0,new_yllv2(VALUE(LEFT(Options!$B$14,2)),$C242,$D242,$E242,$F242,2016,$I242,1,$H242,$G242*$H242,Options!$B$8)))","v":4033.6408422735999},{"$f":"IF(AND(OR($E$2=\"Orkney Health Board\",$E$2=\"Orkney Islands Local Authority\"),$F242=1),0,IF(AND(OR($E$2=\"Shetland Health Board\",$E$2=\"Western Isles Health Board\",$E$2=\"Shetland Islands Local Authority\",$E$2=\"Eilean Siar Local Authority\"),OR($F242=1,$F242=5)),0,new_yllv2(VALUE(LEFT(Options!$B$14,2)),$C242,$D242,$E242,$F242,2016,$I242+$J242,1,$H242,$G242*$H242,Options!$B$8)))","v":4030.4331896855001},{"$f":"IF(AND(OR($E$2=\"Orkney Health Board\",$E$2=\"Orkney Islands Local Authority\"),$F242=1),0,IF(AND(OR($E$2=\"Shetland Health Board\",$E$2=\"Western Isles Health Board\",$E$2=\"Shetland Islands Local Authority\",$E$2=\"Eilean Siar Local Authority\"),OR($F242=1,$F242=5)),0,hosp_count(VALUE(LEFT(Options!$B$14,2)),$C242,$E242,$F242,2016,$I242,1,$H242,$G242*$H242, Options!$B$8)))","v":7845.5541145777997},{"$f":"IF(AND(OR($E$2=\"Orkney Health Board\",$E$2=\"Orkney Islands Local Authority\"),$F242=1),0,IF(AND(OR($E$2=\"Shetland Health Board\",$E$2=\"Western Isles Health Board\",$E$2=\"Shetland Islands Local Authority\",$E$2=\"Eilean Siar Local Authority\"),OR($F242=1,$F242=5)),0,hosp_count(VALUE(LEFT(Options!$B$14,2)),$C242,$E242,$F242,2016,$I242+$J242,1,$H242,$G242*$H242, Options!$B$8)))","v":7841.7112169449001},{"$f":"IF(AND(OR($E$2=\"Orkney Health Board\",$E$2=\"Orkney Islands Local Authority\"),$F242=1),0,IF(AND(OR($E$2=\"Shetland Health Board\",$E$2=\"Western Isles Health Board\",$E$2=\"Shetland Islands Local Authority\",$E$2=\"Eilean Siar Local Authority\"),OR($F242=1,$F242=5)),0,prem_mort(VALUE(LEFT(Options!$B$14,2)),$C242,$E242,$F242,2016,$I242,1,$H242,$G242*$H242,Options!$B$8)))","v":177.61516113729999},{"$f":"IF(AND(OR($E$2=\"Orkney Health Board\",$E$2=\"Orkney Islands Local Authority\"),$F242=1),0,IF(AND(OR($E$2=\"Shetland Health Board\",$E$2=\"Western Isles Health Board\",$E$2=\"Shetland Islands Local Authority\",$E$2=\"Eilean Siar Local Authority\"),OR($F242=1,$F242=5)),0,prem_mort(VALUE(LEFT(Options!$B$14,2)),$C242,$E242,$F242,2016,$I242+$J242,1,$H242,$G242*$H242,Options!$B$8)))","v":177.47391709659999},487.65900043188179,487.27120173686228,11074.73736278513,11065.930453257648,21540.700990000001,21530.149955919223,487.65900043188179,487.27120173686228,3169783.5028072316,3167262.8112896048,71985792.85810335,71928547.946174711,140014556.435,139945974.71347496,3169783.5028072316,3167262.8112896048,6500]
[null,"Male 60-64",61.942988999999997,81.612989999999996,"male",5,{"$f":"HLOOKUP($E$2,'Prevalence Rates'!$C$3:$BC$249,'Prevalence Rates'!$BD243,FALSE)","v":0.11360000000000001},{"$f":"HLOOKUP($E$2,'Population 2016'!$C$3:$BC$249,'Population 2016'!BD243,FALSE)","v":32001},0,{"$f":"ROUND(0.807*(HLOOKUP($E$2,'Population at Risk'!$C$3:$BC$249,'Population at Risk'!$BD243,FALSE)),0)","v":2934},{"$f":"IF(AND(OR($E$2=\"Orkney Health Board\",$E$2=\"Orkney Islands Local Authority\"),$F243=1),0,IF(AND(OR($E$2=\"Shetland Health Board\",$E$2=\"Western Isles Health Board\",$E$2=\"Shetland Islands Local Authority\",$E$2=\"Eilean Siar Local Authority\"),OR($F243=1,$F243=5)),0,new_ci(VALUE(LEFT(Options!$B$14,2)),$C243,$E243,$F243,2016,$I243,1,$H243,$G243*$H243,Options!$B$8)))","v":227.21908882899999},{"$f":"IF(AND(OR($E$2=\"Orkney Health Board\",$E$2=\"Orkney Islands Local Authority\"),$F243=1),0,IF(AND(OR($E$2=\"Shetland Health Board\",$E$2=\"Western Isles Health Board\",$E$2=\"Shetland Islands Local Authority\",$E$2=\"Eilean Siar Local Authority\"),OR($F243=1,$F243=5)),0,new_ci(VALUE(LEFT(Options!$B$14,2)),$C243,$E243,$F243,2016,$I243+$J243,1,$H243,$G243*$H243,Options!$B$8)))","v":227.03885907700001},{"$f":"IF(AND(OR($E$2=\"Orkney Health Board\",$E$2=\"Orkney Islands Local Authority\"),$F243=1),0,IF(AND(OR($E$2=\"Shetland Health Board\",$E$2=\"Western Isles Health Board\",$E$2=\"Shetland Islands Local Authority\",$E$2=\"Eilean Siar Local Authority\"),OR($F243=1,$F243=5)),0,new_yllv2(VALUE(LEFT(Options!$B$14,2)),$C243,$D243,$E243,$F243,2016,$I243,1,$H243,$G243*$H243,Options!$B$8)))","v":4242.1806156564999},{"$f":"IF(AND(OR($E$2=\"Orkney Health Board\",$E$2=\"Orkney Islands Local Authority\"),$F243=1),0,IF(AND(OR($E$2=\"Shetland Health Board\",$E$2=\"Western Isles Health Board\",$E$2=\"Shetland Islands Local Authority\",$E$2=\"Eilean Siar Local Authority\"),OR($F243=1,$F243=5)),0,new_yllv2(VALUE(LEFT(Options!$B$14,2)),$C243,$D243,$E243,$F243,2016,$I243+$J243,1,$H243,$G243*$H243,Options!$B$8)))","v":4238.8157260063999},{"$f":"IF(AND(OR($E$2=\"Orkney Health Board\",$E$2=\"Orkney Islands Local Authority\"),$F243=1),0,IF(AND(OR($E$2=\"Shetland Health Board\",$E$2=\"Western Isles Health Board\",$E$2=\"Shetland Islands Local Authority\",$E$2=\"Eilean Siar Local Authority\"),OR($F243=1,$F243=5)),0,hosp_count(VALUE(LEFT(Options!$B$14,2)),$C243,$E243,$F243,2016,$I243,1,$H243,$G243*$H243, Options!$B$8)))","v":8229.6006133826995},{"$f":"IF(AND(OR($E$2=\"Orkney Health Board\",$E$2=\"Orkney Islands Local Authority\"),$F243=1),0,IF(AND(OR($E$2=\"Shetland Health Board\",$E$2=\"Western Isles Health Board\",$E$2=\"Shetland Islands Local Authority\",$E$2=\"Eilean Siar Local Authority\"),OR($F243=1,$F243=5)),0,hosp_count(VALUE(LEFT(Options!$B$14,2)),$C243,$E243,$F243,2016,$I243+$J243,1,$H243,$G243*$H243, Options!$B$8)))","v":8225.5691948275999},{"$f":"IF(AND(OR($E$2=\"Orkney Health Board\",$E$2=\"Orkney Islands Local Authority\"),$F243=1),0,IF(AND(OR($E$2=\"Shetland Health Board\",$E$2=\"Western Isles Health Board\",$E$2=\"Shetland Islands Local Authority\",$E$2=\"Eilean Siar Local Authority\"),OR($F243=1,$F243=5)),0,prem_mort(VALUE(LEFT(Options!$B$14,2)),$C243,$E243,$F243,2016,$I243,1,$H243,$G243*$H243,Options!$B$8)))","v":227.21908882899999},{"$f":"IF(AND(OR($E$2=\"Orkney Health Board\",$E$2=\"Orkney Islands Local Authority\"),$F243=1),0,IF(AND(OR($E$2=\"Shetland Health Board\",$E$2=\"Western Isles Health Board\",$E$2=\"Shetland Islands Local Authority\",$E$2=\"Eilean Siar Local Authority\"),OR($F243=1,$F243=5)),0,prem_mort(VALUE(LEFT(Options!$B$14,2)),$C243,$E243,$F243,2016,$I243+$J243,1,$H243,$G243*$H243,Options!$B$8)))","v":227.03885907700001},710.0374639198775,709.47426354488925,13256.400161421518,13245.885209857192,25716.698269999997,25704.100480696226,710.0374639198775,709.47426354488925,4260224.7835192652,4256845.5812693359,79538400.968529105,79475311.259143144,154300189.61999997,154224602.88417736,4260224.7835192652,4256845.5812693359,6000]
[null,"Male 65-69",67.054419999999993,82.954419999999999,"male",5,{"$f":"HLOOKUP($E$2,'Prevalence Rates'!$C$3:$BC$249,'Prevalence Rates'!$BD244,FALSE)","v":7.6200000000000004E-2},{"$f":"HLOOKUP($E$2,'Population 2016'!$C$3:$BC$249,'Population 2016'!BD244,FALSE)","v":31688},0,{"$f":"ROUND(0.807*(HLOOKUP($E$2,'Population at Risk'!$C$3:$BC$249,'Population at Risk'!$BD244,FALSE)),0)","v":1949},{"$f":"IF(AND(OR($E$2=\"Orkney Health Board\",$E$2=\"Orkney Islands Local Authority\"),$F244=1),0,IF(AND(OR($E$2=\"Shetland Health Board\",$E$2=\"Western Isles Health Board\",$E$2=\"Shetland Islands Local Authority\",$E$2=\"Eilean Siar Local Authority\"),OR($F244=1,$F244=5)),0,new_ci(VALUE(LEFT(Options!$B$14,2)),$C244,$E244,$F244,2016,$I244,1,$H244,$G244*$H244,Options!$B$8)))","v":330.39516888169999},{"$f":"IF(AND(OR($E$2=\"Orkney Health Board\",$E$2=\"Orkney Islands Local Authority\"),$F244=1),0,IF(AND(OR($E$2=\"Shetland Health Board\",$E$2=\"Western Isles Health Board\",$E$2=\"Shetland Islands Local Authority\",$E$2=\"Eilean Siar Local Authority\"),OR($F244=1,$F244=5)),0,new_ci(VALUE(LEFT(Options!$B$14,2)),$C244,$E244,$F244,2016,$I244+$J244,1,$H244,$G244*$H244,Options!$B$8)))","v":330.21466380589999},{"$f":"IF(AND(OR($E$2=\"Orkney Health Board\",$E$2=\"Orkney Islands Local Authority\"),$F244=1),0,IF(AND(OR($E$2=\"Shetland Health Board\",$E$2=\"Western Isles Health Board\",$E$2=\"Shetland Islands Local Authority\",$E$2=\"Eilean Siar Local Authority\"),OR($F244=1,$F244=5)),0,new_yllv2(VALUE(LEFT(Options!$B$14,2)),$C244,$D244,$E244,$F244,2016,$I244,1,$H244,$G244*$H244,Options!$B$8)))","v":4922.8880163372996},{"$f":"IF(AND(OR($E$2=\"Orkney Health Board\",$E$2=\"Orkney Islands Local Authority\"),$F244=1),0,IF(AND(OR($E$2=\"Shetland Health Board\",$E$2=\"Western Isles Health Board\",$E$2=\"Shetland Islands Local Authority\",$E$2=\"Eilean Siar Local Authority\"),OR($F244=1,$F244=5)),0,new_yllv2(VALUE(LEFT(Options!$B$14,2)),$C244,$D244,$E244,$F244,2016,$I244+$J244,1,$H244,$G244*$H244,Options!$B$8)))","v":4920.1984907079004},{"$f":"IF(AND(OR($E$2=\"Orkney Health Board\",$E$2=\"Orkney Islands Local Authority\"),$F244=1),0,IF(AND(OR($E$2=\"Shetland Health Board\",$E$2=\"Western Isles Health Board\",$E$2=\"Shetland Islands Local Authority\",$E$2=\"Eilean Siar Local Authority\"),OR($F244=1,$F244=5)),0,hosp_count(VALUE(LEFT(Options!$B$14,2)),$C244,$E244,$F244,2016,$I244,1,$H244,$G244*$H244, Options!$B$8)))","v":9770.2259477183998},{"$f":"IF(AND(OR($E$2=\"Orkney Health Board\",$E$2=\"Orkney Islands Local Authority\"),$F244=1),0,IF(AND(OR($E$2=\"Shetland Health Board\",$E$2=\"Western Isles Health Board\",$E$2=\"Shetland Islands Local Authority\",$E$2=\"Eilean Siar Local Authority\"),OR($F244=1,$F244=5)),0,hosp_count(VALUE(LEFT(Options!$B$14,2)),$C244,$E244,$F244,2016,$I244+$J244,1,$H244,$G244*$H244, Options!$B$8)))","v":9766.9596092743996},{"$f":"IF(AND(OR($E$2=\"Orkney Health Board\",$E$2=\"Orkney Islands Local Authority\"),$F244=1),0,IF(AND(OR($E$2=\"Shetland Health Board\",$E$2=\"Western Isles Health Board\",$E$2=\"Shetland Islands Local Authority\",$E$2=\"Eilean Siar Local Authority\"),OR($F244=1,$F244=5)),0,prem_mort(VALUE(LEFT(Options!$B$14,2)),$C244,$E244,$F244,2016,$I244,1,$H244,$G244*$H244,Options!$B$8)))","v":330.39516888169999},{"$f":"IF(AND(OR($E$2=\"Orkney Health Board\",$E$2=\"Orkney Islands Local Authority\"),$F244=1),0,IF(AND(OR($E$2=\"Shetland Health Board\",$E$2=\"Western Isles Health Board\",$E$2=\"Shetland Islands Local Authority\",$E$2=\"Eilean Siar Local Authority\"),OR($F244=1,$F244=5)),0,prem_mort(VALUE(LEFT(Options!$B$14,2)),$C244,$E244,$F244,2016,$I244+$J244,1,$H244,$G244*$H244,Options!$B$8)))","v":330.21466380589999},1042.6507475438652,1042.0811152672936,15535.496138403494,15527.008617482645,30832.573679999998,30822.265871226962,1042.6507475438652,1042.0811152672936,5734579.1114912592,5731446.1339701153,85445228.761219218,85398547.396154553,169579155.23999998,169522462.29174829,5734579.1114912592,5731446.1339701153,5500]
[null,"Male 70-74",71.891098,84.341099999999997,"male",5,{"$f":"HLOOKUP($E$2,'Prevalence Rates'!$C$3:$BC$249,'Prevalence Rates'!$BD245,FALSE)","v":7.6200000000000004E-2},{"$f":"HLOOKUP($E$2,'Population 2016'!$C$3:$BC$249,'Population 2016'!BD245,FALSE)","v":22663},0,{"$f":"ROUND(0.807*(HLOOKUP($E$2,'Population at Risk'!$C$3:$BC$249,'Population at Risk'!$BD245,FALSE)),0)","v":1394},{"$f":"IF(AND(OR($E$2=\"Orkney Health Board\",$E$2=\"Orkney Islands Local Authority\"),$F245=1),0,IF(AND(OR($E$2=\"Shetland Health Board\",$E$2=\"Western Isles Health Board\",$E$2=\"Shetland Islands Local Authority\",$E$2=\"Eilean Siar Local Authority\"),OR($F245=1,$F245=5)),0,new_ci(VALUE(LEFT(Options!$B$14,2)),$C245,$E245,$F245,2016,$I245,1,$H245,$G245*$H245,Options!$B$8)))","v":339.61901220710001},{"$f":"IF(AND(OR($E$2=\"Orkney Health Board\",$E$2=\"Orkney Islands Local Authority\"),$F245=1),0,IF(AND(OR($E$2=\"Shetland Health Board\",$E$2=\"Western Isles Health Board\",$E$2=\"Shetland Islands Local Authority\",$E$2=\"Eilean Siar Local Authority\"),OR($F245=1,$F245=5)),0,new_ci(VALUE(LEFT(Options!$B$14,2)),$C245,$E245,$F245,2016,$I245+$J245,1,$H245,$G245*$H245,Options!$B$8)))","v":339.43452453169999},{"$f":"IF(AND(OR($E$2=\"Orkney Health Board\",$E$2=\"Orkney Islands Local Authority\"),$F245=1),0,IF(AND(OR($E$2=\"Shetland Health Board\",$E$2=\"Western Isles Health Board\",$E$2=\"Shetland Islands Local Authority\",$E$2=\"Eilean Siar Local Authority\"),OR($F245=1,$F245=5)),0,new_yllv2(VALUE(LEFT(Options!$B$14,2)),$C245,$D245,$E245,$F245,2016,$I245,1,$H245,$G245*$H245,Options!$B$8)))","v":3888.6383690092998},{"$f":"IF(AND(OR($E$2=\"Orkney Health Board\",$E$2=\"Orkney Islands Local Authority\"),$F245=1),0,IF(AND(OR($E$2=\"Shetland Health Board\",$E$2=\"Western Isles Health Board\",$E$2=\"Shetland Islands Local Authority\",$E$2=\"Eilean Siar Local Authority\"),OR($F245=1,$F245=5)),0,new_yllv2(VALUE(LEFT(Options!$B$14,2)),$C245,$D245,$E245,$F245,2016,$I245+$J245,1,$H245,$G245*$H245,Options!$B$8)))","v":3886.5259847570001},{"$f":"IF(AND(OR($E$2=\"Orkney Health Board\",$E$2=\"Orkney Islands Local Authority\"),$F245=1),0,IF(AND(OR($E$2=\"Shetland Health Board\",$E$2=\"Western Isles Health Board\",$E$2=\"Shetland Islands Local Authority\",$E$2=\"Eilean Siar Local Authority\"),OR($F245=1,$F245=5)),0,hosp_count(VALUE(LEFT(Options!$B$14,2)),$C245,$E245,$F245,2016,$I245,1,$H245,$G245*$H245, Options!$B$8)))","v":8296.3359118624994},{"$f":"IF(AND(OR($E$2=\"Orkney Health Board\",$E$2=\"Orkney Islands Local Authority\"),$F245=1),0,IF(AND(OR($E$2=\"Shetland Health Board\",$E$2=\"Western Isles Health Board\",$E$2=\"Shetland Islands Local Authority\",$E$2=\"Eilean Siar Local Authority\"),OR($F245=1,$F245=5)),0,hosp_count(VALUE(LEFT(Options!$B$14,2)),$C245,$E245,$F245,2016,$I245+$J245,1,$H245,$G245*$H245, Options!$B$8)))","v":8293.5621366507003},{"$f":"IF(AND(OR($E$2=\"Orkney Health Board\",$E$2=\"Orkney Islands Local Authority\"),$F245=1),0,IF(AND(OR($E$2=\"Shetland Health Board\",$E$2=\"Western Isles Health Board\",$E$2=\"Shetland Islands Local Authority\",$E$2=\"Eilean Siar Local Authority\"),OR($F245=1,$F245=5)),0,prem_mort(VALUE(LEFT(Options!$B$14,2)),$C245,$E245,$F245,2016,$I245,1,$H245,$G245*$H245,Options!$B$8)))","v":339.61901220710001},{"$f":"IF(AND(OR($E$2=\"Orkney Health Board\",$E$2=\"Orkney Islands Local Authority\"),$F245=1),0,IF(AND(OR($E$2=\"Shetland Health Board\",$E$2=\"Western Isles Health Board\",$E$2=\"Shetland Islands Local Authority\",$E$2=\"Eilean Siar Local Authority\"),OR($F245=1,$F245=5)),0,prem_mort(VALUE(LEFT(Options!$B$14,2)),$C245,$E245,$F245,2016,$I245+$J245,1,$H245,$G245*$H245,Options!$B$8)))","v":339.43452453169999},1498.5615858760978,1497.7475379768787,17158.533155404402,17149.212305330275,36607.403749999998,36595.164526544148,1498.5615858760978,1497.7475379768787,7492807.9293804886,7488737.6898843935,85792665.777022019,85746061.526651368,183037018.75,182975822.63272074,7492807.9293804886,7488737.6898843935,5000]
[null,"Male 75-79",76.907700000000006,86.357700000000008,"male",5,{"$f":"HLOOKUP($E$2,'Prevalence Rates'!$C$3:$BC$249,'Prevalence Rates'!$BD246,FALSE)","v":0.04},{"$f":"HLOOKUP($E$2,'Population 2016'!$C$3:$BC$249,'Population 2016'!BD246,FALSE)","v":16475},0,{"$f":"ROUND(0.807*(HLOOKUP($E$2,'Population at Risk'!$C$3:$BC$249,'Population at Risk'!$BD246,FALSE)),0)","v":532},{"$f":"IF(AND(OR($E$2=\"Orkney Health Board\",$E$2=\"Orkney Islands Local Authority\"),$F246=1),0,IF(AND(OR($E$2=\"Shetland Health Board\",$E$2=\"Western Isles Health Board\",$E$2=\"Shetland Islands Local Authority\",$E$2=\"Eilean Siar Local Authority\"),OR($F246=1,$F246=5)),0,new_ci(VALUE(LEFT(Options!$B$14,2)),$C246,$E246,$F246,2016,$I246,1,$H246,$G246*$H246,Options!$B$8)))","v":359.33993635619998},{"$f":"IF(AND(OR($E$2=\"Orkney Health Board\",$E$2=\"Orkney Islands Local Authority\"),$F246=1),0,IF(AND(OR($E$2=\"Shetland Health Board\",$E$2=\"Western Isles Health Board\",$E$2=\"Shetland Islands Local Authority\",$E$2=\"Eilean Siar Local Authority\"),OR($F246=1,$F246=5)),0,new_ci(VALUE(LEFT(Options!$B$14,2)),$C246,$E246,$F246,2016,$I246+$J246,1,$H246,$G246*$H246,Options!$B$8)))","v":359.23530605420001},{"$f":"IF(AND(OR($E$2=\"Orkney Health Board\",$E$2=\"Orkney Islands Local Authority\"),$F246=1),0,IF(AND(OR($E$2=\"Shetland Health Board\",$E$2=\"Western Isles Health Board\",$E$2=\"Shetland Islands Local Authority\",$E$2=\"Eilean Siar Local Authority\"),OR($F246=1,$F246=5)),0,new_yllv2(VALUE(LEFT(Options!$B$14,2)),$C246,$D246,$E246,$F246,2016,$I246,1,$H246,$G246*$H246,Options!$B$8)))","v":3036.4224622099},{"$f":"IF(AND(OR($E$2=\"Orkney Health Board\",$E$2=\"Orkney Islands Local Authority\"),$F246=1),0,IF(AND(OR($E$2=\"Shetland Health Board\",$E$2=\"Western Isles Health Board\",$E$2=\"Shetland Islands Local Authority\",$E$2=\"Eilean Siar Local Authority\"),OR($F246=1,$F246=5)),0,new_yllv2(VALUE(LEFT(Options!$B$14,2)),$C246,$D246,$E246,$F246,2016,$I246+$J246,1,$H246,$G246*$H246,Options!$B$8)))","v":3035.5383361580002},{"$f":"IF(AND(OR($E$2=\"Orkney Health Board\",$E$2=\"Orkney Islands Local Authority\"),$F246=1),0,IF(AND(OR($E$2=\"Shetland Health Board\",$E$2=\"Western Isles Health Board\",$E$2=\"Shetland Islands Local Authority\",$E$2=\"Eilean Siar Local Authority\"),OR($F246=1,$F246=5)),0,hosp_count(VALUE(LEFT(Options!$B$14,2)),$C246,$E246,$F246,2016,$I246,1,$H246,$G246*$H246, Options!$B$8)))","v":7206.5449118525003},{"$f":"IF(AND(OR($E$2=\"Orkney Health Board\",$E$2=\"Orkney Islands Local Authority\"),$F246=1),0,IF(AND(OR($E$2=\"Shetland Health Board\",$E$2=\"Western Isles Health Board\",$E$2=\"Shetland Islands Local Authority\",$E$2=\"Eilean Siar Local Authority\"),OR($F246=1,$F246=5)),0,hosp_count(VALUE(LEFT(Options!$B$14,2)),$C246,$E246,$F246,2016,$I246+$J246,1,$H246,$G246*$H246, Options!$B$8)))","v":7205.2584568479997},{"$f":"IF(AND(OR($E$2=\"Orkney Health Board\",$E$2=\"Orkney Islands Local Authority\"),$F246=1),0,IF(AND(OR($E$2=\"Shetland Health Board\",$E$2=\"Western Isles Health Board\",$E$2=\"Shetland Islands Local Authority\",$E$2=\"Eilean Siar Local Authority\"),OR($F246=1,$F246=5)),0,prem_mort(VALUE(LEFT(Options!$B$14,2)),$C246,$E246,$F246,2016,$I246,1,$H246,$G246*$H246,Options!$B$8)))","v":0},{"$f":"IF(AND(OR($E$2=\"Orkney Health Board\",$E$2=\"Orkney Islands Local Authority\"),$F246=1),0,IF(AND(OR($E$2=\"Shetland Health Board\",$E$2=\"Western Isles Health Board\",$E$2=\"Shetland Islands Local Authority\",$E$2=\"Eilean Siar Local Authority\"),OR($F246=1,$F246=5)),0,prem_mort(VALUE(LEFT(Options!$B$14,2)),$C246,$E246,$F246,2016,$I246+$J246,1,$H246,$G246*$H246,Options!$B$8)))","v":0},2181.1225271999997,2180.4874419071321,18430.485354840061,18425.118884115327,43742.305990000001,43734.497461899853,0,0,8724490.1087999996,8721949.7676285282,73721941.419360235,73700475.536461309,174969223.96000001,174937989.84759942,0,0,4000]
[null,"Male 80-84",81.797089,88.627089999999995,"male",5,{"$f":"HLOOKUP($E$2,'Prevalence Rates'!$C$3:$BC$249,'Prevalence Rates'!$BD247,FALSE)","v":0.04},{"$f":"HLOOKUP($E$2,'Population 2016'!$C$3:$BC$249,'Population 2016'!BD247,FALSE)","v":11823},0,{"$f":"ROUND(0.807*(HLOOKUP($E$2,'Population at Risk'!$C$3:$BC$249,'Population at Risk'!$BD247,FALSE)),0)","v":382},{"$f":"IF(AND(OR($E$2=\"Orkney Health Board\",$E$2=\"Orkney Islands Local Authority\"),$F247=1),0,IF(AND(OR($E$2=\"Shetland Health Board\",$E$2=\"Western Isles Health Board\",$E$2=\"Shetland Islands Local Authority\",$E$2=\"Eilean Siar Local Authority\"),OR($F247=1,$F247=5)),0,new_ci(VALUE(LEFT(Options!$B$14,2)),$C247,$E247,$F247,2016,$I247,1,$H247,$G247*$H247,Options!$B$8)))","v":371.13643777909999},{"$f":"IF(AND(OR($E$2=\"Orkney Health Board\",$E$2=\"Orkney Islands Local Authority\"),$F247=1),0,IF(AND(OR($E$2=\"Shetland Health Board\",$E$2=\"Western Isles Health Board\",$E$2=\"Shetland Islands Local Authority\",$E$2=\"Eilean Siar Local Authority\"),OR($F247=1,$F247=5)),0,new_ci(VALUE(LEFT(Options!$B$14,2)),$C247,$E247,$F247,2016,$I247+$J247,1,$H247,$G247*$H247,Options!$B$8)))","v":371.02970480170001},{"$f":"IF(AND(OR($E$2=\"Orkney Health Board\",$E$2=\"Orkney Islands Local Authority\"),$F247=1),0,IF(AND(OR($E$2=\"Shetland Health Board\",$E$2=\"Western Isles Health Board\",$E$2=\"Shetland Islands Local Authority\",$E$2=\"Eilean Siar Local Authority\"),OR($F247=1,$F247=5)),0,new_yllv2(VALUE(LEFT(Options!$B$14,2)),$C247,$D247,$E247,$F247,2016,$I247,1,$H247,$G247*$H247,Options!$B$8)))","v":2163.7258033886001},{"$f":"IF(AND(OR($E$2=\"Orkney Health Board\",$E$2=\"Orkney Islands Local Authority\"),$F247=1),0,IF(AND(OR($E$2=\"Shetland Health Board\",$E$2=\"Western Isles Health Board\",$E$2=\"Shetland Islands Local Authority\",$E$2=\"Eilean Siar Local Authority\"),OR($F247=1,$F247=5)),0,new_yllv2(VALUE(LEFT(Options!$B$14,2)),$C247,$D247,$E247,$F247,2016,$I247+$J247,1,$H247,$G247*$H247,Options!$B$8)))","v":2163.1035500235998},{"$f":"IF(AND(OR($E$2=\"Orkney Health Board\",$E$2=\"Orkney Islands Local Authority\"),$F247=1),0,IF(AND(OR($E$2=\"Shetland Health Board\",$E$2=\"Western Isles Health Board\",$E$2=\"Shetland Islands Local Authority\",$E$2=\"Eilean Siar Local Authority\"),OR($F247=1,$F247=5)),0,hosp_count(VALUE(LEFT(Options!$B$14,2)),$C247,$E247,$F247,2016,$I247,1,$H247,$G247*$H247, Options!$B$8)))","v":6151.7839448121003},{"$f":"IF(AND(OR($E$2=\"Orkney Health Board\",$E$2=\"Orkney Islands Local Authority\"),$F247=1),0,IF(AND(OR($E$2=\"Shetland Health Board\",$E$2=\"Western Isles Health Board\",$E$2=\"Shetland Islands Local Authority\",$E$2=\"Eilean Siar Local Authority\"),OR($F247=1,$F247=5)),0,hosp_count(VALUE(LEFT(Options!$B$14,2)),$C247,$E247,$F247,2016,$I247+$J247,1,$H247,$G247*$H247, Options!$B$8)))","v":6150.6851463513003},{"$f":"IF(AND(OR($E$2=\"Orkney Health Board\",$E$2=\"Orkney Islands Local Authority\"),$F247=1),0,IF(AND(OR($E$2=\"Shetland Health Board\",$E$2=\"Western Isles Health Board\",$E$2=\"Shetland Islands Local Authority\",$E$2=\"Eilean Siar Local Authority\"),OR($F247=1,$F247=5)),0,prem_mort(VALUE(LEFT(Options!$B$14,2)),$C247,$E247,$F247,2016,$I247,1,$H247,$G247*$H247,Options!$B$8)))","v":0},{"$f":"IF(AND(OR($E$2=\"Orkney Health Board\",$E$2=\"Orkney Islands Local Authority\"),$F247=1),0,IF(AND(OR($E$2=\"Shetland Health Board\",$E$2=\"Western Isles Health Board\",$E$2=\"Shetland Islands Local Authority\",$E$2=\"Eilean Siar Local Authority\"),OR($F247=1,$F247=5)),0,prem_mort(VALUE(LEFT(Options!$B$14,2)),$C247,$E247,$F247,2016,$I247+$J247,1,$H247,$G247*$H247,Options!$B$8)))","v":0},3139.1054535997632,3138.202696453523,18300.987933592151,18295.724858526599,52032.343269999998,52023.049533547324,0,0,7847763.6339994082,7845506.7411338072,45752469.833980374,45739312.146316499,130080858.175,130057623.83386831,0,0,2500]
[null,"Male 85-89",86.630752999999999,91.420750000000012,"male",5,{"$f":"HLOOKUP($E$2,'Prevalence Rates'!$C$3:$BC$249,'Prevalence Rates'!$BD248,FALSE)","v":0.04},{"$f":"HLOOKUP($E$2,'Population 2016'!$C$3:$BC$249,'Population 2016'!BD248,FALSE)","v":6067},0,{"$f":"ROUND(0.807*(HLOOKUP($E$2,'Population at Risk'!$C$3:$BC$249,'Population at Risk'!$BD248,FALSE)),0)","v":196},{"$f":"IF(AND(OR($E$2=\"Orkney Health Board\",$E$2=\"Orkney Islands Local Authority\"),$F248=1),0,IF(AND(OR($E$2=\"Shetland Health Board\",$E$2=\"Western Isles Health Board\",$E$2=\"Shetland Islands Local Authority\",$E$2=\"Eilean Siar Local Authority\"),OR($F248=1,$F248=5)),0,new_ci(VALUE(LEFT(Options!$B$14,2)),$C248,$E248,$F248,2016,$I248,1,$H248,$G248*$H248,Options!$B$8)))","v":272.36551425409999},{"$f":"IF(AND(OR($E$2=\"Orkney Health Board\",$E$2=\"Orkney Islands Local Authority\"),$F248=1),0,IF(AND(OR($E$2=\"Shetland Health Board\",$E$2=\"Western Isles Health Board\",$E$2=\"Shetland Islands Local Authority\",$E$2=\"Eilean Siar Local Authority\"),OR($F248=1,$F248=5)),0,new_ci(VALUE(LEFT(Options!$B$14,2)),$C248,$E248,$F248,2016,$I248+$J248,1,$H248,$G248*$H248,Options!$B$8)))","v":272.28863415569998},{"$f":"IF(AND(OR($E$2=\"Orkney Health Board\",$E$2=\"Orkney Islands Local Authority\"),$F248=1),0,IF(AND(OR($E$2=\"Shetland Health Board\",$E$2=\"Western Isles Health Board\",$E$2=\"Shetland Islands Local Authority\",$E$2=\"Eilean Siar Local Authority\"),OR($F248=1,$F248=5)),0,new_yllv2(VALUE(LEFT(Options!$B$14,2)),$C248,$D248,$E248,$F248,2016,$I248,1,$H248,$G248*$H248,Options!$B$8)))","v":1032.2644819264999},{"$f":"IF(AND(OR($E$2=\"Orkney Health Board\",$E$2=\"Orkney Islands Local Authority\"),$F248=1),0,IF(AND(OR($E$2=\"Shetland Health Board\",$E$2=\"Western Isles Health Board\",$E$2=\"Shetland Islands Local Authority\",$E$2=\"Eilean Siar Local Authority\"),OR($F248=1,$F248=5)),0,new_yllv2(VALUE(LEFT(Options!$B$14,2)),$C248,$D248,$E248,$F248,2016,$I248+$J248,1,$H248,$G248*$H248,Options!$B$8)))","v":1031.9731065842},{"$f":"IF(AND(OR($E$2=\"Orkney Health Board\",$E$2=\"Orkney Islands Local Authority\"),$F248=1),0,IF(AND(OR($E$2=\"Shetland Health Board\",$E$2=\"Western Isles Health Board\",$E$2=\"Shetland Islands Local Authority\",$E$2=\"Eilean Siar Local Authority\"),OR($F248=1,$F248=5)),0,hosp_count(VALUE(LEFT(Options!$B$14,2)),$C248,$E248,$F248,2016,$I248,1,$H248,$G248*$H248, Options!$B$8)))","v":3747.6590122036},{"$f":"IF(AND(OR($E$2=\"Orkney Health Board\",$E$2=\"Orkney Islands Local Authority\"),$F248=1),0,IF(AND(OR($E$2=\"Shetland Health Board\",$E$2=\"Western Isles Health Board\",$E$2=\"Shetland Islands Local Authority\",$E$2=\"Eilean Siar Local Authority\"),OR($F248=1,$F248=5)),0,hosp_count(VALUE(LEFT(Options!$B$14,2)),$C248,$E248,$F248,2016,$I248+$J248,1,$H248,$G248*$H248, Options!$B$8)))","v":3746.9897081889999},{"$f":"IF(AND(OR($E$2=\"Orkney Health Board\",$E$2=\"Orkney Islands Local Authority\"),$F248=1),0,IF(AND(OR($E$2=\"Shetland Health Board\",$E$2=\"Western Isles Health Board\",$E$2=\"Shetland Islands Local Authority\",$E$2=\"Eilean Siar Local Authority\"),OR($F248=1,$F248=5)),0,prem_mort(VALUE(LEFT(Options!$B$14,2)),$C248,$E248,$F248,2016,$I248,1,$H248,$G248*$H248,Options!$B$8)))","v":0},{"$f":"IF(AND(OR($E$2=\"Orkney Health Board\",$E$2=\"Orkney Islands Local Authority\"),$F248=1),0,IF(AND(OR($E$2=\"Shetland Health Board\",$E$2=\"Western Isles Health Board\",$E$2=\"Shetland Islands Local Authority\",$E$2=\"Eilean Siar Local Authority\"),OR($F248=1,$F248=5)),0,prem_mort(VALUE(LEFT(Options!$B$14,2)),$C248,$E248,$F248,2016,$I248+$J248,1,$H248,$G248*$H248,Options!$B$8)))","v":0},4489.2947792005934,4488.0275944568975,17014.413745285972,17009.611118908851,61771.20508,61760.173202389975,0,0,6733942.1688008904,6732041.3916853461,25521620.617928959,25514416.678363279,92656807.620000005,92640259.803584963,0,0,1500]
[null,"Male 90+",92.215477000000007,95.515479999999997,"male",5,{"$f":"HLOOKUP($E$2,'Prevalence Rates'!$C$3:$BC$249,'Prevalence Rates'!$BD249,FALSE)","v":0.04},{"$f":"HLOOKUP($E$2,'Population 2016'!$C$3:$BC$249,'Population 2016'!BD249,FALSE)","v":2678},0,{"$f":"ROUND(0.807*(HLOOKUP($E$2,'Population at Risk'!$C$3:$BC$249,'Population at Risk'!$BD249,FALSE)),0)","v":86},{"$f":"IF(AND(OR($E$2=\"Orkney Health Board\",$E$2=\"Orkney Islands Local Authority\"),$F249=1),0,IF(AND(OR($E$2=\"Shetland Health Board\",$E$2=\"Western Isles Health Board\",$E$2=\"Shetland Islands Local Authority\",$E$2=\"Eilean Siar Local Authority\"),OR($F249=1,$F249=5)),0,new_ci(VALUE(LEFT(Options!$B$14,2)),$C249,$E249,$F249,2016,$I249,1,$H249,$G249*$H249,Options!$B$8)))","v":181.0420854187},{"$f":"IF(AND(OR($E$2=\"Orkney Health Board\",$E$2=\"Orkney Islands Local Authority\"),$F249=1),0,IF(AND(OR($E$2=\"Shetland Health Board\",$E$2=\"Western Isles Health Board\",$E$2=\"Shetland Islands Local Authority\",$E$2=\"Eilean Siar Local Authority\"),OR($F249=1,$F249=5)),0,new_ci(VALUE(LEFT(Options!$B$14,2)),$C249,$E249,$F249,2016,$I249+$J249,1,$H249,$G249*$H249,Options!$B$8)))","v":180.99287930610001},{"$f":"IF(AND(OR($E$2=\"Orkney Health Board\",$E$2=\"Orkney Islands Local Authority\"),$F249=1),0,IF(AND(OR($E$2=\"Shetland Health Board\",$E$2=\"Western Isles Health Board\",$E$2=\"Shetland Islands Local Authority\",$E$2=\"Eilean Siar Local Authority\"),OR($F249=1,$F249=5)),0,new_yllv2(VALUE(LEFT(Options!$B$14,2)),$C249,$D249,$E249,$F249,2016,$I249,1,$H249,$G249*$H249,Options!$B$8)))","v":416.39733958929997},{"$f":"IF(AND(OR($E$2=\"Orkney Health Board\",$E$2=\"Orkney Islands Local Authority\"),$F249=1),0,IF(AND(OR($E$2=\"Shetland Health Board\",$E$2=\"Western Isles Health Board\",$E$2=\"Shetland Islands Local Authority\",$E$2=\"Eilean Siar Local Authority\"),OR($F249=1,$F249=5)),0,new_yllv2(VALUE(LEFT(Options!$B$14,2)),$C249,$D249,$E249,$F249,2016,$I249+$J249,1,$H249,$G249*$H249,Options!$B$8)))","v":416.2841653827},{"$f":"IF(AND(OR($E$2=\"Orkney Health Board\",$E$2=\"Orkney Islands Local Authority\"),$F249=1),0,IF(AND(OR($E$2=\"Shetland Health Board\",$E$2=\"Western Isles Health Board\",$E$2=\"Shetland Islands Local Authority\",$E$2=\"Eilean Siar Local Authority\"),OR($F249=1,$F249=5)),0,hosp_count(VALUE(LEFT(Options!$B$14,2)),$C249,$E249,$F249,2016,$I249,1,$H249,$G249*$H249, Options!$B$8)))","v":2016.9131573994},{"$f":"IF(AND(OR($E$2=\"Orkney Health Board\",$E$2=\"Orkney Islands Local Authority\"),$F249=1),0,IF(AND(OR($E$2=\"Shetland Health Board\",$E$2=\"Western Isles Health Board\",$E$2=\"Shetland Islands Local Authority\",$E$2=\"Eilean Siar Local Authority\"),OR($F249=1,$F249=5)),0,hosp_count(VALUE(LEFT(Options!$B$14,2)),$C249,$E249,$F249,2016,$I249+$J249,1,$H249,$G249*$H249, Options!$B$8)))","v":2016.5550969425001},{"$f":"IF(AND(OR($E$2=\"Orkney Health Board\",$E$2=\"Orkney Islands Local Authority\"),$F249=1),0,IF(AND(OR($E$2=\"Shetland Health Board\",$E$2=\"Western Isles Health Board\",$E$2=\"Shetland Islands Local Authority\",$E$2=\"Eilean Siar Local Authority\"),OR($F249=1,$F249=5)),0,prem_mort(VALUE(LEFT(Options!$B$14,2)),$C249,$E249,$F249,2016,$I249,1,$H249,$G249*$H249,Options!$B$8)))","v":0},{"$f":"IF(AND(OR($E$2=\"Orkney Health Board\",$E$2=\"Orkney Islands Local Authority\"),$F249=1),0,IF(AND(OR($E$2=\"Shetland Health Board\",$E$2=\"Western Isles Health Board\",$E$2=\"Shetland Islands Local Authority\",$E$2=\"Eilean Siar Local Authority\"),OR($F249=1,$F249=5)),0,prem_mort(VALUE(LEFT(Options!$B$14,2)),$C249,$E249,$F249,2016,$I249+$J249,1,$H249,$G249*$H249,Options!$B$8)))","v":0},6760.3467296004474,6758.5093094137419,15548.817759122479,15544.591687180731,75314.158230000001,75300.787787247958,0,0,6760346.7296004472,6758509.3094137423,15548817.75912248,15544591.687180731,75314158.230000004,75300787.787247956,0,0,1000]

{"sheet":"Inequalities","index":7,"n_rows":18,"n_cols":25,"rows_kept":18,"cut":false,"hidden":true,"merged":[]}
["Relative Index of Inequality calculation"]
["Area:",{"$f":"Options!$B$11","v":"Scotland"}]
["Years:",{"$f":"Options!B14","v":2},null,null,null,null,null,"STANDARDISED RATES"]
[null,null,null,null,null,null,null,"Hospital Stays",null,null,null,null,null,"Premature Death",null,null,null,null,null,"Years of Life Lost (YLL)"]
[null,null,null,null,null,null,null,"Without intervention",null,"With intervention",null,"Difference","% Difference","Without intervention",null,"With intervention",null,"Difference","% Difference","Without intervention",null,"With intervention",null,"Difference","% Difference"]
[null,null,"a",null,"b","√a","b*√a","Y","Y*√a","Y","Y*√a",null,null,"Y","Y*√a","Y","Y*√a",null,null,"Y","Y*√a","Y","Y*√a"]
["SIMD quintile","Population","Proportion of total population","Cumulative proportion","Relative rank"]
[null,null,null,0," "]
["Q1 (most dep)",{"$f":"Calculations!H7","v":872234},{"$f":"B9/$B$14","v":0.19431413815281337},{"$f":"D8+C9","v":0.19431413815281337},{"$f":"D8+(0.5*C9)","v":9.7157069076406685E-2},{"$f":"SQRT(C9)","v":0.44081077363514309},{"$f":"E9*SQRT(C9)","v":4.2827882783693871E-2},{"$f":"Calculations!AN7/($B$3-1)","v":29752.248162420005},{"$f":"SQRT($C9)*H9","v":13115.111529861128},{"$f":"Calculations!AO7/($B$3-1)","v":29708.419052490557},{"$f":"SQRT($C9)*J9","v":13095.791186005386},null,null,{"$f":"Calculations!AP7/($B$3-1)","v":679.04688967427819},{"$f":"SQRT($C9)*N9","v":299.33118477185621},{"$f":"Calculations!AQ7/($B$3-1)","v":677.41382087035504},{"$f":"SQRT($C9)*P9","v":298.61131044899946},null,null,{"$f":"Calculations!AL7/($B$3-1)","v":18736.000399906665},{"$f":"SQRT($C9)*T9","v":8259.0308311112076},{"$f":"Calculations!AM7/($B$3-1)","v":18694.600697381396},{"$f":"SQRT($C9)*V9","v":8240.7813962127784}]
["Q2",{"$f":"Calculations!H8","v":897032},{"$f":"B10/$B$14","v":0.19983857540005831},{"$f":"D9+C10","v":0.39415271355287168},{"$f":"D9+(0.5*C10)","v":0.29423342585284251},{"$f":"SQRT(C10)","v":0.44703308087887444},{"$f":"E10*SQRT(C10)","v":0.13153207485654206},{"$f":"Calculations!AN8/($B$3-1)","v":24186.305889039999},10812.078836656416,{"$f":"Calculations!AO8/($B$3-1)","v":24159.077497463455},10799.906844882576,null,null,{"$f":"Calculations!AP8/($B$3-1)","v":477.14651637672449},213.30027724650947,{"$f":"Calculations!AQ8/($B$3-1)","v":476.24272106181309},212.89625084240072,null,null,{"$f":"Calculations!AL8/($B$3-1)","v":13191.736303735894},5897.1425220007523,{"$f":"Calculations!AM8/($B$3-1)","v":13169.067950431874},5887.0090181848054]
["Q3",{"$f":"Calculations!H9","v":907978},{"$f":"B11/$B$14","v":0.2022770982691745},{"$f":"D10+C11","v":0.59642981182204613},{"$f":"D10+(0.5*C11)","v":0.49529126268745893},{"$f":"SQRT(C11)","v":0.44975226321740119},{"$f":"E11*SQRT(C11)","v":0.22275836634548904},{"$f":"Calculations!AN9/($B$3-1)","v":20910.862622785},9404.7077904257148,{"$f":"Calculations!AO9/($B$3-1)","v":20892.755356022291},9396.5640062185066,null,null,{"$f":"Calculations!AP9/($B$3-1)","v":386.46841723775498},173.8150453147272,{"$f":"Calculations!AQ9/($B$3-1)","v":385.89950460656866},173.55917557127819,null,null,{"$f":"Calculations!AL9/($B$3-1)","v":10694.068563656529},4809.6815395065869,{"$f":"Calculations!AM9/($B$3-1)","v":10679.733957308465},4803.2345178592141]
["Q4",{"$f":"Calculations!H10","v":910792},0.20290399424521077,{"$f":"D11+C12","v":0.7993338060672569},{"$f":"D11+(0.5*C12)","v":0.69788180894465146},{"$f":"SQRT(C12)","v":0.45044865883384622},{"$f":"E12*SQRT(C12)","v":0.31435992486365677},{"$f":"Calculations!AN10/($B$3-1)","v":18444.122953785001},8308.1304478990114,{"$f":"Calculations!AO10/($B$3-1)","v":18432.095469338958},8302.712683661146,null,null,{"$f":"Calculations!AP10/($B$3-1)","v":307.0040137799968},138.28954626380721,{"$f":"Calculations!AQ10/($B$3-1)","v":306.66421201594778},138.13648301492194,null,null,{"$f":"Calculations!AL10/($B$3-1)","v":8501.6693795770243},3829.565569879248,{"$f":"Calculations!AM10/($B$3-1)","v":8493.0202150700316},3825.6695653270399]
["Q5 (least dep)",{"$f":"Calculations!H11","v":900747},0.20066619393274301,{"$f":"D12+C13","v":0.99999999999999989},{"$f":"D12+(0.5*C13)","v":0.8996669030336284},{"$f":"SQRT(C13)","v":0.44795780374131561},{"$f":"E13*SQRT(C13)","v":0.40301280998169531},{"$f":"Calculations!AN11/($B$3-1)","v":16404.921966045004},7348.7128144571852,{"$f":"Calculations!AO11/($B$3-1)","v":16397.459720701521},7345.37004342214,null,null,{"$f":"Calculations!AP11/($B$3-1)","v":226.18716198059693},101.3223043153094,{"$f":"Calculations!AQ11/($B$3-1)","v":226.01098833925343},101.24338595785606,null,null,{"$f":"Calculations!AL11/($B$3-1)","v":6268.2117916075858},2807.8943875539512,{"$f":"Calculations!AM11/($B$3-1)","v":6263.6126570760034},2805.8341693500729]
["Total",{"$f":"SUM(B9:B13)","v":4488783},null,null,null,null,{"$f":"E14*SQRT(D14)","v":0},{"$f":"IF(OR(Calculations!$E$2=\"Orkney Health Board\",Calculations!$E$2=\"Orkney Islands Local Authority\"),AVERAGE(H10:H13),IF(OR(Calculations!$E$2=\"Shetland Health Board\",Calculations!$E$2=\"Western Isles Health Board\",Calculations!$E$2=\"Shetland Islands Local Authority\",Calculations!$E$2=\"Eilean Siar Local Authority\"),AVERAGE(H10:H12),AVERAGE(H9:H13)))","v":21939.692318815003},0,{"$f":"IF(OR(Calculations!$E$2=\"Orkney Health Board\",Calculations!$E$2=\"Orkney Islands Local Authority\"),AVERAGE(J10:J13),IF(OR(Calculations!$E$2=\"Shetland Health Board\",Calculations!$E$2=\"Western Isles Health Board\",Calculations!$E$2=\"Shetland Islands Local Authority\",Calculations!$E$2=\"Eilean Siar Local Authority\"),AVERAGE(J10:J12),AVERAGE(J9:J13)))","v":21917.961419203355},0,null,null,{"$f":"IF(OR(Calculations!$E$2=\"Orkney Health Board\",Calculations!$E$2=\"Orkney Islands Local Authority\"),AVERAGE(N10:N13),IF(OR(Calculations!$E$2=\"Shetland Health Board\",Calculations!$E$2=\"Western Isles Health Board\",Calculations!$E$2=\"Shetland Islands Local Authority\",Calculations!$E$2=\"Eilean Siar Local Authority\"),AVERAGE(N10:N12),AVERAGE(N9:N13)))","v":415.17059980987023},0,{"$f":"IF(OR(Calculations!$E$2=\"Orkney Health Board\",Calculations!$E$2=\"Orkney Islands Local Authority\"),AVERAGE(P10:P13),IF(OR(Calculations!$E$2=\"Shetland Health Board\",Calculations!$E$2=\"Western Isles Health Board\",Calculations!$E$2=\"Shetland Islands Local Authority\",Calculations!$E$2=\"Eilean Siar Local Authority\"),AVERAGE(P10:P12),AVERAGE(P9:P13)))","v":414.44624937878763},0,null,null,{"$f":"IF(OR(Calculations!$E$2=\"Orkney Health Board\",Calculations!$E$2=\"Orkney Islands Local Authority\"),AVERAGE(T10:T13),IF(OR(Calculations!$E$2=\"Shetland Health Board\",Calculations!$E$2=\"Western Isles Health Board\",Calculations!$E$2=\"Shetland Islands Local Authority\",Calculations!$E$2=\"Eilean Siar Local Authority\"),AVERAGE(T10:T12),AVERAGE(T9:T13)))","v":11478.337287696741},0,{"$f":"IF(OR(Calculations!$E$2=\"Orkney Health Board\",Calculations!$E$2=\"Orkney Islands Local Authority\"),AVERAGE(V10:V13),IF(OR(Calculations!$E$2=\"Shetland Health Board\",Calculations!$E$2=\"Western Isles Health Board\",Calculations!$E$2=\"Shetland Islands Local Authority\",Calculations!$E$2=\"Eilean Siar Local Authority\"),AVERAGE(V10:V12),AVERAGE(V9:V13)))","v":11460.007095453555},0]
[null,null,null,null,"Slope Index of Inequality =",null,null,{"$f":"IF(OR(Calculations!$E$2=\"Orkney Health Board\",Calculations!$E$2=\"Orkney Islands Local Authority\"),-LINEST(I10:I13,$F10:$G13,0),IF(OR(Calculations!$E$2=\"Shetland Health Board\",Calculations!$E$2=\"Western Isles Health Board\",Calculations!$E$2=\"Shetland Islands Local Authority\",Calculations!$E$2=\"Eilean Siar Local Authority\"),-LINEST(I10:I12,$F10:$G12,0),-LINEST(I9:I13,$F9:$G13,0)))","v":16090.340555944245},null,{"$f":"IF(OR(Calculations!$E$2=\"Orkney Health Board\",Calculations!$E$2=\"Orkney Islands Local Authority\"),-LINEST(K10:K13,$F10:$G13,0),IF(OR(Calculations!$E$2=\"Shetland Health Board\",Calculations!$E$2=\"Western Isles Health Board\",Calculations!$E$2=\"Shetland Islands Local Authority\",Calculations!$E$2=\"Eilean Siar Local Authority\"),-LINEST(K10:K12,$F10:$G12,0),-LINEST(K9:K13,$F9:$G13,0)))","v":16046.759870605281},null,{"$f":"H15-J15","v":43.580685338964031},{"$f":"L15*100/H15","v":0.27084998721710735},{"$f":"IF(OR(Calculations!$E$2=\"Orkney Health Board\",Calculations!$E$2=\"Orkney Islands Local Authority\"),-LINEST(O10:O13,$F10:$G13,0),IF(OR(Calculations!$E$2=\"Shetland Health Board\",Calculations!$E$2=\"Western Isles Health Board\",Calculations!$E$2=\"Shetland Islands Local Authority\",Calculations!$E$2=\"Eilean Siar Local Authority\"),-LINEST(O10:O12,$F10:$G12,0),-LINEST(O9:O13,$F9:$G13,0)))","v":533.46848173714238},null,{"$f":"IF(OR(Calculations!$E$2=\"Orkney Health Board\",Calculations!$E$2=\"Orkney Islands Local Authority\"),-LINEST(Q10:Q13,$F10:$G13,0),IF(OR(Calculations!$E$2=\"Shetland Health Board\",Calculations!$E$2=\"Western Isles Health Board\",Calculations!$E$2=\"Shetland Islands Local Authority\",Calculations!$E$2=\"Eilean Siar Local Authority\"),-LINEST(Q10:Q12,$F10:$G12,0),-LINEST(Q9:Q13,$F9:$G13,0)))","v":531.74634373315746},null,{"$f":"N15-P15","v":1.7221380039849237},{"$f":"R15*100/N15","v":0.32281907234277396},{"$f":"IF(OR(Calculations!$E$2=\"Orkney Health Board\",Calculations!$E$2=\"Orkney Islands Local Authority\"),-LINEST(U10:U13,$F10:$G13,0),IF(OR(Calculations!$E$2=\"Shetland Health Board\",Calculations!$E$2=\"Western Isles Health Board\",Calculations!$E$2=\"Shetland Islands Local Authority\",Calculations!$E$2=\"Eilean Siar Local Authority\"),-LINEST(U10:U12,$F10:$G12,0),-LINEST(U9:U13,$F9:$G13,0)))","v":14690.304517187824},null,{"$f":"IF(OR(Calculations!$E$2=\"Orkney Health Board\",Calculations!$E$2=\"Orkney Islands Local Authority\"),-LINEST(W10:W13,$F10:$G13,0),IF(OR(Calculations!$E$2=\"Shetland Health Board\",Calculations!$E$2=\"Western Isles Health Board\",Calculations!$E$2=\"Shetland Islands Local Authority\",Calculations!$E$2=\"Eilean Siar Local Authority\"),-LINEST(W10:W12,$F10:$G12,0),-LINEST(W9:W13,$F9:$G13,0)))","v":14646.923943979451},null,{"$f":"T15-V15","v":43.38057320837288},{"$f":"X15*100/T15","v":0.2953007077397008}]
[null,null,null,null,"Relative Index of Inequality =",null,null,{"$f":"H15/H14","v":0.73338952625810161},null,{"$f":"J15/J14","v":0.73212830170172494},null,{"$f":"H16-J16","v":1.2612245563766722E-3},{"$f":"L16*100/H16","v":0.17197198912993608},{"$f":"N15/N14","v":1.2849380037542335},null,{"$f":"P15/P14","v":1.2830284856726069},null,{"$f":"N16-P16","v":1.9095180816266488E-3},{"$f":"R16*100/N16","v":0.14860779866791746},{"$f":"T15/T14","v":1.2798286153286231},null,{"$f":"V15/V14","v":1.2780903032590807},null,{"$f":"T16-V16","v":1.738312069542447E-3},{"$f":"X16*100/T16","v":0.13582381646437078}]
[null,null,null,null,"Absolute difference (Q1-Q5) =",null,null,{"$f":"IF(OR(Calculations!$E$2=\"Orkney Health Board\",Calculations!$E$2=\"Orkney Islands Local Authority\"),H10-H13,IF(OR(Calculations!$E$2=\"Shetland Health Board\",Calculations!$E$2=\"Western Isles Health Board\",Calculations!$E$2=\"Shetland Islands Local Authority\",Calculations!$E$2=\"Eilean Siar Local Authority\"),H10-H12,H9-H13))","v":13347.326196375001},null,{"$f":"IF(OR(Calculations!$E$2=\"Orkney Health Board\",Calculations!$E$2=\"Orkney Islands Local Authority\"),J10-J13,IF(OR(Calculations!$E$2=\"Shetland Health Board\",Calculations!$E$2=\"Western Isles Health Board\",Calculations!$E$2=\"Shetland Islands Local Authority\",Calculations!$E$2=\"Eilean Siar Local Authority\"),J10-J12,J9-J13))","v":13310.959331789036},null,{"$f":"H17-J17","v":36.366864585965232},{"$f":"L17*100/H17","v":0.27246554141939011},{"$f":"IF(OR(Calculations!$E$2=\"Orkney Health Board\",Calculations!$E$2=\"Orkney Islands Local Authority\"),N10-N13,IF(OR(Calculations!$E$2=\"Shetland Health Board\",Calculations!$E$2=\"Western Isles Health Board\",Calculations!$E$2=\"Shetland Islands Local Authority\",Calculations!$E$2=\"Eilean Siar Local Authority\"),N10-N12,N9-N13))","v":452.85972769368129},null,{"$f":"IF(OR(Calculations!$E$2=\"Orkney Health Board\",Calculations!$E$2=\"Orkney Islands Local Authority\"),P10-P13,IF(OR(Calculations!$E$2=\"Shetland Health Board\",Calculations!$E$2=\"Western Isles Health Board\",Calculations!$E$2=\"Shetland Islands Local Authority\",Calculations!$E$2=\"Eilean Siar Local Authority\"),P10-P12,P9-P13))","v":451.40283253110158},null,{"$f":"N17-P17","v":1.4568951625797126},{"$f":"R17*100/N17","v":0.32171002928420489},{"$f":"IF(OR(Calculations!$E$2=\"Orkney Health Board\",Calculations!$E$2=\"Orkney Islands Local Authority\"),T10-T13,IF(OR(Calculations!$E$2=\"Shetland Health Board\",Calculations!$E$2=\"Western Isles Health Board\",Calculations!$E$2=\"Shetland Islands Local Authority\",Calculations!$E$2=\"Eilean Siar Local Authority\"),T10-T12,T9-T13))","v":12467.788608299079},null,{"$f":"IF(OR(Calculations!$E$2=\"Orkney Health Board\",Calculations!$E$2=\"Orkney Islands Local Authority\"),V10-V13,IF(OR(Calculations!$E$2=\"Shetland Health Board\",Calculations!$E$2=\"Western Isles Health Board\",Calculations!$E$2=\"Shetland Islands Local Authority\",Calculations!$E$2=\"Eilean Siar Local Authority\"),V10-V12,V9-V13))","v":12430.988040305394},null,{"$f":"T17-V17","v":36.800567993685036},{"$f":"X17*100/T17","v":0.29516515839215501}]
[null,null,null,null,"Relative difference (Q1/Q5) =",null,null,{"$f":"IF(OR(Calculations!$E$2=\"Orkney Health Board\",Calculations!$E$2=\"Orkney Islands Local Authority\"),H10/H13,IF(OR(Calculations!$E$2=\"Shetland Health Board\",Calculations!$E$2=\"Western Isles Health Board\",Calculations!$E$2=\"Shetland Islands Local Authority\",Calculations!$E$2=\"Eilean Siar Local Authority\"),H10/H12,H9/H13))","v":1.8136171707492037},null,{"$f":"IF(OR(Calculations!$E$2=\"Orkney Health Board\",Calculations!$E$2=\"Orkney Islands Local Authority\"),J10/J13,IF(OR(Calculations!$E$2=\"Shetland Health Board\",Calculations!$E$2=\"Western Isles Health Board\",Calculations!$E$2=\"Shetland Islands Local Authority\",Calculations!$E$2=\"Eilean Siar Local Authority\"),J10/J12,J9/J13))","v":1.8117696008110433},null,{"$f":"H18-J18","v":1.8475699381603761E-3},{"$f":"L18*100/H18","v":0.10187210222525334},{"$f":"IF(OR(Calculations!$E$2=\"Orkney Health Board\",Calculations!$E$2=\"Orkney Islands Local Authority\"),N10/N13,IF(OR(Calculations!$E$2=\"Shetland Health Board\",Calculations!$E$2=\"Western Isles Health Board\",Calculations!$E$2=\"Shetland Islands Local Authority\",Calculations!$E$2=\"Eilean Siar Local Authority\"),N10/N12,N9/N13))","v":3.0021460268931137},null,{"$f":"IF(OR(Calculations!$E$2=\"Orkney Health Board\",Calculations!$E$2=\"Orkney Islands Local Authority\"),P10/P13,IF(OR(Calculations!$E$2=\"Shetland Health Board\",Calculations!$E$2=\"Western Isles Health Board\",Calculations!$E$2=\"Shetland Islands Local Authority\",Calculations!$E$2=\"Eilean Siar Local Authority\"),P10/P12,P9/P13))","v":2.9972605573208861},null,{"$f":"N18-P18","v":4.8854695722275743E-3},{"$f":"R18*100/N18","v":0.162732576245916},{"$f":"IF(OR(Calculations!$E$2=\"Orkney Health Board\",Calculations!$E$2=\"Orkney Islands Local Authority\"),T10/T13,IF(OR(Calculations!$E$2=\"Shetland Health Board\",Calculations!$E$2=\"Western Isles Health Board\",Calculations!$E$2=\"Shetland Islands Local Authority\",Calculations!$E$2=\"Eilean Siar Local Authority\"),T10/T12,T9/T13))","v":2.9890503101685257},null,{"$f":"IF(OR(Calculations!$E$2=\"Orkney Health Board\",Calculations!$E$2=\"Orkney Islands Local Authority\"),V10/V13,IF(OR(Calculations!$E$2=\"Shetland Health Board\",Calculations!$E$2=\"Western Isles Health Board\",Calculations!$E$2=\"Shetland Islands Local Authority\",Calculations!$E$2=\"Eilean Siar Local Authority\"),V10/V12,V9/V13))","v":2.984635500450703},null,{"$f":"T18-V18","v":4.4148097178227097E-3},{"$f":"X18*100/T18","v":0.14769941150886143}]

{"sheet":"Health outcome totals 2016","index":8,"n_rows":17,"n_cols":56,"rows_kept":17,"cut":false,"hidden":true,"merged":[]}
["Health outcome totals, 2016"]
[]
[null,null,"Aberdeen City Local Authority","Aberdeen City Region Deal","Aberdeenshire Local Authority","Angus Local Authority","Argyll & Bute Local Authority","Ayrshire & Arran Health Board","Borders Health Board","Clackmannanshire & Stirling IJB","Clackmannanshire Local Authority","Dumfries & Galloway Health Board","Dumfries & Galloway Local Authority","Dundee City Local Authority","East Ayrshire Local Authority","East Dunbartonshire Local Authority","East Lothian Local Authority","East Renfrewshire Local Authority","Edinburgh & SE Scotland City Region Deal","Edinburgh, City of Local Authority","Eilean Siar Local Authority","Falkirk Local Authority","Fife Health Board","Fife Local Authority","Forth Valley Health Board","Glasgow City Local Authority","Glasgow City Region Deal","Grampian Health Board","Greater Glasgow & Clyde Health Board","Highland Health Board","Highland Local Authority","Inverclyde Local Authority","Inverness & Highland City Region Deal","Lanarkshire Health Board","Lothian Health Board","Midlothian Local Authority","Moray Local Authority","North Ayrshire Local Authority","North Lanarkshire Local Authority","Orkney Health Board","Orkney Islands Local Authority","Perth & Kinross Local Authority","Renfrewshire Local Authority","Scotland","Scottish Borders Local Authority","Shetland Health Board","Shetland Islands Local Authority","South Ayrshire Local Authority","South Lanarkshire Local Authority","Stirling Local Authority","Tay Cities Region Deal ","Tayside Health Board","West Dunbartonshire Local Authority","West Lothian Local Authority","Western Isles Health Board",1]
[null,null,"S12000033","Aber_deal","S12000034","S12000041","S12000035","S08000015","S08000016","ClacksStirIJB","S12000005","S08000017","S12000006","S12000042","S12000008","S12000045","S12000010","S12000011","EdinSE_deal","S12000036","S12000013","S12000014","S08000018","S12000015","S08000019","S12000046","GClyde_deal","S08000020","S08000021","S08000022","S12000017","S12000018","Inver_deal","S08000023","S08000024","S12000019","S12000020","S12000021","S12000044","S08000025","S12000023","S12000024","S12000038","S00000001","S12000026","S08000026","S12000027","S12000028","S12000029","S12000030","Tay_deal","S08000027","S12000039","S12000040","S08000028",2]
[null,null,null,null,null,null,null,null,null,null,null,null,null,null,null,null,null,null,null,null,null,null,null,null,null,null,null,null,null,null,null,null,null,null,null,null,null,null,null,null,null,null,null,null,null,null,null,null,null,null,null,null,null,null,null,3]
[null,"All hospital admissions (16+)",41626,84145,42519,18091,21023,90768,25209,20471,7651,34490,34490,23727,28249,28833,18105,21705,243108,77192,7253,24369,73148,73148,44840,155175,465272,101100,299797,63264,42241,21552,42241,165475,144751,16294,16955,33649,88230,4636,4636,23268,47578,1125093,25209,5276,5276,28870,77245,12820,138234,65086,24954,33160,7253,4]
[null,"All hospital admissions (SIMD Q1, 16+)",4722,5748,1026,1291,1909,30005,1818,4205,2064,3291,3291,9713,9944,1787,691,1667,41988,13947,0,4489,16974,16974,8694,88379,175909,5919,127063,5479,3570,10387,3570,48846,23196,1769,171,14603,30793,0,0,1429,14646,283718,1818,0,0,5458,18053,2141,29407,12433,10197,6789,0,5]
[null,"All hospital admissions (SIMD Q1 and Q2, 16+)",15717,21194,5477,4707,5862,52925,6550,8550,4153,13054,13054,14796,17671,7386,6437,3905,98104,26095,1759,12454,34033,34033,21004,114868,279835,24321,181891,18570,12708,13017,12708,97944,57521,8106,3127,21482,57322,758,758,4360,25069,534382,6550,189,189,13772,40622,4397,57896,23863,17646,16883,1759,6]
[null,"All deaths (16+)",2126,4486,2360,1434,1110,4492,1277,1445,546,1858,1858,1690,1454,1113,1001,883,13129,4361,359,1734,4091,4091,3179,6321,19540,5465,12443,3507,2397,1006,2397,7097,7761,848,979,1593,3569,223,223,1617,2070,56725,1277,232,232,1445,3528,899,8832,4741,1050,1551,359,7]
[null,"All deaths (SIMD Q1, 16+)",202,270,68,101,108,1512,66,296,141,153,153,703,542,54,27,76,2183,793,0,306,909,909,602,3747,7764,282,5491,286,178,495,178,2273,1208,86,12,699,1432,0,0,79,684,13665,66,0,0,271,841,155,1792,883,435,302,0,8]
[null,"All deaths (SIMD Q1 and Q2, 16+)",759,1068,309,366,335,2716,302,581,291,699,699,1072,985,270,354,152,5276,1482,88,941,1903,1903,1522,4890,12279,1233,7808,1019,684,593,684,4471,3071,440,165,1017,2551,35,35,252,1137,26567,302,10,10,714,1920,290,3593,1690,766,795,88,9]
[null,"Premature deaths (16+)",811,1608,797,476,393,1746,418,519,224,616,616,687,565,356,362,248,4764,1514,133,665,1511,1511,1184,2759,7841,1940,4946,1277,884,382,884,2895,2835,327,332,659,1546,66,66,520,784,21313,418,63,63,522,1349,295,3194,1683,417,632,133,10]
[null,"Premature deaths (SIMD Q1, 16+)",107,137,30,43,47,690,33,124,56,77,77,368,228,26,18,35,1042,380,0,144,431,431,268,1758,3631,142,2540,142,95,222,95,1091,578,43,5,329,672,0,0,40,308,6443,33,0,0,133,419,68,882,451,191,137,0,11]
[null,"Premature deaths (SIMD Q1 and Q2, 16+)",364,493,129,150,141,1182,114,247,124,288,288,516,405,100,145,71,2222,649,42,398,801,801,645,2232,5428,569,3464,449,308,273,308,1964,1307,173,76,469,1151,10,10,112,460,11618,114,5,5,308,813,123,1579,778,328,340,42,12]
[null,"Years of Life Lost (16+)",27478.849984764998,54444.2399408817,26965.3899561166,16090.8199598789,12686.9499692916,56848.409873366298,13994.529939413,17303.359948515801,7163.6299738883899,21118.8499506712,21118.8499506712,23122.199981927799,17993.719950675899,12374.2699501514,12200.3899704217,9172.4499734640103,160653.58962154301,53280.459909200603,4023.4899880886001,22452.289941430001,50451.919886112199,50451.919886112199,39755.649889945897,89197.719813108401,256885.999366998,65559.529895305604,162663.369581103,41357.789903044701,28670.839933752999,12320.2399550676,28670.839933752999,94222.629785895304,96207.1397960186,10264.6499630212,11115.289954423901,21125.3999617099,49180.329858660698,2374.0299997329698,2374.0299997329698,18424.4199427366,25842.089928984598,708624.04837918223,13994.529939413,2409.2700059413901,2409.2700059413901,17729.289960980401,45042.299927234599,10139.7299746275,108089.35977065501,57637.439884543397,13756.599960327099,20461.639953374801,4023.4899880886001,13]
[null,"Years of Life Lost (SIMD Q1, 16+)",3295.92993164062,4366.02978515625,1070.09997558593,1397.83996582031,1470.84997558593,22073.8203125,964.219970703125,4154.080078125,1917.78002929687,2255.6298828125,2255.6298828125,11311.849609375,7246.14013671875,801.34997558593705,506.52999877929602,1143.19995117187,33291.8515625,12423.990234375,0,4594.18994140625,13844.83984375,13844.83984375,8748.26953125,55460.6796875,114187.4921875,4533.0498046875,80170.8125,4432.89990234375,2962.05004882812,6832.72021484375,2962.05004882812,34016.6796875,18482.7890625,1343.33996582031,167.02000427246,10474.1796875,20828.01953125,0,0,1313.01000976562,9733.16015625,203545.71069335938,964.219970703125,0,0,4353.5,13188.66015625,2236.30004882812,27867.5390625,14022.7001953125,6199.7001953125,4208.93017578125,0,14]
[null,"Years of Life Lost (SIMD Q1 and Q2, 16+)",11539.6896972656,15803.310058593701,4263.6199951171802,4814.6199951171802,4330.8499755859302,37723.6103515625,3783.65991210937,8139.5300292968705,4124.93994140625,9004.40966796875,9004.40966796875,16525.039550781199,12834.580078125,3274.6199951171802,4628.5700378417896,2192.68994140625,71927.140625,21426.830078125,1201.05004882812,13288.649902343701,25972.349609375,25972.349609375,21428.1796875,71527.9296875,173737.29296875,18071.849609375,110859.11328125,13808.199707031201,9477.3498535156195,8312.5902099609302,9477.3498535156195,62878.1796875,42171.12890625,5422.7598876953098,2268.54002380371,14767.939453125,36228.279296875,369.36999511718699,369.36999511718699,3594.6298828125,14987.880371093701,372328.97050476068,3783.65991210937,123.58000183105401,123.58000183105401,10121.08984375,26649.900390625,4014.59008789062,50906.638671875,24934.2900390625,10563.400390625,10692.970214843701,1201.05004882812,15]

{"sheet":"Lists","index":9,"n_rows":85,"n_cols":10,"rows_kept":85,"cut":false,"hidden":true,"merged":[]}
["AREA LOOK-UP",null,null,"AREA name","Equivalent to",null,"AREA CODE LOOK-UP",null,"INTERVENTIONS"]
[1,"Scotland",null,"Aberdeen City IJB","Aberdeen City Local Authority",null,"Scotland","S00000001",1,"Tobacco tax +10%"]
[2,"Ayrshire & Arran Health Board",null,"Aberdeen City Local Authority","Aberdeen City Local Authority",null,"Ayrshire & Arran Health Board","S08000015"]
[3,"Borders Health Board",null,"Aberdeen City Region Deal","Aberdeen City Region Deal",null,"Borders Health Board","S08000016"]
[4,"Dumfries & Galloway Health Board",null,"Aberdeenshire IJB","Aberdeenshire Local Authority",null,"Dumfries & Galloway Health Board","S08000017"]
[5,"Fife Health Board",null,"Aberdeenshire Local Authority","Aberdeenshire Local Authority",null,"Fife Health Board","S08000018"]
[6,"Forth Valley Health Board",null,"Angus IJB","Angus Local Authority",null,"Forth Valley Health Board","S08000019"]
[7,"Grampian Health Board",null,"Angus Local Authority","Angus Local Authority",null,"Grampian Health Board","S08000020"]
[8,"Greater Glasgow & Clyde Health Board",null,"Argyll & Bute IJB","Argyll & Bute Local Authority",null,"Greater Glasgow & Clyde Health Board","S08000021"]
[9,"Highland Health Board",null,"Argyll & Bute Local Authority","Argyll & Bute Local Authority",null,"Highland Health Board","S08000022"]
[10,"Lanarkshire Health Board",null,"Ayrshire & Arran Health Board","Ayrshire & Arran Health Board",null,"Lanarkshire Health Board","S08000023"]
[11,"Lothian Health Board",null,"Borders Health Board","Borders Health Board",null,"Lothian Health Board","S08000024"]
[12,"Orkney Health Board",null,"Clackmannanshire & Stirling IJB","Clackmannanshire & Stirling IJB",null,"Orkney Health Board","S08000025"]
[13,"Shetland Health Board",null,"Clackmannanshire Local Authority","Clackmannanshire Local Authority",null,"Shetland Health Board","S08000026"]
[14,"Tayside Health Board",null,"Dumfries & Galloway Health Board","Dumfries & Galloway Health Board",null,"Tayside Health Board","S08000027"]
[15,"Western Isles Health Board",null,"Dumfries & Galloway IJB","Dumfries & Galloway Local Authority",null,"Western Isles Health Board","S08000028"]
[16,"Aberdeen City Local Authority",null,"Dumfries & Galloway Local Authority","Dumfries & Galloway Local Authority",null,"Clackmannanshire Local Authority","S12000005"]
[17,"Aberdeenshire Local Authority",null,"Dundee City IJB","Dundee City Local Authority",null,"Dumfries & Galloway Local Authority","S12000006"]
[18,"Angus Local Authority",null,"Dundee City Local Authority","Dundee City Local Authority",null,"East Ayrshire Local Authority","S12000008"]
[19,"Argyll & Bute Local Authority",null,"East Ayrshire IJB","East Ayrshire Local Authority",null,"East Lothian Local Authority","S12000010"]
[20,"Clackmannanshire Local Authority",null,"East Ayrshire Local Authority","East Ayrshire Local Authority",null,"East Renfrewshire Local Authority","S12000011"]
[21,"Dumfries & Galloway Local Authority",null,"East Dunbartonshire IJB","East Dunbartonshire Local Authority",null,"Eilean Siar Local Authority","S12000013"]
[22,"Dundee City Local Authority",null,"East Dunbartonshire Local Authority","East Dunbartonshire Local Authority",null,"Falkirk Local Authority","S12000014"]
[23,"East Ayrshire Local Authority",null,"East Lothian IJB","East Lothian Local Authority",null,"Fife Local Authority","S12000015"]
[24,"East Dunbartonshire Local Authority",null,"East Lothian Local Authority","East Lothian Local Authority",null,"Highland Local Authority","S12000017"]
[25,"East Lothian Local Authority",null,"East Renfrewshire IJB","East Renfrewshire Local Authority",null,"Inverclyde Local Authority","S12000018"]
[26,"East Renfrewshire Local Authority",null,"East Renfrewshire Local Authority","East Renfrewshire Local Authority",null,"Midlothian Local Authority","S12000019"]
[27,"Edinburgh, City of Local Authority",null,"Edinburgh & SE Scotland City Region Deal","Edinburgh & SE Scotland City Region Deal",null,"Moray Local Authority","S12000020"]
[28,"Eilean Siar Local Authority",null,"Edinburgh, City of Local Authority","Edinburgh, City of Local Authority",null,"North Ayrshire Local Authority","S12000021"]
[29,"Falkirk Local Authority",null,"Edinburgh, City of, IJB","Edinburgh, City of Local Authority",null,"Orkney Islands Local Authority","S12000023"]
[30,"Fife Local Authority",null,"Eilean Siar IJB","Eilean Siar Local Authority",null,"Perth & Kinross Local Authority","S12000024"]
[31,"Glasgow City Local Authority",null,"Eilean Siar Local Authority","Eilean Siar Local Authority",null,"Scottish Borders Local Authority","S12000026"]
[32,"Highland Local Authority",null,"Falkirk IJB","Falkirk Local Authority",null,"Shetland Islands Local Authority","S12000027"]
[33,"Inverclyde Local Authority",null,"Falkirk Local Authority","Falkirk Local Authority",null,"South Ayrshire Local Authority","S12000028"]
[34,"Midlothian Local Authority",null,"Fife Health Board","Fife Health Board",null,"South Lanarkshire Local Authority","S12000029"]
[35,"Moray Local Authority",null,"Fife IJB","Fife Local Authority",null,"Stirling Local Authority","S12000030"]
[36,"North Ayrshire Local Authority",null,"Fife Local Authority","Fife Local Authority",null,"Aberdeen City Local Authority","S12000033"]
[37,"North Lanarkshire Local Authority",null,"Forth Valley Health Board","Forth Valley Health Board",null,"Aberdeenshire Local Authority","S12000034"]
[38,"Orkney Islands Local Authority",null,"Glasgow City IJB","Glasgow City Local Authority",null,"Argyll & Bute Local Authority","S12000035"]
[39,"Perth & Kinross Local Authority",null,"Glasgow City Local Authority","Glasgow City Local Authority",null,"Edinburgh, City of Local Authority","S12000036"]
[40,"Renfrewshire Local Authority",null,"Glasgow City Region Deal","Glasgow City Region Deal",null,"Renfrewshire Local Authority","S12000038"]
[41,"Scottish Borders Local Authority",null,"Grampian Health Board","Grampian Health Board",null,"West Dunbartonshire Local Authority","S12000039"]
[42,"Shetland Islands Local Authority",null,"Greater Glasgow & Clyde Health Board","Greater Glasgow & Clyde Health Board",null,"West Lothian Local Authority","S12000040"]
[43,"South Ayrshire Local Authority",null,"Highland Health Board","Highland Health Board",null,"Angus Local Authority","S12000041"]
[44,"South Lanarkshire Local Authority",null,"Highland Local Authority","Highland Local Authority",null,"Dundee City Local Authority","S12000042"]
[45,"Stirling Local Authority",null,"Highland Partnership","Highland Local Authority",null,"North Lanarkshire Local Authority","S12000044"]
[46,"West Dunbartonshire Local Authority",null,"Inverclyde IJB","Inverclyde Local Authority",null,"East Dunbartonshire Local Authority","S12000045"]
[47,"West Lothian Local Authority",null,"Inverclyde Local Authority","Inverclyde Local Authority",null,"Glasgow City Local Authority","S12000046"]
[48,"Aberdeen City Region Deal",null,"Inverness & Highland City Region Deal","Inverness & Highland City Region Deal"]
[49,"Edinburgh & SE Scotland City Region Deal",null,"Lanarkshire Health Board","Lanarkshire Health Board"]
[50,"Glasgow City Region Deal",null,"Lothian Health Board","Lothian Health Board"]
[51,"Inverness & Highland City Region Deal",null,"Midlothian IJB","Midlothian Local Authority"]
[52,"Stirling & Clackmannanshire City Region Deal",null,"Midlothian Local Authority","Midlothian Local Authority"]
[53,"Tay Cities Region Deal ",null,"Moray IJB","Moray Local Authority"]
[54,"Aberdeen City IJB",null,"Moray Local Authority","Moray Local Authority"]
[55,"Aberdeenshire IJB",null,"North Ayrshire IJB","North Ayrshire Local Authority"]
[56,"Angus IJB",null,"North Ayrshire Local Authority","North Ayrshire Local Authority"]
[57,"Argyll & Bute IJB",null,"North Lanarkshire IJB","North Lanarkshire Local Authority"]
[58,"Clackmannanshire & Stirling IJB",null,"North Lanarkshire Local Authority","North Lanarkshire Local Authority"]
[59,"Dumfries & Galloway IJB",null,"Orkney Health Board","Orkney Health Board"]
[60,"Dundee City IJB",null,"Orkney Islands IJB","Orkney Islands Local Authority"]
[61,"East Ayrshire IJB",null,"Orkney Islands Local Authority","Orkney Islands Local Authority"]
[62,"East Dunbartonshire IJB",null,"Perth & Kinross IJB","Perth & Kinross Local Authority"]
[63,"East Lothian IJB",null,"Perth & Kinross Local Authority","Perth & Kinross Local Authority"]
[64,"East Renfrewshire IJB",null,"Renfrewshire IJB","Renfrewshire Local Authority"]
[65,"Edinburgh, City of, IJB",null,"Renfrewshire Local Authority","Renfrewshire Local Authority"]
[66,"Eilean Siar IJB",null,"Scotland","Scotland"]
[67,"Falkirk IJB",null,"Scottish Borders IJB","Scottish Borders Local Authority"]
[68,"Fife IJB",null,"Scottish Borders Local Authority","Scottish Borders Local Authority"]
[69,"Glasgow City IJB",null,"Shetland Health Board","Shetland Health Board"]
[70,"Highland Partnership",null,"Shetland Islands IJB","Shetland Islands Local Authority"]
[71,"Inverclyde IJB",null,"Shetland Islands Local Authority","Shetland Islands Local Authority"]
[72,"Midlothian IJB",null,"South Ayrshire IJB","South Ayrshire Local Authority"]
[73,"Moray IJB",null,"South Ayrshire Local Authority","South Ayrshire Local Authority"]
[74,"North Ayrshire IJB",null,"South Lanarkshire IJB","South Lanarkshire Local Authority"]
[75,"North Lanarkshire IJB",null,"South Lanarkshire Local Authority","South Lanarkshire Local Authority"]
[76,"Orkney Islands IJB",null,"Stirling & Clackmannanshire City Region Deal","Clackmannanshire & Stirling IJB"]
[77,"Perth & Kinross IJB",null,"Stirling Local Authority","Stirling Local Authority"]
[78,"Renfrewshire IJB",null,"Tay Cities Region Deal ","Tay Cities Region Deal "]
[79,"Scottish Borders IJB",null,"Tayside Health Board","Tayside Health Board"]
[80,"Shetland Islands IJB",null,"West Dunbartonshire IJB","West Dunbartonshire Local Authority"]
[81,"South Ayrshire IJB",null,"West Dunbartonshire Local Authority","West Dunbartonshire Local Authority"]
[82,"South Lanarkshire IJB",null,"West Lothian IJB","West Lothian Local Authority"]
[83,"West Dunbartonshire IJB",null,"West Lothian Local Authority","West Lothian Local Authority"]
[84,"West Lothian IJB",null,"Western Isles Health Board","Western Isles Health Board"]

{"sheet":"Demographic data","index":10,"n_rows":41,"n_cols":4,"rows_kept":41,"cut":false,"hidden":true,"merged":[]}
["Demographic data"]
[]
["sub group","European Standard Population (ESP 2013)","mean age (2016)","life expectancy (2014-2016)"]
["Female 0-4",5000,2.0384009999999999,81.468401]
["Female 5-9",5500,6.9792800000000002,81.439279999999997]
["Female 10-15",6600,12.47831,81.948309999999992]
["Female 16-19",4400,17.570049999999998,81.100049999999996]
["Female 20-24",6000,22.077059999999999,81.667060000000006]
["Female 25-29",6000,26.975190000000001,81.645189999999999]
["Female 30-34",6500,31.9999,81.799899999999994]
["Female 35-39",7000,36.918120000000002,81.898120000000006]
["Female 40-44",7000,42.077440000000003,82.30744]
["Female 45-49",7000,47.025770000000001,82.585769999999997]
["Female 50-54",7000,51.990830000000003,82.980829999999997]
["Female 55-59",6500,56.953040000000001,83.473039999999997]
["Female 60-64",6000,61.947389999999999,84.167389999999997]
["Female 65-69",5500,67.063929999999999,85.193929999999995]
["Female 70-74",5000,71.938159999999996,86.248159999999999]
["Female 75-79",4000,76.942830000000001,87.812830000000005]
["Female 80-84",2500,81.856710000000007,89.736710000000002]
["Female 85-89",1500,86.730819999999994,92.220819999999989]
["Female 90+",1000,92.779340000000005,96.279340000000005]
["Male 0-4",5000,2.0320819999999999,77.402082000000007]
["Male 5-9",5500,6.9784759999999997,77.398476000000002]
["Male 10-15",6600,12.47114,77.921140000000008]
["Male 16-19",4400,17.556319999999999,77.07632000000001]
["Male 20-24",6000,22.05463,77.704629999999995]
["Male 25-29",6000,26.959759999999999,77.789760000000001]
["Male 30-34",6500,31.98152,78.061520000000002]
["Male 35-39",7000,36.926009999999998,78.336009999999987]
["Male 40-44",7000,42.067700000000002,78.907700000000006]
["Male 45-49",7000,47.038150000000002,79.418149999999997]
["Male 50-54",7000,51.998649999999998,79.988649999999993]
["Male 55-59",6500,56.950870000000002,80.660870000000003]
["Male 60-64",6000,61.942990000000002,81.612989999999996]
["Male 65-69",5500,67.054419999999993,82.954419999999999]
["Male 70-74",5000,71.891099999999994,84.341099999999997]
["Male 75-79",4000,76.907700000000006,86.357700000000008]
["Male 80-84",2500,81.797089999999997,88.627089999999995]
["Male 85-89",1500,86.630750000000006,91.420750000000012]
["Male 90+",1000,92.215479999999999,95.515479999999997]

{"sheet":"Prevalence Rates","index":11,"n_rows":254,"n_cols":56,"rows_kept":254,"cut":false,"hidden":true,"merged":[]}
["Prevalence of smoking"]
[]
["SIMD","group","Aberdeen City Local Authority","Aberdeen City Region Deal","Aberdeenshire Local Authority","Angus Local Authority","Argyll & Bute Local Authority","Ayrshire & Arran Health Board","Borders Health Board","Clackmannanshire & Stirling IJB","Clackmannanshire Local Authority","Dumfries & Galloway Health Board","Dumfries & Galloway Local Authority","Dundee City Local Authority","East Ayrshire Local Authority","East Dunbartonshire Local Authority","East Lothian Local Authority","East Renfrewshire Local Authority","Edinburgh & SE Scotland City Region Deal","Edinburgh, City of Local Authority","Eilean Siar Local Authority","Falkirk Local Authority","Fife Health Board","Fife Local Authority","Forth Valley Health Board","Glasgow City Local Authority","Glasgow City Region Deal","Grampian Health Board","Greater Glasgow & Clyde Health Board","Highland Health Board","Highland Local Authority","Inverclyde Local Authority","Inverness & Highland City Region Deal","Lanarkshire Health Board","Lothian Health Board","Midlothian Local Authority","Moray Local Authority","North Ayrshire Local Authority","North Lanarkshire Local Authority","Orkney Health Board","Orkney Islands Local Authority","Perth & Kinross Local Authority","Renfrewshire Local Authority","Scotland","Scottish Borders Local Authority","Shetland Health Board","Shetland Islands Local Authority","South Ayrshire Local Authority","South Lanarkshire Local Authority","Stirling Local Authority","Tay Cities Region Deal ","Tayside Health Board","West Dunbartonshire Local Authority","West Lothian Local Authority","Western Isles Health Board",1]
[null,null,null,null,null,null,null,null,null,null,null,null,null,null,null,null,null,null,null,null,null,null,null,null,null,null,null,null,null,null,null,null,null,null,null,null,null,null,null,null,null,null,null,null,null,null,null,null,null,null,null,null,null,null,null,2]
["All quintiles","16+ Males and Females",null,null,null,null,null,null,null,null,null,null,null,null,null,null,null,null,null,null,null,null,null,null,null,null,null,null,null,null,null,null,null,null,null,null,null,null,null,null,null,null,null,null,null,null,null,null,null,null,null,null,null,null,null,3]
["Q1 and Q2","16+ Males and Females",null,null,null,null,null,null,null,null,null,null,null,null,null,null,null,null,null,null,null,null,null,null,null,null,null,null,null,null,null,null,null,null,null,null,null,null,null,null,null,null,null,null,null,null,null,null,null,null,null,null,null,null,null,4]
["SIMD Q1 (most deprived)","16+ Males and Females",null,null,null,null,null,null,null,null,null,null,null,null,null,null,null,null,null,null,null,null,null,null,null,null,null,null,null,null,null,null,null,null,null,null,null,null,null,null,null,null,null,null,null,null,null,null,null,null,null,null,null,null,null,5]
["SIMD Q2",null,null,null,null,null,null,null,null,null,null,null,null,null,null,null,null,null,null,null,null,null,null,null,null,null,null,null,null,null,null,null,null,null,null,null,null,null,null,null,null,null,null,null,null,null,null,null,null,null,null,null,null,null,null,6]
["SIMD Q3",null,null,null,null,null,null,null,null,null,null,null,null,null,null,null,null,null,null,null,null,null,null,null,null,null,null,null,null,null,null,null,null,null,null,null,null,null,null,null,null,null,null,null,null,null,null,null,null,null,null,null,null,null,null,7]
["SIMD Q4",null,null,null,null,null,null,null,null,null,null,null,null,null,null,null,null,null,null,null,null,null,null,null,null,null,null,null,null,null,null,null,null,null,null,null,null,null,null,null,null,null,null,null,null,null,null,null,null,null,null,null,null,null,null,8]
["SIMD Q5 (least deprived)",null,null,null,null,null,null,null,null,null,null,null,null,null,null,null,null,null,null,null,null,null,null,null,null,null,null,null,null,null,null,null,null,null,null,null,null,null,null,null,null,null,null,null,null,null,null,null,null,null,null,null,null,null,null,9]
["SIMD Q1 (most deprived)","16+ Females",null,null,null,null,null,null,null,null,null,null,null,null,null,null,null,null,null,null,null,null,null,null,null,null,null,null,null,null,null,null,null,null,null,null,null,null,null,null,null,null,null,null,null,null,null,null,null,null,null,null,null,null,null,10]
["SIMD Q2",null,null,null,null,null,null,null,null,null,null,null,null,null,null,null,null,null,null,null,null,null,null,null,null,null,null,null,null,null,null,null,null,null,null,null,null,null,null,null,null,null,null,null,null,null,null,null,null,null,null,null,null,null,null,11]
["SIMD Q3",null,null,null,null,null,null,null,null,null,null,null,null,null,null,null,null,null,null,null,null,null,null,null,null,null,null,null,null,null,null,null,null,null,null,null,null,null,null,null,null,null,null,null,null,null,null,null,null,null,null,null,null,null,null,12]
["SIMD Q4",null,null,null,null,null,null,null,null,null,null,null,null,null,null,null,null,null,null,null,null,null,null,null,null,null,null,null,null,null,null,null,null,null,null,null,null,null,null,null,null,null,null,null,null,null,null,null,null,null,null,null,null,null,null,13]
["SIMD Q5 (least deprived)",null,null,null,null,null,null,null,null,null,null,null,null,null,null,null,null,null,null,null,null,null,null,null,null,null,null,null,null,null,null,null,null,null,null,null,null,null,null,null,null,null,null,null,null,null,null,null,null,null,null,null,null,null,null,14]
["SIMD Q1 (most deprived)","16+ Males",null,null,null,null,null,null,null,null,null,null,null,null,null,null,null,null,null,null,null,null,null,null,null,null,null,null,null,null,null,null,null,null,null,null,null,null,null,null,null,null,null,null,null,null,null,null,null,null,null,null,null,null,null,15]
["SIMD Q2",null,null,null,null,null,null,null,null,null,null,null,null,null,null,null,null,null,null,null,null,null,null,null,null,null,null,null,null,null,null,null,null,null,null,null,null,null,null,null,null,null,null,null,null,null,null,null,null,null,null,null,null,null,null,16]
["SIMD Q3",null,null,null,null,null,null,null,null,null,null,null,null,null,null,null,null,null,null,null,null,null,null,null,null,null,null,null,null,null,null,null,null,null,null,null,null,null,null,null,null,null,null,null,null,null,null,null,null,null,null,null,null,null,null,17]
["SIMD Q4",null,null,null,null,null,null,null,null,null,null,null,null,null,null,null,null,null,null,null,null,null,null,null,null,null,null,null,null,null,null,null,null,null,null,null,null,null,null,null,null,null,null,null,null,null,null,null,null,null,null,null,null,null,null,18]
["SIMD Q5 (least deprived)",null,null,null,null,null,null,null,null,null,null,null,null,null,null,null,null,null,null,null,null,null,null,null,null,null,null,null,null,null,null,null,null,null,null,null,null,null,null,null,null,null,null,null,null,null,null,null,null,null,null,null,null,null,null,19]
["All quintiles","Female 0-4",null,null,null,null,null,null,null,null,null,null,null,null,null,null,null,null,null,null,null,null,null,null,null,null,null,null,null,null,null,null,null,null,null,null,null,null,null,null,null,null,null,null,null,null,null,null,null,null,null,null,null,null,null,20]
[null,"Female 5-9",null,null,null,null,null,null,null,null,null,null,null,null,null,null,null,null,null,null,null,null,null,null,null,null,null,null,null,null,null,null,null,null,null,null,null,null,null,null,null,null,null,null,null,null,null,null,null,null,null,null,null,null,null,21]
[null,"Female 10-15",null,null,null,null,null,null,null,null,null,null,null,null,null,null,null,null,null,null,null,null,null,null,null,null,null,null,null,null,null,null,null,null,null,null,null,null,null,null,null,null,null,null,null,null,null,null,null,null,null,null,null,null,null,22]
[null,"Female 16-19",null,null,null,null,null,null,null,null,null,null,null,null,null,null,null,null,null,null,null,null,null,null,null,null,null,null,null,null,null,null,null,null,null,null,null,null,null,null,null,null,null,null,null,null,null,null,null,null,null,null,null,null,null,23]
[null,"Female 20-24",null,null,null,null,null,null,null,null,null,null,null,null,null,null,null,null,null,null,null,null,null,null,null,null,null,null,null,null,null,null,null,null,null,null,null,null,null,null,null,null,null,null,null,null,null,null,null,null,null,null,null,null,null,24]
[null,"Female 25-29",null,null,null,null,null,null,null,null,null,null,null,null,null,null,null,null,null,null,null,null,null,null,null,null,null,null,null,null,null,null,null,null,null,null,null,null,null,null,null,null,null,null,null,null,null,null,null,null,null,null,null,null,null,25]
[null,"Female 30-34",null,null,null,null,null,null,null,null,null,null,null,null,null,null,null,null,null,null,null,null,null,null,null,null,null,null,null,null,null,null,null,null,null,null,null,null,null,null,null,null,null,null,null,null,null,null,null,null,null,null,null,null,null,26]
[null,"Female 35-39",null,null,null,null,null,null,null,null,null,null,null,null,null,null,null,null,null,null,null,null,null,null,null,null,null,null,null,null,null,null,null,null,null,null,null,null,null,null,null,null,null,null,null,null,null,null,null,null,null,null,null,null,null,27]
[null,"Female 40-44",null,null,null,null,null,null,null,null,null,null,null,null,null,null,null,null,null,null,null,null,null,null,null,null,null,null,null,null,null,null,null,null,null,null,null,null,null,null,null,null,null,null,null,null,null,null,null,null,null,null,null,null,null,28]
[null,"Female 45-49",null,null,null,null,null,null,null,null,null,null,null,null,null,null,null,null,null,null,null,null,null,null,null,null,null,null,null,null,null,null,null,null,null,null,null,null,null,null,null,null,null,null,null,null,null,null,null,null,null,null,null,null,null,29]
[null,"Female 50-54",null,null,null,null,null,null,null,null,null,null,null,null,null,null,null,null,null,null,null,null,null,null,null,null,null,null,null,null,null,null,null,null,null,null,null,null,null,null,null,null,null,null,null,null,null,null,null,null,null,null,null,null,null,30]
[null,"Female 55-59",null,null,null,null,null,null,null,null,null,null,null,null,null,null,null,null,null,null,null,null,null,null,null,null,null,null,null,null,null,null,null,null,null,null,null,null,null,null,null,null,null,null,null,null,null,null,null,null,null,null,null,null,null,31]
[null,"Female 60-64",null,null,null,null,null,null,null,null,null,null,null,null,null,null,null,null,null,null,null,null,null,null,null,null,null,null,null,null,null,null,null,null,null,null,null,null,null,null,null,null,null,null,null,null,null,null,null,null,null,null,null,null,null,32]
[null,"Female 65-69",null,null,null,null,null,null,null,null,null,null,null,null,null,null,null,null,null,null,null,null,null,null,null,null,null,null,null,null,null,null,null,null,null,null,null,null,null,null,null,null,null,null,null,null,null,null,null,null,null,null,null,null,null,33]
[null,"Female 70-74",null,null,null,null,null,null,null,null,null,null,null,null,null,null,null,null,null,null,null,null,null,null,null,null,null,null,null,null,null,null,null,null,null,null,null,null,null,null,null,null,null,null,null,null,null,null,null,null,null,null,null,null,null,34]
[null,"Female 75-79",null,null,null,null,null,null,null,null,null,null,null,null,null,null,null,null,null,null,null,null,null,null,null,null,null,null,null,null,null,null,null,null,null,null,null,null,null,null,null,null,null,null,null,null,null,null,null,null,null,null,null,null,null,35]
[null,"Female 80-84",null,null,null,null,null,null,null,null,null,null,null,null,null,null,null,null,null,null,null,null,null,null,null,null,null,null,null,null,null,null,null,null,null,null,null,null,null,null,null,null,null,null,null,null,null,null,null,null,null,null,null,null,null,36]
[null,"Female 85-89",null,null,null,null,null,null,null,null,null,null,null,null,null,null,null,null,null,null,null,null,null,null,null,null,null,null,null,null,null,null,null,null,null,null,null,null,null,null,null,null,null,null,null,null,null,null,null,null,null,null,null,null,null,37]
[null,"Female 90+",null,null,null,null,null,null,null,null,null,null,null,null,null,null,null,null,null,null,null,null,null,null,null,null,null,null,null,null,null,null,null,null,null,null,null,null,null,null,null,null,null,null,null,null,null,null,null,null,null,null,null,null,null,38]
[null,"Male 0-4",null,null,null,null,null,null,null,null,null,null,null,null,null,null,null,null,null,null,null,null,null,null,null,null,null,null,null,null,null,null,null,null,null,null,null,null,null,null,null,null,null,null,null,null,null,null,null,null,null,null,null,null,null,39]
[null,"Male 5-9",null,null,null,null,null,null,null,null,null,null,null,null,null,null,null,null,null,null,null,null,null,null,null,null,null,null,null,null,null,null,null,null,null,null,null,null,null,null,null,null,null,null,null,null,null,null,null,null,null,null,null,null,null,40]
[null,"Male 10-15",null,null,null,null,null,null,null,null,null,null,null,null,null,null,null,null,null,null,null,null,null,null,null,null,null,null,null,null,null,null,null,null,null,null,null,null,null,null,null,null,null,null,null,null,null,null,null,null,null,null,null,null,null,41]
[null,"Male 16-19",null,null,null,null,null,null,null,null,null,null,null,null,null,null,null,null,null,null,null,null,null,null,null,null,null,null,null,null,null,null,null,null,null,null,null,null,null,null,null,null,null,null,null,null,null,null,null,null,null,null,null,null,null,42]
[null,"Male 20-24",null,null,null,null,null,null,null,null,null,null,null,null,null,null,null,null,null,null,null,null,null,null,null,null,null,null,null,null,null,null,null,null,null,null,null,null,null,null,null,null,null,null,null,null,null,null,null,null,null,null,null,null,null,43]
[null,"Male 25-29",null,null,null,null,null,null,null,null,null,null,null,null,null,null,null,null,null,null,null,null,null,null,null,null,null,null,null,null,null,null,null,null,null,null,null,null,null,null,null,null,null,null,null,null,null,null,null,null,null,null,null,null,null,44]
[null,"Male 30-34",null,null,null,null,null,null,null,null,null,null,null,null,null,null,null,null,null,null,null,null,null,null,null,null,null,null,null,null,null,null,null,null,null,null,null,null,null,null,null,null,null,null,null,null,null,null,null,null,null,null,null,null,null,45]
[null,"Male 35-39",null,null,null,null,null,null,null,null,null,null,null,null,null,null,null,null,null,null,null,null,null,null,null,null,null,null,null,null,null,null,null,null,null,null,null,null,null,null,null,null,null,null,null,null,null,null,null,null,null,null,null,null,null,46]
[null,"Male 40-44",null,null,null,null,null,null,null,null,null,null,null,null,null,null,null,null,null,null,null,null,null,null,null,null,null,null,null,null,null,null,null,null,null,null,null,null,null,null,null,null,null,null,null,null,null,null,null,null,null,null,null,null,null,47]
[null,"Male 45-49",null,null,null,null,null,null,null,null,null,null,null,null,null,null,null,null,null,null,null,null,null,null,null,null,null,null,null,null,null,null,null,null,null,null,null,null,null,null,null,null,null,null,null,null,null,null,null,null,null,null,null,null,null,48]
[null,"Male 50-54",null,null,null,null,null,null,null,null,null,null,null,null,null,null,null,null,null,null,null,null,null,null,null,null,null,null,null,null,null,null,null,null,null,null,null,null,null,null,null,null,null,null,null,null,null,null,null,null,null,null,null,null,null,49]
[null,"Male 55-59",null,null,null,null,null,null,null,null,null,null,null,null,null,null,null,null,null,null,null,null,null,null,null,null,null,null,null,null,null,null,null,null,null,null,null,null,null,null,null,null,null,null,null,null,null,null,null,null,null,null,null,null,null,50]
[null,"Male 60-64",null,null,null,null,null,null,null,null,null,null,null,null,null,null,null,null,null,null,null,null,null,null,null,null,null,null,null,null,null,null,null,null,null,null,null,null,null,null,null,null,null,null,null,null,null,null,null,null,null,null,null,null,null,51]
[null,"Male 65-69",null,null,null,null,null,null,null,null,null,null,null,null,null,null,null,null,null,null,null,null,null,null,null,null,null,null,null,null,null,null,null,null,null,null,null,null,null,null,null,null,null,null,null,null,null,null,null,null,null,null,null,null,null,52]
[null,"Male 70-74",null,null,null,null,null,null,null,null,null,null,null,null,null,null,null,null,null,null,null,null,null,null,null,null,null,null,null,null,null,null,null,null,null,null,null,null,null,null,null,null,null,null,null,null,null,null,null,null,null,null,null,null,null,53]
[null,"Male 75-79",null,null,null,null,null,null,null,null,null,null,null,null,null,null,null,null,null,null,null,null,null,null,null,null,null,null,null,null,null,null,null,null,null,null,null,null,null,null,null,null,null,null,null,null,null,null,null,null,null,null,null,null,null,54]
[null,"Male 80-84",null,null,null,null,null,null,null,null,null,null,null,null,null,null,null,null,null,null,null,null,null,null,null,null,null,null,null,null,null,null,null,null,null,null,null,null,null,null,null,null,null,null,null,null,null,null,null,null,null,null,null,null,null,55]
[null,"Male 85-89",null,null,null,null,null,null,null,null,null,null,null,null,null,null,null,null,null,null,null,null,null,null,null,null,null,null,null,null,null,null,null,null,null,null,null,null,null,null,null,null,null,null,null,null,null,null,null,null,null,null,null,null,null,56]
[null,"Male 90+",null,null,null,null,null,null,null,null,null,null,null,null,null,null,null,null,null,null,null,null,null,null,null,null,null,null,null,null,null,null,null,null,null,null,null,null,null,null,null,null,null,null,null,null,null,null,null,null,null,null,null,null,null,57]
["SIMD Q1 (most deprived)","Female 0-4",null,null,null,null,null,null,null,null,null,null,null,null,null,null,null,null,null,null,null,null,null,null,null,null,null,null,null,null,null,null,null,null,null,null,null,null,null,null,null,null,null,null,null,null,null,null,null,null,null,null,null,null,null,58]
[null,"Female 5-9",null,null,null,null,null,null,null,null,null,null,null,null,null,null,null,null,null,null,null,null,null,null,null,null,null,null,null,null,null,null,null,null,null,null,null,null,null,null,null,null,null,null,null,null,null,null,null,null,null,null,null,null,null,59]
[null,"Female 10-15",null,null,null,null,null,null,null,null,null,null,null,null,null,null,null,null,null,null,null,null,null,null,null,null,null,null,null,null,null,null,null,null,null,null,null,null,null,null,null,null,null,null,null,null,null,null,null,null,null,null,null,null,null,60]
[null,"Female 16-19",{"$f":"$AR63*C$253","v":0.24529191489361701},0.1327531674763941,0.20833617021276596,0.14473106382978723,0.27679999999999999,0.27989191489361709,0.28283659574468084,0.27679999999999999,0.27679999999999999,0.32921531914893615,{"$f":"$AR63*M$253","v":0.32921531914893615},0.35969276595744676,0.28254212765957448,0.20980851063829783,0.31169446808510642,0.11999574468085106,0.1970074912320991,0.21025021276595743,0.27679999999999999,0.18374808510638299,{"$f":"$AR63*W$253","v":0.28533957446808511},0.28533957446808511,0.20391914893617019,0.33584085106382977,0.11654390305767216,0.24440851063829785,0.3091914893617021,0.26310723404255315,0.26001531914893616,0.27679999999999999,{"$f":"$AR63*AG$253","v":0.13891211840888068},0.32273702127659576,0.25162297872340422,0.27679999999999999,0.33907999999999999,0.27046893617021278,0.38074723404255317,0.27679999999999999,0.27679999999999999,0.21658127659574467,0.32008680851063825,0.27679999999999999,{"$f":"$AR63*AS$253","v":0.28283659574468084},0.27679999999999999,0.27679999999999999,0.28828425531914886,0.26178212765957448,0.27679999999999999,0.15781875994950301,0.24823659574468085,0.36911574468085107,0.29800170212765953,0.27679999999999999,61]
[null,"Female 20-24",0.24529191489361701,0.1327531674763941,0.20833617021276596,0.14473106382978723,0.27679999999999999,0.27989191489361709,0.28283659574468084,0.27679999999999999,0.27679999999999999,0.32921531914893615,0.32921531914893615,0.35969276595744676,0.28254212765957448,0.20980851063829783,0.31169446808510642,0.11999574468085106,0.1970074912320991,0.21025021276595743,0.27679999999999999,0.18374808510638299,0.28533957446808511,0.28533957446808511,0.20391914893617019,0.33584085106382977,0.11654390305767216,0.24440851063829785,0.3091914893617021,0.26310723404255315,0.26001531914893616,0.27679999999999999,0.13891211840888068,0.32273702127659576,0.25162297872340422,0.27679999999999999,0.33907999999999999,0.27046893617021278,0.38074723404255317,0.27679999999999999,0.27679999999999999,0.21658127659574467,0.32008680851063825,0.27679999999999999,0.28283659574468084,0.27679999999999999,0.27679999999999999,0.28828425531914886,0.26178212765957448,0.27679999999999999,0.15781875994950301,0.24823659574468085,0.36911574468085107,0.29800170212765953,0.27679999999999999,62]
[null,"Female 25-29",0.31786925531914895,0.17203237418274051,0.26997898936170217,0.18755430851063828,0.35870000000000002,0.36270675531914903,0.36652271276595749,0.35870000000000002,0.35870000000000002,0.42662404255319147,0.42662404255319147,0.46611920212765956,0.36614111702127661,0.27188696808510637,0.40391909574468099,0.15550026595744681,0.25529836381847526,0.27245936170212764,0.35870000000000002,0.23811574468085109,0.36976627659574468,0.36976627659574468,0.26425505319148934,0.43520994680851066,0.1510270882470629,0.3167244680851064,0.40067553191489358,0.34095579787234043,0.33694904255319152,0.35870000000000002,0.18001364477335802,0.41822893617021284,0.32607356382978725,0.35870000000000002,0.43940750000000006,0.35049569148936172,0.49340329787234044,0.35870000000000002,0.35870000000000002,0.28066367021276595,0.4147945744680851,0.35870000000000002,0.36652271276595749,0.35870000000000002,0.35870000000000002,0.37358223404255314,0.33923861702127661,0.35870000000000002,0.20451441182762548,0.32168521276595746,0.47833026595744682,0.38617489361702123,0.35870000000000002,63]
[null,"Female 30-34",0.31786925531914895,0.17203237418274051,0.26997898936170217,0.18755430851063828,0.35870000000000002,0.36270675531914903,0.36652271276595749,0.35870000000000002,0.35870000000000002,0.42662404255319147,0.42662404255319147,0.46611920212765956,0.36614111702127661,0.27188696808510637,0.40391909574468099,0.15550026595744681,0.25529836381847526,0.27245936170212764,0.35870000000000002,0.23811574468085109,0.36976627659574468,0.36976627659574468,0.26425505319148934,0.43520994680851066,0.1510270882470629,0.3167244680851064,0.40067553191489358,0.34095579787234043,0.33694904255319152,0.35870000000000002,0.18001364477335802,0.41822893617021284,0.32607356382978725,0.35870000000000002,0.43940750000000006,0.35049569148936172,0.49340329787234044,0.35870000000000002,0.35870000000000002,0.28066367021276595,0.4147945744680851,0.35870000000000002,0.36652271276595749,0.35870000000000002,0.35870000000000002,0.37358223404255314,0.33923861702127661,0.35870000000000002,0.20451441182762548,0.32168521276595746,0.47833026595744682,0.38617489361702123,0.35870000000000002,64]
[null,"Female 35-39",0.34817627659574468,0.18843468027989613,0.29571994680851071,0.20543654255319149,0.39290000000000003,0.3972887765957448,0.40146856382978729,0.39290000000000003,0.39290000000000003,0.46730021276595746,0.46730021276595746,0.51056101063829784,0.40105058510638303,0.29780984042553188,0.44243047872340441,0.17032632978723405,0.27963960731608289,0.29843680851063831,0.39290000000000003,0.26081872340425538,0.40502138297872342,0.40502138297872342,0.28945026595744683,0.4767047340425532,0.16542666008439089,0.34692234042553194,0.43887765957446806,0.37346398936170216,0.36907521276595745,0.39290000000000003,0.19717691951896396,0.45810468085106393,0.35716281914893616,0.39290000000000003,0.48130250000000008,0.38391345744680855,0.54044648936170214,0.39290000000000003,0.39290000000000003,0.30742335106382979,0.45434287234042553,0.39290000000000003,0.40146856382978729,0.39290000000000003,0.39290000000000003,0.40920117021276592,0.37158308510638305,0.39290000000000003,0.22401369502947882,0.35235606382978729,0.52393632978723403,0.42299446808510638,0.39290000000000003,65]
[null,"Female 40-44",0.34817627659574468,0.18843468027989613,0.29571994680851071,0.20543654255319149,0.39290000000000003,0.3972887765957448,0.40146856382978729,0.39290000000000003,0.39290000000000003,0.46730021276595746,0.46730021276595746,0.51056101063829784,0.40105058510638303,0.29780984042553188,0.44243047872340441,0.17032632978723405,0.27963960731608289,0.29843680851063831,0.39290000000000003,0.26081872340425538,0.40502138297872342,0.40502138297872342,0.28945026595744683,0.4767047340425532,0.16542666008439089,0.34692234042553194,0.43887765957446806,0.37346398936170216,0.36907521276595745,0.39290000000000003,0.19717691951896396,0.45810468085106393,0.35716281914893616,0.39290000000000003,0.48130250000000008,0.38391345744680855,0.54044648936170214,0.39290000000000003,0.39290000000000003,0.30742335106382979,0.45434287234042553,0.39290000000000003,0.40146856382978729,0.39290000000000003,0.39290000000000003,0.40920117021276592,0.37158308510638305,0.39290000000000003,0.22401369502947882,0.35235606382978729,0.52393632978723403,0.42299446808510638,0.39290000000000003,66]
[null,"Female 45-49",0.38238244680851063,0.20694722458838172,0.32477260638297872,0.225619414893617,0.43149999999999999,0.43631994680851072,0.44091037234042557,0.43149999999999999,0.43149999999999999,0.51320957446808502,0.51320957446808502,0.56072047872340425,0.44045132978723406,0.32706781914893612,0.48589654255319159,0.18705984042553192,0.30711247278414294,0.32775638297872339,0.43149999999999999,0.28644255319148937,0.44481223404255316,0.44481223404255316,0.31788696808510636,0.52353803191489356,0.1816788084154102,0.38100531914893615,0.48199468085106378,0.41015452127659574,0.40533457446808507,0.43149999999999999,0.21654833487511566,0.50311063829787239,0.39225186170212761,0.43149999999999999,0.52858749999999999,0.42163058510638302,0.59354202127659572,0.43149999999999999,0.43149999999999999,0.33762579787234043,0.49897925531914888,0.43149999999999999,0.44091037234042557,0.43149999999999999,0.43149999999999999,0.44940265957446801,0.40808882978723404,0.43149999999999999,0.2460216579415121,0.38697287234042554,0.57540984042553189,0.46455106382978717,0.43149999999999999,67]
[null,"Female 50-54",0.38238244680851063,0.20694722458838172,0.32477260638297872,0.225619414893617,0.43149999999999999,0.43631994680851072,0.44091037234042557,0.43149999999999999,0.43149999999999999,0.51320957446808502,0.51320957446808502,0.56072047872340425,0.44045132978723406,0.32706781914893612,0.48589654255319159,0.18705984042553192,0.30711247278414294,0.32775638297872339,0.43149999999999999,0.28644255319148937,0.44481223404255316,0.44481223404255316,0.31788696808510636,0.52353803191489356,0.1816788084154102,0.38100531914893615,0.48199468085106378,0.41015452127659574,0.40533457446808507,0.43149999999999999,0.21654833487511566,0.50311063829787239,0.39225186170212761,0.43149999999999999,0.52858749999999999,0.42163058510638302,0.59354202127659572,0.43149999999999999,0.43149999999999999,0.33762579787234043,0.49897925531914888,0.43149999999999999,0.44091037234042557,0.43149999999999999,0.43149999999999999,0.44940265957446801,0.40808882978723404,0.43149999999999999,0.2460216579415121,0.38697287234042554,0.57540984042553189,0.46455106382978717,0.43149999999999999,68]
[null,"Female 55-59",0.35030308510638303,0.18958571930425794,0.29752632978723409,0.20669143617021277,0.39530000000000004,0.39971558510638311,0.40392090425531924,0.39530000000000004,0.39530000000000004,0.47015468085106382,0.47015468085106382,0.51367973404255318,0.40350037234042557,0.29962898936170212,0.44513303191489378,0.17136675531914897,0.28134776475451151,0.30025978723404256,0.39530000000000004,0.26241191489361709,0.40749542553191492,0.40749542553191492,0.29121835106382982,0.47961664893617023,0.16643715635367706,0.34904148936170215,0.44155851063829787,0.37574526595744684,0.37132968085106388,0.39530000000000004,0.19838135985198893,0.46090297872340436,0.35934452127659577,0.39530000000000004,0.48424250000000008,0.38625856382978729,0.54374776595744678,0.39530000000000004,0.39530000000000004,0.30930122340425537,0.45711819148936167,0.39530000000000004,0.40392090425531924,0.39530000000000004,0.39530000000000004,0.41170074468085105,0.37385287234042558,0.39530000000000004,0.22538206578048608,0.35450840425531921,0.52713675531914894,0.42557829787234042,0.39530000000000004,69]
[null,"Female 60-64",0.35030308510638303,0.18958571930425794,0.29752632978723409,0.20669143617021277,0.39530000000000004,0.39971558510638311,0.40392090425531924,0.39530000000000004,0.39530000000000004,0.47015468085106382,0.47015468085106382,0.51367973404255318,0.40350037234042557,0.29962898936170212,0.44513303191489378,0.17136675531914897,0.28134776475451151,0.30025978723404256,0.39530000000000004,0.26241191489361709,0.40749542553191492,0.40749542553191492,0.29121835106382982,0.47961664893617023,0.16643715635367706,0.34904148936170215,0.44155851063829787,0.37574526595744684,0.37132968085106388,0.39530000000000004,0.19838135985198893,0.46090297872340436,0.35934452127659577,0.39530000000000004,0.48424250000000008,0.38625856382978729,0.54374776595744678,0.39530000000000004,0.39530000000000004,0.30930122340425537,0.45711819148936167,0.39530000000000004,0.40392090425531924,0.39530000000000004,0.39530000000000004,0.41170074468085105,0.37385287234042558,0.39530000000000004,0.22538206578048608,0.35450840425531921,0.52713675531914894,0.42557829787234042,0.39530000000000004,70]
[null,"Female 65-69",{"$f":"$AR73*C$253","v":0.24254478723404255},0.13126640873659345,0.2060029255319149,0.14311015957446807,0.2737,0.27675728723404258,0.27966898936170215,0.2737,0.2737,0.32552829787234039,{"$f":"$AR73*M$253","v":0.32552829787234039},0.355664414893617,0.27937781914893617,0.20745877659574466,0.30820367021276601,0.11865186170212766,0.19480112120746215,0.2078955319148936,0.2737,0.18169021276595745,{"$f":"$AR73*W$253","v":0.28214393617021277},0.28214393617021277,0.20163537234042553,0.33207962765957444,0.11523867870984419,0.24167127659574467,0.30572872340425528,0.26016058510638296,0.25710329787234043,0.2737,{"$f":"$AR73*AG$253","v":0.13735638297872341},0.31912255319148941,0.24880494680851062,0.2737,0.33528250000000004,0.26743984042553193,0.37648308510638295,0.2737,0.2737,0.2141556914893617,0.31650202127659571,0.2737,{"$f":"$AR73*AS$253","v":0.27966898936170215},0.2737,0.2737,0.28505563829787228,0.25885031914893619,0.2737,0.15605128106278532,0.24545648936170214,0.36498186170212765,0.29466425531914892,0.2737,71]
[null,"Female 70-74",0.24254478723404255,0.13126640873659345,0.2060029255319149,0.14311015957446807,0.2737,0.27675728723404258,0.27966898936170215,0.2737,0.2737,0.32552829787234039,0.32552829787234039,0.355664414893617,0.27937781914893617,0.20745877659574466,0.30820367021276601,0.11865186170212766,0.19480112120746215,0.2078955319148936,0.2737,0.18169021276595745,0.28214393617021277,0.28214393617021277,0.20163537234042553,0.33207962765957444,0.11523867870984419,0.24167127659574467,0.30572872340425528,0.26016058510638296,0.25710329787234043,0.2737,0.13735638297872341,0.31912255319148941,0.24880494680851062,0.2737,0.33528250000000004,0.26743984042553193,0.37648308510638295,0.2737,0.2737,0.2141556914893617,0.31650202127659571,0.2737,0.27966898936170215,0.2737,0.2737,0.28505563829787228,0.25885031914893619,0.2737,0.15605128106278532,0.24545648936170214,0.36498186170212765,0.29466425531914892,0.2737,72]
[null,"Female 75-79",0.13203936170212766,7.1460339429128328E-2,0.11214627659574469,7.7907978723404242E-2,0.14899999999999999,0.15066436170212769,0.15224946808510639,0.14899999999999999,0.14899999999999999,0.17721489361702125,0.17721489361702125,0.19362074468085105,0.15209095744680851,0.11293882978723402,0.16778351063829791,6.459308510638298E-2,0.10604810763577589,0.11317659574468084,0.14899999999999999,9.8910638297872347E-2,0.15359680851063828,0.15359680851063828,0.10976861702127659,0.1807813829787234,6.2734976718183358E-2,0.13156382978723405,0.16643617021276594,0.14162925531914894,0.13996489361702127,0.14899999999999999,7.4775670675300651E-2,0.17372765957446809,0.13544734042553189,0.14899999999999999,0.18252499999999999,0.14559202127659573,0.2049542553191489,0.14899999999999999,0.14899999999999999,0.11658457446808511,0.17230106382978722,0.14899999999999999,0.15224946808510639,0.14899999999999999,0.14899999999999999,0.15518191489361699,0.14091595744680852,0.14899999999999999,8.4953017458366864E-2,0.13362446808510639,0.19869308510638298,0.16041276595744677,0.14899999999999999,73]
[null,"Female 80-84",0.13203936170212766,7.1460339429128328E-2,0.11214627659574469,7.7907978723404242E-2,0.14899999999999999,0.15066436170212769,0.15224946808510639,0.14899999999999999,0.14899999999999999,0.17721489361702125,0.17721489361702125,0.19362074468085105,0.15209095744680851,0.11293882978723402,0.16778351063829791,6.459308510638298E-2,0.10604810763577589,0.11317659574468084,0.14899999999999999,9.8910638297872347E-2,0.15359680851063828,0.15359680851063828,0.10976861702127659,0.1807813829787234,6.2734976718183358E-2,0.13156382978723405,0.16643617021276594,0.14162925531914894,0.13996489361702127,0.14899999999999999,7.4775670675300651E-2,0.17372765957446809,0.13544734042553189,0.14899999999999999,0.18252499999999999,0.14559202127659573,0.2049542553191489,0.14899999999999999,0.14899999999999999,0.11658457446808511,0.17230106382978722,0.14899999999999999,0.15224946808510639,0.14899999999999999,0.14899999999999999,0.15518191489361699,0.14091595744680852,0.14899999999999999,8.4953017458366864E-2,0.13362446808510639,0.19869308510638298,0.16041276595744677,0.14899999999999999,74]
[null,"Female 85-89",0.13203936170212766,7.1460339429128328E-2,0.11214627659574469,7.7907978723404242E-2,0.14899999999999999,0.15066436170212769,0.15224946808510639,0.14899999999999999,0.14899999999999999,0.17721489361702125,0.17721489361702125,0.19362074468085105,0.15209095744680851,0.11293882978723402,0.16778351063829791,6.459308510638298E-2,0.10604810763577589,0.11317659574468084,0.14899999999999999,9.8910638297872347E-2,0.15359680851063828,0.15359680851063828,0.10976861702127659,0.1807813829787234,6.2734976718183358E-2,0.13156382978723405,0.16643617021276594,0.14162925531914894,0.13996489361702127,0.14899999999999999,7.4775670675300651E-2,0.17372765957446809,0.13544734042553189,0.14899999999999999,0.18252499999999999,0.14559202127659573,0.2049542553191489,0.14899999999999999,0.14899999999999999,0.11658457446808511,0.17230106382978722,0.14899999999999999,0.15224946808510639,0.14899999999999999,0.14899999999999999,0.15518191489361699,0.14091595744680852,0.14899999999999999,8.4953017458366864E-2,0.13362446808510639,0.19869308510638298,0.16041276595744677,0.14899999999999999,75]
[null,"Female 90+",0.13203936170212766,7.1460339429128328E-2,0.11214627659574469,7.7907978723404242E-2,0.14899999999999999,0.15066436170212769,0.15224946808510639,0.14899999999999999,0.14899999999999999,0.17721489361702125,0.17721489361702125,0.19362074468085105,0.15209095744680851,0.11293882978723402,0.16778351063829791,6.459308510638298E-2,0.10604810763577589,0.11317659574468084,0.14899999999999999,9.8910638297872347E-2,0.15359680851063828,0.15359680851063828,0.10976861702127659,0.1807813829787234,6.2734976718183358E-2,0.13156382978723405,0.16643617021276594,0.14162925531914894,0.13996489361702127,0.14899999999999999,7.4775670675300651E-2,0.17372765957446809,0.13544734042553189,0.14899999999999999,0.18252499999999999,0.14559202127659573,0.2049542553191489,0.14899999999999999,0.14899999999999999,0.11658457446808511,0.17230106382978722,0.14899999999999999,0.15224946808510639,0.14899999999999999,0.14899999999999999,0.15518191489361699,0.14091595744680852,0.14899999999999999,8.4953017458366864E-2,0.13362446808510639,0.19869308510638298,0.16041276595744677,0.14899999999999999,76]
[null,"Male 0-4",null,null,null,null,null,null,null,null,null,null,null,null,null,null,null,null,null,null,null,null,null,null,null,null,null,null,null,null,null,null,null,null,null,null,null,null,null,null,null,null,null,null,null,null,null,null,null,null,null,null,null,null,null,77]
[null,"Male 5-9",null,null,null,null,null,null,null,null,null,null,null,null,null,null,null,null,null,null,null,null,null,null,null,null,null,null,null,null,null,null,null,null,null,null,null,null,null,null,null,null,null,null,null,null,null,null,null,null,null,null,null,null,null,78]
[null,"Male 10-15",null,null,null,null,null,null,null,null,null,null,null,null,null,null,null,null,null,null,null,null,null,null,null,null,null,null,null,null,null,null,null,null,null,null,null,null,null,null,null,null,null,null,null,null,null,null,null,null,null,null,null,null,null,79]
[null,"Male 16-19",{"$f":"$AR82*C$254","v":0.37619320388349514},0.13234239656243388,0.3195367166813769,0.38411924095322164,0.33260000000000001,0.34595684024713153,0.24497325684024715,0.33260000000000001,0.33260000000000001,0.34360838481906447,{"$f":"$AR82*M$254","v":0.34360838481906447},0.37824810238305384,0.3384711385701677,0.28651156222418356,0.31836248896734337,0.19169267431597531,0.19639790165492524,0.2840163283318623,0.33260000000000001,0.30984933804060016,{"$f":"$AR82*W$254","v":0.36415736981465141},0.36415736981465141,0.2840163283318623,0.39013715798764342,0.11618328758999223,0.34874563106796119,0.35696522506619593,0.35256187113857018,0.3596072374227714,0.33260000000000001,{"$f":"$AR82*AG$254","v":0.1384822901876511},0.3176285966460724,0.29517149161518097,0.33260000000000001,0.35902012356575469,0.42301553398058256,0.32129805825242719,0.33260000000000001,0.33260000000000001,0.29458437775816415,0.3490391879964696,0.33260000000000001,{"$f":"$AR82*AS$254","v":0.24497325684024715},0.33260000000000001,0.33260000000000001,0.26273345101500439,0.31381235657546336,0.33260000000000001,0.15733042993450688,0.34947952338923211,0.38309179170344221,0.2690449249779347,0.33260000000000001,80]
[null,"Male 20-24",0.37619320388349514,0.13234239656243388,0.3195367166813769,0.38411924095322164,0.33260000000000001,0.34595684024713153,0.24497325684024715,0.33260000000000001,0.33260000000000001,0.34360838481906447,0.34360838481906447,0.37824810238305384,0.3384711385701677,0.28651156222418356,0.31836248896734337,0.19169267431597531,0.19639790165492524,0.2840163283318623,0.33260000000000001,0.30984933804060016,0.36415736981465141,0.36415736981465141,0.2840163283318623,0.39013715798764342,0.11618328758999223,0.34874563106796119,0.35696522506619593,0.35256187113857018,0.3596072374227714,0.33260000000000001,0.1384822901876511,0.3176285966460724,0.29517149161518097,0.33260000000000001,0.35902012356575469,0.42301553398058256,0.32129805825242719,0.33260000000000001,0.33260000000000001,0.29458437775816415,0.3490391879964696,0.33260000000000001,0.24497325684024715,0.33260000000000001,0.33260000000000001,0.26273345101500439,0.31381235657546336,0.33260000000000001,0.15733042993450688,0.34947952338923211,0.38309179170344221,0.2690449249779347,0.33260000000000001,81]
[null,"Male 25-29",0.46328543689320389,0.16298089486462092,0.39351244483671671,0.47304642541924108,0.40960000000000002,0.42604907325684027,0.30168684907325688,0.40960000000000002,0.40960000000000002,0.42315692850838488,0.42315692850838488,0.4658160635481024,0.41683036187113859,0.35284165931156225,0.39206637246248899,0.23607131509267434,0.24186584641568667,0.34976875551632836,0.40960000000000002,0.38158234774933802,0.44846319505736987,0.44846319505736987,0.34976875551632836,0.48045754633715798,0.14308080155400127,0.42948349514563106,0.43960600176522507,0.43418323036187112,0.44285966460723741,0.40960000000000002,0.17054223109098585,0.39116257722859671,0.36350644307149166,0.40960000000000002,0.44213662842012363,0.52094757281553405,0.39568155339805827,0.40960000000000002,0.40960000000000002,0.36278340688437777,0.42984501323918806,0.40960000000000002,0.30168684907325688,0.40960000000000002,0.40960000000000002,0.32355869373345103,0.38646284201235659,0.40960000000000002,0.1937538908634216,0.43038729037952339,0.47178111209179169,0.33133133274492499,0.40960000000000002,82]
[null,"Male 30-34",0.46328543689320389,0.16298089486462092,0.39351244483671671,0.47304642541924108,0.40960000000000002,0.42604907325684027,0.30168684907325688,0.40960000000000002,0.40960000000000002,0.42315692850838488,0.42315692850838488,0.4658160635481024,0.41683036187113859,0.35284165931156225,0.39206637246248899,0.23607131509267434,0.24186584641568667,0.34976875551632836,0.40960000000000002,0.38158234774933802,0.44846319505736987,0.44846319505736987,0.34976875551632836,0.48045754633715798,0.14308080155400127,0.42948349514563106,0.43960600176522507,0.43418323036187112,0.44285966460723741,0.40960000000000002,0.17054223109098585,0.39116257722859671,0.36350644307149166,0.40960000000000002,0.44213662842012363,0.52094757281553405,0.39568155339805827,0.40960000000000002,0.40960000000000002,0.36278340688437777,0.42984501323918806,0.40960000000000002,0.30168684907325688,0.40960000000000002,0.40960000000000002,0.32355869373345103,0.38646284201235659,0.40960000000000002,0.1937538908634216,0.43038729037952339,0.47178111209179169,0.33133133274492499,0.40960000000000002,83]
[null,"Male 35-39",0.53623932038834954,0.18864561097489446,0.45547912621359227,0.54753737864077678,0.47410000000000002,0.49313932038834957,0.34919368932038841,0.47410000000000002,0.47410000000000002,0.48979174757281563,0.48979174757281563,0.53916844660194174,0.48246893203883495,0.40840388349514561,0.45380533980582527,0.27324563106796118,0.2799526313126881,0.40484708737864078,0.47410000000000002,0.44167038834951455,0.51908300970873789,0.51908300970873789,0.40484708737864078,0.55611553398058255,0.16561183597839843,0.49711456310679614,0.50883106796116506,0.50255436893203886,0.51259708737864074,0.47410000000000002,0.19739763613338962,0.45275922330097096,0.42074805825242723,0.47410000000000002,0.51176019417475738,0.60298155339805837,0.45798980582524274,0.47410000000000002,0.47410000000000002,0.4199111650485437,0.49753300970873793,0.47410000000000002,0.34919368932038841,0.47410000000000002,0.47410000000000002,0.37450970873786404,0.44731941747572818,0.47410000000000002,0.22426445229088912,0.49816067961165045,0.54607281553398057,0.38350631067961166,0.47410000000000002,84]
[null,"Male 40-44",0.53623932038834954,0.18864561097489446,0.45547912621359227,0.54753737864077678,0.47410000000000002,0.49313932038834957,0.34919368932038841,0.47410000000000002,0.47410000000000002,0.48979174757281563,0.48979174757281563,0.53916844660194174,0.48246893203883495,0.40840388349514561,0.45380533980582527,0.27324563106796118,0.2799526313126881,0.40484708737864078,0.47410000000000002,0.44167038834951455,0.51908300970873789,0.51908300970873789,0.40484708737864078,0.55611553398058255,0.16561183597839843,0.49711456310679614,0.50883106796116506,0.50255436893203886,0.51259708737864074,0.47410000000000002,0.19739763613338962,0.45275922330097096,0.42074805825242723,0.47410000000000002,0.51176019417475738,0.60298155339805837,0.45798980582524274,0.47410000000000002,0.47410000000000002,0.4199111650485437,0.49753300970873793,0.47410000000000002,0.34919368932038841,0.47410000000000002,0.47410000000000002,0.37450970873786404,0.44731941747572818,0.47410000000000002,0.22426445229088912,0.49816067961165045,0.54607281553398057,0.38350631067961166,0.47410000000000002,85]
[null,"Male 45-49",0.49167524271844659,0.17296824950598319,0.41762661076787294,0.50203437775816429,0.43470000000000003,0.45215706090026481,0.32017400706090032,0.43470000000000003,0.43470000000000003,0.44908768755516337,0.44908768755516337,0.49436094439541045,0.44237343336275381,0.37446354810238308,0.4160919240953222,0.25053759929391001,0.2566872154221167,0.37120233892321275,0.43470000000000003,0.40496544571932924,0.47594470432480146,0.47594470432480146,0.37120233892321275,0.5098996469549868,0.15184869246954186,0.45580194174757283,0.46654474845542804,0.46078967343336275,0.46999779346866727,0.43470000000000003,0.18099293909973524,0.41513274492497798,0.38578186231244488,0.43470000000000003,0.46923045013239201,0.55287087378640787,0.41992864077669906,0.43470000000000003,0.43470000000000003,0.38501451897616945,0.45618561341571057,0.43470000000000003,0.32017400706090032,0.43470000000000003,0.43470000000000003,0.34338614298323034,0.41014501323918801,0.43470000000000003,0.20562699306232757,0.45676112091791704,0.50069152691968233,0.35163508384819064,0.43470000000000003,86]
[null,"Male 50-54",0.49167524271844659,0.17296824950598319,0.41762661076787294,0.50203437775816429,0.43470000000000003,0.45215706090026481,0.32017400706090032,0.43470000000000003,0.43470000000000003,0.44908768755516337,0.44908768755516337,0.49436094439541045,0.44237343336275381,0.37446354810238308,0.4160919240953222,0.25053759929391001,0.2566872154221167,0.37120233892321275,0.43470000000000003,0.40496544571932924,0.47594470432480146,0.47594470432480146,0.37120233892321275,0.5098996469549868,0.15184869246954186,0.45580194174757283,0.46654474845542804,0.46078967343336275,0.46999779346866727,0.43470000000000003,0.18099293909973524,0.41513274492497798,0.38578186231244488,0.43470000000000003,0.46923045013239201,0.55287087378640787,0.41992864077669906,0.43470000000000003,0.43470000000000003,0.38501451897616945,0.45618561341571057,0.43470000000000003,0.32017400706090032,0.43470000000000003,0.43470000000000003,0.34338614298323034,0.41014501323918801,0.43470000000000003,0.20562699306232757,0.45676112091791704,0.50069152691968233,0.35163508384819064,0.43470000000000003,87]
[null,"Male 55-59",0.48930000000000001,0.17213265409774173,0.41560909090909098,0.49960909090909106,0.43260000000000004,0.4499727272727273,0.31862727272727281,0.43260000000000004,0.43260000000000004,0.44691818181818188,0.44691818181818188,0.49197272727272728,0.4402363636363637,0.37265454545454546,0.41408181818181822,0.24932727272727276,0.25544718056500504,0.36940909090909096,0.43260000000000004,0.40300909090909093,0.47364545454545459,0.47364545454545459,0.36940909090909096,0.50743636363636369,0.15111512390688708,0.45360000000000006,0.46429090909090909,0.4585636363636364,0.46772727272727271,0.43260000000000004,0.18011857707509885,0.41312727272727279,0.38391818181818188,0.43260000000000004,0.46696363636363647,0.55020000000000013,0.41790000000000005,0.43260000000000004,0.43260000000000004,0.38315454545454547,0.45398181818181826,0.43260000000000004,0.31862727272727281,0.43260000000000004,0.43260000000000004,0.34172727272727271,0.4081636363636364,0.43260000000000004,0.20463362594608445,0.45455454545454543,0.49827272727272731,0.34993636363636366,0.43260000000000004,88]
[null,"Male 60-64",0.48930000000000001,0.17213265409774173,0.41560909090909098,0.49960909090909106,0.43260000000000004,0.4499727272727273,0.31862727272727281,0.43260000000000004,0.43260000000000004,0.44691818181818188,0.44691818181818188,0.49197272727272728,0.4402363636363637,0.37265454545454546,0.41408181818181822,0.24932727272727276,0.25544718056500504,0.36940909090909096,0.43260000000000004,0.40300909090909093,0.47364545454545459,0.47364545454545459,0.36940909090909096,0.50743636363636369,0.15111512390688708,0.45360000000000006,0.46429090909090909,0.4585636363636364,0.46772727272727271,0.43260000000000004,0.18011857707509885,0.41312727272727279,0.38391818181818188,0.43260000000000004,0.46696363636363647,0.55020000000000013,0.41790000000000005,0.43260000000000004,0.43260000000000004,0.38315454545454547,0.45398181818181826,0.43260000000000004,0.31862727272727281,0.43260000000000004,0.43260000000000004,0.34172727272727271,0.4081636363636364,0.43260000000000004,0.20463362594608445,0.45455454545454543,0.49827272727272731,0.34993636363636366,0.43260000000000004,89]
[null,"Male 65-69",{"$f":"$AR92*C$254","v":0.35006553398058249},0.12315084707177776,0.29734399823477498,0.35744108561341575,0.3095,0.32192917034421892,0.22795917917034425,0.3095,0.3095,0.31974382171226834,{"$f":"$AR92*M$254","v":0.31974382171226834},0.35197771403353928,0.31496337157987642,0.26661253309797001,0.29625132391879966,0.1783790820829656,0.18275751822669684,0.26429060017652251,0.3095,0.28832943512797882,{"$f":"$AR92*W$254","v":0.33886562224183586},0.33886562224183586,0.26429060017652251,0.36304104148278904,0.10811403340078952,0.32452427184466021,0.33217299205648715,0.32807546337157983,0.33463150926743157,0.3095,{"$f":"$AR92*AG$254","v":0.12886430791665068},0.29556840247131511,0.27467100617828777,0.3095,0.334085172109444,0.39363592233009709,0.29898300970873787,0.3095,0.3095,0.27412466902030008,0.32479744042365405,0.3095,{"$f":"$AR92*AS$254","v":0.22795917917034425},0.3095,0.3095,0.2444858781994704,0.29201721094439542,0.3095,0.14640339165583247,0.3252071932921447,0.3564849955869373,0.25035900264783761,0.3095,90]
[null,"Male 70-74",0.35006553398058249,0.12315084707177776,0.29734399823477498,0.35744108561341575,0.3095,0.32192917034421892,0.22795917917034425,0.3095,0.3095,0.31974382171226834,0.31974382171226834,0.35197771403353928,0.31496337157987642,0.26661253309797001,0.29625132391879966,0.1783790820829656,0.18275751822669684,0.26429060017652251,0.3095,0.28832943512797882,0.33886562224183586,0.33886562224183586,0.26429060017652251,0.36304104148278904,0.10811403340078952,0.32452427184466021,0.33217299205648715,0.32807546337157983,0.33463150926743157,0.3095,0.12886430791665068,0.29556840247131511,0.27467100617828777,0.3095,0.334085172109444,0.39363592233009709,0.29898300970873787,0.3095,0.3095,0.27412466902030008,0.32479744042365405,0.3095,0.22795917917034425,0.3095,0.3095,0.2444858781994704,0.29201721094439542,0.3095,0.14640339165583247,0.3252071932921447,0.3564849955869373,0.25035900264783761,0.3095,91]
[null,"Male 75-79",0.19284708737864079,6.7842389097699865E-2,0.16380339805825245,0.19691019417475733,0.17050000000000001,0.1773470873786408,0.12558009708737866,0.17050000000000001,0.17050000000000001,0.17614320388349516,0.17614320388349516,0.19390048543689323,0.17350970873786409,0.14687378640776699,0.16320145631067962,9.8266990291262152E-2,0.10067902054168598,0.14559466019417477,0.17050000000000001,0.15883737864077671,0.18667718446601944,0.18667718446601944,0.14559466019417477,0.19999514563106796,5.9558780920305705E-2,0.17877669902912621,0.18299029126213592,0.18073300970873787,0.18434466019417475,0.17050000000000001,7.0989869143098364E-2,0.16282524271844662,0.15131310679611654,0.17050000000000001,0.18404368932038839,0.21684951456310683,0.16470631067961167,0.17050000000000001,0.17050000000000001,0.15101213592233009,0.17892718446601943,0.17050000000000001,0.12558009708737866,0.17050000000000001,0.17050000000000001,0.13468446601941747,0.16086893203883496,0.17050000000000001,8.0651949199739711E-2,0.17915291262135921,0.19638349514563108,0.13791990291262138,0.17050000000000001,92]
[null,"Male 80-84",0.19284708737864079,6.7842389097699865E-2,0.16380339805825245,0.19691019417475733,0.17050000000000001,0.1773470873786408,0.12558009708737866,0.17050000000000001,0.17050000000000001,0.17614320388349516,0.17614320388349516,0.19390048543689323,0.17350970873786409,0.14687378640776699,0.16320145631067962,9.8266990291262152E-2,0.10067902054168598,0.14559466019417477,0.17050000000000001,0.15883737864077671,0.18667718446601944,0.18667718446601944,0.14559466019417477,0.19999514563106796,5.9558780920305705E-2,0.17877669902912621,0.18299029126213592,0.18073300970873787,0.18434466019417475,0.17050000000000001,7.0989869143098364E-2,0.16282524271844662,0.15131310679611654,0.17050000000000001,0.18404368932038839,0.21684951456310683,0.16470631067961167,0.17050000000000001,0.17050000000000001,0.15101213592233009,0.17892718446601943,0.17050000000000001,0.12558009708737866,0.17050000000000001,0.17050000000000001,0.13468446601941747,0.16086893203883496,0.17050000000000001,8.0651949199739711E-2,0.17915291262135921,0.19638349514563108,0.13791990291262138,0.17050000000000001,93]
[null,"Male 85-89",0.19284708737864079,6.7842389097699865E-2,0.16380339805825245,0.19691019417475733,0.17050000000000001,0.1773470873786408,0.12558009708737866,0.17050000000000001,0.17050000000000001,0.17614320388349516,0.17614320388349516,0.19390048543689323,0.17350970873786409,0.14687378640776699,0.16320145631067962,9.8266990291262152E-2,0.10067902054168598,0.14559466019417477,0.17050000000000001,0.15883737864077671,0.18667718446601944,0.18667718446601944,0.14559466019417477,0.19999514563106796,5.9558780920305705E-2,0.17877669902912621,0.18299029126213592,0.18073300970873787,0.18434466019417475,0.17050000000000001,7.0989869143098364E-2,0.16282524271844662,0.15131310679611654,0.17050000000000001,0.18404368932038839,0.21684951456310683,0.16470631067961167,0.17050000000000001,0.17050000000000001,0.15101213592233009,0.17892718446601943,0.17050000000000001,0.12558009708737866,0.17050000000000001,0.17050000000000001,0.13468446601941747,0.16086893203883496,0.17050000000000001,8.0651949199739711E-2,0.17915291262135921,0.19638349514563108,0.13791990291262138,0.17050000000000001,94]
[null,"Male 90+",0.19284708737864079,6.7842389097699865E-2,0.16380339805825245,0.19691019417475733,0.17050000000000001,0.1773470873786408,0.12558009708737866,0.17050000000000001,0.17050000000000001,0.17614320388349516,0.17614320388349516,0.19390048543689323,0.17350970873786409,0.14687378640776699,0.16320145631067962,9.8266990291262152E-2,0.10067902054168598,0.14559466019417477,0.17050000000000001,0.15883737864077671,0.18667718446601944,0.18667718446601944,0.14559466019417477,0.19999514563106796,5.9558780920305705E-2,0.17877669902912621,0.18299029126213592,0.18073300970873787,0.18434466019417475,0.17050000000000001,7.0989869143098364E-2,0.16282524271844662,0.15131310679611654,0.17050000000000001,0.18404368932038839,0.21684951456310683,0.16470631067961167,0.17050000000000001,0.17050000000000001,0.15101213592233009,0.17892718446601943,0.17050000000000001,0.12558009708737866,0.17050000000000001,0.17050000000000001,0.13468446601941747,0.16086893203883496,0.17050000000000001,8.0651949199739711E-2,0.17915291262135921,0.19638349514563108,0.13791990291262138,0.17050000000000001,95]
["SIMD Q2","Female 0-4",null,null,null,null,null,null,null,null,null,null,null,null,null,null,null,null,null,null,null,null,null,null,null,null,null,null,null,null,null,null,null,null,null,null,null,null,null,null,null,null,null,null,null,null,null,null,null,null,null,null,null,null,null,96]
[null,"Female 5-9",null,null,null,null,null,null,null,null,null,null,null,null,null,null,null,null,null,null,null,null,null,null,null,null,null,null,null,null,null,null,null,null,null,null,null,null,null,null,null,null,null,null,null,null,null,null,null,null,null,null,null,null,null,97]
[null,"Female 10-15",null,null,null,null,null,null,null,null,null,null,null,null,null,null,null,null,null,null,null,null,null,null,null,null,null,null,null,null,null,null,null,null,null,null,null,null,null,null,null,null,null,null,null,null,null,null,null,null,null,null,null,null,null,98]
[null,"Female 16-19",{"$f":"$AR101*C$253","v":0.23368308510638297},0.12647041280175261,0.19847632978723406,0.13788143617021276,0.26369999999999999,0.26664558510638303,0.26945090425531915,0.26369999999999999,0.26369999999999999,0.31363468085106377,{"$f":"$AR101*M$253","v":0.31363468085106377},0.34266973404255313,0.26917037234042551,0.19987898936170209,0.29694303191489368,0.11431675531914894,0.18768379854734296,0.20029978723404251,0.26369999999999999,0.17505191489361704,{"$f":"$AR101*W$253","v":0.27183542553191486},0.27183542553191486,0.19426835106382978,0.3199466489361702,0.11102827758781846,0.23284148936170213,0.29455851063829785,0.2506552659574468,0.24770968085106382,0.26369999999999999,{"$f":"$AR101*AG$253","v":0.13233788159111934},0.30746297872340428,0.23971452127659573,0.26369999999999999,0.3230325,0.25766856382978726,0.36272776595744677,0.26369999999999999,0.26369999999999999,0.2063312234042553,0.30493819148936163,0.26369999999999999,{"$f":"$AR101*AS$253","v":0.26945090425531915},0.26369999999999999,0.26369999999999999,0.27464074468085098,0.24939287234042554,0.26369999999999999,0.15034973626692175,0.23648840425531914,0.35164675531914891,0.28389829787234039,0.26369999999999999,99]
[null,"Female 20-24",0.23368308510638297,0.12647041280175261,0.19847632978723406,0.13788143617021276,0.26369999999999999,0.26664558510638303,0.26945090425531915,0.26369999999999999,0.26369999999999999,0.31363468085106377,0.31363468085106377,0.34266973404255313,0.26917037234042551,0.19987898936170209,0.29694303191489368,0.11431675531914894,0.18768379854734296,0.20029978723404251,0.26369999999999999,0.17505191489361704,0.27183542553191486,0.27183542553191486,0.19426835106382978,0.3199466489361702,0.11102827758781846,0.23284148936170213,0.29455851063829785,0.2506552659574468,0.24770968085106382,0.26369999999999999,0.13233788159111934,0.30746297872340428,0.23971452127659573,0.26369999999999999,0.3230325,0.25766856382978726,0.36272776595744677,0.26369999999999999,0.26369999999999999,0.2063312234042553,0.30493819148936163,0.26369999999999999,0.26945090425531915,0.26369999999999999,0.26369999999999999,0.27464074468085098,0.24939287234042554,0.26369999999999999,0.15034973626692175,0.23648840425531914,0.35164675531914891,0.28389829787234039,0.26369999999999999,100]
[null,"Female 25-29",0.24821627659574469,0.13433584613489158,0.21081994680851068,0.14645654255319149,0.28010000000000002,0.28322877659574475,0.28620856382978727,0.28010000000000002,0.28010000000000002,0.33314021276595746,0.33314021276595746,0.36398101063829785,0.28591058510638301,0.21230984042553189,0.31541047872340433,0.12142632978723406,0.19935620770993845,0.2127568085106383,0.28010000000000002,0.18593872340425535,0.28874138297872343,0.28874138297872343,0.20635026595744682,0.33984473404255322,0.11793333542794067,0.24732234042553192,0.31287765957446806,0.26624398936170213,0.26311521276595745,0.28010000000000002,0.14056822386679002,0.3265846808510639,0.25462281914893614,0.28010000000000002,0.34312250000000005,0.27369345744680856,0.38528648936170212,0.28010000000000002,0.28010000000000002,0.21916335106382981,0.32390287234042553,0.28010000000000002,0.28620856382978727,0.28010000000000002,0.28010000000000002,0.29172117021276595,0.264903085106383,0.28010000000000002,0.15970026973213799,0.25119606382978726,0.37351632978723404,0.30155446808510639,0.28010000000000002,101]
[null,"Female 30-34",0.24821627659574469,0.13433584613489158,0.21081994680851068,0.14645654255319149,0.28010000000000002,0.28322877659574475,0.28620856382978727,0.28010000000000002,0.28010000000000002,0.33314021276595746,0.33314021276595746,0.36398101063829785,0.28591058510638301,0.21230984042553189,0.31541047872340433,0.12142632978723406,0.19935620770993845,0.2127568085106383,0.28010000000000002,0.18593872340425535,0.28874138297872343,0.28874138297872343,0.20635026595744682,0.33984473404255322,0.11793333542794067,0.24732234042553192,0.31287765957446806,0.26624398936170213,0.26311521276595745,0.28010000000000002,0.14056822386679002,0.3265846808510639,0.25462281914893614,0.28010000000000002,0.34312250000000005,0.27369345744680856,0.38528648936170212,0.28010000000000002,0.28010000000000002,0.21916335106382981,0.32390287234042553,0.28010000000000002,0.28620856382978727,0.28010000000000002,0.28010000000000002,0.29172117021276595,0.264903085106383,0.28010000000000002,0.15970026973213799,0.25119606382978726,0.37351632978723404,0.30155446808510639,0.28010000000000002,102]
[null,"Female 35-39",0.2685095744680851,0.14531867682567706,0.22805585106382981,0.15843031914893616,0.30299999999999999,0.30638457446808515,0.30960797872340429,0.30299999999999999,0.30299999999999999,0.36037659574468078,0.36037659574468078,0.39373882978723401,0.30928563829787231,0.22966755319148932,0.34119734042553196,0.13135372340425533,0.21565487660161137,0.2301510638297872,0.30299999999999999,0.20114042553191491,0.31234787234042549,0.31234787234042549,0.22322074468085104,0.36762925531914892,0.12757515399737956,0.26754255319148934,0.33845744680851059,0.28801117021276595,0.28462659574468085,0.30299999999999999,0.15206059204440334,0.35328510638297878,0.27543989361702126,0.30299999999999999,0.37117500000000003,0.29606968085106383,0.41678617021276593,0.30299999999999999,0.30299999999999999,0.23708138297872339,0.35038404255319144,0.30299999999999999,0.30960797872340429,0.30299999999999999,0.30299999999999999,0.31557127659574463,0.28656063829787237,0.30299999999999999,0.1727568073146655,0.27173297872340424,0.40405372340425527,0.32620851063829781,0.30299999999999999,103]
[null,"Female 40-44",0.2685095744680851,0.14531867682567706,0.22805585106382981,0.15843031914893616,0.30299999999999999,0.30638457446808515,0.30960797872340429,0.30299999999999999,0.30299999999999999,0.36037659574468078,0.36037659574468078,0.39373882978723401,0.30928563829787231,0.22966755319148932,0.34119734042553196,0.13135372340425533,0.21565487660161137,0.2301510638297872,0.30299999999999999,0.20114042553191491,0.31234787234042549,0.31234787234042549,0.22322074468085104,0.36762925531914892,0.12757515399737956,0.26754255319148934,0.33845744680851059,0.28801117021276595,0.28462659574468085,0.30299999999999999,0.15206059204440334,0.35328510638297878,0.27543989361702126,0.30299999999999999,0.37117500000000003,0.29606968085106383,0.41678617021276593,0.30299999999999999,0.30299999999999999,0.23708138297872339,0.35038404255319144,0.30299999999999999,0.30960797872340429,0.30299999999999999,0.30299999999999999,0.31557127659574463,0.28656063829787237,0.30299999999999999,0.1727568073146655,0.27173297872340424,0.40405372340425527,0.32620851063829781,0.30299999999999999,104]
[null,"Female 45-49",0.27719404255319152,0.15001875284182109,0.23543191489361706,0.16355446808510637,0.31280000000000002,0.3162940425531916,0.31962170212765961,0.31280000000000002,0.31280000000000002,0.3720323404255319,0.3720323404255319,0.4064736170212766,0.31928893617021281,0.23709574468085104,0.3522327659574469,0.13560212765957447,0.22262985280852821,0.23759489361702127,0.31280000000000002,0.20764595744680855,0.32245021276595748,0.32245021276595748,0.23044042553191491,0.37951957446808515,0.13170134709696479,0.27619574468085106,0.34940425531914893,0.29732638297872344,0.29383234042553191,0.31280000000000002,0.15697872340425534,0.36471148936170217,0.28434851063829786,0.31280000000000002,0.38318000000000008,0.30564553191489363,0.43026638297872338,0.31280000000000002,0.31280000000000002,0.24474936170212769,0.36171659574468085,0.31280000000000002,0.31962170212765961,0.31280000000000002,0.31280000000000002,0.32577787234042549,0.29582893617021283,0.31280000000000002,0.1783443212146118,0.28052170212765959,0.41712212765957452,0.33675914893617021,0.31280000000000002,105]
[null,"Female 50-54",0.27719404255319152,0.15001875284182109,0.23543191489361706,0.16355446808510637,0.31280000000000002,0.3162940425531916,0.31962170212765961,0.31280000000000002,0.31280000000000002,0.3720323404255319,0.3720323404255319,0.4064736170212766,0.31928893617021281,0.23709574468085104,0.3522327659574469,0.13560212765957447,0.22262985280852821,0.23759489361702127,0.31280000000000002,0.20764595744680855,0.32245021276595748,0.32245021276595748,0.23044042553191491,0.37951957446808515,0.13170134709696479,0.27619574468085106,0.34940425531914893,0.29732638297872344,0.29383234042553191,0.31280000000000002,0.15697872340425534,0.36471148936170217,0.28434851063829786,0.31280000000000002,0.38318000000000008,0.30564553191489363,0.43026638297872338,0.31280000000000002,0.31280000000000002,0.24474936170212769,0.36171659574468085,0.31280000000000002,0.31962170212765961,0.31280000000000002,0.31280000000000002,0.32577787234042549,0.29582893617021283,0.31280000000000002,0.1783443212146118,0.28052170212765959,0.41712212765957452,0.33675914893617021,0.31280000000000002,106]
[null,"Female 55-59",0.25964787234042558,0.14052268089083628,0.22052925531914899,0.15320159574468087,0.29300000000000004,0.29627287234042565,0.29938989361702134,0.29300000000000004,0.29300000000000004,0.34848297872340428,0.34848297872340428,0.38074414893617026,0.29907819148936177,0.22208776595744681,0.32993670212765969,0.12701861702127662,0.20853755394149223,0.22255531914893617,0.29300000000000004,0.1945021276595745,0.3020393617021277,0.3020393617021277,0.21585372340425535,0.35549627659574473,0.12336475287535387,0.25871276595744686,0.32728723404255322,0.2785058510638298,0.2752329787234043,0.29300000000000004,0.1470420906567993,0.3416255319148937,0.2663494680851064,0.29300000000000004,0.35892500000000005,0.28629840425531922,0.4030308510638298,0.29300000000000004,0.29300000000000004,0.22925691489361705,0.33882021276595747,0.29300000000000004,0.29938989361702134,0.29300000000000004,0.29300000000000004,0.30515638297872338,0.27710319148936174,0.29300000000000004,0.16705526251880198,0.26276489361702132,0.39071861702127664,0.31544255319148939,0.29300000000000004,107]
[null,"Female 60-64",0.25964787234042558,0.14052268089083628,0.22052925531914899,0.15320159574468087,0.29300000000000004,0.29627287234042565,0.29938989361702134,0.29300000000000004,0.29300000000000004,0.34848297872340428,0.34848297872340428,0.38074414893617026,0.29907819148936177,0.22208776595744681,0.32993670212765969,0.12701861702127662,0.20853755394149223,0.22255531914893617,0.29300000000000004,0.1945021276595745,0.3020393617021277,0.3020393617021277,0.21585372340425535,0.35549627659574473,0.12336475287535387,0.25871276595744686,0.32728723404255322,0.2785058510638298,0.2752329787234043,0.29300000000000004,0.1470420906567993,0.3416255319148937,0.2663494680851064,0.29300000000000004,0.35892500000000005,0.28629840425531922,0.4030308510638298,0.29300000000000004,0.29300000000000004,0.22925691489361705,0.33882021276595747,0.29300000000000004,0.29938989361702134,0.29300000000000004,0.29300000000000004,0.30515638297872338,0.27710319148936174,0.29300000000000004,0.16705526251880198,0.26276489361702132,0.39071861702127664,0.31544255319148939,0.29300000000000004,108]
[null,"Female 65-69",{"$f":"$AR111*C$253","v":0.18698191489361704},0.10119551422514148,0.158811170212766,0.11032606382978724,0.21100000000000002,0.21335691489361708,0.21560159574468088,0.21100000000000002,0.21100000000000002,0.25095531914893615,{"$f":"$AR111*M$253","v":0.25095531914893615},0.27418776595744682,0.21537712765957448,0.15993351063829786,0.23759946808510646,9.1470744680851077E-2,0.15017550812851488,0.16027021276595746,0.21100000000000002,0.14006808510638299,{"$f":"$AR111*W$253","v":0.21750957446808511},0.21750957446808511,0.15544414893617023,0.25600585106382984,8.883946367474288E-2,0.1863085106382979,0.23569148936170212,0.20056223404255322,0.19820531914893619,0.21100000000000002,{"$f":"$AR111*AG$253","v":0.1058903792784459},0.2460170212765958,0.19180797872340427,0.21100000000000002,0.25847500000000007,0.20617393617021279,0.29023723404255319,0.21100000000000002,0.21100000000000002,0.16509627659574469,0.24399680851063829,0.21100000000000002,{"$f":"$AR111*AS$253","v":0.21560159574468088},0.21100000000000002,0.21100000000000002,0.21975425531914891,0.1995521276595745,0.21100000000000002,0.12030259519272088,0.18922659574468087,0.2813707446808511,0.22716170212765957,0.21100000000000002,109]
[null,"Female 70-74",0.18698191489361704,0.10119551422514148,0.158811170212766,0.11032606382978724,0.21100000000000002,0.21335691489361708,0.21560159574468088,0.21100000000000002,0.21100000000000002,0.25095531914893615,0.25095531914893615,0.27418776595744682,0.21537712765957448,0.15993351063829786,0.23759946808510646,9.1470744680851077E-2,0.15017550812851488,0.16027021276595746,0.21100000000000002,0.14006808510638299,0.21750957446808511,0.21750957446808511,0.15544414893617023,0.25600585106382984,8.883946367474288E-2,0.1863085106382979,0.23569148936170212,0.20056223404255322,0.19820531914893619,0.21100000000000002,0.1058903792784459,0.2460170212765958,0.19180797872340427,0.21100000000000002,0.25847500000000007,0.20617393617021279,0.29023723404255319,0.21100000000000002,0.21100000000000002,0.16509627659574469,0.24399680851063829,0.21100000000000002,0.21560159574468088,0.21100000000000002,0.21100000000000002,0.21975425531914891,0.1995521276595745,0.21100000000000002,0.12030259519272088,0.18922659574468087,0.2813707446808511,0.22716170212765957,0.21100000000000002,110]
[null,"Female 75-79",8.5515425531914893E-2,4.6281360771213989E-2,7.2631648936170218E-2,5.0457180851063828E-2,9.6500000000000002E-2,9.7577925531914911E-2,9.8604521276595747E-2,9.6500000000000002E-2,9.6500000000000002E-2,0.11477340425531914,0.11477340425531914,0.12539867021276596,9.8501861702127658E-2,7.3144946808510636E-2,0.10866515957446811,4.1833776595744679E-2,6.8682163670150162E-2,7.3298936170212756E-2,9.6500000000000002E-2,6.405957446808512E-2,9.9477127659574463E-2,9.9477127659574463E-2,7.1091755319148936E-2,0.11708324468085106,4.0630370827548286E-2,8.520744680851064E-2,0.10779255319148935,9.1726329787234037E-2,9.0648404255319157E-2,9.6500000000000002E-2,4.8428538390379285E-2,0.11251489361702129,8.7722606382978713E-2,9.6500000000000002E-2,0.11821250000000001,9.4292819148936183E-2,0.13273882978723403,9.6500000000000002E-2,9.6500000000000002E-2,7.5506117021276603E-2,0.1115909574468085,9.6500000000000002E-2,9.8604521276595747E-2,9.6500000000000002E-2,9.6500000000000002E-2,0.1005037234042553,9.1264361702127664E-2,9.6500000000000002E-2,5.5019907280083241E-2,8.6542021276595757E-2,0.12868377659574468,0.10389148936170212,9.6500000000000002E-2,111]
[null,"Female 80-84",8.5515425531914893E-2,4.6281360771213989E-2,7.2631648936170218E-2,5.0457180851063828E-2,9.6500000000000002E-2,9.7577925531914911E-2,9.8604521276595747E-2,9.6500000000000002E-2,9.6500000000000002E-2,0.11477340425531914,0.11477340425531914,0.12539867021276596,9.8501861702127658E-2,7.3144946808510636E-2,0.10866515957446811,4.1833776595744679E-2,6.8682163670150162E-2,7.3298936170212756E-2,9.6500000000000002E-2,6.405957446808512E-2,9.9477127659574463E-2,9.9477127659574463E-2,7.1091755319148936E-2,0.11708324468085106,4.0630370827548286E-2,8.520744680851064E-2,0.10779255319148935,9.1726329787234037E-2,9.0648404255319157E-2,9.6500000000000002E-2,4.8428538390379285E-2,0.11251489361702129,8.7722606382978713E-2,9.6500000000000002E-2,0.11821250000000001,9.4292819148936183E-2,0.13273882978723403,9.6500000000000002E-2,9.6500000000000002E-2,7.5506117021276603E-2,0.1115909574468085,9.6500000000000002E-2,9.8604521276595747E-2,9.6500000000000002E-2,9.6500000000000002E-2,0.1005037234042553,9.1264361702127664E-2,9.6500000000000002E-2,5.5019907280083241E-2,8.6542021276595757E-2,0.12868377659574468,0.10389148936170212,9.6500000000000002E-2,112]
[null,"Female 85-89",8.5515425531914893E-2,4.6281360771213989E-2,7.2631648936170218E-2,5.0457180851063828E-2,9.6500000000000002E-2,9.7577925531914911E-2,9.8604521276595747E-2,9.6500000000000002E-2,9.6500000000000002E-2,0.11477340425531914,0.11477340425531914,0.12539867021276596,9.8501861702127658E-2,7.3144946808510636E-2,0.10866515957446811,4.1833776595744679E-2,6.8682163670150162E-2,7.3298936170212756E-2,9.6500000000000002E-2,6.405957446808512E-2,9.9477127659574463E-2,9.9477127659574463E-2,7.1091755319148936E-2,0.11708324468085106,4.0630370827548286E-2,8.520744680851064E-2,0.10779255319148935,9.1726329787234037E-2,9.0648404255319157E-2,9.6500000000000002E-2,4.8428538390379285E-2,0.11251489361702129,8.7722606382978713E-2,9.6500000000000002E-2,0.11821250000000001,9.4292819148936183E-2,0.13273882978723403,9.6500000000000002E-2,9.6500000000000002E-2,7.5506117021276603E-2,0.1115909574468085,9.6500000000000002E-2,9.8604521276595747E-2,9.6500000000000002E-2,9.6500000000000002E-2,0.1005037234042553,9.1264361702127664E-2,9.6500000000000002E-2,5.5019907280083241E-2,8.6542021276595757E-2,0.12868377659574468,0.10389148936170212,9.6500000000000002E-2,113]
[null,"Female 90+",8.5515425531914893E-2,4.6281360771213989E-2,7.2631648936170218E-2,5.0457180851063828E-2,9.6500000000000002E-2,9.7577925531914911E-2,9.8604521276595747E-2,9.6500000000000002E-2,9.6500000000000002E-2,0.11477340425531914,0.11477340425531914,0.12539867021276596,9.8501861702127658E-2,7.3144946808510636E-2,0.10866515957446811,4.1833776595744679E-2,6.8682163670150162E-2,7.3298936170212756E-2,9.6500000000000002E-2,6.405957446808512E-2,9.9477127659574463E-2,9.9477127659574463E-2,7.1091755319148936E-2,0.11708324468085106,4.0630370827548286E-2,8.520744680851064E-2,0.10779255319148935,9.1726329787234037E-2,9.0648404255319157E-2,9.6500000000000002E-2,4.8428538390379285E-2,0.11251489361702129,8.7722606382978713E-2,9.6500000000000002E-2,0.11821250000000001,9.4292819148936183E-2,0.13273882978723403,9.6500000000000002E-2,9.6500000000000002E-2,7.5506117021276603E-2,0.1115909574468085,9.6500000000000002E-2,9.8604521276595747E-2,9.6500000000000002E-2,9.6500000000000002E-2,0.1005037234042553,9.1264361702127664E-2,9.6500000000000002E-2,5.5019907280083241E-2,8.6542021276595757E-2,0.12868377659574468,0.10389148936170212,9.6500000000000002E-2,114]
[null,"Male 0-4",null,null,null,null,null,null,null,null,null,null,null,null,null,null,null,null,null,null,null,null,null,null,null,null,null,null,null,null,null,null,null,null,null,null,null,null,null,null,null,null,null,null,null,null,null,null,null,null,null,null,null,null,null,115]
[null,"Male 5-9",null,null,null,null,null,null,null,null,null,null,null,null,null,null,null,null,null,null,null,null,null,null,null,null,null,null,null,null,null,null,null,null,null,null,null,null,null,null,null,null,null,null,null,null,null,null,null,null,null,null,null,null,null,116]
[null,"Male 10-15",null,null,null,null,null,null,null,null,null,null,null,null,null,null,null,null,null,null,null,null,null,null,null,null,null,null,null,null,null,null,null,null,null,null,null,null,null,null,null,null,null,null,null,null,null,null,null,null,null,null,null,null,null,117]
[null,"Male 16-19",{"$f":"$AR120*C$254","v":0.32325922330097084},0.1137205560359098,0.27457484554280676,0.33006999117387475,0.2858,0.29727740511915268,0.21050317740511917,0.2858,0.2858,0.29525939982347754,{"$f":"$AR120*M$254","v":0.29525939982347754},0.32502497793468665,0.29084501323918799,0.24619664607237421,0.2735658428949691,0.1647196822594881,0.16876283912500792,0.24405251544571932,0.2858,0.26625057369814653,{"$f":"$AR120*W$254","v":0.31291694616063548},0.31291694616063548,0.24405251544571932,0.33524112974404235,9.9835188193685448E-2,0.29967378640776698,0.30673680494263017,0.30295304501323916,0.30900706090026475,0.2858,{"$f":"$AR120*AG$254","v":0.11899650792432558},0.27293521624007061,0.25363804060017653,0.2858,0.30850255957634604,0.36349320388349515,0.27608834951456313,0.2858,0.2858,0.2531335392762577,0.29992603706972643,0.2858,{"$f":"$AR120*AS$254","v":0.21050317740511917},0.2858,0.2858,0.22576434245366284,0.26965595763459843,0.2858,0.13519253420108859,0.30030441306266548,0.32918711385701677,0.23118773168578993,0.2858,118]
[null,"Male 20-24",0.32325922330097084,0.1137205560359098,0.27457484554280676,0.33006999117387475,0.2858,0.29727740511915268,0.21050317740511917,0.2858,0.2858,0.29525939982347754,0.29525939982347754,0.32502497793468665,0.29084501323918799,0.24619664607237421,0.2735658428949691,0.1647196822594881,0.16876283912500792,0.24405251544571932,0.2858,0.26625057369814653,0.31291694616063548,0.31291694616063548,0.24405251544571932,0.33524112974404235,9.9835188193685448E-2,0.29967378640776698,0.30673680494263017,0.30295304501323916,0.30900706090026475,0.2858,0.11899650792432558,0.27293521624007061,0.25363804060017653,0.2858,0.30850255957634604,0.36349320388349515,0.27608834951456313,0.2858,0.2858,0.2531335392762577,0.29992603706972643,0.2858,0.21050317740511917,0.2858,0.2858,0.22576434245366284,0.26965595763459843,0.2858,0.13519253420108859,0.30030441306266548,0.32918711385701677,0.23118773168578993,0.2858,119]
[null,"Male 25-29",0.36171553398058254,0.12724924359791448,0.30723945278022952,0.36933654015887035,0.31980000000000003,0.33264280670785529,0.23554554280670789,0.31980000000000003,0.31980000000000003,0.33038473080317748,0.33038473080317748,0.36369135039717565,0.32544518976169468,0.27548526037069726,0.30611041482789059,0.18431544571932923,0.18883959395443506,0.27308605472197706,0.31980000000000003,0.29792488967343339,0.35014289496910861,0.35014289496910861,0.27308605472197706,0.37512285966460723,0.11171201254142971,0.33532427184466024,0.34322753751103263,0.33899364518976172,0.34576787290379524,0.31980000000000003,0.1331528454660578,0.3054047661076788,0.28381191526919686,0.31980000000000003,0.34520335392762586,0.40673592233009714,0.30893300970873788,0.31980000000000003,0.31980000000000003,0.28324739629302736,0.33560653133274498,0.31980000000000003,0.23554554280670789,0.31980000000000003,0.31980000000000003,0.25262224183583409,0.30173539276257727,0.31980000000000003,0.15127562084502497,0.33602992056487202,0.36834863195057371,0.25869082082965578,0.31980000000000003,120]
[null,"Male 30-34",0.36171553398058254,0.12724924359791448,0.30723945278022952,0.36933654015887035,0.31980000000000003,0.33264280670785529,0.23554554280670789,0.31980000000000003,0.31980000000000003,0.33038473080317748,0.33038473080317748,0.36369135039717565,0.32544518976169468,0.27548526037069726,0.30611041482789059,0.18431544571932923,0.18883959395443506,0.27308605472197706,0.31980000000000003,0.29792488967343339,0.35014289496910861,0.35014289496910861,0.27308605472197706,0.37512285966460723,0.11171201254142971,0.33532427184466024,0.34322753751103263,0.33899364518976172,0.34576787290379524,0.31980000000000003,0.1331528454660578,0.3054047661076788,0.28381191526919686,0.31980000000000003,0.34520335392762586,0.40673592233009714,0.30893300970873788,0.31980000000000003,0.31980000000000003,0.28324739629302736,0.33560653133274498,0.31980000000000003,0.23554554280670789,0.31980000000000003,0.31980000000000003,0.25262224183583409,0.30173539276257727,0.31980000000000003,0.15127562084502497,0.33602992056487202,0.36834863195057371,0.25869082082965578,0.31980000000000003,121]
[null,"Male 35-39",0.38558106796116509,0.13564498793786445,0.32751072374227719,0.39370489849955881,0.34090000000000004,0.35459015887025602,0.25108654015887033,0.34090000000000004,0.34090000000000004,0.35218309796999125,0.35218309796999125,0.38768724624889678,0.34691765225066201,0.29366142983230364,0.3263071932921448,0.19647634598411301,0.2012989918044619,0.29110392762577231,0.34090000000000004,0.31758159752868492,0.37324488084730806,0.37324488084730806,0.29110392762577231,0.39987299205648724,0.11908263000429452,0.35744854368932044,0.36587325684024713,0.36136001765225068,0.36858120035304504,0.34090000000000004,0.14193810199930929,0.32555498676081207,0.30253746690203004,0.34090000000000004,0.36797943512797893,0.43357184466019427,0.32931601941747579,0.34090000000000004,0.34090000000000004,0.30193570167696382,0.35774942630185352,0.34090000000000004,0.25108654015887033,0.34090000000000004,0.34090000000000004,0.26928993821712272,0.32164351279788178,0.34090000000000004,0.16125659520346783,0.35820075022065312,0.39265180935569288,0.27575891438658434,0.34090000000000004,122]
[null,"Male 40-44",0.38558106796116509,0.13564498793786445,0.32751072374227719,0.39370489849955881,0.34090000000000004,0.35459015887025602,0.25108654015887033,0.34090000000000004,0.34090000000000004,0.35218309796999125,0.35218309796999125,0.38768724624889678,0.34691765225066201,0.29366142983230364,0.3263071932921448,0.19647634598411301,0.2012989918044619,0.29110392762577231,0.34090000000000004,0.31758159752868492,0.37324488084730806,0.37324488084730806,0.29110392762577231,0.39987299205648724,0.11908263000429452,0.35744854368932044,0.36587325684024713,0.36136001765225068,0.36858120035304504,0.34090000000000004,0.14193810199930929,0.32555498676081207,0.30253746690203004,0.34090000000000004,0.36797943512797893,0.43357184466019427,0.32931601941747579,0.34090000000000004,0.34090000000000004,0.30193570167696382,0.35774942630185352,0.34090000000000004,0.25108654015887033,0.34090000000000004,0.34090000000000004,0.26928993821712272,0.32164351279788178,0.34090000000000004,0.16125659520346783,0.35820075022065312,0.39265180935569288,0.27575891438658434,0.34090000000000004,123]
[null,"Male 45-49",0.41510194174757281,0.14603024515457977,0.35258561341571054,0.42384774933804065,0.36699999999999999,0.38173830538393644,0.27031023830538398,0.36699999999999999,0.36699999999999999,0.37914695498676082,0.37914695498676082,0.41736937334510149,0.37347837599293909,0.31614474845542806,0.35128993821712268,0.21151897616946161,0.21671085359999268,0.31339143865842894,0.36699999999999999,0.34189629302736096,0.40182127096204767,0.40182127096204767,0.31339143865842894,0.43048808473080313,0.12819983928300405,0.38481553398058249,0.39388526037069721,0.38902647837599291,0.39680052956751982,0.36699999999999999,0.15280517287693313,0.3504801412180053,0.32570035304501327,0.36699999999999999,0.396152691968226,0.46676699029126217,0.35452912621359223,0.36699999999999999,0.36699999999999999,0.32505251544571934,0.38513945278022949,0.36699999999999999,0.27031023830538398,0.36699999999999999,0.36699999999999999,0.28990732568402466,0.34626919682259488,0.36699999999999999,0.17360272936248955,0.38562533097969987,0.42271403353927622,0.29687157987643426,0.36699999999999999,124]
[null,"Male 50-54",0.41510194174757281,0.14603024515457977,0.35258561341571054,0.42384774933804065,0.36699999999999999,0.38173830538393644,0.27031023830538398,0.36699999999999999,0.36699999999999999,0.37914695498676082,0.37914695498676082,0.41736937334510149,0.37347837599293909,0.31614474845542806,0.35128993821712268,0.21151897616946161,0.21671085359999268,0.31339143865842894,0.36699999999999999,0.34189629302736096,0.40182127096204767,0.40182127096204767,0.31339143865842894,0.43048808473080313,0.12819983928300405,0.38481553398058249,0.39388526037069721,0.38902647837599291,0.39680052956751982,0.36699999999999999,0.15280517287693313,0.3504801412180053,0.32570035304501327,0.36699999999999999,0.396152691968226,0.46676699029126217,0.35452912621359223,0.36699999999999999,0.36699999999999999,0.32505251544571934,0.38513945278022949,0.36699999999999999,0.27031023830538398,0.36699999999999999,0.36699999999999999,0.28990732568402466,0.34626919682259488,0.36699999999999999,0.17360272936248955,0.38562533097969987,0.42271403353927622,0.29687157987643426,0.36699999999999999,125]
[null,"Male 55-59",0.32099708737864074,0.11292475088520364,0.27265339805825245,0.32776019417475732,0.2838,0.29519708737864075,0.20903009708737866,0.2838,0.2838,0.29319320388349518,0.29319320388349518,0.32275048543689322,0.2888097087378641,0.24447378640776699,0.27165145631067961,0.16356699029126215,0.16758185354680633,0.24234466019417475,0.2838,0.26438737864077672,0.31072718446601943,0.31072718446601943,0.24234466019417475,0.33289514563106792,9.9136551467347553E-2,0.2975766990291262,0.30459029126213588,0.30083300970873783,0.30684466019417472,0.2838,0.11816378218657661,0.27102524271844664,0.25186310679611651,0.2838,0.30634368932038841,0.36094951456310681,0.27415631067961166,0.2838,0.2838,0.25136213592233009,0.29782718446601941,0.2838,0.20903009708737866,0.2838,0.2838,0.22418446601941747,0.26776893203883495,0.2838,0.13424647028085704,0.29820291262135917,0.32688349514563103,0.22956990291262136,0.2838,126]
[null,"Male 60-64",0.32099708737864074,0.11292475088520364,0.27265339805825245,0.32776019417475732,0.2838,0.29519708737864075,0.20903009708737866,0.2838,0.2838,0.29319320388349518,0.29319320388349518,0.32275048543689322,0.2888097087378641,0.24447378640776699,0.27165145631067961,0.16356699029126215,0.16758185354680633,0.24234466019417475,0.2838,0.26438737864077672,0.31072718446601943,0.31072718446601943,0.24234466019417475,0.33289514563106792,9.9136551467347553E-2,0.2975766990291262,0.30459029126213588,0.30083300970873783,0.30684466019417472,0.2838,0.11816378218657661,0.27102524271844664,0.25186310679611651,0.2838,0.30634368932038841,0.36094951456310681,0.27415631067961166,0.2838,0.2838,0.25136213592233009,0.29782718446601941,0.2838,0.20903009708737866,0.2838,0.2838,0.22418446601941747,0.26776893203883495,0.2838,0.13424647028085704,0.29820291262135917,0.32688349514563103,0.22956990291262136,0.2838,127]
[null,"Male 65-69",{"$f":"$AR130*C$254","v":0.24702524271844661},8.6901922457112327E-2,0.20982206531332748,0.25222983230361878,0.21840000000000001,0.22717069726390116,0.16086037069726392,0.21840000000000001,0.21840000000000001,0.2256285966460724,{"$f":"$AR130*M$254","v":0.2256285966460724},0.24837458075904678,0.22225525154457196,0.18813627537511032,0.20905101500441309,0.12587396293027361,0.12896362513961418,0.18649779346866727,0.21840000000000001,0.20346090026478378,{"$f":"$AR130*W$254","v":0.23912197705207416},0.23912197705207416,0.18649779346866727,0.25618146513680495,7.6291130516098329E-2,0.22900194174757282,0.23439929390997352,0.23150785525154458,0.23613415710503088,0.21840000000000001,{"$f":"$AR130*AG$254","v":9.0933650562185817E-2},0.20856910856134159,0.19382277140335394,0.21840000000000001,0.23574863195057374,0.2777708737864078,0.21097864077669903,0.21840000000000001,0.21840000000000001,0.19343724624889674,0.22919470432480143,0.21840000000000001,{"$f":"$AR130*AS$254","v":0.16086037069726392},0.21840000000000001,0.21840000000000001,0.17252250661959401,0.20606319505736984,0.21840000000000001,0.10331018008928534,0.2294838481906443,0.25155516328331862,0.17666690203000884,0.21840000000000001,128]
[null,"Male 70-74",0.24702524271844661,8.6901922457112327E-2,0.20982206531332748,0.25222983230361878,0.21840000000000001,0.22717069726390116,0.16086037069726392,0.21840000000000001,0.21840000000000001,0.2256285966460724,0.2256285966460724,0.24837458075904678,0.22225525154457196,0.18813627537511032,0.20905101500441309,0.12587396293027361,0.12896362513961418,0.18649779346866727,0.21840000000000001,0.20346090026478378,0.23912197705207416,0.23912197705207416,0.18649779346866727,0.25618146513680495,7.6291130516098329E-2,0.22900194174757282,0.23439929390997352,0.23150785525154458,0.23613415710503088,0.21840000000000001,9.0933650562185817E-2,0.20856910856134159,0.19382277140335394,0.21840000000000001,0.23574863195057374,0.2777708737864078,0.21097864077669903,0.21840000000000001,0.21840000000000001,0.19343724624889674,0.22919470432480143,0.21840000000000001,0.16086037069726392,0.21840000000000001,0.21840000000000001,0.17252250661959401,0.20606319505736984,0.21840000000000001,0.10331018008928534,0.2294838481906443,0.25155516328331862,0.17666690203000884,0.21840000000000001,129]
[null,"Male 75-79",0.11367233009708738,3.998920882298438E-2,9.6552736098852621E-2,0.11606729920564875,0.10050000000000001,0.10453596646072374,7.4022285966460738E-2,0.10050000000000001,0.10050000000000001,0.10382634598411299,0.10382634598411299,0.1142932480141218,0.10227405119152692,8.6573698146513681E-2,9.619792586054722E-2,5.7922771403353931E-2,5.934452530463015E-2,8.5819726390114745E-2,0.10050000000000001,9.362555163283319E-2,0.11003552515445721,0.11003552515445721,8.5819726390114745E-2,0.11788570167696381,3.5106495498479315E-2,0.10537864077669903,0.10786231244483671,0.10653177405119153,0.10866063548102382,0.10050000000000001,4.1844468321884959E-2,9.5976169461606364E-2,8.9190423654015902E-2,0.10050000000000001,0.10848323036187116,0.12782038834951459,9.7084951456310686E-2,0.10050000000000001,0.10050000000000001,8.9013018534863195E-2,0.10546734333627539,0.10050000000000001,7.4022285966460738E-2,0.10050000000000001,0.10050000000000001,7.9388790820829655E-2,9.4823036187113866E-2,0.10050000000000001,4.7539711991635425E-2,0.10560039717563989,0.11575684024713151,8.1295895851721103E-2,0.10050000000000001,130]
[null,"Male 80-84",0.11367233009708738,3.998920882298438E-2,9.6552736098852621E-2,0.11606729920564875,0.10050000000000001,0.10453596646072374,7.4022285966460738E-2,0.10050000000000001,0.10050000000000001,0.10382634598411299,0.10382634598411299,0.1142932480141218,0.10227405119152692,8.6573698146513681E-2,9.619792586054722E-2,5.7922771403353931E-2,5.934452530463015E-2,8.5819726390114745E-2,0.10050000000000001,9.362555163283319E-2,0.11003552515445721,0.11003552515445721,8.5819726390114745E-2,0.11788570167696381,3.5106495498479315E-2,0.10537864077669903,0.10786231244483671,0.10653177405119153,0.10866063548102382,0.10050000000000001,4.1844468321884959E-2,9.5976169461606364E-2,8.9190423654015902E-2,0.10050000000000001,0.10848323036187116,0.12782038834951459,9.7084951456310686E-2,0.10050000000000001,0.10050000000000001,8.9013018534863195E-2,0.10546734333627539,0.10050000000000001,7.4022285966460738E-2,0.10050000000000001,0.10050000000000001,7.9388790820829655E-2,9.4823036187113866E-2,0.10050000000000001,4.7539711991635425E-2,0.10560039717563989,0.11575684024713151,8.1295895851721103E-2,0.10050000000000001,131]
[null,"Male 85-89",0.11367233009708738,3.998920882298438E-2,9.6552736098852621E-2,0.11606729920564875,0.10050000000000001,0.10453596646072374,7.4022285966460738E-2,0.10050000000000001,0.10050000000000001,0.10382634598411299,0.10382634598411299,0.1142932480141218,0.10227405119152692,8.6573698146513681E-2,9.619792586054722E-2,5.7922771403353931E-2,5.934452530463015E-2,8.5819726390114745E-2,0.10050000000000001,9.362555163283319E-2,0.11003552515445721,0.11003552515445721,8.5819726390114745E-2,0.11788570167696381,3.5106495498479315E-2,0.10537864077669903,0.10786231244483671,0.10653177405119153,0.10866063548102382,0.10050000000000001,4.1844468321884959E-2,9.5976169461606364E-2,8.9190423654015902E-2,0.10050000000000001,0.10848323036187116,0.12782038834951459,9.7084951456310686E-2,0.10050000000000001,0.10050000000000001,8.9013018534863195E-2,0.10546734333627539,0.10050000000000001,7.4022285966460738E-2,0.10050000000000001,0.10050000000000001,7.9388790820829655E-2,9.4823036187113866E-2,0.10050000000000001,4.7539711991635425E-2,0.10560039717563989,0.11575684024713151,8.1295895851721103E-2,0.10050000000000001,132]
[null,"Male 90+",0.11367233009708738,3.998920882298438E-2,9.6552736098852621E-2,0.11606729920564875,0.10050000000000001,0.10453596646072374,7.4022285966460738E-2,0.10050000000000001,0.10050000000000001,0.10382634598411299,0.10382634598411299,0.1142932480141218,0.10227405119152692,8.6573698146513681E-2,9.619792586054722E-2,5.7922771403353931E-2,5.934452530463015E-2,8.5819726390114745E-2,0.10050000000000001,9.362555163283319E-2,0.11003552515445721,0.11003552515445721,8.5819726390114745E-2,0.11788570167696381,3.5106495498479315E-2,0.10537864077669903,0.10786231244483671,0.10653177405119153,0.10866063548102382,0.10050000000000001,4.1844468321884959E-2,9.5976169461606364E-2,8.9190423654015902E-2,0.10050000000000001,0.10848323036187116,0.12782038834951459,9.7084951456310686E-2,0.10050000000000001,0.10050000000000001,8.9013018534863195E-2,0.10546734333627539,0.10050000000000001,7.4022285966460738E-2,0.10050000000000001,0.10050000000000001,7.9388790820829655E-2,9.4823036187113866E-2,0.10050000000000001,4.7539711991635425E-2,0.10560039717563989,0.11575684024713151,8.1295895851721103E-2,0.10050000000000001,133]
["SIMD Q3","Female 0-4",null,null,null,null,null,null,null,null,null,null,null,null,null,null,null,null,null,null,null,null,null,null,null,null,null,null,null,null,null,null,null,null,null,null,null,null,null,null,null,null,null,null,null,null,null,null,null,null,null,null,null,null,null,134]
[null,"Female 5-9",null,null,null,null,null,null,null,null,null,null,null,null,null,null,null,null,null,null,null,null,null,null,null,null,null,null,null,null,null,null,null,null,null,null,null,null,null,null,null,null,null,null,null,null,null,null,null,null,null,null,null,null,null,135]
[null,"Female 10-15",null,null,null,null,null,null,null,null,null,null,null,null,null,null,null,null,null,null,null,null,null,null,null,null,null,null,null,null,null,null,null,null,null,null,null,null,null,null,null,null,null,null,null,null,null,null,null,null,null,null,null,null,null,136]
[null,"Female 16-19",{"$f":"$AR139*C$253","v":0.17599340425531915},9.5248479265938837E-2,0.14947819148936173,0.10384244680851062,0.1986,0.20081840425531919,0.20293117021276597,0.1986,0.1986,0.23620723404255317,{"$f":"$AR139*M$253","v":0.23620723404255317},0.25807436170212766,0.20271989361702128,0.15053457446808508,0.22363627659574473,8.6095212765957441E-2,0.14135002802996707,0.15085148936170212,0.1986,0.13183659574468087,{"$f":"$AR139*W$253","v":0.20472702127659573},0.20472702127659573,0.14630904255319149,0.24096095744680851,8.3618566283430965E-2,0.17535957446808512,0.22184042553191488,0.18877563829787233,0.1865572340425532,0.1986,{"$f":"$AR139*AG$253","v":9.9667437557816846E-2},0.23155914893617024,0.18053585106382977,0.1986,0.24328500000000003,0.19405755319148937,0.27318063829787231,0.1986,0.1986,0.15539393617021277,0.22965765957446807,0.1986,{"$f":"$AR139*AS$253","v":0.20293117021276597},0.1986,0.1986,0.2068397872340425,0.18782489361702129,0.1986,0.11323267964585006,0.17810617021276595,0.26483521276595745,0.21381191489361701,0.1986,137]
[null,"Female 20-24",0.17599340425531915,9.5248479265938837E-2,0.14947819148936173,0.10384244680851062,0.1986,0.20081840425531919,0.20293117021276597,0.1986,0.1986,0.23620723404255317,0.23620723404255317,0.25807436170212766,0.20271989361702128,0.15053457446808508,0.22363627659574473,8.6095212765957441E-2,0.14135002802996707,0.15085148936170212,0.1986,0.13183659574468087,0.20472702127659573,0.20472702127659573,0.14630904255319149,0.24096095744680851,8.3618566283430965E-2,0.17535957446808512,0.22184042553191488,0.18877563829787233,0.1865572340425532,0.1986,9.9667437557816846E-2,0.23155914893617024,0.18053585106382977,0.1986,0.24328500000000003,0.19405755319148937,0.27318063829787231,0.1986,0.1986,0.15539393617021277,0.22965765957446807,0.1986,0.20293117021276597,0.1986,0.1986,0.2068397872340425,0.18782489361702129,0.1986,0.11323267964585006,0.17810617021276595,0.26483521276595745,0.21381191489361701,0.1986,138]
[null,"Female 25-29",0.20488255319148937,0.11088342601351994,0.1740148936170213,0.12088808510638298,0.23120000000000002,0.23378255319148941,0.2362421276595745,0.23120000000000002,0.23120000000000002,0.27498042553191487,0.27498042553191487,0.30043702127659577,0.23599617021276598,0.17524468085106382,0.26034595744680861,0.10022765957446809,0.16455249990195561,0.17561361702127659,0.23120000000000002,0.15347744680851066,0.23833276595744682,0.23833276595744682,0.17032553191489364,0.28051446808510638,9.7344473941234855E-2,0.20414468085106385,0.25825531914893618,0.21976297872340425,0.21718042553191491,0.23120000000000002,0.11602775208140613,0.2695693617021277,0.21017063829787233,0.23120000000000002,0.28322000000000003,0.22591191489361703,0.31802297872340424,0.23120000000000002,0.23120000000000002,0.18090170212765957,0.26735574468085105,0.23120000000000002,0.2362421276595745,0.23120000000000002,0.23120000000000002,0.24079234042553188,0.21865617021276598,0.23120000000000002,0.13181971568036524,0.20734212765957449,0.3083076595744681,0.24890893617021276,0.23120000000000002,139]
[null,"Female 30-34",0.20488255319148937,0.11088342601351994,0.1740148936170213,0.12088808510638298,0.23120000000000002,0.23378255319148941,0.2362421276595745,0.23120000000000002,0.23120000000000002,0.27498042553191487,0.27498042553191487,0.30043702127659577,0.23599617021276598,0.17524468085106382,0.26034595744680861,0.10022765957446809,0.16455249990195561,0.17561361702127659,0.23120000000000002,0.15347744680851066,0.23833276595744682,0.23833276595744682,0.17032553191489364,0.28051446808510638,9.7344473941234855E-2,0.20414468085106385,0.25825531914893618,0.21976297872340425,0.21718042553191491,0.23120000000000002,0.11602775208140613,0.2695693617021277,0.21017063829787233,0.23120000000000002,0.28322000000000003,0.22591191489361703,0.31802297872340424,0.23120000000000002,0.23120000000000002,0.18090170212765957,0.26735574468085105,0.23120000000000002,0.2362421276595745,0.23120000000000002,0.23120000000000002,0.24079234042553188,0.21865617021276598,0.23120000000000002,0.13181971568036524,0.20734212765957449,0.3083076595744681,0.24890893617021276,0.23120000000000002,140]
[null,"Female 35-39",0.19690702127659573,0.10656702967216319,0.16724095744680853,0.11618223404255319,0.22220000000000001,0.22468202127659578,0.2270458510638298,0.22220000000000001,0.22220000000000001,0.26427617021276595,0.26427617021276595,0.2887418085106383,0.22680946808510641,0.16842287234042552,0.25021138297872347,9.6326063829787242E-2,0.15814690950784835,0.16877744680851062,0.22220000000000001,0.14750297872340429,0.22905510638297871,0.22905510638297871,0.16369521276595744,0.26959478723404257,9.3555112931411694E-2,0.19619787234042554,0.24820212765957445,0.21120819148936171,0.20872617021276596,0.22220000000000001,0.11151110083256245,0.25907574468085109,0.20198925531914894,0.22220000000000001,0.27219500000000002,0.21711776595744683,0.3056431914893617,0.22220000000000001,0.22220000000000001,0.17385968085106385,0.25694829787234041,0.22220000000000001,0.2270458510638298,0.22220000000000001,0.22220000000000001,0.23141893617021272,0.2101444680851064,0.22220000000000001,0.12668832536408803,0.1992708510638298,0.29630606382978725,0.23921957446808509,0.22220000000000001,141]
[null,"Female 40-44",0.19690702127659573,0.10656702967216319,0.16724095744680853,0.11618223404255319,0.22220000000000001,0.22468202127659578,0.2270458510638298,0.22220000000000001,0.22220000000000001,0.26427617021276595,0.26427617021276595,0.2887418085106383,0.22680946808510641,0.16842287234042552,0.25021138297872347,9.6326063829787242E-2,0.15814690950784835,0.16877744680851062,0.22220000000000001,0.14750297872340429,0.22905510638297871,0.22905510638297871,0.16369521276595744,0.26959478723404257,9.3555112931411694E-2,0.19619787234042554,0.24820212765957445,0.21120819148936171,0.20872617021276596,0.22220000000000001,0.11151110083256245,0.25907574468085109,0.20198925531914894,0.22220000000000001,0.27219500000000002,0.21711776595744683,0.3056431914893617,0.22220000000000001,0.22220000000000001,0.17385968085106385,0.25694829787234041,0.22220000000000001,0.2270458510638298,0.22220000000000001,0.22220000000000001,0.23141893617021272,0.2101444680851064,0.22220000000000001,0.12668832536408803,0.1992708510638298,0.29630606382978725,0.23921957446808509,0.22220000000000001,142]
[null,"Female 45-49",0.20488255319148937,0.11088342601351994,0.1740148936170213,0.12088808510638298,0.23120000000000002,0.23378255319148941,0.2362421276595745,0.23120000000000002,0.23120000000000002,0.27498042553191487,0.27498042553191487,0.30043702127659577,0.23599617021276598,0.17524468085106382,0.26034595744680861,0.10022765957446809,0.16455249990195561,0.17561361702127659,0.23120000000000002,0.15347744680851066,0.23833276595744682,0.23833276595744682,0.17032553191489364,0.28051446808510638,9.7344473941234855E-2,0.20414468085106385,0.25825531914893618,0.21976297872340425,0.21718042553191491,0.23120000000000002,0.11602775208140613,0.2695693617021277,0.21017063829787233,0.23120000000000002,0.28322000000000003,0.22591191489361703,0.31802297872340424,0.23120000000000002,0.23120000000000002,0.18090170212765957,0.26735574468085105,0.23120000000000002,0.2362421276595745,0.23120000000000002,0.23120000000000002,0.24079234042553188,0.21865617021276598,0.23120000000000002,0.13181971568036524,0.20734212765957449,0.3083076595744681,0.24890893617021276,0.23120000000000002,143]
[null,"Female 50-54",0.20488255319148937,0.11088342601351994,0.1740148936170213,0.12088808510638298,0.23120000000000002,0.23378255319148941,0.2362421276595745,0.23120000000000002,0.23120000000000002,0.27498042553191487,0.27498042553191487,0.30043702127659577,0.23599617021276598,0.17524468085106382,0.26034595744680861,0.10022765957446809,0.16455249990195561,0.17561361702127659,0.23120000000000002,0.15347744680851066,0.23833276595744682,0.23833276595744682,0.17032553191489364,0.28051446808510638,9.7344473941234855E-2,0.20414468085106385,0.25825531914893618,0.21976297872340425,0.21718042553191491,0.23120000000000002,0.11602775208140613,0.2695693617021277,0.21017063829787233,0.23120000000000002,0.28322000000000003,0.22591191489361703,0.31802297872340424,0.23120000000000002,0.23120000000000002,0.18090170212765957,0.26735574468085105,0.23120000000000002,0.2362421276595745,0.23120000000000002,0.23120000000000002,0.24079234042553188,0.21865617021276598,0.23120000000000002,0.13181971568036524,0.20734212765957449,0.3083076595744681,0.24890893617021276,0.23120000000000002,144]
[null,"Female 55-59",0.16314393617021278,8.829428516041965E-2,0.1385646276595745,9.6260797872340431E-2,0.18410000000000001,0.18615643617021282,0.18811494680851065,0.18410000000000001,0.18410000000000001,0.21896148936170212,0.21896148936170212,0.23923207446808512,0.18791909574468088,0.13954388297872339,0.20730835106382986,7.9809308510638305E-2,0.13102991017279425,0.13983765957446809,0.18410000000000001,0.12221106382978726,0.18977968085106384,0.18977968085106384,0.13562686170212768,0.22336813829787236,7.7513484656493672E-2,0.16255638297872341,0.20564361702127659,0.17499292553191489,0.17293648936170214,0.18410000000000001,9.2390610545790952E-2,0.21465276595744684,0.16735473404255319,0.18410000000000001,0.22552250000000004,0.1798892021276596,0.25323542553191491,0.18410000000000001,0.18410000000000001,0.14404845744680853,0.21289010638297873,0.18410000000000001,0.18811494680851065,0.18410000000000001,0.18410000000000001,0.19173819148936169,0.17411159574468088,0.18410000000000001,0.10496543969184792,0.16510244680851066,0.24549930851063831,0.19820127659574469,0.18410000000000001,145]
[null,"Female 60-64",0.16314393617021278,8.829428516041965E-2,0.1385646276595745,9.6260797872340431E-2,0.18410000000000001,0.18615643617021282,0.18811494680851065,0.18410000000000001,0.18410000000000001,0.21896148936170212,0.21896148936170212,0.23923207446808512,0.18791909574468088,0.13954388297872339,0.20730835106382986,7.9809308510638305E-2,0.13102991017279425,0.13983765957446809,0.18410000000000001,0.12221106382978726,0.18977968085106384,0.18977968085106384,0.13562686170212768,0.22336813829787236,7.7513484656493672E-2,0.16255638297872341,0.20564361702127659,0.17499292553191489,0.17293648936170214,0.18410000000000001,9.2390610545790952E-2,0.21465276595744684,0.16735473404255319,0.18410000000000001,0.22552250000000004,0.1798892021276596,0.25323542553191491,0.18410000000000001,0.18410000000000001,0.14404845744680853,0.21289010638297873,0.18410000000000001,0.18811494680851065,0.18410000000000001,0.18410000000000001,0.19173819148936169,0.17411159574468088,0.18410000000000001,0.10496543969184792,0.16510244680851066,0.24549930851063831,0.19820127659574469,0.18410000000000001,146]
[null,"Female 65-69",{"$f":"$AR149*C$253","v":0.14630670212765956},7.918189288422206E-2,0.12426409574468086,8.6326223404255317E-2,0.1651,0.16694420212765959,0.16870058510638297,0.1651,0.1651,0.19636361702127658,{"$f":"$AR149*M$253","v":0.19636361702127658},0.2145421808510638,0.16852494680851063,0.12514228723404253,0.18591313829787237,7.1572606382978729E-2,0.11750699711856778,0.12540574468085106,0.1651,0.10959829787234043,{"$f":"$AR149*W$253","v":0.17019351063829785},0.17019351063829785,0.12162952127659574,0.20031547872340424,6.9513722524644786E-2,0.14577978723404256,0.18442021276595744,0.15693281914893617,0.1550886170212766,0.1651,{"$f":"$AR149*AG$253","v":8.2855457909343205E-2},0.19249957446808513,0.15008292553191488,0.1651,0.20224750000000002,0.16132377659574468,0.22710031914893614,0.1651,0.1651,0.12918196808510637,0.19091882978723401,0.1651,{"$f":"$AR149*AS$253","v":0.16870058510638297},0.1651,0.1651,0.17194989361702123,0.15614244680851064,0.1651,9.4132504579707177E-2,0.148063085106383,0.22016260638297871,0.17774595744680849,0.1651,147]
[null,"Female 70-74",0.14630670212765956,7.918189288422206E-2,0.12426409574468086,8.6326223404255317E-2,0.1651,0.16694420212765959,0.16870058510638297,0.1651,0.1651,0.19636361702127658,0.19636361702127658,0.2145421808510638,0.16852494680851063,0.12514228723404253,0.18591313829787237,7.1572606382978729E-2,0.11750699711856778,0.12540574468085106,0.1651,0.10959829787234043,0.17019351063829785,0.17019351063829785,0.12162952127659574,0.20031547872340424,6.9513722524644786E-2,0.14577978723404256,0.18442021276595744,0.15693281914893617,0.1550886170212766,0.1651,8.2855457909343205E-2,0.19249957446808513,0.15008292553191488,0.1651,0.20224750000000002,0.16132377659574468,0.22710031914893614,0.1651,0.1651,0.12918196808510637,0.19091882978723401,0.1651,0.16870058510638297,0.1651,0.1651,0.17194989361702123,0.15614244680851064,0.1651,9.4132504579707177E-2,0.148063085106383,0.22016260638297871,0.17774595744680849,0.1651,148]
[null,"Female 75-79",6.531074468085106E-2,3.5346490039776898E-2,5.5471010638297881E-2,3.8535691489361701E-2,7.3700000000000002E-2,7.4523244680851086E-2,7.5307287234042564E-2,7.3700000000000002E-2,7.3700000000000002E-2,8.76559574468085E-2,8.76559574468085E-2,9.5770797872340427E-2,7.5228882978723405E-2,5.5863031914893613E-2,8.2990904255319173E-2,3.1949734042553191E-2,5.2454668005078413E-2,5.5980638297872337E-2,7.3700000000000002E-2,4.8924255319148943E-2,7.5973723404255317E-2,7.5973723404255317E-2,5.4294946808510637E-2,8.9420053191489365E-2,3.1030656269329621E-2,6.5075531914893625E-2,8.2324468085106378E-2,7.0054202127659573E-2,6.9230957446808516E-2,7.3700000000000002E-2,3.6986355226642002E-2,8.5931063829787241E-2,6.6996436170212767E-2,7.3700000000000002E-2,9.0282500000000002E-2,7.2014308510638309E-2,0.10137670212765958,7.3700000000000002E-2,7.3700000000000002E-2,5.7666329787234044E-2,8.5225425531914881E-2,7.3700000000000002E-2,7.5307287234042564E-2,7.3700000000000002E-2,7.3700000000000002E-2,7.6757765957446794E-2,6.9701382978723414E-2,7.3700000000000002E-2,4.2020385145514351E-2,6.6094787234042551E-2,9.8279734042553191E-2,7.9345106382978717E-2,7.3700000000000002E-2,149]
[null,"Female 80-84",6.531074468085106E-2,3.5346490039776898E-2,5.5471010638297881E-2,3.8535691489361701E-2,7.3700000000000002E-2,7.4523244680851086E-2,7.5307287234042564E-2,7.3700000000000002E-2,7.3700000000000002E-2,8.76559574468085E-2,8.76559574468085E-2,9.5770797872340427E-2,7.5228882978723405E-2,5.5863031914893613E-2,8.2990904255319173E-2,3.1949734042553191E-2,5.2454668005078413E-2,5.5980638297872337E-2,7.3700000000000002E-2,4.8924255319148943E-2,7.5973723404255317E-2,7.5973723404255317E-2,5.4294946808510637E-2,8.9420053191489365E-2,3.1030656269329621E-2,6.5075531914893625E-2,8.2324468085106378E-2,7.0054202127659573E-2,6.9230957446808516E-2,7.3700000000000002E-2,3.6986355226642002E-2,8.5931063829787241E-2,6.6996436170212767E-2,7.3700000000000002E-2,9.0282500000000002E-2,7.2014308510638309E-2,0.10137670212765958,7.3700000000000002E-2,7.3700000000000002E-2,5.7666329787234044E-2,8.5225425531914881E-2,7.3700000000000002E-2,7.5307287234042564E-2,7.3700000000000002E-2,7.3700000000000002E-2,7.6757765957446794E-2,6.9701382978723414E-2,7.3700000000000002E-2,4.2020385145514351E-2,6.6094787234042551E-2,9.8279734042553191E-2,7.9345106382978717E-2,7.3700000000000002E-2,150]
[null,"Female 85-89",6.531074468085106E-2,3.5346490039776898E-2,5.5471010638297881E-2,3.8535691489361701E-2,7.3700000000000002E-2,7.4523244680851086E-2,7.5307287234042564E-2,7.3700000000000002E-2,7.3700000000000002E-2,8.76559574468085E-2,8.76559574468085E-2,9.5770797872340427E-2,7.5228882978723405E-2,5.5863031914893613E-2,8.2990904255319173E-2,3.1949734042553191E-2,5.2454668005078413E-2,5.5980638297872337E-2,7.3700000000000002E-2,4.8924255319148943E-2,7.5973723404255317E-2,7.5973723404255317E-2,5.4294946808510637E-2,8.9420053191489365E-2,3.1030656269329621E-2,6.5075531914893625E-2,8.2324468085106378E-2,7.0054202127659573E-2,6.9230957446808516E-2,7.3700000000000002E-2,3.6986355226642002E-2,8.5931063829787241E-2,6.6996436170212767E-2,7.3700000000000002E-2,9.0282500000000002E-2,7.2014308510638309E-2,0.10137670212765958,7.3700000000000002E-2,7.3700000000000002E-2,5.7666329787234044E-2,8.5225425531914881E-2,7.3700000000000002E-2,7.5307287234042564E-2,7.3700000000000002E-2,7.3700000000000002E-2,7.6757765957446794E-2,6.9701382978723414E-2,7.3700000000000002E-2,4.2020385145514351E-2,6.6094787234042551E-2,9.8279734042553191E-2,7.9345106382978717E-2,7.3700000000000002E-2,151]
[null,"Female 90+",6.531074468085106E-2,3.5346490039776898E-2,5.5471010638297881E-2,3.8535691489361701E-2,7.3700000000000002E-2,7.4523244680851086E-2,7.5307287234042564E-2,7.3700000000000002E-2,7.3700000000000002E-2,8.76559574468085E-2,8.76559574468085E-2,9.5770797872340427E-2,7.5228882978723405E-2,5.5863031914893613E-2,8.2990904255319173E-2,3.1949734042553191E-2,5.2454668005078413E-2,5.5980638297872337E-2,7.3700000000000002E-2,4.8924255319148943E-2,7.5973723404255317E-2,7.5973723404255317E-2,5.4294946808510637E-2,8.9420053191489365E-2,3.1030656269329621E-2,6.5075531914893625E-2,8.2324468085106378E-2,7.0054202127659573E-2,6.9230957446808516E-2,7.3700000000000002E-2,3.6986355226642002E-2,8.5931063829787241E-2,6.6996436170212767E-2,7.3700000000000002E-2,9.0282500000000002E-2,7.2014308510638309E-2,0.10137670212765958,7.3700000000000002E-2,7.3700000000000002E-2,5.7666329787234044E-2,8.5225425531914881E-2,7.3700000000000002E-2,7.5307287234042564E-2,7.3700000000000002E-2,7.3700000000000002E-2,7.6757765957446794E-2,6.9701382978723414E-2,7.3700000000000002E-2,4.2020385145514351E-2,6.6094787234042551E-2,9.8279734042553191E-2,7.9345106382978717E-2,7.3700000000000002E-2,152]
[null,"Male 0-4",null,null,null,null,null,null,null,null,null,null,null,null,null,null,null,null,null,null,null,null,null,null,null,null,null,null,null,null,null,null,null,null,null,null,null,null,null,null,null,null,null,null,null,null,null,null,null,null,null,null,null,null,null,153]
[null,"Male 5-9",null,null,null,null,null,null,null,null,null,null,null,null,null,null,null,null,null,null,null,null,null,null,null,null,null,null,null,null,null,null,null,null,null,null,null,null,null,null,null,null,null,null,null,null,null,null,null,null,null,null,null,null,null,154]
[null,"Male 10-15",null,null,null,null,null,null,null,null,null,null,null,null,null,null,null,null,null,null,null,null,null,null,null,null,null,null,null,null,null,null,null,null,null,null,null,null,null,null,null,null,null,null,null,null,null,null,null,null,null,null,null,null,null,155]
[null,"Male 16-19",{"$f":"$AR158*C$254","v":0.23198203883495144},8.1609818204916376E-2,0.19704443954104151,0.23686968225948812,0.2051,0.21333658428949692,0.15106438658428953,0.2051,0.2051,0.2118883936451898,{"$f":"$AR158*M$254","v":0.2118883936451898},0.2332492056487202,0.20872047661076787,0.17667925860547221,0.19632034421888792,0.11820856134157107,0.12111007104457357,0.17514055604589585,0.2051,0.19107065313327448,{"$f":"$AR158*W$254","v":0.22456006178287732},0.22456006178287732,0.17514055604589585,0.24058067078552514,7.1645196285951313E-2,0.21505631067961165,0.22012497793468666,0.21740962047661078,0.2217541924095322,0.2051,{"$f":"$AR158*AG$254","v":8.5396024406155263E-2},0.19586778464254195,0.18201946160635482,0.2051,0.22139214474845548,0.26085533980582526,0.19813058252427185,0.2051,0.2051,0.18165741394527801,0.21523733451015006,0.2051,{"$f":"$AR158*AS$254","v":0.15106438658428953},0.2051,0.2051,0.1620163283318623,0.19351447484554282,0.2051,9.7018855019745526E-2,0.21550887025595761,0.23623609885260372,0.16590834068843777,0.2051,156]
[null,"Male 20-24",0.23198203883495144,8.1609818204916376E-2,0.19704443954104151,0.23686968225948812,0.2051,0.21333658428949692,0.15106438658428953,0.2051,0.2051,0.2118883936451898,0.2118883936451898,0.2332492056487202,0.20872047661076787,0.17667925860547221,0.19632034421888792,0.11820856134157107,0.12111007104457357,0.17514055604589585,0.2051,0.19107065313327448,0.22456006178287732,0.22456006178287732,0.17514055604589585,0.24058067078552514,7.1645196285951313E-2,0.21505631067961165,0.22012497793468666,0.21740962047661078,0.2217541924095322,0.2051,8.5396024406155263E-2,0.19586778464254195,0.18201946160635482,0.2051,0.22139214474845548,0.26085533980582526,0.19813058252427185,0.2051,0.2051,0.18165741394527801,0.21523733451015006,0.2051,0.15106438658428953,0.2051,0.2051,0.1620163283318623,0.19351447484554282,0.2051,9.7018855019745526E-2,0.21550887025595761,0.23623609885260372,0.16590834068843777,0.2051,157]
[null,"Male 25-29",0.32495582524271843,0.11431740989893942,0.27601593115622242,0.33180233892321276,0.2873,0.29883764342453661,0.21160798764342456,0.2873,0.2873,0.29680904677846426,0.29680904677846426,0.32673084730803176,0.29237149161518095,0.24748879082082964,0.27500163283318624,0.16558420123565756,0.16964857830865912,0.24533340688437777,0.2873,0.26764796999117385,0.31455926743159757,0.31455926743159757,0.24533340688437777,0.33700061782877316,0.10035916573843887,0.30124660194174757,0.30834669020300087,0.30454307149161519,0.31062886142983226,0.2873,0.11962105222763729,0.27436769638128866,0.25496924095322154,0.2873,0.31012171226831425,0.36540097087378642,0.27753737864077671,0.2873,0.2873,0.25446209179170343,0.30150017652250666,0.2873,0.21160798764342456,0.2873,0.2873,0.22694924977934686,0.27107122683142099,0.2873,0.13590208214126226,0.30188053839364515,0.33091482789055604,0.23240110326566638,0.2873,158]
[null,"Male 30-34",0.32495582524271843,0.11431740989893942,0.27601593115622242,0.33180233892321276,0.2873,0.29883764342453661,0.21160798764342456,0.2873,0.2873,0.29680904677846426,0.29680904677846426,0.32673084730803176,0.29237149161518095,0.24748879082082964,0.27500163283318624,0.16558420123565756,0.16964857830865912,0.24533340688437777,0.2873,0.26764796999117385,0.31455926743159757,0.31455926743159757,0.24533340688437777,0.33700061782877316,0.10035916573843887,0.30124660194174757,0.30834669020300087,0.30454307149161519,0.31062886142983226,0.2873,0.11962105222763729,0.27436769638128866,0.25496924095322154,0.2873,0.31012171226831425,0.36540097087378642,0.27753737864077671,0.2873,0.2873,0.25446209179170343,0.30150017652250666,0.2873,0.21160798764342456,0.2873,0.2873,0.22694924977934686,0.27107122683142099,0.2873,0.13590208214126226,0.30188053839364515,0.33091482789055604,0.23240110326566638,0.2873,159]
[null,"Male 35-39",0.35074417475728159,0.12338958861698962,0.29792043248014127,0.35813402471315103,0.31010000000000004,0.32255326566637249,0.22840110326566643,0.31010000000000004,0.31010000000000004,0.32036368049426311,0.32036368049426311,0.35266006178287734,0.31557396293027368,0.26712939099735217,0.29682563989408656,0.17872488967343339,0.18311181390015732,0.2648029567519859,0.31010000000000004,0.28888839364518981,0.3395225507502207,0.3395225507502207,0.2648029567519859,0.3637448367166814,0.10832362441869091,0.32515339805825244,0.33281694616063551,0.32871147396293032,0.33528022947925862,0.31010000000000004,0.12911412563797539,0.29614139452780236,0.27520348631950581,0.31010000000000004,0.33473283318623132,0.39439902912621366,0.29956262135922335,0.31010000000000004,0.31010000000000004,0.27465609002647839,0.32542709620476618,0.31010000000000004,0.22840110326566643,0.31010000000000004,0.31010000000000004,0.24495984112974406,0.29258331862312448,0.31010000000000004,0.14668721083190195,0.32583764342453664,0.3571760812003531,0.25084435127978821,0.31010000000000004,160]
[null,"Male 40-44",0.35074417475728159,0.12338958861698962,0.29792043248014127,0.35813402471315103,0.31010000000000004,0.32255326566637249,0.22840110326566643,0.31010000000000004,0.31010000000000004,0.32036368049426311,0.32036368049426311,0.35266006178287734,0.31557396293027368,0.26712939099735217,0.29682563989408656,0.17872488967343339,0.18311181390015732,0.2648029567519859,0.31010000000000004,0.28888839364518981,0.3395225507502207,0.3395225507502207,0.2648029567519859,0.3637448367166814,0.10832362441869091,0.32515339805825244,0.33281694616063551,0.32871147396293032,0.33528022947925862,0.31010000000000004,0.12911412563797539,0.29614139452780236,0.27520348631950581,0.31010000000000004,0.33473283318623132,0.39439902912621366,0.29956262135922335,0.31010000000000004,0.31010000000000004,0.27465609002647839,0.32542709620476618,0.31010000000000004,0.22840110326566643,0.31010000000000004,0.31010000000000004,0.24495984112974406,0.29258331862312448,0.31010000000000004,0.14668721083190195,0.32583764342453664,0.3571760812003531,0.25084435127978821,0.31010000000000004,161]
[null,"Male 45-49",0.28118349514563107,9.8918580232775291E-2,0.23883592233009712,0.28710776699029134,0.24860000000000002,0.25858349514563111,0.18310388349514567,0.24860000000000002,0.24860000000000002,0.25682815533980585,0.25682815533980585,0.28271941747572815,0.25298834951456312,0.21415145631067961,0.23795825242718449,0.14327961165048544,0.14679650737045827,0.21228640776699031,0.24860000000000002,0.23159514563106798,0.27218737864077674,0.27218737864077674,0.21228640776699031,0.29160582524271844,8.6840545083800569E-2,0.26066796116504853,0.26681165048543687,0.26352038834951458,0.26878640776699031,0.24860000000000002,0.10350780920219503,0.23740970873786413,0.22062427184466021,0.24860000000000002,0.26834757281553406,0.31618058252427189,0.24015242718446603,0.24860000000000002,0.24860000000000002,0.22018543689320388,0.26088737864077671,0.24860000000000002,0.18310388349514567,0.24860000000000002,0.24860000000000002,0.19637864077669903,0.23455728155339808,0.24860000000000002,0.11759574528478177,0.26121650485436892,0.28633980582524271,0.20109611650485437,0.24860000000000002,162]
[null,"Male 50-54",0.28118349514563107,9.8918580232775291E-2,0.23883592233009712,0.28710776699029134,0.24860000000000002,0.25858349514563111,0.18310388349514567,0.24860000000000002,0.24860000000000002,0.25682815533980585,0.25682815533980585,0.28271941747572815,0.25298834951456312,0.21415145631067961,0.23795825242718449,0.14327961165048544,0.14679650737045827,0.21228640776699031,0.24860000000000002,0.23159514563106798,0.27218737864077674,0.27218737864077674,0.21228640776699031,0.29160582524271844,8.6840545083800569E-2,0.26066796116504853,0.26681165048543687,0.26352038834951458,0.26878640776699031,0.24860000000000002,0.10350780920219503,0.23740970873786413,0.22062427184466021,0.24860000000000002,0.26834757281553406,0.31618058252427189,0.24015242718446603,0.24860000000000002,0.24860000000000002,0.22018543689320388,0.26088737864077671,0.24860000000000002,0.18310388349514567,0.24860000000000002,0.24860000000000002,0.19637864077669903,0.23455728155339808,0.24860000000000002,0.11759574528478177,0.26121650485436892,0.28633980582524271,0.20109611650485437,0.24860000000000002,163]
[null,"Male 55-59",0.23695873786407767,8.3360589536469923E-2,0.20127162400706095,0.24195123565754639,0.20950000000000002,0.21791328331862314,0.15430516328331864,0.20950000000000002,0.20950000000000002,0.21643402471315096,0.21643402471315096,0.23825308914386586,0.21319814651368052,0.18046954986760813,0.20053199470432481,0.12074448367166815,0.12370823931661709,0.17889783759929392,0.20950000000000002,0.19516968225948811,0.22937753751103268,0.22937753751103268,0.17889783759929392,0.24574183583406886,7.3182197083894687E-2,0.21966990291262137,0.22484730803177405,0.2220736981465137,0.22651147396293028,0.20950000000000002,8.7228021029202976E-2,0.20006972639011478,0.18592431597528689,0.20950000000000002,0.22614165931156227,0.26645145631067968,0.20238106796116506,0.20950000000000002,0.20950000000000002,0.18555450132391882,0.21985481023830541,0.20950000000000002,0.15430516328331864,0.20950000000000002,0.20950000000000002,0.16549205648720211,0.19766593115622244,0.20950000000000002,9.9100195644254943E-2,0.22013217122683143,0.24130406001765226,0.16946756398940865,0.20950000000000002,164]
[null,"Male 60-64",0.23695873786407767,8.3360589536469923E-2,0.20127162400706095,0.24195123565754639,0.20950000000000002,0.21791328331862314,0.15430516328331864,0.20950000000000002,0.20950000000000002,0.21643402471315096,0.21643402471315096,0.23825308914386586,0.21319814651368052,0.18046954986760813,0.20053199470432481,0.12074448367166815,0.12370823931661709,0.17889783759929392,0.20950000000000002,0.19516968225948811,0.22937753751103268,0.22937753751103268,0.17889783759929392,0.24574183583406886,7.3182197083894687E-2,0.21966990291262137,0.22484730803177405,0.2220736981465137,0.22651147396293028,0.20950000000000002,8.7228021029202976E-2,0.20006972639011478,0.18592431597528689,0.20950000000000002,0.22614165931156227,0.26645145631067968,0.20238106796116506,0.20950000000000002,0.20950000000000002,0.18555450132391882,0.21985481023830541,0.20950000000000002,0.15430516328331864,0.20950000000000002,0.20950000000000002,0.16549205648720211,0.19766593115622244,0.20950000000000002,9.9100195644254943E-2,0.22013217122683143,0.24130406001765226,0.16946756398940865,0.20950000000000002,165]
[null,"Male 65-69",{"$f":"$AR168*C$254","v":0.18425097087378642},6.4818329525016469E-2,0.15650189761694619,0.18813296557811127,0.16290000000000002,0.16944187996469551,0.11998239187996472,0.16290000000000002,0.16290000000000002,0.16829165931156226,{"$f":"$AR168*M$254","v":0.16829165931156226},0.18525741394527803,0.1657755516328332,0.14032691968225949,0.15592678729037954,9.3886760812003547E-2,9.6191275344519919E-2,0.1391048102383054,0.16290000000000002,0.15175723742277142,{"$f":"$AR168*W$254","v":0.1783560900264784},0.1783560900264784,0.1391048102383054,0.19108040600176524,5.6903961360221696E-2,0.17080776699029127,0.17483353927625772,0.17267687555163283,0.17612753751103266,0.16290000000000002,{"$f":"$AR168*AG$254","v":6.7825511339652339E-2},0.15556734333627539,0.14456835834068846,0.16290000000000002,0.17583998234774939,0.20718349514563111,0.15736456310679614,0.16290000000000002,0.16290000000000002,0.14428080317740513,0.17095154457193296,0.16290000000000002,{"$f":"$AR168*AS$254","v":0.11998239187996472},0.16290000000000002,0.16290000000000002,0.12868093556928509,0.15369823477493383,0.16290000000000002,7.7056906302859815E-2,0.17116721094439541,0.1876297440423654,0.13177215357458077,0.16290000000000002,166]
[null,"Male 70-74",0.18425097087378642,6.4818329525016469E-2,0.15650189761694619,0.18813296557811127,0.16290000000000002,0.16944187996469551,0.11998239187996472,0.16290000000000002,0.16290000000000002,0.16829165931156226,0.16829165931156226,0.18525741394527803,0.1657755516328332,0.14032691968225949,0.15592678729037954,9.3886760812003547E-2,9.6191275344519919E-2,0.1391048102383054,0.16290000000000002,0.15175723742277142,0.1783560900264784,0.1783560900264784,0.1391048102383054,0.19108040600176524,5.6903961360221696E-2,0.17080776699029127,0.17483353927625772,0.17267687555163283,0.17612753751103266,0.16290000000000002,6.7825511339652339E-2,0.15556734333627539,0.14456835834068846,0.16290000000000002,0.17583998234774939,0.20718349514563111,0.15736456310679614,0.16290000000000002,0.16290000000000002,0.14428080317740513,0.17095154457193296,0.16290000000000002,0.11998239187996472,0.16290000000000002,0.16290000000000002,0.12868093556928509,0.15369823477493383,0.16290000000000002,7.7056906302859815E-2,0.17116721094439541,0.1876297440423654,0.13177215357458077,0.16290000000000002,167]
[null,"Male 75-79",8.3699029126213603E-2,2.9444790576127804E-2,7.1093556928508397E-2,8.5462488967343361E-2,7.400000000000001E-2,7.6971756398940883E-2,5.4503971756398956E-2,7.400000000000001E-2,7.400000000000001E-2,7.6449249779346889E-2,7.6449249779346889E-2,8.4156222418358351E-2,7.5306266548985007E-2,6.3745807590467787E-2,7.0832303618711401E-2,4.2649602824360117E-2,4.3696466393459019E-2,6.3190644307149171E-2,7.400000000000001E-2,6.8938217122683151E-2,8.1021182700794364E-2,8.1021182700794364E-2,6.3190644307149171E-2,8.6801412180052967E-2,2.5849558874502184E-2,7.7592233009708744E-2,7.9421006178287734E-2,7.8441306266548994E-2,8.0008826125330987E-2,7.400000000000001E-2,3.0810852296711315E-2,7.0669020300088273E-2,6.5672550750220673E-2,7.400000000000001E-2,7.9878199470432509E-2,9.4116504854368954E-2,7.1485436893203899E-2,7.400000000000001E-2,7.400000000000001E-2,6.5541924095322154E-2,7.7657546337158004E-2,7.400000000000001E-2,5.4503971756398956E-2,7.400000000000001E-2,7.400000000000001E-2,5.8455428067078555E-2,6.9819947043248023E-2,7.400000000000001E-2,3.5004365048567382E-2,7.7755516328331872E-2,8.5233892321270974E-2,5.9859664607237434E-2,7.400000000000001E-2,168]
[null,"Male 80-84",8.3699029126213603E-2,2.9444790576127804E-2,7.1093556928508397E-2,8.5462488967343361E-2,7.400000000000001E-2,7.6971756398940883E-2,5.4503971756398956E-2,7.400000000000001E-2,7.400000000000001E-2,7.6449249779346889E-2,7.6449249779346889E-2,8.4156222418358351E-2,7.5306266548985007E-2,6.3745807590467787E-2,7.0832303618711401E-2,4.2649602824360117E-2,4.3696466393459019E-2,6.3190644307149171E-2,7.400000000000001E-2,6.8938217122683151E-2,8.1021182700794364E-2,8.1021182700794364E-2,6.3190644307149171E-2,8.6801412180052967E-2,2.5849558874502184E-2,7.7592233009708744E-2,7.9421006178287734E-2,7.8441306266548994E-2,8.0008826125330987E-2,7.400000000000001E-2,3.0810852296711315E-2,7.0669020300088273E-2,6.5672550750220673E-2,7.400000000000001E-2,7.9878199470432509E-2,9.4116504854368954E-2,7.1485436893203899E-2,7.400000000000001E-2,7.400000000000001E-2,6.5541924095322154E-2,7.7657546337158004E-2,7.400000000000001E-2,5.4503971756398956E-2,7.400000000000001E-2,7.400000000000001E-2,5.8455428067078555E-2,6.9819947043248023E-2,7.400000000000001E-2,3.5004365048567382E-2,7.7755516328331872E-2,8.5233892321270974E-2,5.9859664607237434E-2,7.400000000000001E-2,169]
[null,"Male 85-89",8.3699029126213603E-2,2.9444790576127804E-2,7.1093556928508397E-2,8.5462488967343361E-2,7.400000000000001E-2,7.6971756398940883E-2,5.4503971756398956E-2,7.400000000000001E-2,7.400000000000001E-2,7.6449249779346889E-2,7.6449249779346889E-2,8.4156222418358351E-2,7.5306266548985007E-2,6.3745807590467787E-2,7.0832303618711401E-2,4.2649602824360117E-2,4.3696466393459019E-2,6.3190644307149171E-2,7.400000000000001E-2,6.8938217122683151E-2,8.1021182700794364E-2,8.1021182700794364E-2,6.3190644307149171E-2,8.6801412180052967E-2,2.5849558874502184E-2,7.7592233009708744E-2,7.9421006178287734E-2,7.8441306266548994E-2,8.0008826125330987E-2,7.400000000000001E-2,3.0810852296711315E-2,7.0669020300088273E-2,6.5672550750220673E-2,7.400000000000001E-2,7.9878199470432509E-2,9.4116504854368954E-2,7.1485436893203899E-2,7.400000000000001E-2,7.400000000000001E-2,6.5541924095322154E-2,7.7657546337158004E-2,7.400000000000001E-2,5.4503971756398956E-2,7.400000000000001E-2,7.400000000000001E-2,5.8455428067078555E-2,6.9819947043248023E-2,7.400000000000001E-2,3.5004365048567382E-2,7.7755516328331872E-2,8.5233892321270974E-2,5.9859664607237434E-2,7.400000000000001E-2,170]
[null,"Male 90+",8.3699029126213603E-2,2.9444790576127804E-2,7.1093556928508397E-2,8.5462488967343361E-2,7.400000000000001E-2,7.6971756398940883E-2,5.4503971756398956E-2,7.400000000000001E-2,7.400000000000001E-2,7.6449249779346889E-2,7.6449249779346889E-2,8.4156222418358351E-2,7.5306266548985007E-2,6.3745807590467787E-2,7.0832303618711401E-2,4.2649602824360117E-2,4.3696466393459019E-2,6.3190644307149171E-2,7.400000000000001E-2,6.8938217122683151E-2,8.1021182700794364E-2,8.1021182700794364E-2,6.3190644307149171E-2,8.6801412180052967E-2,2.5849558874502184E-2,7.7592233009708744E-2,7.9421006178287734E-2,7.8441306266548994E-2,8.0008826125330987E-2,7.400000000000001E-2,3.0810852296711315E-2,7.0669020300088273E-2,6.5672550750220673E-2,7.400000000000001E-2,7.9878199470432509E-2,9.4116504854368954E-2,7.1485436893203899E-2,7.400000000000001E-2,7.400000000000001E-2,6.5541924095322154E-2,7.7657546337158004E-2,7.400000000000001E-2,5.4503971756398956E-2,7.400000000000001E-2,7.400000000000001E-2,5.8455428067078555E-2,6.9819947043248023E-2,7.400000000000001E-2,3.5004365048567382E-2,7.7755516328331872E-2,8.5233892321270974E-2,5.9859664607237434E-2,7.400000000000001E-2,171]
["SIMD Q4","Female 0-4",null,null,null,null,null,null,null,null,null,null,null,null,null,null,null,null,null,null,null,null,null,null,null,null,null,null,null,null,null,null,null,null,null,null,null,null,null,null,null,null,null,null,null,null,null,null,null,null,null,null,null,null,null,172]
[null,"Female 5-9",null,null,null,null,null,null,null,null,null,null,null,null,null,null,null,null,null,null,null,null,null,null,null,null,null,null,null,null,null,null,null,null,null,null,null,null,null,null,null,null,null,null,null,null,null,null,null,null,null,null,null,null,null,173]
[null,"Female 10-15",null,null,null,null,null,null,null,null,null,null,null,null,null,null,null,null,null,null,null,null,null,null,null,null,null,null,null,null,null,null,null,null,null,null,null,null,null,null,null,null,null,null,null,null,null,null,null,null,null,null,null,null,null,174]
[null,"Female 16-19",{"$f":"$AR177*C$253","v":0.16996744680851064},9.1987202030247073E-2,0.14436010638297875,0.10028691489361702,0.1918,0.19394244680851067,0.19598287234042555,0.1918,0.1918,0.22811957446808509,{"$f":"$AR177*M$253","v":0.22811957446808509},0.24923797872340422,0.19577882978723404,0.14538031914893615,0.21597904255319153,8.3147340425531915E-2,0.13651024862108602,0.14568638297872338,0.1918,0.12732255319148938,{"$f":"$AR177*W$253","v":0.19771723404255317},0.19771723404255317,0.14129946808510638,0.2327105319148936,8.075549352045347E-2,0.16935531914893617,0.2142446808510638,0.18231202127659574,0.1801695744680851,0.1918,{"$f":"$AR177*AG$253","v":9.625485661424607E-2},0.22363063829787236,0.17435436170212765,0.1918,0.23495500000000002,0.18741308510638299,0.26382702127659574,0.1918,0.1918,0.15007329787234042,0.2217942553191489,0.1918,{"$f":"$AR177*AS$253","v":0.19598287234042555},0.1918,0.1918,0.19975765957446806,0.18139382978723406,0.1918,0.10935562918466285,0.17200787234042553,0.2557673404255319,0.20649106382978721,0.1918,175]
[null,"Female 20-24",0.16996744680851064,9.1987202030247073E-2,0.14436010638297875,0.10028691489361702,0.1918,0.19394244680851067,0.19598287234042555,0.1918,0.1918,0.22811957446808509,0.22811957446808509,0.24923797872340422,0.19577882978723404,0.14538031914893615,0.21597904255319153,8.3147340425531915E-2,0.13651024862108602,0.14568638297872338,0.1918,0.12732255319148938,0.19771723404255317,0.19771723404255317,0.14129946808510638,0.2327105319148936,8.075549352045347E-2,0.16935531914893617,0.2142446808510638,0.18231202127659574,0.1801695744680851,0.1918,9.625485661424607E-2,0.22363063829787236,0.17435436170212765,0.1918,0.23495500000000002,0.18741308510638299,0.26382702127659574,0.1918,0.1918,0.15007329787234042,0.2217942553191489,0.1918,0.19598287234042555,0.1918,0.1918,0.19975765957446806,0.18139382978723406,0.1918,0.10935562918466285,0.17200787234042553,0.2557673404255319,0.20649106382978721,0.1918,176]
[null,"Female 25-29",0.16589106382978724,8.9781043900220292E-2,0.14089787234042556,9.7881702127659564E-2,0.18720000000000001,0.18929106382978728,0.19128255319148937,0.18720000000000001,0.18720000000000001,0.22264851063829785,0.22264851063829785,0.24326042553191488,0.19108340425531917,0.14189361702127659,0.21079914893617027,8.1153191489361703E-2,0.13323628019743119,0.14219234042553192,0.18720000000000001,0.12426893617021278,0.19297531914893618,0.19297531914893618,0.13791063829787234,0.22712936170212766,7.8818709004321641E-2,0.1652936170212766,0.20910638297872339,0.17793957446808512,0.17584851063829787,0.18720000000000001,9.3946345975948212E-2,0.21826723404255322,0.17017276595744679,0.18720000000000001,0.22932000000000002,0.18291829787234043,0.25749957446808508,0.18720000000000001,0.18720000000000001,0.14647404255319149,0.21647489361702127,0.18720000000000001,0.19128255319148937,0.18720000000000001,0.18720000000000001,0.19496680851063827,0.17704340425531917,0.18720000000000001,0.10673291857856562,0.16788255319148937,0.24963319148936169,0.2015387234042553,0.18720000000000001,177]
[null,"Female 30-34",0.16589106382978724,8.9781043900220292E-2,0.14089787234042556,9.7881702127659564E-2,0.18720000000000001,0.18929106382978728,0.19128255319148937,0.18720000000000001,0.18720000000000001,0.22264851063829785,0.22264851063829785,0.24326042553191488,0.19108340425531917,0.14189361702127659,0.21079914893617027,8.1153191489361703E-2,0.13323628019743119,0.14219234042553192,0.18720000000000001,0.12426893617021278,0.19297531914893618,0.19297531914893618,0.13791063829787234,0.22712936170212766,7.8818709004321641E-2,0.1652936170212766,0.20910638297872339,0.17793957446808512,0.17584851063829787,0.18720000000000001,9.3946345975948212E-2,0.21826723404255322,0.17017276595744679,0.18720000000000001,0.22932000000000002,0.18291829787234043,0.25749957446808508,0.18720000000000001,0.18720000000000001,0.14647404255319149,0.21647489361702127,0.18720000000000001,0.19128255319148937,0.18720000000000001,0.18720000000000001,0.19496680851063827,0.17704340425531917,0.18720000000000001,0.10673291857856562,0.16788255319148937,0.24963319148936169,0.2015387234042553,0.18720000000000001,178]
[null,"Female 35-39",0.13886287234042552,7.5153256298955778E-2,0.11794175531914895,8.1934095744680843E-2,0.15670000000000001,0.15845037234042558,0.16011739361702129,0.15670000000000001,0.15670000000000001,0.18637297872340425,0.18637297872340425,0.20362664893617022,0.15995069148936172,0.11877526595744679,0.17645420212765961,6.7931117021276605E-2,0.11152844608406767,0.11902531914893616,0.15670000000000001,0.10402212765957448,0.16153436170212765,0.16153436170212765,0.11544122340425532,0.1901237765957447,6.5976985582143169E-2,0.13836276595744681,0.17503723404255317,0.14894835106382978,0.14719797872340426,0.15670000000000001,7.8639916743755797E-2,0.18270553191489364,0.14244696808510637,0.15670000000000001,0.19195750000000003,0.15311590425531915,0.21554585106382979,0.15670000000000001,0.15670000000000001,0.12260941489361703,0.18120521276595744,0.15670000000000001,0.16011739361702129,0.15670000000000001,0.15670000000000001,0.16320138297872339,0.14819819148936172,0.15670000000000001,8.9343206951181794E-2,0.14052989361702128,0.20896111702127659,0.16870255319148936,0.15670000000000001,179]
[null,"Female 40-44",0.13886287234042552,7.5153256298955778E-2,0.11794175531914895,8.1934095744680843E-2,0.15670000000000001,0.15845037234042558,0.16011739361702129,0.15670000000000001,0.15670000000000001,0.18637297872340425,0.18637297872340425,0.20362664893617022,0.15995069148936172,0.11877526595744679,0.17645420212765961,6.7931117021276605E-2,0.11152844608406767,0.11902531914893616,0.15670000000000001,0.10402212765957448,0.16153436170212765,0.16153436170212765,0.11544122340425532,0.1901237765957447,6.5976985582143169E-2,0.13836276595744681,0.17503723404255317,0.14894835106382978,0.14719797872340426,0.15670000000000001,7.8639916743755797E-2,0.18270553191489364,0.14244696808510637,0.15670000000000001,0.19195750000000003,0.15311590425531915,0.21554585106382979,0.15670000000000001,0.15670000000000001,0.12260941489361703,0.18120521276595744,0.15670000000000001,0.16011739361702129,0.15670000000000001,0.15670000000000001,0.16320138297872339,0.14819819148936172,0.15670000000000001,8.9343206951181794E-2,0.14052989361702128,0.20896111702127659,0.16870255319148936,0.15670000000000001,180]
[null,"Female 45-49",0.13248244680851062,7.1700139225870374E-2,0.11252260638297873,7.8169414893617006E-2,0.14949999999999999,0.15116994680851067,0.15276037234042553,0.14949999999999999,0.14949999999999999,0.17780957446808507,0.17780957446808507,0.19427047872340422,0.15260132978723404,0.11331781914893616,0.16834654255319151,6.4809840425531909E-2,0.10640397376878184,0.11355638297872339,0.14949999999999999,9.9242553191489363E-2,0.15411223404255317,0.15411223404255317,0.11013696808510637,0.18138803191489361,6.294549677428464E-2,0.13200531914893615,0.16699468085106381,0.14210452127659573,0.1404345744680851,0.14949999999999999,7.502659574468086E-2,0.17431063829787236,0.13590186170212765,0.14949999999999999,0.18313750000000001,0.14608058510638297,0.20564202127659573,0.14949999999999999,0.14949999999999999,0.11697579787234043,0.17287925531914891,0.14949999999999999,0.15276037234042553,0.14949999999999999,0.14949999999999999,0.15570265957446805,0.14138882978723405,0.14949999999999999,8.5238094698160044E-2,0.13407287234042553,0.1993598404255319,0.16095106382978722,0.14949999999999999,181]
[null,"Female 50-54",0.13248244680851062,7.1700139225870374E-2,0.11252260638297873,7.8169414893617006E-2,0.14949999999999999,0.15116994680851067,0.15276037234042553,0.14949999999999999,0.14949999999999999,0.17780957446808507,0.17780957446808507,0.19427047872340422,0.15260132978723404,0.11331781914893616,0.16834654255319151,6.4809840425531909E-2,0.10640397376878184,0.11355638297872339,0.14949999999999999,9.9242553191489363E-2,0.15411223404255317,0.15411223404255317,0.11013696808510637,0.18138803191489361,6.294549677428464E-2,0.13200531914893615,0.16699468085106381,0.14210452127659573,0.1404345744680851,0.14949999999999999,7.502659574468086E-2,0.17431063829787236,0.13590186170212765,0.14949999999999999,0.18313750000000001,0.14608058510638297,0.20564202127659573,0.14949999999999999,0.14949999999999999,0.11697579787234043,0.17287925531914891,0.14949999999999999,0.15276037234042553,0.14949999999999999,0.14949999999999999,0.15570265957446805,0.14138882978723405,0.14949999999999999,8.5238094698160044E-2,0.13407287234042553,0.1993598404255319,0.16095106382978722,0.14949999999999999,182]
[null,"Female 55-59",0.12202563829787236,6.6040864022758203E-2,0.10364122340425534,7.1999521276595743E-2,0.13770000000000002,0.13923813829787238,0.14070303191489364,0.13770000000000002,0.13770000000000002,0.16377510638297874,0.16377510638297874,0.17893675531914896,0.1405565425531915,0.10437367021276596,0.15505898936170218,5.9694414893617029E-2,9.8005533029841219E-2,0.10459340425531916,0.13770000000000002,9.1409361702127684E-2,0.14194819148936172,0.14194819148936172,0.10144388297872341,0.16707111702127661,5.7977223450294289E-2,0.12158617021276598,0.15381382978723404,0.13088824468085108,0.12935010638297875,0.13770000000000002,6.9104764107308064E-2,0.16055234042553196,0.12517515957446809,0.13770000000000002,0.16868250000000004,0.13455047872340428,0.18941074468085106,0.13770000000000002,0.13770000000000002,0.1077429255319149,0.15923393617021275,0.13770000000000002,0.14070303191489364,0.13770000000000002,0.13770000000000002,0.14341308510638298,0.13022904255319151,0.13770000000000002,7.8510271839041065E-2,0.12349053191489363,0.18362441489361703,0.14824723404255319,0.13770000000000002,183]
[null,"Female 60-64",0.12202563829787236,6.6040864022758203E-2,0.10364122340425534,7.1999521276595743E-2,0.13770000000000002,0.13923813829787238,0.14070303191489364,0.13770000000000002,0.13770000000000002,0.16377510638297874,0.16377510638297874,0.17893675531914896,0.1405565425531915,0.10437367021276596,0.15505898936170218,5.9694414893617029E-2,9.8005533029841219E-2,0.10459340425531916,0.13770000000000002,9.1409361702127684E-2,0.14194819148936172,0.14194819148936172,0.10144388297872341,0.16707111702127661,5.7977223450294289E-2,0.12158617021276598,0.15381382978723404,0.13088824468085108,0.12935010638297875,0.13770000000000002,6.9104764107308064E-2,0.16055234042553196,0.12517515957446809,0.13770000000000002,0.16868250000000004,0.13455047872340428,0.18941074468085106,0.13770000000000002,0.13770000000000002,0.1077429255319149,0.15923393617021275,0.13770000000000002,0.14070303191489364,0.13770000000000002,0.13770000000000002,0.14341308510638298,0.13022904255319151,0.13770000000000002,7.8510271839041065E-2,0.12349053191489363,0.18362441489361703,0.14824723404255319,0.13770000000000002,184]
[null,"Female 65-69",{"$f":"$AR187*C$253","v":0.10244127659574469},5.5441713006759971E-2,8.7007446808510649E-2,6.0444042553191489E-2,0.11560000000000001,0.11689127659574471,0.11812106382978725,0.11560000000000001,0.11560000000000001,0.13749021276595744,{"$f":"$AR187*M$253","v":0.13749021276595744},0.15021851063829789,0.11799808510638299,8.7622340425531908E-2,0.1301729787234043,5.0113829787234047E-2,8.2276249950977806E-2,8.7806808510638296E-2,0.11560000000000001,7.6738723404255332E-2,{"$f":"$AR187*W$253","v":0.11916638297872341},0.11916638297872341,8.5162765957446818E-2,0.14025723404255319,4.8672236970617427E-2,0.10207234042553193,0.12912765957446809,0.10988148936170213,0.10859021276595746,0.11560000000000001,{"$f":"$AR187*AG$253","v":5.8013876040703065E-2},0.13478468085106385,0.10508531914893617,0.11560000000000001,0.14161000000000001,0.11295595744680852,0.15901148936170212,0.11560000000000001,0.11560000000000001,9.0450851063829787E-2,0.13367787234042552,0.11560000000000001,{"$f":"$AR187*AS$253","v":0.11812106382978725},0.11560000000000001,0.11560000000000001,0.12039617021276594,0.10932808510638299,0.11560000000000001,6.590985784018262E-2,0.10367106382978725,0.15415382978723405,0.12445446808510638,0.11560000000000001,185]
[null,"Female 70-74",0.10244127659574469,5.5441713006759971E-2,8.7007446808510649E-2,6.0444042553191489E-2,0.11560000000000001,0.11689127659574471,0.11812106382978725,0.11560000000000001,0.11560000000000001,0.13749021276595744,0.13749021276595744,0.15021851063829789,0.11799808510638299,8.7622340425531908E-2,0.1301729787234043,5.0113829787234047E-2,8.2276249950977806E-2,8.7806808510638296E-2,0.11560000000000001,7.6738723404255332E-2,0.11916638297872341,0.11916638297872341,8.5162765957446818E-2,0.14025723404255319,4.8672236970617427E-2,0.10207234042553193,0.12912765957446809,0.10988148936170213,0.10859021276595746,0.11560000000000001,5.8013876040703065E-2,0.13478468085106385,0.10508531914893617,0.11560000000000001,0.14161000000000001,0.11295595744680852,0.15901148936170212,0.11560000000000001,0.11560000000000001,9.0450851063829787E-2,0.13367787234042552,0.11560000000000001,0.11812106382978725,0.11560000000000001,0.11560000000000001,0.12039617021276594,0.10932808510638299,0.11560000000000001,6.590985784018262E-2,0.10367106382978725,0.15415382978723405,0.12445446808510638,0.11560000000000001,186]
[null,"Female 75-79",5.4410851063829792E-2,2.9447415039922684E-2,4.6213297872340429E-2,3.2104361702127659E-2,6.1400000000000003E-2,6.20858510638298E-2,6.2739042553191501E-2,6.1400000000000003E-2,6.1400000000000003E-2,7.3026808510638294E-2,7.3026808510638294E-2,7.9787340425531914E-2,6.2673723404255324E-2,4.6539893617021273E-2,6.9140319148936188E-2,2.6617553191489365E-2,4.3700361133131811E-2,4.6637872340425532E-2,6.1400000000000003E-2,4.075914893617022E-2,6.3294255319148937E-2,6.3294255319148937E-2,4.523351063829787E-2,7.4496489361702126E-2,2.5851862889237975E-2,5.4214893617021281E-2,6.8585106382978725E-2,5.8362659574468088E-2,5.7676808510638299E-2,6.1400000000000003E-2,3.0813598519888998E-2,7.1589787234042565E-2,5.5815212765957446E-2,6.1400000000000003E-2,7.5215000000000004E-2,5.9995638297872349E-2,8.4457659574468089E-2,6.1400000000000003E-2,6.1400000000000003E-2,4.8042234042553193E-2,7.1001914893617013E-2,6.1400000000000003E-2,6.2739042553191501E-2,6.1400000000000003E-2,6.1400000000000003E-2,6.3947446808510625E-2,5.8068723404255326E-2,6.1400000000000003E-2,3.5007485046602185E-2,5.5064042553191493E-2,8.1877553191489358E-2,6.6102978723404246E-2,6.1400000000000003E-2,187]
[null,"Female 80-84",5.4410851063829792E-2,2.9447415039922684E-2,4.6213297872340429E-2,3.2104361702127659E-2,6.1400000000000003E-2,6.20858510638298E-2,6.2739042553191501E-2,6.1400000000000003E-2,6.1400000000000003E-2,7.3026808510638294E-2,7.3026808510638294E-2,7.9787340425531914E-2,6.2673723404255324E-2,4.6539893617021273E-2,6.9140319148936188E-2,2.6617553191489365E-2,4.3700361133131811E-2,4.6637872340425532E-2,6.1400000000000003E-2,4.075914893617022E-2,6.3294255319148937E-2,6.3294255319148937E-2,4.523351063829787E-2,7.4496489361702126E-2,2.5851862889237975E-2,5.4214893617021281E-2,6.8585106382978725E-2,5.8362659574468088E-2,5.7676808510638299E-2,6.1400000000000003E-2,3.0813598519888998E-2,7.1589787234042565E-2,5.5815212765957446E-2,6.1400000000000003E-2,7.5215000000000004E-2,5.9995638297872349E-2,8.4457659574468089E-2,6.1400000000000003E-2,6.1400000000000003E-2,4.8042234042553193E-2,7.1001914893617013E-2,6.1400000000000003E-2,6.2739042553191501E-2,6.1400000000000003E-2,6.1400000000000003E-2,6.3947446808510625E-2,5.8068723404255326E-2,6.1400000000000003E-2,3.5007485046602185E-2,5.5064042553191493E-2,8.1877553191489358E-2,6.6102978723404246E-2,6.1400000000000003E-2,188]
[null,"Female 85-89",5.4410851063829792E-2,2.9447415039922684E-2,4.6213297872340429E-2,3.2104361702127659E-2,6.1400000000000003E-2,6.20858510638298E-2,6.2739042553191501E-2,6.1400000000000003E-2,6.1400000000000003E-2,7.3026808510638294E-2,7.3026808510638294E-2,7.9787340425531914E-2,6.2673723404255324E-2,4.6539893617021273E-2,6.9140319148936188E-2,2.6617553191489365E-2,4.3700361133131811E-2,4.6637872340425532E-2,6.1400000000000003E-2,4.075914893617022E-2,6.3294255319148937E-2,6.3294255319148937E-2,4.523351063829787E-2,7.4496489361702126E-2,2.5851862889237975E-2,5.4214893617021281E-2,6.8585106382978725E-2,5.8362659574468088E-2,5.7676808510638299E-2,6.1400000000000003E-2,3.0813598519888998E-2,7.1589787234042565E-2,5.5815212765957446E-2,6.1400000000000003E-2,7.5215000000000004E-2,5.9995638297872349E-2,8.4457659574468089E-2,6.1400000000000003E-2,6.1400000000000003E-2,4.8042234042553193E-2,7.1001914893617013E-2,6.1400000000000003E-2,6.2739042553191501E-2,6.1400000000000003E-2,6.1400000000000003E-2,6.3947446808510625E-2,5.8068723404255326E-2,6.1400000000000003E-2,3.5007485046602185E-2,5.5064042553191493E-2,8.1877553191489358E-2,6.6102978723404246E-2,6.1400000000000003E-2,189]
[null,"Female 90+",5.4410851063829792E-2,2.9447415039922684E-2,4.6213297872340429E-2,3.2104361702127659E-2,6.1400000000000003E-2,6.20858510638298E-2,6.2739042553191501E-2,6.1400000000000003E-2,6.1400000000000003E-2,7.3026808510638294E-2,7.3026808510638294E-2,7.9787340425531914E-2,6.2673723404255324E-2,4.6539893617021273E-2,6.9140319148936188E-2,2.6617553191489365E-2,4.3700361133131811E-2,4.6637872340425532E-2,6.1400000000000003E-2,4.075914893617022E-2,6.3294255319148937E-2,6.3294255319148937E-2,4.523351063829787E-2,7.4496489361702126E-2,2.5851862889237975E-2,5.4214893617021281E-2,6.8585106382978725E-2,5.8362659574468088E-2,5.7676808510638299E-2,6.1400000000000003E-2,3.0813598519888998E-2,7.1589787234042565E-2,5.5815212765957446E-2,6.1400000000000003E-2,7.5215000000000004E-2,5.9995638297872349E-2,8.4457659574468089E-2,6.1400000000000003E-2,6.1400000000000003E-2,4.8042234042553193E-2,7.1001914893617013E-2,6.1400000000000003E-2,6.2739042553191501E-2,6.1400000000000003E-2,6.1400000000000003E-2,6.3947446808510625E-2,5.8068723404255326E-2,6.1400000000000003E-2,3.5007485046602185E-2,5.5064042553191493E-2,8.1877553191489358E-2,6.6102978723404246E-2,6.1400000000000003E-2,190]
[null,"Male 0-4",null,null,null,null,null,null,null,null,null,null,null,null,null,null,null,null,null,null,null,null,null,null,null,null,null,null,null,null,null,null,null,null,null,null,null,null,null,null,null,null,null,null,null,null,null,null,null,null,null,null,null,null,null,191]
[null,"Male 5-9",null,null,null,null,null,null,null,null,null,null,null,null,null,null,null,null,null,null,null,null,null,null,null,null,null,null,null,null,null,null,null,null,null,null,null,null,null,null,null,null,null,null,null,null,null,null,null,null,null,null,null,null,null,192]
[null,"Male 10-15",null,null,null,null,null,null,null,null,null,null,null,null,null,null,null,null,null,null,null,null,null,null,null,null,null,null,null,null,null,null,null,null,null,null,null,null,null,null,null,null,null,null,null,null,null,null,null,null,null,null,null,null,null,193]
[null,"Male 16-19",{"$f":"$AR196*C$254","v":0.23232135922330097},8.1729188977522294E-2,0.19733265666372465,0.23721615180935574,0.2054,0.21364863195057371,0.15128534863195059,0.2054,0.2054,0.21219832303618713,{"$f":"$AR196*M$254","v":0.21219832303618713},0.23359037952338924,0.20902577228596647,0.17693768755516329,0.19660750220653134,0.11838146513680495,0.12128721888130381,0.17539673433362754,0.2054,0.19135013239187995,{"$f":"$AR196*W$254","v":0.22488852603706974},0.22488852603706974,0.17539673433362754,0.24093256840247129,7.1749991794901991E-2,0.21537087378640776,0.22044695498676078,0.21772762577228597,0.2220785525154457,0.2054,{"$f":"$AR196*AG$254","v":8.5520933266817603E-2},0.19615428067078555,0.18228570167696381,0.2054,0.22171597528684911,0.26123689320388349,0.19842038834951456,0.2054,0.2054,0.18192312444836717,0.2155521624007061,0.2054,{"$f":"$AR196*AS$254","v":0.15128534863195059},0.2054,0.2054,0.16225330979699912,0.19379752868490732,0.2054,9.7160764607780253E-2,0.21582409532215355,0.23658164165931156,0.16615101500441307,0.2054,194]
[null,"Male 20-24",0.23232135922330097,8.1729188977522294E-2,0.19733265666372465,0.23721615180935574,0.2054,0.21364863195057371,0.15128534863195059,0.2054,0.2054,0.21219832303618713,0.21219832303618713,0.23359037952338924,0.20902577228596647,0.17693768755516329,0.19660750220653134,0.11838146513680495,0.12128721888130381,0.17539673433362754,0.2054,0.19135013239187995,0.22488852603706974,0.22488852603706974,0.17539673433362754,0.24093256840247129,7.1749991794901991E-2,0.21537087378640776,0.22044695498676078,0.21772762577228597,0.2220785525154457,0.2054,8.5520933266817603E-2,0.19615428067078555,0.18228570167696381,0.2054,0.22171597528684911,0.26123689320388349,0.19842038834951456,0.2054,0.2054,0.18192312444836717,0.2155521624007061,0.2054,0.15128534863195059,0.2054,0.2054,0.16225330979699912,0.19379752868490732,0.2054,9.7160764607780253E-2,0.21582409532215355,0.23658164165931156,0.16615101500441307,0.2054,195]
[null,"Male 25-29",0.26749757281553399,9.4103959071003038E-2,0.22721116504854372,0.27313349514563112,0.23650000000000002,0.245997572815534,0.17419174757281555,0.23650000000000002,0.23650000000000002,0.24432766990291266,0.24432766990291266,0.2689587378640777,0.24067475728155341,0.20372815533980584,0.22637621359223303,0.13630582524271848,0.13965154462233861,0.20195388349514565,0.23650000000000002,0.22032281553398059,0.25893932038834955,0.25893932038834955,0.20195388349514565,0.27741262135922329,8.2613792889456292E-2,0.24798058252427185,0.25382524271844659,0.25069417475728156,0.25570388349514561,0.23650000000000002,9.8469818488813851E-2,0.22585436893203886,0.20988592233009712,0.23650000000000002,0.25528640776699035,0.30079126213592239,0.22846359223300972,0.23650000000000002,0.23650000000000002,0.20946844660194175,0.24818932038834954,0.23650000000000002,0.17419174757281555,0.23650000000000002,0.23650000000000002,0.18682038834951456,0.22314077669902915,0.23650000000000002,0.11187205856738087,0.24850242718446602,0.27240291262135924,0.19130825242718447,0.23650000000000002,196]
[null,"Male 30-34",0.26749757281553399,9.4103959071003038E-2,0.22721116504854372,0.27313349514563112,0.23650000000000002,0.245997572815534,0.17419174757281555,0.23650000000000002,0.23650000000000002,0.24432766990291266,0.24432766990291266,0.2689587378640777,0.24067475728155341,0.20372815533980584,0.22637621359223303,0.13630582524271848,0.13965154462233861,0.20195388349514565,0.23650000000000002,0.22032281553398059,0.25893932038834955,0.25893932038834955,0.20195388349514565,0.27741262135922329,8.2613792889456292E-2,0.24798058252427185,0.25382524271844659,0.25069417475728156,0.25570388349514561,0.23650000000000002,9.8469818488813851E-2,0.22585436893203886,0.20988592233009712,0.23650000000000002,0.25528640776699035,0.30079126213592239,0.22846359223300972,0.23650000000000002,0.23650000000000002,0.20946844660194175,0.24818932038834954,0.23650000000000002,0.17419174757281555,0.23650000000000002,0.23650000000000002,0.18682038834951456,0.22314077669902915,0.23650000000000002,0.11187205856738087,0.24850242718446602,0.27240291262135924,0.19130825242718447,0.23650000000000002,197]
[null,"Male 35-39",0.23560145631067961,8.2883106446046226E-2,0.20011875551632835,0.24056535745807597,0.20830000000000001,0.216665092674316,0.15342131509267434,0.20830000000000001,0.20830000000000001,0.21519430714916155,0.21519430714916155,0.23688839364518977,0.21197696381288617,0.17943583406884378,0.19938336275375113,0.12005286849073259,0.12299964796969613,0.17787312444836717,0.20830000000000001,0.1940517652250662,0.22806368049426304,0.22806368049426304,0.17787312444836717,0.2443342453662842,7.2763015048091947E-2,0.2184116504854369,0.2235593998234775,0.22080167696381289,0.22521403353927624,0.20830000000000001,8.6728385586553602E-2,0.19892374227714035,0.18485935569285086,0.20830000000000001,0.22484633715798769,0.26492524271844664,0.20122184466019419,0.20830000000000001,0.20830000000000001,0.18449165931156222,0.21859549867608122,0.20830000000000001,0.15342131509267434,0.20830000000000001,0.20830000000000001,0.16454413062665491,0.19653371579876436,0.20830000000000001,9.8532557292116019E-2,0.21887127096204764,0.23992188879082083,0.16849686672550751,0.20830000000000001,198]
[null,"Male 40-44",0.23560145631067961,8.2883106446046226E-2,0.20011875551632835,0.24056535745807597,0.20830000000000001,0.216665092674316,0.15342131509267434,0.20830000000000001,0.20830000000000001,0.21519430714916155,0.21519430714916155,0.23688839364518977,0.21197696381288617,0.17943583406884378,0.19938336275375113,0.12005286849073259,0.12299964796969613,0.17787312444836717,0.20830000000000001,0.1940517652250662,0.22806368049426304,0.22806368049426304,0.17787312444836717,0.2443342453662842,7.2763015048091947E-2,0.2184116504854369,0.2235593998234775,0.22080167696381289,0.22521403353927624,0.20830000000000001,8.6728385586553602E-2,0.19892374227714035,0.18485935569285086,0.20830000000000001,0.22484633715798769,0.26492524271844664,0.20122184466019419,0.20830000000000001,0.20830000000000001,0.18449165931156222,0.21859549867608122,0.20830000000000001,0.15342131509267434,0.20830000000000001,0.20830000000000001,0.16454413062665491,0.19653371579876436,0.20830000000000001,9.8532557292116019E-2,0.21887127096204764,0.23992188879082083,0.16849686672550751,0.20830000000000001,199]
[null,"Male 45-49",0.23401796116504853,8.2326042840551922E-2,0.19877374227714034,0.23894849955869377,0.2069,0.21520887025595764,0.15239015887025598,0.2069,0.2069,0.2137479699911739,0.2137479699911739,0.23529624889673434,0.2105522506619594,0.17822983230361872,0.19804329214474845,0.11924598411297441,0.122172958064955,0.17667762577228596,0.2069,0.19274752868490733,0.22653084730803177,0.22653084730803177,0.17667762577228596,0.2426920564872021,7.2273969339655422E-2,0.21694368932038835,0.22205684024713149,0.21931765225066194,0.22370035304501323,0.2069,8.6145477570129317E-2,0.19758676081200355,0.18361690203000883,0.2069,0.22333512797881733,0.26314466019417476,0.19986941747572817,0.2069,0.2069,0.18325167696381289,0.21712630185348633,0.2069,0.15239015887025598,0.2069,0.2069,0.16343821712268314,0.19521279788172993,0.2069,9.7870312547953919E-2,0.21740022065313325,0.23830935569285083,0.16736438658428951,0.2069,200]
[null,"Male 50-54",0.23401796116504853,8.2326042840551922E-2,0.19877374227714034,0.23894849955869377,0.2069,0.21520887025595764,0.15239015887025598,0.2069,0.2069,0.2137479699911739,0.2137479699911739,0.23529624889673434,0.2105522506619594,0.17822983230361872,0.19804329214474845,0.11924598411297441,0.122172958064955,0.17667762577228596,0.2069,0.19274752868490733,0.22653084730803177,0.22653084730803177,0.17667762577228596,0.2426920564872021,7.2273969339655422E-2,0.21694368932038835,0.22205684024713149,0.21931765225066194,0.22370035304501323,0.2069,8.6145477570129317E-2,0.19758676081200355,0.18361690203000883,0.2069,0.22333512797881733,0.26314466019417476,0.19986941747572817,0.2069,0.2069,0.18325167696381289,0.21712630185348633,0.2069,0.15239015887025598,0.2069,0.2069,0.16343821712268314,0.19521279788172993,0.2069,9.7870312547953919E-2,0.21740022065313325,0.23830935569285083,0.16736438658428951,0.2069,201]
[null,"Male 55-59",0.16898155339805826,5.9446644757749911E-2,0.14353212709620478,0.17254183583406887,0.14940000000000001,0.15539973521624009,0.11003909973521625,0.14940000000000001,0.14940000000000001,0.15434483671668139,0.15434483671668139,0.1699045895851721,0.15203724624889675,0.12869761694616064,0.14300467784642543,8.6106090026478385E-2,8.8219622691659144E-2,0.12757678729037952,0.14940000000000001,0.13918067078552515,0.16357519858781996,0.16357519858781996,0.12757678729037952,0.17524501323918801,5.2188163457440886E-2,0.15665242718446601,0.16034457193292143,0.15836663724624889,0.16153133274492498,0.14940000000000001,6.2204612609846888E-2,0.14267502206531335,0.13258755516328333,0.14940000000000001,0.16126760812003532,0.19001359223300973,0.14432330097087379,0.14940000000000001,0.14940000000000001,0.13232383053839364,0.15678428949691087,0.14940000000000001,0.11003909973521625,0.14940000000000001,0.14940000000000001,0.11801676963812886,0.14096081200353044,0.14940000000000001,7.0670974841296835E-2,0.15698208296557811,0.17208031774051191,0.12085180935569285,0.14940000000000001,202]
[null,"Male 60-64",0.16898155339805826,5.9446644757749911E-2,0.14353212709620478,0.17254183583406887,0.14940000000000001,0.15539973521624009,0.11003909973521625,0.14940000000000001,0.14940000000000001,0.15434483671668139,0.15434483671668139,0.1699045895851721,0.15203724624889675,0.12869761694616064,0.14300467784642543,8.6106090026478385E-2,8.8219622691659144E-2,0.12757678729037952,0.14940000000000001,0.13918067078552515,0.16357519858781996,0.16357519858781996,0.12757678729037952,0.17524501323918801,5.2188163457440886E-2,0.15665242718446601,0.16034457193292143,0.15836663724624889,0.16153133274492498,0.14940000000000001,6.2204612609846888E-2,0.14267502206531335,0.13258755516328333,0.14940000000000001,0.16126760812003532,0.19001359223300973,0.14432330097087379,0.14940000000000001,0.14940000000000001,0.13232383053839364,0.15678428949691087,0.14940000000000001,0.11003909973521625,0.14940000000000001,0.14940000000000001,0.11801676963812886,0.14096081200353044,0.14940000000000001,7.0670974841296835E-2,0.15698208296557811,0.17208031774051191,0.12085180935569285,0.14940000000000001,203]
[null,"Male 65-69",{"$f":"$AR206*C$254","v":0.12803689320388351},4.5042571529968475E-2,0.10875392762577231,0.13073451015004417,0.11320000000000001,0.11774598411297442,8.337634598411299E-2,0.11320000000000001,0.11320000000000001,0.1169466902030009,{"$f":"$AR206*M$254","v":0.1169466902030009},0.12873627537511034,0.11519823477493381,9.7513857016769651E-2,0.10835428067078554,6.5242365401588717E-2,6.6843783726210276E-2,9.6664607237422775E-2,0.11320000000000001,0.10545684024713152,{"$f":"$AR206*W$254","v":0.12394051191526921},0.12394051191526921,9.6664607237422775E-2,0.13278270079435128,3.9542838710724962E-2,0.11869514563106796,0.12149267431597528,0.11999399823477494,0.1223918799646955,0.11320000000000001,{"$f":"$AR206*AG$254","v":4.7132276756590819E-2},0.10810450132391881,0.10046125330979701,0.11320000000000001,0.12219205648720215,0.14397281553398061,0.10935339805825244,0.11320000000000001,0.11320000000000001,0.10026142983230363,0.11879505736981467,0.11320000000000001,{"$f":"$AR206*AS$254","v":8.337634598411299E-2},0.11320000000000001,0.11320000000000001,8.9421006178287729E-2,0.10680564872021184,0.11320000000000001,5.3547217885105775E-2,0.11894492497793469,0.13038481906443072,9.1569108561341581E-2,0.11320000000000001,204]
[null,"Male 70-74",0.12803689320388351,4.5042571529968475E-2,0.10875392762577231,0.13073451015004417,0.11320000000000001,0.11774598411297442,8.337634598411299E-2,0.11320000000000001,0.11320000000000001,0.1169466902030009,0.1169466902030009,0.12873627537511034,0.11519823477493381,9.7513857016769651E-2,0.10835428067078554,6.5242365401588717E-2,6.6843783726210276E-2,9.6664607237422775E-2,0.11320000000000001,0.10545684024713152,0.12394051191526921,0.12394051191526921,9.6664607237422775E-2,0.13278270079435128,3.9542838710724962E-2,0.11869514563106796,0.12149267431597528,0.11999399823477494,0.1223918799646955,0.11320000000000001,4.7132276756590819E-2,0.10810450132391881,0.10046125330979701,0.11320000000000001,0.12219205648720215,0.14397281553398061,0.10935339805825244,0.11320000000000001,0.11320000000000001,0.10026142983230363,0.11879505736981467,0.11320000000000001,8.337634598411299E-2,0.11320000000000001,0.11320000000000001,8.9421006178287729E-2,0.10680564872021184,0.11320000000000001,5.3547217885105775E-2,0.11894492497793469,0.13038481906443072,9.1569108561341581E-2,0.11320000000000001,205]
[null,"Male 75-79",4.6034466019417471E-2,1.619463481687029E-2,3.9101456310679614E-2,4.7004368932038847E-2,4.07E-2,4.2334466019417476E-2,2.9977184466019421E-2,4.07E-2,4.07E-2,4.2047087378640782E-2,4.2047087378640782E-2,4.6285922330097089E-2,4.1418446601941751E-2,3.5060194174757281E-2,3.8957766990291263E-2,2.345728155339806E-2,2.403305651640246E-2,3.4754854368932039E-2,4.07E-2,3.791601941747573E-2,4.4561650485436893E-2,4.4561650485436893E-2,3.4754854368932039E-2,4.7740776699029125E-2,1.4217257380976199E-2,4.2675728155339807E-2,4.3681553398058251E-2,4.3142718446601939E-2,4.4004854368932034E-2,4.07E-2,1.6945968763191221E-2,3.8867961165048551E-2,3.6119902912621363E-2,4.07E-2,4.3933009708737869E-2,5.1764077669902916E-2,3.9316990291262136E-2,4.07E-2,4.07E-2,3.6048058252427184E-2,4.2711650485436896E-2,4.07E-2,2.9977184466019421E-2,4.07E-2,4.07E-2,3.2150485436893202E-2,3.8400970873786411E-2,4.07E-2,1.9252400776712059E-2,4.2765533980582519E-2,4.6878640776699031E-2,3.2922815533980583E-2,4.07E-2,206]
[null,"Male 80-84",4.6034466019417471E-2,1.619463481687029E-2,3.9101456310679614E-2,4.7004368932038847E-2,4.07E-2,4.2334466019417476E-2,2.9977184466019421E-2,4.07E-2,4.07E-2,4.2047087378640782E-2,4.2047087378640782E-2,4.6285922330097089E-2,4.1418446601941751E-2,3.5060194174757281E-2,3.8957766990291263E-2,2.345728155339806E-2,2.403305651640246E-2,3.4754854368932039E-2,4.07E-2,3.791601941747573E-2,4.4561650485436893E-2,4.4561650485436893E-2,3.4754854368932039E-2,4.7740776699029125E-2,1.4217257380976199E-2,4.2675728155339807E-2,4.3681553398058251E-2,4.3142718446601939E-2,4.4004854368932034E-2,4.07E-2,1.6945968763191221E-2,3.8867961165048551E-2,3.6119902912621363E-2,4.07E-2,4.3933009708737869E-2,5.1764077669902916E-2,3.9316990291262136E-2,4.07E-2,4.07E-2,3.6048058252427184E-2,4.2711650485436896E-2,4.07E-2,2.9977184466019421E-2,4.07E-2,4.07E-2,3.2150485436893202E-2,3.8400970873786411E-2,4.07E-2,1.9252400776712059E-2,4.2765533980582519E-2,4.6878640776699031E-2,3.2922815533980583E-2,4.07E-2,207]
[null,"Male 85-89",4.6034466019417471E-2,1.619463481687029E-2,3.9101456310679614E-2,4.7004368932038847E-2,4.07E-2,4.2334466019417476E-2,2.9977184466019421E-2,4.07E-2,4.07E-2,4.2047087378640782E-2,4.2047087378640782E-2,4.6285922330097089E-2,4.1418446601941751E-2,3.5060194174757281E-2,3.8957766990291263E-2,2.345728155339806E-2,2.403305651640246E-2,3.4754854368932039E-2,4.07E-2,3.791601941747573E-2,4.4561650485436893E-2,4.4561650485436893E-2,3.4754854368932039E-2,4.7740776699029125E-2,1.4217257380976199E-2,4.2675728155339807E-2,4.3681553398058251E-2,4.3142718446601939E-2,4.4004854368932034E-2,4.07E-2,1.6945968763191221E-2,3.8867961165048551E-2,3.6119902912621363E-2,4.07E-2,4.3933009708737869E-2,5.1764077669902916E-2,3.9316990291262136E-2,4.07E-2,4.07E-2,3.6048058252427184E-2,4.2711650485436896E-2,4.07E-2,2.9977184466019421E-2,4.07E-2,4.07E-2,3.2150485436893202E-2,3.8400970873786411E-2,4.07E-2,1.9252400776712059E-2,4.2765533980582519E-2,4.6878640776699031E-2,3.2922815533980583E-2,4.07E-2,208]
[null,"Male 90+",4.6034466019417471E-2,1.619463481687029E-2,3.9101456310679614E-2,4.7004368932038847E-2,4.07E-2,4.2334466019417476E-2,2.9977184466019421E-2,4.07E-2,4.07E-2,4.2047087378640782E-2,4.2047087378640782E-2,4.6285922330097089E-2,4.1418446601941751E-2,3.5060194174757281E-2,3.8957766990291263E-2,2.345728155339806E-2,2.403305651640246E-2,3.4754854368932039E-2,4.07E-2,3.791601941747573E-2,4.4561650485436893E-2,4.4561650485436893E-2,3.4754854368932039E-2,4.7740776699029125E-2,1.4217257380976199E-2,4.2675728155339807E-2,4.3681553398058251E-2,4.3142718446601939E-2,4.4004854368932034E-2,4.07E-2,1.6945968763191221E-2,3.8867961165048551E-2,3.6119902912621363E-2,4.07E-2,4.3933009708737869E-2,5.1764077669902916E-2,3.9316990291262136E-2,4.07E-2,4.07E-2,3.6048058252427184E-2,4.2711650485436896E-2,4.07E-2,2.9977184466019421E-2,4.07E-2,4.07E-2,3.2150485436893202E-2,3.8400970873786411E-2,4.07E-2,1.9252400776712059E-2,4.2765533980582519E-2,4.6878640776699031E-2,3.2922815533980583E-2,4.07E-2,209]
["SIMD Q5 (least deprived)","Female 0-4",null,null,null,null,null,null,null,null,null,null,null,null,null,null,null,null,null,null,null,null,null,null,null,null,null,null,null,null,null,null,null,null,null,null,null,null,null,null,null,null,null,null,null,null,null,null,null,null,null,null,null,null,null,210]
[null,"Female 5-9",null,null,null,null,null,null,null,null,null,null,null,null,null,null,null,null,null,null,null,null,null,null,null,null,null,null,null,null,null,null,null,null,null,null,null,null,null,null,null,null,null,null,null,null,null,null,null,null,null,null,null,null,null,211]
[null,"Female 10-15",null,null,null,null,null,null,null,null,null,null,null,null,null,null,null,null,null,null,null,null,null,null,null,null,null,null,null,null,null,null,null,null,null,null,null,null,null,null,null,null,null,null,null,null,null,null,null,null,null,null,null,null,null,212]
[null,"Female 16-19",{"$f":"$AR215*C$253","v":8.711053191489361E-2},4.7144640039485333E-2,7.3986436170212777E-2,5.1398351063829784E-2,9.8299999999999998E-2,9.9398031914893631E-2,0.10044377659574469,9.8299999999999998E-2,9.8299999999999998E-2,0.11691425531914892,{"$f":"$AR215*M$253","v":0.11691425531914892},0.12773771276595744,0.10033920212765958,7.4509308510638292E-2,0.11069207446808513,4.2614095744680849E-2,6.9963281748971609E-2,7.4666170212765948E-2,9.8299999999999998E-2,6.525446808510639E-2,{"$f":"$AR215*W$253","v":0.10133265957446808},0.10133265957446808,7.2417819148936163E-2,0.11926718085106383,4.1388243029512911E-2,8.6796808510638299E-2,0.10980319148936168,9.3437287234042543E-2,9.2339255319148938E-2,9.8299999999999998E-2,{"$f":"$AR215*AG$253","v":4.9331868640148012E-2},0.11461361702127661,8.9358882978723395E-2,9.8299999999999998E-2,0.12041750000000001,9.6051648936170214E-2,0.13521478723404254,9.8299999999999998E-2,9.8299999999999998E-2,7.6914521276595746E-2,0.11367244680851063,9.8299999999999998E-2,{"$f":"$AR215*AS$253","v":0.10044377659574469},9.8299999999999998E-2,9.8299999999999998E-2,0.10237840425531913,9.2966702127659576E-2,9.8299999999999998E-2,5.6046185343338675E-2,8.8156276595744681E-2,0.13108409574468086,0.10582936170212764,9.8299999999999998E-2,213]
[null,"Female 20-24",8.711053191489361E-2,4.7144640039485333E-2,7.3986436170212777E-2,5.1398351063829784E-2,9.8299999999999998E-2,9.9398031914893631E-2,0.10044377659574469,9.8299999999999998E-2,9.8299999999999998E-2,0.11691425531914892,0.11691425531914892,0.12773771276595744,0.10033920212765958,7.4509308510638292E-2,0.11069207446808513,4.2614095744680849E-2,6.9963281748971609E-2,7.4666170212765948E-2,9.8299999999999998E-2,6.525446808510639E-2,0.10133265957446808,0.10133265957446808,7.2417819148936163E-2,0.11926718085106383,4.1388243029512911E-2,8.6796808510638299E-2,0.10980319148936168,9.3437287234042543E-2,9.2339255319148938E-2,9.8299999999999998E-2,4.9331868640148012E-2,0.11461361702127661,8.9358882978723395E-2,9.8299999999999998E-2,0.12041750000000001,9.6051648936170214E-2,0.13521478723404254,9.8299999999999998E-2,9.8299999999999998E-2,7.6914521276595746E-2,0.11367244680851063,9.8299999999999998E-2,0.10044377659574469,9.8299999999999998E-2,9.8299999999999998E-2,0.10237840425531913,9.2966702127659576E-2,9.8299999999999998E-2,5.6046185343338675E-2,8.8156276595744681E-2,0.13108409574468086,0.10582936170212764,9.8299999999999998E-2,214]
[null,"Female 25-29",8.8882872340425523E-2,4.8103839226453504E-2,7.5491755319148937E-2,5.2444095744680848E-2,0.1003,0.10142037234042556,0.10248739361702128,0.1003,0.1003,0.11929297872340425,0.11929297872340425,0.1303366489361702,0.1023806914893617,7.6025265957446797E-2,0.1129442021276596,4.3481117021276598E-2,7.138674628099545E-2,7.618531914893617E-2,0.1003,6.6582127659574469E-2,0.10339436170212765,0.10339436170212765,7.3891223404255316E-2,0.12169377659574468,4.223032325391806E-2,8.8562765957446804E-2,0.11203723404255318,9.533835106382979E-2,9.4217978723404261E-2,0.1003,5.0335568917668827E-2,0.11694553191489362,9.1176968085106377E-2,0.1003,0.1228675,9.800590425531916E-2,0.13796585106382978,0.1003,0.1003,7.8479414893617025E-2,0.11598521276595743,0.1003,0.10248739361702128,0.1003,0.1003,0.10446138297872339,9.4858191489361712E-2,0.1003,5.7186494302511388E-2,8.9949893617021284E-2,0.13375111702127659,0.10798255319148935,0.1003,215]
[null,"Female 30-34",8.8882872340425523E-2,4.8103839226453504E-2,7.5491755319148937E-2,5.2444095744680848E-2,0.1003,0.10142037234042556,0.10248739361702128,0.1003,0.1003,0.11929297872340425,0.11929297872340425,0.1303366489361702,0.1023806914893617,7.6025265957446797E-2,0.1129442021276596,4.3481117021276598E-2,7.138674628099545E-2,7.618531914893617E-2,0.1003,6.6582127659574469E-2,0.10339436170212765,0.10339436170212765,7.3891223404255316E-2,0.12169377659574468,4.223032325391806E-2,8.8562765957446804E-2,0.11203723404255318,9.533835106382979E-2,9.4217978723404261E-2,0.1003,5.0335568917668827E-2,0.11694553191489362,9.1176968085106377E-2,0.1003,0.1228675,9.800590425531916E-2,0.13796585106382978,0.1003,0.1003,7.8479414893617025E-2,0.11598521276595743,0.1003,0.10248739361702128,0.1003,0.1003,0.10446138297872339,9.4858191489361712E-2,0.1003,5.7186494302511388E-2,8.9949893617021284E-2,0.13375111702127659,0.10798255319148935,0.1003,216]
[null,"Female 35-39",8.1704893617021282E-2,4.4219082519232435E-2,6.9395212765957462E-2,4.8208829787234043E-2,9.2200000000000004E-2,9.3229893617021303E-2,9.4210744680851069E-2,9.2200000000000004E-2,9.2200000000000004E-2,0.10965914893617021,0.10965914893617021,0.1198109574468085,9.4112659574468085E-2,6.9885638297872338E-2,0.10382308510638301,3.9969680851063831E-2,6.562171492629891E-2,7.0032765957446799E-2,9.2200000000000004E-2,6.1205106382978734E-2,9.5044468085106387E-2,9.5044468085106387E-2,6.7923936170212765E-2,0.11186606382978724,3.8819898345077222E-2,8.1410638297872345E-2,0.10298936170212765,8.7639042553191493E-2,8.6609148936170222E-2,9.2200000000000004E-2,4.6270582793709533E-2,0.1075012765957447,8.3813723404255316E-2,9.2200000000000004E-2,0.11294500000000002,9.009117021276597E-2,0.12682404255319149,9.2200000000000004E-2,9.2200000000000004E-2,7.2141595744680861E-2,0.10661851063829786,9.2200000000000004E-2,9.4210744680851069E-2,9.2200000000000004E-2,9.2200000000000004E-2,9.6025319148936153E-2,8.7197659574468095E-2,9.2200000000000004E-2,5.2568243017861914E-2,8.2685744680851075E-2,0.12294968085106384,9.9262127659574456E-2,9.2200000000000004E-2,217]
[null,"Female 40-44",8.1704893617021282E-2,4.4219082519232435E-2,6.9395212765957462E-2,4.8208829787234043E-2,9.2200000000000004E-2,9.3229893617021303E-2,9.4210744680851069E-2,9.2200000000000004E-2,9.2200000000000004E-2,0.10965914893617021,0.10965914893617021,0.1198109574468085,9.4112659574468085E-2,6.9885638297872338E-2,0.10382308510638301,3.9969680851063831E-2,6.562171492629891E-2,7.0032765957446799E-2,9.2200000000000004E-2,6.1205106382978734E-2,9.5044468085106387E-2,9.5044468085106387E-2,6.7923936170212765E-2,0.11186606382978724,3.8819898345077222E-2,8.1410638297872345E-2,0.10298936170212765,8.7639042553191493E-2,8.6609148936170222E-2,9.2200000000000004E-2,4.6270582793709533E-2,0.1075012765957447,8.3813723404255316E-2,9.2200000000000004E-2,0.11294500000000002,9.009117021276597E-2,0.12682404255319149,9.2200000000000004E-2,9.2200000000000004E-2,7.2141595744680861E-2,0.10661851063829786,9.2200000000000004E-2,9.4210744680851069E-2,9.2200000000000004E-2,9.2200000000000004E-2,9.6025319148936153E-2,8.7197659574468095E-2,9.2200000000000004E-2,5.2568243017861914E-2,8.2685744680851075E-2,0.12294968085106384,9.9262127659574456E-2,9.2200000000000004E-2,218]
[null,"Female 45-49",8.8439787234042555E-2,4.7864039429711458E-2,7.5115425531914901E-2,5.2182659574468084E-2,9.98E-2,0.10091478723404257,0.10197648936170213,9.98E-2,9.98E-2,0.11869829787234042,0.11869829787234042,0.129686914893617,0.10187031914893617,7.5646276595744674E-2,0.11238117021276599,4.3264361702127663E-2,7.1030880147989486E-2,7.5805531914893615E-2,9.98E-2,6.6250212765957453E-2,0.10287893617021276,0.10287893617021276,7.3522872340425524E-2,0.12108712765957447,4.2019803197816771E-2,8.8121276595744674E-2,0.11147872340425531,9.4863085106382972E-2,9.374829787234043E-2,9.98E-2,5.0084643848288625E-2,0.11636255319148937,9.0722446808510632E-2,9.98E-2,0.122255,9.7517340425531923E-2,0.13727808510638298,9.98E-2,9.98E-2,7.8088191489361705E-2,0.11540702127659573,9.98E-2,0.10197648936170213,9.98E-2,9.98E-2,0.10394063829787233,9.4385319148936178E-2,9.98E-2,5.6901417062718208E-2,8.950148936170213E-2,0.13308436170212765,0.10744425531914892,9.98E-2,219]
[null,"Female 50-54",8.8439787234042555E-2,4.7864039429711458E-2,7.5115425531914901E-2,5.2182659574468084E-2,9.98E-2,0.10091478723404257,0.10197648936170213,9.98E-2,9.98E-2,0.11869829787234042,0.11869829787234042,0.129686914893617,0.10187031914893617,7.5646276595744674E-2,0.11238117021276599,4.3264361702127663E-2,7.1030880147989486E-2,7.5805531914893615E-2,9.98E-2,6.6250212765957453E-2,0.10287893617021276,0.10287893617021276,7.3522872340425524E-2,0.12108712765957447,4.2019803197816771E-2,8.8121276595744674E-2,0.11147872340425531,9.4863085106382972E-2,9.374829787234043E-2,9.98E-2,5.0084643848288625E-2,0.11636255319148937,9.0722446808510632E-2,9.98E-2,0.122255,9.7517340425531923E-2,0.13727808510638298,9.98E-2,9.98E-2,7.8088191489361705E-2,0.11540702127659573,9.98E-2,0.10197648936170213,9.98E-2,9.98E-2,0.10394063829787233,9.4385319148936178E-2,9.98E-2,5.6901417062718208E-2,8.950148936170213E-2,0.13308436170212765,0.10744425531914892,9.98E-2,220]
[null,"Female 55-59",9.6060851063829791E-2,5.1988595933674574E-2,8.158829787234044E-2,5.6679361702127659E-2,0.10840000000000001,0.10961085106382983,0.1107640425531915,0.10840000000000001,0.10840000000000001,0.12892680851063829,0.12892680851063829,0.14086234042553192,0.11064872340425533,8.216489361702127E-2,0.1220653191489362,4.6992553191489365E-2,7.7151777635692004E-2,8.2337872340425527E-2,0.10840000000000001,7.1959148936170225E-2,0.11174425531914894,0.11174425531914894,7.985851063829788E-2,0.13152148936170213,4.5640748162758905E-2,9.5714893617021291E-2,0.12108510638297873,0.10303765957446809,0.1018268085106383,0.10840000000000001,5.4400555041628135E-2,0.12638978723404257,9.8540212765957452E-2,0.10840000000000001,0.13279000000000002,0.10592063829787235,0.14910765957446809,0.10840000000000001,0.10840000000000001,8.4817234042553202E-2,0.12535191489361702,0.10840000000000001,0.1107640425531915,0.10840000000000001,0.10840000000000001,0.11289744680851063,0.10251872340425533,0.10840000000000001,6.1804745587160863E-2,9.7214042553191507E-2,0.14455255319148938,0.11670297872340425,0.10840000000000001,221]
[null,"Female 60-64",9.6060851063829791E-2,5.1988595933674574E-2,8.158829787234044E-2,5.6679361702127659E-2,0.10840000000000001,0.10961085106382983,0.1107640425531915,0.10840000000000001,0.10840000000000001,0.12892680851063829,0.12892680851063829,0.14086234042553192,0.11064872340425533,8.216489361702127E-2,0.1220653191489362,4.6992553191489365E-2,7.7151777635692004E-2,8.2337872340425527E-2,0.10840000000000001,7.1959148936170225E-2,0.11174425531914894,0.11174425531914894,7.985851063829788E-2,0.13152148936170213,4.5640748162758905E-2,9.5714893617021291E-2,0.12108510638297873,0.10303765957446809,0.1018268085106383,0.10840000000000001,5.4400555041628135E-2,0.12638978723404257,9.8540212765957452E-2,0.10840000000000001,0.13279000000000002,0.10592063829787235,0.14910765957446809,0.10840000000000001,0.10840000000000001,8.4817234042553202E-2,0.12535191489361702,0.10840000000000001,0.1107640425531915,0.10840000000000001,0.10840000000000001,0.11289744680851063,0.10251872340425533,0.10840000000000001,6.1804745587160863E-2,9.7214042553191507E-2,0.14455255319148938,0.11670297872340425,0.10840000000000001,222]
[null,"Female 65-69",{"$f":"$AR225*C$253","v":6.4335957446808506E-2},3.4818930486944406E-2,5.464308510638298E-2,3.7960531914893611E-2,7.2599999999999998E-2,7.341095744680852E-2,7.4183297872340431E-2,7.2599999999999998E-2,7.2599999999999998E-2,8.6347659574468077E-2,{"$f":"$AR225*M$253","v":8.6347659574468077E-2},9.4341382978723395E-2,7.4106063829787239E-2,5.5029255319148929E-2,8.1752234042553204E-2,3.1472872340425534E-2,5.1671762512465302E-2,5.5145106382978717E-2,7.2599999999999998E-2,4.8194042553191492E-2,{"$f":"$AR225*W$253","v":7.4839787234042554E-2},7.4839787234042554E-2,5.3484574468085105E-2,8.8085425531914896E-2,3.0567512145906788E-2,6.4104255319148928E-2,8.1095744680851053E-2,6.9008617021276586E-2,6.8197659574468078E-2,7.2599999999999998E-2,{"$f":"$AR225*AG$253","v":3.6434320074005551E-2},8.4648510638297883E-2,6.5996489361702118E-2,7.2599999999999998E-2,8.8935E-2,7.0939468085106386E-2,9.9863617021276579E-2,7.2599999999999998E-2,7.2599999999999998E-2,5.6805638297872336E-2,8.3953404255319136E-2,7.2599999999999998E-2,{"$f":"$AR225*AS$253","v":7.4183297872340431E-2},7.2599999999999998E-2,7.2599999999999998E-2,7.5612127659574452E-2,6.8661063829787233E-2,7.2599999999999998E-2,4.1393215217969355E-2,6.5108297872340432E-2,9.6812872340425529E-2,7.8160851063829778E-2,7.2599999999999998E-2,223]
[null,"Female 70-74",6.4335957446808506E-2,3.4818930486944406E-2,5.464308510638298E-2,3.7960531914893611E-2,7.2599999999999998E-2,7.341095744680852E-2,7.4183297872340431E-2,7.2599999999999998E-2,7.2599999999999998E-2,8.6347659574468077E-2,8.6347659574468077E-2,9.4341382978723395E-2,7.4106063829787239E-2,5.5029255319148929E-2,8.1752234042553204E-2,3.1472872340425534E-2,5.1671762512465302E-2,5.5145106382978717E-2,7.2599999999999998E-2,4.8194042553191492E-2,7.4839787234042554E-2,7.4839787234042554E-2,5.3484574468085105E-2,8.8085425531914896E-2,3.0567512145906788E-2,6.4104255319148928E-2,8.1095744680851053E-2,6.9008617021276586E-2,6.8197659574468078E-2,7.2599999999999998E-2,3.6434320074005551E-2,8.4648510638297883E-2,6.5996489361702118E-2,7.2599999999999998E-2,8.8935E-2,7.0939468085106386E-2,9.9863617021276579E-2,7.2599999999999998E-2,7.2599999999999998E-2,5.6805638297872336E-2,8.3953404255319136E-2,7.2599999999999998E-2,7.4183297872340431E-2,7.2599999999999998E-2,7.2599999999999998E-2,7.5612127659574452E-2,6.8661063829787233E-2,7.2599999999999998E-2,4.1393215217969355E-2,6.5108297872340432E-2,9.6812872340425529E-2,7.8160851063829778E-2,7.2599999999999998E-2,224]
[null,"Female 75-79",4.4840212765957448E-2,2.4267739430294588E-2,3.8084574468085108E-2,2.6457340425531911E-2,5.0599999999999999E-2,5.1165212765957459E-2,5.1703510638297874E-2,5.0599999999999999E-2,5.0599999999999999E-2,6.0181702127659567E-2,6.0181702127659567E-2,6.5753085106382975E-2,5.1649680851063827E-2,3.8353723404255316E-2,5.6978829787234057E-2,2.1935638297872342E-2,3.6013652660203087E-2,3.843446808510638E-2,5.0599999999999999E-2,3.3589787234042559E-2,5.2161063829787233E-2,5.2161063829787233E-2,3.7277127659574465E-2,6.1392872340425529E-2,2.1304629677450188E-2,4.467872340425532E-2,5.6521276595744671E-2,4.8096914893617018E-2,4.7531702127659572E-2,5.0599999999999999E-2,2.5393617021276599E-2,5.8997446808510642E-2,4.5997553191489356E-2,5.0599999999999999E-2,6.1985000000000005E-2,4.9442659574468084E-2,6.9601914893617015E-2,5.0599999999999999E-2,5.0599999999999999E-2,3.9591808510638295E-2,5.8512978723404246E-2,5.0599999999999999E-2,5.1703510638297874E-2,5.0599999999999999E-2,5.0599999999999999E-2,5.2699361702127648E-2,4.7854680851063834E-2,5.0599999999999999E-2,2.8849816667069553E-2,4.5378510638297877E-2,6.7475638297872342E-2,5.4475744680851056E-2,5.0599999999999999E-2,225]
[null,"Female 80-84",4.4840212765957448E-2,2.4267739430294588E-2,3.8084574468085108E-2,2.6457340425531911E-2,5.0599999999999999E-2,5.1165212765957459E-2,5.1703510638297874E-2,5.0599999999999999E-2,5.0599999999999999E-2,6.0181702127659567E-2,6.0181702127659567E-2,6.5753085106382975E-2,5.1649680851063827E-2,3.8353723404255316E-2,5.6978829787234057E-2,2.1935638297872342E-2,3.6013652660203087E-2,3.843446808510638E-2,5.0599999999999999E-2,3.3589787234042559E-2,5.2161063829787233E-2,5.2161063829787233E-2,3.7277127659574465E-2,6.1392872340425529E-2,2.1304629677450188E-2,4.467872340425532E-2,5.6521276595744671E-2,4.8096914893617018E-2,4.7531702127659572E-2,5.0599999999999999E-2,2.5393617021276599E-2,5.8997446808510642E-2,4.5997553191489356E-2,5.0599999999999999E-2,6.1985000000000005E-2,4.9442659574468084E-2,6.9601914893617015E-2,5.0599999999999999E-2,5.0599999999999999E-2,3.9591808510638295E-2,5.8512978723404246E-2,5.0599999999999999E-2,5.1703510638297874E-2,5.0599999999999999E-2,5.0599999999999999E-2,5.2699361702127648E-2,4.7854680851063834E-2,5.0599999999999999E-2,2.8849816667069553E-2,4.5378510638297877E-2,6.7475638297872342E-2,5.4475744680851056E-2,5.0599999999999999E-2,226]
[null,"Female 85-89",4.4840212765957448E-2,2.4267739430294588E-2,3.8084574468085108E-2,2.6457340425531911E-2,5.0599999999999999E-2,5.1165212765957459E-2,5.1703510638297874E-2,5.0599999999999999E-2,5.0599999999999999E-2,6.0181702127659567E-2,6.0181702127659567E-2,6.5753085106382975E-2,5.1649680851063827E-2,3.8353723404255316E-2,5.6978829787234057E-2,2.1935638297872342E-2,3.6013652660203087E-2,3.843446808510638E-2,5.0599999999999999E-2,3.3589787234042559E-2,5.2161063829787233E-2,5.2161063829787233E-2,3.7277127659574465E-2,6.1392872340425529E-2,2.1304629677450188E-2,4.467872340425532E-2,5.6521276595744671E-2,4.8096914893617018E-2,4.7531702127659572E-2,5.0599999999999999E-2,2.5393617021276599E-2,5.8997446808510642E-2,4.5997553191489356E-2,5.0599999999999999E-2,6.1985000000000005E-2,4.9442659574468084E-2,6.9601914893617015E-2,5.0599999999999999E-2,5.0599999999999999E-2,3.9591808510638295E-2,5.8512978723404246E-2,5.0599999999999999E-2,5.1703510638297874E-2,5.0599999999999999E-2,5.0599999999999999E-2,5.2699361702127648E-2,4.7854680851063834E-2,5.0599999999999999E-2,2.8849816667069553E-2,4.5378510638297877E-2,6.7475638297872342E-2,5.4475744680851056E-2,5.0599999999999999E-2,227]
[null,"Female 90+",4.4840212765957448E-2,2.4267739430294588E-2,3.8084574468085108E-2,2.6457340425531911E-2,5.0599999999999999E-2,5.1165212765957459E-2,5.1703510638297874E-2,5.0599999999999999E-2,5.0599999999999999E-2,6.0181702127659567E-2,6.0181702127659567E-2,6.5753085106382975E-2,5.1649680851063827E-2,3.8353723404255316E-2,5.6978829787234057E-2,2.1935638297872342E-2,3.6013652660203087E-2,3.843446808510638E-2,5.0599999999999999E-2,3.3589787234042559E-2,5.2161063829787233E-2,5.2161063829787233E-2,3.7277127659574465E-2,6.1392872340425529E-2,2.1304629677450188E-2,4.467872340425532E-2,5.6521276595744671E-2,4.8096914893617018E-2,4.7531702127659572E-2,5.0599999999999999E-2,2.5393617021276599E-2,5.8997446808510642E-2,4.5997553191489356E-2,5.0599999999999999E-2,6.1985000000000005E-2,4.9442659574468084E-2,6.9601914893617015E-2,5.0599999999999999E-2,5.0599999999999999E-2,3.9591808510638295E-2,5.8512978723404246E-2,5.0599999999999999E-2,5.1703510638297874E-2,5.0599999999999999E-2,5.0599999999999999E-2,5.2699361702127648E-2,4.7854680851063834E-2,5.0599999999999999E-2,2.8849816667069553E-2,4.5378510638297877E-2,6.7475638297872342E-2,5.4475744680851056E-2,5.0599999999999999E-2,228]
[null,"Male 0-4",null,null,null,null,null,null,null,null,null,null,null,null,null,null,null,null,null,null,null,null,null,null,null,null,null,null,null,null,null,null,null,null,null,null,null,null,null,null,null,null,null,null,null,null,null,null,null,null,null,null,null,null,null,229]
[null,"Male 5-9",null,null,null,null,null,null,null,null,null,null,null,null,null,null,null,null,null,null,null,null,null,null,null,null,null,null,null,null,null,null,null,null,null,null,null,null,null,null,null,null,null,null,null,null,null,null,null,null,null,null,null,null,null,230]
[null,"Male 10-15",null,null,null,null,null,null,null,null,null,null,null,null,null,null,null,null,null,null,null,null,null,null,null,null,null,null,null,null,null,null,null,null,null,null,null,null,null,null,null,null,null,null,null,null,null,null,null,null,null,null,null,null,null,231]
[null,"Male 16-19",{"$f":"$AR234*C$254","v":0.15280728155339804},5.3756637930200891E-2,0.12979377758164168,0.15602678729037955,0.1351,0.14052546337157987,9.9506575463371591E-2,0.1351,0.1351,0.13957153574580761,{"$f":"$AR234*M$254","v":0.13957153574580761},0.15364196822594881,0.13748481906443072,0.11637917034421888,0.12931681376875551,7.7864342453662846E-2,7.9775575807517735E-2,0.11536562224183583,0.1351,0.12585882612533097,{"$f":"$AR234*W$254","v":0.1479184024713151},0.1479184024713151,0.11536562224183583,0.15847122683142101,4.7192910864124922E-2,0.14165825242718447,0.14499699911738745,0.14320838481906442,0.14607016769638129,0.1351,{"$f":"$AR234*AG$254","v":5.6250623584941865E-2},0.1290187113857017,0.1198967784642542,0.1351,0.14583168578993824,0.17182621359223302,0.13050922330097087,0.1351,0.1351,0.11965829655781111,0.14177749338040602,0.1351,{"$f":"$AR234*AS$254","v":9.9506575463371591E-2},0.1351,0.1351,0.10672065313327449,0.12746857899382172,0.1351,6.3906617811641253E-2,0.1419563548102383,0.15560944395410414,0.10928433362753751,0.1351,232]
[null,"Male 20-24",0.15280728155339804,5.3756637930200891E-2,0.12979377758164168,0.15602678729037955,0.1351,0.14052546337157987,9.9506575463371591E-2,0.1351,0.1351,0.13957153574580761,0.13957153574580761,0.15364196822594881,0.13748481906443072,0.11637917034421888,0.12931681376875551,7.7864342453662846E-2,7.9775575807517735E-2,0.11536562224183583,0.1351,0.12585882612533097,0.1479184024713151,0.1479184024713151,0.11536562224183583,0.15847122683142101,4.7192910864124922E-2,0.14165825242718447,0.14499699911738745,0.14320838481906442,0.14607016769638129,0.1351,5.6250623584941865E-2,0.1290187113857017,0.1198967784642542,0.1351,0.14583168578993824,0.17182621359223302,0.13050922330097087,0.1351,0.1351,0.11965829655781111,0.14177749338040602,0.1351,9.9506575463371591E-2,0.1351,0.1351,0.10672065313327449,0.12746857899382172,0.1351,6.3906617811641253E-2,0.1419563548102383,0.15560944395410414,0.10928433362753751,0.1351,233]
[null,"Male 25-29",0.21784368932038836,7.6636036013002909E-2,0.18503539276257727,0.22243345101500447,0.19260000000000002,0.20033459841129747,0.14185763459841133,0.19260000000000002,0.19260000000000002,0.19897466902030014,0.19897466902030014,0.21903362753751104,0.1959998234774934,0.16591138570167699,0.18435542806707858,0.1110042365401589,0.11372891118081362,0.1644664607237423,0.19260000000000002,0.17942568402471318,0.21087405119152694,0.21087405119152694,0.1644664607237423,0.22591827007943513,6.7278716746339465E-2,0.20194951456310681,0.20670926743159754,0.2041593998234775,0.20823918799646957,0.19260000000000002,8.0191488545224315E-2,0.18393045013239193,0.17092612533097973,0.19260000000000002,0.20789920564872028,0.2449572815533981,0.18605533980582525,0.19260000000000002,0.19260000000000002,0.17058614298323038,0.20211950573698151,0.19260000000000002,0.14185763459841133,0.19260000000000002,0.19260000000000002,0.15214210061782879,0.18172056487202121,0.19260000000000002,9.1105955518298351E-2,0.20237449249779346,0.22183848190644309,0.15579691085613417,0.19260000000000002,234]
[null,"Male 30-34",0.21784368932038836,7.6636036013002909E-2,0.18503539276257727,0.22243345101500447,0.19260000000000002,0.20033459841129747,0.14185763459841133,0.19260000000000002,0.19260000000000002,0.19897466902030014,0.19897466902030014,0.21903362753751104,0.1959998234774934,0.16591138570167699,0.18435542806707858,0.1110042365401589,0.11372891118081362,0.1644664607237423,0.19260000000000002,0.17942568402471318,0.21087405119152694,0.21087405119152694,0.1644664607237423,0.22591827007943513,6.7278716746339465E-2,0.20194951456310681,0.20670926743159754,0.2041593998234775,0.20823918799646957,0.19260000000000002,8.0191488545224315E-2,0.18393045013239193,0.17092612533097973,0.19260000000000002,0.20789920564872028,0.2449572815533981,0.18605533980582525,0.19260000000000002,0.19260000000000002,0.17058614298323038,0.20211950573698151,0.19260000000000002,0.14185763459841133,0.19260000000000002,0.19260000000000002,0.15214210061782879,0.18172056487202121,0.19260000000000002,9.1105955518298351E-2,0.20237449249779346,0.22183848190644309,0.15579691085613417,0.19260000000000002,235]
[null,"Male 35-39",0.14545533980582526,5.1170271190405889E-2,0.12354907325684028,0.14851994704324806,0.12860000000000002,0.13376443071491617,9.4719064430714942E-2,0.12860000000000002,0.12860000000000002,0.13285639894086498,0.13285639894086498,0.14624986760812006,0.13087007943512799,0.11077987643424538,0.12309505736981467,7.4118093556928527E-2,7.5937372678362564E-2,0.10981509267431599,0.12860000000000002,0.1198034421888791,0.14080167696381291,0.14080167696381291,0.10981509267431599,0.15084677846425421,4.4922341503526766E-2,0.13484271844660195,0.13802082965578111,0.13631827007943514,0.13904236540158871,0.12860000000000002,5.3544264937257773E-2,0.12281129744042368,0.11412824360105916,0.12860000000000002,0.13881535745807594,0.16355922330097092,0.12423009708737866,0.12860000000000002,0.12860000000000002,0.11390123565754635,0.13495622241835836,0.12860000000000002,9.4719064430714942E-2,0.12860000000000002,0.12860000000000002,0.10158605472197706,0.12133574580759049,0.12860000000000002,6.0831910070888721E-2,0.13512647837599295,0.14812268314210064,0.10402639011473964,0.12860000000000002,236]
[null,"Male 40-44",0.14545533980582526,5.1170271190405889E-2,0.12354907325684028,0.14851994704324806,0.12860000000000002,0.13376443071491617,9.4719064430714942E-2,0.12860000000000002,0.12860000000000002,0.13285639894086498,0.13285639894086498,0.14624986760812006,0.13087007943512799,0.11077987643424538,0.12309505736981467,7.4118093556928527E-2,7.5937372678362564E-2,0.10981509267431599,0.12860000000000002,0.1198034421888791,0.14080167696381291,0.14080167696381291,0.10981509267431599,0.15084677846425421,4.4922341503526766E-2,0.13484271844660195,0.13802082965578111,0.13631827007943514,0.13904236540158871,0.12860000000000002,5.3544264937257773E-2,0.12281129744042368,0.11412824360105916,0.12860000000000002,0.13881535745807594,0.16355922330097092,0.12423009708737866,0.12860000000000002,0.12860000000000002,0.11390123565754635,0.13495622241835836,0.12860000000000002,9.4719064430714942E-2,0.12860000000000002,0.12860000000000002,0.10158605472197706,0.12133574580759049,0.12860000000000002,6.0831910070888721E-2,0.13512647837599295,0.14812268314210064,0.10402639011473964,0.12860000000000002,237]
[null,"Male 45-49",0.13900825242718448,4.8902226510893335E-2,0.11807294792586057,0.14193702559576349,0.12290000000000001,0.1278355251544572,9.0520785525154468E-2,0.12290000000000001,0.12290000000000001,0.12696774051191528,0.12696774051191528,0.13976756398940865,0.12506946160635482,0.10586972639011474,0.11763905560458959,7.083292144748457E-2,7.2571563780488013E-2,0.10494770520741395,0.12290000000000001,0.11449333627537511,0.13456085613415711,0.13456085613415711,0.10494770520741395,0.14416072374227715,4.2931226833463759E-2,0.12886601941747575,0.13190326566637245,0.13027616946160636,0.13287952338923212,0.12290000000000001,5.1170996584673244E-2,0.11736787290379526,0.1090696822594881,0.12290000000000001,0.13266257722859667,0.15630970873786409,0.118723786407767,0.12290000000000001,0.12290000000000001,0.10885273609885261,0.1289744924977935,0.12290000000000001,9.0520785525154468E-2,0.12290000000000001,0.12290000000000001,9.7083406884377763E-2,0.11595772285966462,0.12290000000000001,5.8135627898228799E-2,0.12913720211827007,0.14155736981465136,9.9415578111209185E-2,0.12290000000000001,238]
[null,"Male 50-54",0.13900825242718448,4.8902226510893335E-2,0.11807294792586057,0.14193702559576349,0.12290000000000001,0.1278355251544572,9.0520785525154468E-2,0.12290000000000001,0.12290000000000001,0.12696774051191528,0.12696774051191528,0.13976756398940865,0.12506946160635482,0.10586972639011474,0.11763905560458959,7.083292144748457E-2,7.2571563780488013E-2,0.10494770520741395,0.12290000000000001,0.11449333627537511,0.13456085613415711,0.13456085613415711,0.10494770520741395,0.14416072374227715,4.2931226833463759E-2,0.12886601941747575,0.13190326566637245,0.13027616946160636,0.13287952338923212,0.12290000000000001,5.1170996584673244E-2,0.11736787290379526,0.1090696822594881,0.12290000000000001,0.13266257722859667,0.15630970873786409,0.118723786407767,0.12290000000000001,0.12290000000000001,0.10885273609885261,0.1289744924977935,0.12290000000000001,9.0520785525154468E-2,0.12290000000000001,0.12290000000000001,9.7083406884377763E-2,0.11595772285966462,0.12290000000000001,5.8135627898228799E-2,0.12913720211827007,0.14155736981465136,9.9415578111209185E-2,0.12290000000000001,239]
[null,"Male 55-59",0.12848932038834951,4.520173256010971E-2,0.10913821712268315,0.13119646954986763,0.11360000000000001,0.1181620476610768,8.3670962047661085E-2,0.11360000000000001,0.11360000000000001,0.11735992939099738,0.11735992939099738,0.12919117387466902,0.1156052956751986,9.7858428949691087E-2,0.10873715798764343,6.5472903795233905E-2,6.7079980841850601E-2,9.7006178287731698E-2,0.11360000000000001,0.10582947925860547,0.12437846425419243,0.12437846425419243,9.7006178287731698E-2,0.13325189761694617,3.9682566055992539E-2,0.11911456310679612,0.12192197705207414,0.1204180052956752,0.12282436010591351,0.11360000000000001,4.7298821904140607E-2,0.10848649602824362,0.10081624007060902,0.11360000000000001,0.12262383053839367,0.14448155339805827,0.10973980582524273,0.11360000000000001,0.11360000000000001,0.10061571050308915,0.11921482789055605,0.11360000000000001,8.3670962047661085E-2,0.11360000000000001,0.11360000000000001,8.9736981465136798E-2,0.10718305383936452,0.11360000000000001,5.3736430669152083E-2,0.11936522506619593,0.13084554280670785,9.1892674315975295E-2,0.11360000000000001,240]
[null,"Male 60-64",0.12848932038834951,4.520173256010971E-2,0.10913821712268315,0.13119646954986763,0.11360000000000001,0.1181620476610768,8.3670962047661085E-2,0.11360000000000001,0.11360000000000001,0.11735992939099738,0.11735992939099738,0.12919117387466902,0.1156052956751986,9.7858428949691087E-2,0.10873715798764343,6.5472903795233905E-2,6.7079980841850601E-2,9.7006178287731698E-2,0.11360000000000001,0.10582947925860547,0.12437846425419243,0.12437846425419243,9.7006178287731698E-2,0.13325189761694617,3.9682566055992539E-2,0.11911456310679612,0.12192197705207414,0.1204180052956752,0.12282436010591351,0.11360000000000001,4.7298821904140607E-2,0.10848649602824362,0.10081624007060902,0.11360000000000001,0.12262383053839367,0.14448155339805827,0.10973980582524273,0.11360000000000001,0.11360000000000001,0.10061571050308915,0.11921482789055605,0.11360000000000001,8.3670962047661085E-2,0.11360000000000001,0.11360000000000001,8.9736981465136798E-2,0.10718305383936452,0.11360000000000001,5.3736430669152083E-2,0.11936522506619593,0.13084554280670785,9.1892674315975295E-2,0.11360000000000001,241]
[null,"Male 65-69",{"$f":"$AR244*C$254","v":8.6187378640776705E-2},3.0320176241904574E-2,7.3207149161518104E-2,8.8003265666372482E-2,7.6200000000000004E-2,7.9260105913503978E-2,5.6124360105913512E-2,7.6200000000000004E-2,7.6200000000000004E-2,7.8722065313327455E-2,{"$f":"$AR244*M$254","v":7.8722065313327455E-2},8.6658164165931154E-2,7.7545101500441305E-2,6.564095322153575E-2,7.2938128861429835E-2,4.3917563989408652E-2,4.4995550529480774E-2,6.5069285083848197E-2,7.6200000000000004E-2,7.0987731685789937E-2,{"$f":"$AR244*W$254","v":8.3429920564872029E-2},8.3429920564872029E-2,6.5069285083848197E-2,8.9381994704324799E-2,2.6618059273473868E-2,7.9899029126213592E-2,8.1782171226831415E-2,8.0773345101500443E-2,8.2387466902030013E-2,7.6200000000000004E-2,{"$f":"$AR244*AG$254","v":3.1726850608235158E-2},7.2769991173874685E-2,6.7624977934686678E-2,7.6200000000000004E-2,8.2252956751985892E-2,9.6914563106796123E-2,7.3610679611650492E-2,7.6200000000000004E-2,7.6200000000000004E-2,6.7490467784642544E-2,7.9966284201235666E-2,7.6200000000000004E-2,{"$f":"$AR244*AS$254","v":5.6124360105913512E-2},7.6200000000000004E-2,7.6200000000000004E-2,6.0193292144748452E-2,7.1895675198587819E-2,7.6200000000000004E-2,3.6045035360822084E-2,8.0067166813768756E-2,8.776787290379523E-2,6.1639276257722864E-2,7.6200000000000004E-2,242]
[null,"Male 70-74",8.6187378640776705E-2,3.0320176241904574E-2,7.3207149161518104E-2,8.8003265666372482E-2,7.6200000000000004E-2,7.9260105913503978E-2,5.6124360105913512E-2,7.6200000000000004E-2,7.6200000000000004E-2,7.8722065313327455E-2,7.8722065313327455E-2,8.6658164165931154E-2,7.7545101500441305E-2,6.564095322153575E-2,7.2938128861429835E-2,4.3917563989408652E-2,4.4995550529480774E-2,6.5069285083848197E-2,7.6200000000000004E-2,7.0987731685789937E-2,8.3429920564872029E-2,8.3429920564872029E-2,6.5069285083848197E-2,8.9381994704324799E-2,2.6618059273473868E-2,7.9899029126213592E-2,8.1782171226831415E-2,8.0773345101500443E-2,8.2387466902030013E-2,7.6200000000000004E-2,3.1726850608235158E-2,7.2769991173874685E-2,6.7624977934686678E-2,7.6200000000000004E-2,8.2252956751985892E-2,9.6914563106796123E-2,7.3610679611650492E-2,7.6200000000000004E-2,7.6200000000000004E-2,6.7490467784642544E-2,7.9966284201235666E-2,7.6200000000000004E-2,5.6124360105913512E-2,7.6200000000000004E-2,7.6200000000000004E-2,6.0193292144748452E-2,7.1895675198587819E-2,7.6200000000000004E-2,3.6045035360822084E-2,8.0067166813768756E-2,8.776787290379523E-2,6.1639276257722864E-2,7.6200000000000004E-2,243]
[null,"Male 75-79",4.5242718446601937E-2,1.5916103014123134E-2,3.8428949691085616E-2,4.6195939982347757E-2,0.04,4.1606354810238305E-2,2.9461606354810242E-2,0.04,0.04,4.1323918799646961E-2,4.1323918799646961E-2,4.5489849955869376E-2,4.0706090026478375E-2,3.445719329214475E-2,3.8287731685789937E-2,2.3053839364518977E-2,2.3619711564031899E-2,3.4157105030891442E-2,0.04,3.7263901147396292E-2,4.3795233892321275E-2,4.3795233892321275E-2,3.4157105030891442E-2,4.6919682259488081E-2,1.3972734526757935E-2,4.1941747572815533E-2,4.2930273609885258E-2,4.2400706090026476E-2,4.3248014121800529E-2,0.04,1.6654514754979085E-2,3.8199470432480148E-2,3.5498676081200359E-2,0.04,4.3177405119152697E-2,5.0873786407766998E-2,3.8640776699029128E-2,0.04,0.04,3.5428067078552512E-2,4.1977052074139459E-2,0.04,2.9461606354810242E-2,0.04,0.04,3.1597528684907325E-2,3.7740511915269198E-2,0.04,1.8921278404631016E-2,4.2030008826125329E-2,4.6072374227714034E-2,3.2356575463371583E-2,0.04,244]
[null,"Male 80-84",4.5242718446601937E-2,1.5916103014123134E-2,3.8428949691085616E-2,4.6195939982347757E-2,0.04,4.1606354810238305E-2,2.9461606354810242E-2,0.04,0.04,4.1323918799646961E-2,4.1323918799646961E-2,4.5489849955869376E-2,4.0706090026478375E-2,3.445719329214475E-2,3.8287731685789937E-2,2.3053839364518977E-2,2.3619711564031899E-2,3.4157105030891442E-2,0.04,3.7263901147396292E-2,4.3795233892321275E-2,4.3795233892321275E-2,3.4157105030891442E-2,4.6919682259488081E-2,1.3972734526757935E-2,4.1941747572815533E-2,4.2930273609885258E-2,4.2400706090026476E-2,4.3248014121800529E-2,0.04,1.6654514754979085E-2,3.8199470432480148E-2,3.5498676081200359E-2,0.04,4.3177405119152697E-2,5.0873786407766998E-2,3.8640776699029128E-2,0.04,0.04,3.5428067078552512E-2,4.1977052074139459E-2,0.04,2.9461606354810242E-2,0.04,0.04,3.1597528684907325E-2,3.7740511915269198E-2,0.04,1.8921278404631016E-2,4.2030008826125329E-2,4.6072374227714034E-2,3.2356575463371583E-2,0.04,245]
[null,"Male 85-89",4.5242718446601937E-2,1.5916103014123134E-2,3.8428949691085616E-2,4.6195939982347757E-2,0.04,4.1606354810238305E-2,2.9461606354810242E-2,0.04,0.04,4.1323918799646961E-2,4.1323918799646961E-2,4.5489849955869376E-2,4.0706090026478375E-2,3.445719329214475E-2,3.8287731685789937E-2,2.3053839364518977E-2,2.3619711564031899E-2,3.4157105030891442E-2,0.04,3.7263901147396292E-2,4.3795233892321275E-2,4.3795233892321275E-2,3.4157105030891442E-2,4.6919682259488081E-2,1.3972734526757935E-2,4.1941747572815533E-2,4.2930273609885258E-2,4.2400706090026476E-2,4.3248014121800529E-2,0.04,1.6654514754979085E-2,3.8199470432480148E-2,3.5498676081200359E-2,0.04,4.3177405119152697E-2,5.0873786407766998E-2,3.8640776699029128E-2,0.04,0.04,3.5428067078552512E-2,4.1977052074139459E-2,0.04,2.9461606354810242E-2,0.04,0.04,3.1597528684907325E-2,3.7740511915269198E-2,0.04,1.8921278404631016E-2,4.2030008826125329E-2,4.6072374227714034E-2,3.2356575463371583E-2,0.04,246]
[null,"Male 90+",4.5242718446601937E-2,1.5916103014123134E-2,3.8428949691085616E-2,4.6195939982347757E-2,0.04,4.1606354810238305E-2,2.9461606354810242E-2,0.04,0.04,4.1323918799646961E-2,4.1323918799646961E-2,4.5489849955869376E-2,4.0706090026478375E-2,3.445719329214475E-2,3.8287731685789937E-2,2.3053839364518977E-2,2.3619711564031899E-2,3.4157105030891442E-2,0.04,3.7263901147396292E-2,4.3795233892321275E-2,4.3795233892321275E-2,3.4157105030891442E-2,4.6919682259488081E-2,1.3972734526757935E-2,4.1941747572815533E-2,4.2930273609885258E-2,4.2400706090026476E-2,4.3248014121800529E-2,0.04,1.6654514754979085E-2,3.8199470432480148E-2,3.5498676081200359E-2,0.04,4.3177405119152697E-2,5.0873786407766998E-2,3.8640776699029128E-2,0.04,0.04,3.5428067078552512E-2,4.1977052074139459E-2,0.04,2.9461606354810242E-2,0.04,0.04,3.1597528684907325E-2,3.7740511915269198E-2,0.04,1.8921278404631016E-2,4.2030008826125329E-2,4.6072374227714034E-2,3.2356575463371583E-2,0.04,247]
[null,null,"Aberdeen City Local Authority","Aberdeen City Region Deal","Aberdeenshire Local Authority","Angus Local Authority","Argyll & Bute Local Authority","Ayrshire & Arran Health Board","Borders Health Board","Clackmannanshire & Stirling IJB","Clackmannanshire Local Authority","Dumfries & Galloway Health Board","Dumfries & Galloway Local Authority","Dundee City Local Authority","East Ayrshire Local Authority","East Dunbartonshire Local Authority","East Lothian Local Authority","East Renfrewshire Local Authority","Edinburgh & SE Scotland City Region Deal","Edinburgh, City of Local Authority","Eilean Siar Local Authority","Falkirk Local Authority","Fife Health Board","Fife Local Authority","Forth Valley Health Board","Glasgow City Local Authority","Glasgow City Region Deal","Grampian Health Board","Greater Glasgow & Clyde Health Board","Highland Health Board","Highland Local Authority","Inverclyde Local Authority","Inverness & Highland City Region Deal","Lanarkshire Health Board","Lothian Health Board","Midlothian Local Authority","Moray Local Authority","North Ayrshire Local Authority","North Lanarkshire Local Authority","Orkney Health Board","Orkney Islands Local Authority","Perth & Kinross Local Authority","Renfrewshire Local Authority","Scotland","Scottish Borders Local Authority","Shetland Health Board","Shetland Islands Local Authority","South Ayrshire Local Authority","South Lanarkshire Local Authority","Stirling Local Authority","Tay Cities Region Deal ","Tayside Health Board","West Dunbartonshire Local Authority","West Lothian Local Authority","Western Isles Health Board",248]
["Overall prevalence","Female",0.1666,9.0164723575007558E-2,0.14150000000000001,9.8299999999999998E-2,0.188,0.19010000000000002,0.19210000000000002,0.188,0.188,0.22359999999999999,0.22359999999999999,0.24429999999999999,0.19190000000000002,0.14249999999999999,0.21170000000000003,8.1500000000000003E-2,0.13380566601024071,0.14279999999999998,0.188,0.12480000000000001,0.1938,0.1938,0.13849999999999998,0.2281,7.9155541094083695E-2,0.16600000000000001,0.21,0.1787,0.17660000000000001,0.188,9.4347826086956521E-2,0.21920000000000001,0.1709,0.188,0.2303,0.1837,0.2586,0.188,0.188,0.14710000000000001,0.21739999999999998,0.188,0.19210000000000002,0.188,0.188,0.19579999999999997,0.17780000000000001,0.188,0.1071890421622347,0.1686,0.25069999999999998,0.2024,0.188,249]
[null,"Male",0.25629999999999997,9.0164723575007558E-2,0.2177,0.26170000000000004,0.2266,0.23569999999999999,0.16690000000000002,0.2266,0.2266,0.2341,0.2341,0.25769999999999998,0.2306,0.19519999999999998,0.21690000000000001,0.13059999999999999,0.13380566601024071,0.19350000000000001,0.2266,0.21109999999999998,0.24809999999999999,0.24809999999999999,0.19350000000000001,0.26579999999999998,7.9155541094083695E-2,0.23760000000000001,0.2432,0.2402,0.245,0.2266,9.4347826086956521E-2,0.21640000000000001,0.2011,0.2266,0.24460000000000001,0.28820000000000001,0.21890000000000001,0.2266,0.2266,0.20069999999999999,0.23780000000000001,0.2266,0.16690000000000002,0.2266,0.2266,0.17899999999999999,0.21379999999999999,0.2266,0.1071890421622347,0.23809999999999998,0.26100000000000001,0.18329999999999999,0.2266,250]
["Crude weights","Female",{"$f":"C251/$AR251","v":0.88617021276595742},{"$f":"D251/$AR251","v":0.47959959348408276},0.75265957446808518,0.52287234042553188,1,1.0111702127659576,1.0218085106382979,1,1,1.1893617021276595,1.1893617021276595,1.2994680851063829,1.0207446808510638,0.75797872340425521,1.1260638297872343,0.43351063829787234,0.71173226601191875,0.75957446808510631,1,0.66382978723404262,1.0308510638297872,1.0308510638297872,0.73670212765957444,1.2132978723404255,0.42104011220257287,0.88297872340425532,1.1170212765957446,0.95053191489361699,0.93936170212765957,1,0.50185013876040707,1.1659574468085108,0.9090425531914893,1,1.2250000000000001,0.97712765957446812,1.3755319148936169,1,1,0.7824468085106383,1.1563829787234041,"n/a",{"$f":"AS251/$AR251","v":1.0218085106382979},{"$f":"AT251/$AR251","v":1},1,1.0414893617021275,0.94574468085106389,1,0.57015447958635479,0.89680851063829792,1.3335106382978723,1.076595744680851,1,251]
[null,"Male",{"$f":"C252/$AR252","v":1.1310679611650485},{"$f":"D252/$AR252","v":0.39790257535307838},0.96072374227714041,1.1548984995586939,1,1.0401588702559577,0.73654015887025603,1,1,1.033097969991174,1.033097969991174,1.1372462488967343,1.0176522506619594,0.86142983230361869,0.95719329214474846,0.57634598411297444,0.5904927891007975,0.85392762577228598,1,0.93159752868490731,1.0948808473080318,1.0948808473080318,0.85392762577228598,1.1729920564872021,0.34931836316894838,1.0485436893203883,1.0732568402471314,1.0600176522506619,1.0812003530450132,1,0.41636286887447715,0.95498676081200362,0.88746690203000889,1,1.0794351279788175,1.2718446601941749,0.96601941747572817,1,1,0.88570167696381286,1.0494263018534864,"n/a",{"$f":"AS252/$AR252","v":0.73654015887025603},{"$f":"AT252/$AR252","v":1},1,0.78993821712268308,0.94351279788172993,1,0.47303196011577536,1.0507502206531332,1.1518093556928508,0.80891438658428949,1,252]

{"sheet":"Population 2016","index":12,"n_rows":249,"n_cols":56,"rows_kept":249,"cut":false,"hidden":true,"merged":[]}
["Population 2016 (16+ only)"]
[]
["SIMD","group","Aberdeen City Local Authority","Aberdeen City Region Deal","Aberdeenshire Local Authority","Angus Local Authority","Argyll & Bute Local Authority","Ayrshire & Arran Health Board","Borders Health Board","Clackmannanshire & Stirling IJB","Clackmannanshire Local Authority","Dumfries & Galloway Health Board","Dumfries & Galloway Local Authority","Dundee City Local Authority","East Ayrshire Local Authority","East Dunbartonshire Local Authority","East Lothian Local Authority","East Renfrewshire Local Authority","Edinburgh & SE Scotland City Region Deal","Edinburgh, City of Local Authority","Eilean Siar Local Authority","Falkirk Local Authority","Fife Health Board","Fife Local Authority","Forth Valley Health Board","Glasgow City Local Authority","Glasgow City Region Deal","Grampian Health Board","Greater Glasgow & Clyde Health Board","Highland Health Board","Highland Local Authority","Inverclyde Local Authority","Inverness & Highland City Region Deal","Lanarkshire Health Board","Lothian Health Board","Midlothian Local Authority","Moray Local Authority","North Ayrshire Local Authority","North Lanarkshire Local Authority","Orkney Health Board","Orkney Islands Local Authority","Perth & Kinross Local Authority","Renfrewshire Local Authority","Scotland","Scottish Borders Local Authority","Shetland Health Board","Shetland Islands Local Authority","South Ayrshire Local Authority","South Lanarkshire Local Authority","Stirling Local Authority","Tay Cities Region Deal ","Tayside Health Board","West Dunbartonshire Local Authority","West Lothian Local Authority","Western Isles Health Board",1]
[null,null,"popS12000033","Aber_deal","popS12000034","popS12000041","popS12000035","popS08000015","popS08000016","ClacksStirIJB","popS12000005","popS08000017","popS12000006","popS12000042","popS12000008","popS12000045","popS12000010","popS12000011","EdinSE_deal","popS12000036","popS12000013","popS12000014","popS08000018","popS12000015","popS08000019","popS12000046","GClyde_deal","popS08000020","popS08000021","popS08000022","popS12000017","popS12000018","Inver_deal","popS08000023","popS08000024","popS12000019","popS12000020","popS12000021","popS12000044","popS08000025","popS12000023","popS12000024","popS12000038","popS00000001","popS12000026","popS08000026","popS12000027","popS12000028","popS12000029","popS12000030","Tay_deal","popS08000027","popS12000039","popS12000040","popS08000028",2]
["All quintiles","16+ Males and Females",195653,408972,213319,97075,73892,308413,95528,120583,42326,125906,125906,124421,100941,88730,85101,75148,1132942,429806,22593,131021,305958,305958,251604,516583,1505157,488515,966842,268690,194798,66309,194798,538315,731456,71726,79543,112762,276091,18334,18334,126166,145976,4488783,95528,18967,18967,94710,262224,78257,653620,347662,74096,144823,22593,3]
["Q1 and Q2","16+ Males and Females",55772,76466,20694,23106,17866,167717,20594,42609,21032,44748,44748,68009,58204,18917,25984,11714,380156,118643,5432,56576,120625,120625,99185,329151,800085,89168,514066,67593,49727,36156,49727,286019,238937,32594,12702,67548,163920,2601,2601,20837,67935,1769266,20594,629,629,41965,122099,21577,232577,111952,50193,61716,5432,4]
["SIMD Q1 (most deprived)","16+ Males and Females",15706,20077,4371,6722,5398,92567,5141,19886,9977,9984,9984,43099,31424,4139,2919,4928,153150,55966,0,19042,59089,59089,38928,237443,481887,20712,343232,18565,13167,27666,13167,138655,88920,7071,635,44986,86094,0,0,6620,40910,872234,5141,0,0,16157,52561,9909,115530,56441,28146,22964,0,5]
["SIMD Q2",null,40066,56389,16323,16384,12468,75150,15453,22723,11055,34764,34764,24910,26780,14778,23065,6786,227006,62677,5432,37534,61536,61536,60257,91708,318198,68456,170834,49028,36560,8490,36560,147364,150017,25523,12067,22562,77826,2601,2601,14217,27025,897032,15453,629,629,25808,69538,11668,117047,55511,22047,38752,5432,6]
["SIMD Q3",null,30458,73451,42993,31913,30426,53711,31989,20856,8000,46905,46905,15883,17462,5452,18382,8332,231265,65662,15862,24167,66386,66386,45023,73726,236775,95627,135271,92816,62390,10471,62390,101504,132890,16953,22176,16287,50065,5744,5744,30213,25960,907978,31989,6241,6241,19962,51439,12856,144395,78009,11330,31893,15862,7]
["SIMD Q4",null,33670,111128,77458,24649,18051,45109,34098,29073,7505,22879,22879,21569,13653,16324,26540,11252,219384,69016,1299,25092,52998,52998,54165,60616,224957,141579,135338,82327,64276,11701,64276,89619,132288,11108,30451,18431,37360,8622,8622,52156,25824,910792,34098,12097,12097,13025,52259,21568,151372,98374,9621,25624,1299,8]
["SIMD Q5 (least deprived)",null,75753,147927,72174,17407,7549,41876,8847,28045,5789,11374,11374,18960,11622,48037,14195,43850,302137,176485,0,25186,65949,65949,53231,53090,243340,162141,182167,25954,18405,7981,18405,61173,227341,11071,14214,10496,24746,1367,1367,22960,26257,900747,8847,0,0,19758,36427,22256,125276,59327,2952,25590,0,9]
["SIMD Q1 (most deprived)","16+ Females",7940,10084,2144,3486,2800,49250,2661,10561,5216,5227,5227,22625,16592,2201,1560,2687,79990,29099,0,9861,30881,30881,20422,124184,253184,10434,180380,9647,6847,14769,6847,72804,46448,3734,350,24175,45017,0,0,3368,21320,457633,2661,0,0,8483,27787,5345,60360,29479,15219,12055,0,10]
["SIMD Q2",null,20589,29017,8428,8582,6570,39721,7980,11880,5783,18133,18133,12948,14006,7886,12341,3614,118897,32276,2752,19564,32365,32365,31444,46945,166820,35348,89074,25793,19223,4529,19223,77746,78552,13662,6331,12037,41225,1291,1291,7061,14478,469079,7980,289,289,13678,36521,6097,60956,28591,11622,20273,2752,11]
["SIMD Q3",null,14775,36682,21907,16368,15775,28008,16557,10891,4166,24265,24265,8282,8844,2911,9630,4472,119474,33598,8104,12476,34614,34614,23367,37875,123784,48192,70410,47689,31914,5526,31914,53374,68303,8881,11510,8619,26311,2915,2915,15578,13674,469093,16557,3067,3067,10545,27063,6725,74842,40228,5952,16194,8104,12]
["SIMD Q4",null,17048,56213,39165,12745,9303,23680,17825,14853,3589,11799,11799,11465,7065,8598,14037,6065,113758,35609,688,12801,27274,27274,27654,31260,116221,71636,70387,42063,32760,6043,32760,45834,68659,5845,15423,9678,18881,4382,4382,26672,13379,468792,17825,6029,6029,6937,26953,11264,78156,50882,5042,13168,688,13]
["SIMD Q5 (least deprived)",null,38569,74964,36395,9014,2838,21882,4614,14673,3026,6007,6007,9920,6015,24782,7409,23171,157070,92126,0,12867,34322,34322,27540,27520,126501,81756,94858,12542,9704,4256,9704,31643,118134,5603,6792,5410,12785,683,683,12164,13607,465079,4614,0,0,10457,18858,11647,65420,31098,1522,12996,0,14]
["SIMD Q1 (most deprived)","16+ Males",7766,9993,2227,3236,2598,43317,2480,9325,4761,4757,4757,20474,14832,1938,1359,2241,73160,26867,0,9181,28208,28208,18506,113259,228703,10278,162852,8918,6320,12897,6320,65851,42472,3337,285,20811,41077,0,0,3252,19590,414601,2480,0,0,7674,24774,4564,55170,26962,12927,10909,0,15]
["SIMD Q2",null,19477,27372,7895,7802,5898,35429,7473,10843,5272,16631,16631,11962,12774,6892,10724,3172,108109,30401,2680,17970,29171,29171,28813,44763,151378,33108,81760,23235,17337,3961,17337,69618,71465,11861,5736,10525,36601,1310,1310,7156,12547,427953,7473,340,340,12130,33017,5571,56091,26920,10425,18479,2680,16]
["SIMD Q3",null,15683,36769,21086,15545,14651,25703,15432,9965,3834,22640,22640,7601,8618,2541,8752,3860,111791,32064,7758,11691,31772,31772,21656,35851,112991,47435,64861,45127,30476,4945,30476,48130,64587,8072,10666,7668,23754,2829,2829,14635,12286,438885,15432,3174,3174,9417,24376,6131,69553,37781,5378,15699,7758,17]
["SIMD Q4",null,16622,54915,38293,11904,8748,21429,16273,14220,3916,11080,11080,10104,6588,7726,12503,5187,105626,33407,611,12291,25724,25724,26511,29356,108736,69943,64951,40264,31516,5658,31516,43785,63629,5263,15028,8753,18479,4240,4240,25484,12445,442000,16273,6068,6068,6088,25306,10304,73216,47492,4579,12456,611,18]
["SIMD Q5 (least deprived)",null,37184,72963,35779,8393,4711,19994,4233,13372,2763,5367,5367,9040,5607,23255,6786,20679,145067,84359,0,12319,31627,31627,25691,25570,116839,80385,87309,13412,8701,3725,8701,29530,109207,5468,7422,5086,11961,684,684,10796,12650,435668,4233,0,0,9301,17569,10609,59856,28229,1430,12594,0,19]
["All quintiles","Female 0-4",null,null,null,null,null,null,null,null,null,null,null,null,null,null,null,null,null,null,null,null,null,null,null,null,null,null,null,null,null,null,null,null,null,null,null,null,null,null,null,null,null,null,null,null,null,null,null,null,null,null,null,null,null,20]
[null,"Female 5-9",null,null,null,null,null,null,null,null,null,null,null,null,null,null,null,null,null,null,null,null,null,null,null,null,null,null,null,null,null,null,null,null,null,null,null,null,null,null,null,null,null,null,null,null,null,null,null,null,null,null,null,null,null,21]
[null,"Female 10-15",null,null,null,null,null,null,null,null,null,null,null,null,null,null,null,null,null,null,null,null,null,null,null,null,null,null,null,null,null,null,null,null,null,null,null,null,null,null,null,null,null,null,null,null,null,null,null,null,null,null,null,null,null,22]
[null,"Female 16-19",5132,10449,5317,2420,1755,8055,2394,3878,1120,3007,3007,3946,2632,2319,2320,2269,29879,10481,506,3283,8533,8533,7161,13662,40734,12500,25770,6512,4757,1715,4757,14964,18952,2013,2051,3036,8055,395,395,3162,3858,118803,2394,526,526,2387,6909,2758,18061,9528,1947,4138,506,23]
[null,"Female 20-24",11186,17539,6353,3023,1897,10449,2757,5440,1411,3797,3797,7387,3516,2847,3144,2491,50597,24791,559,4465,12368,12368,9905,28898,64015,20059,44900,7538,5641,2383,5641,19115,35472,2476,2520,3967,10067,534,534,3854,5454,182279,2757,562,562,2966,9048,4029,26632,14264,2827,5061,559,24]
[null,"Female 25-29",11646,18412,6766,2919,1880,10393,2483,4660,1408,3846,3846,6884,3706,2469,2796,2248,52083,27486,611,4641,11146,11146,9301,32603,67710,21019,48136,8030,6150,2297,6150,19574,38454,2653,2607,3823,10607,595,595,3890,5624,187975,2483,694,694,2864,8967,3252,24839,13693,2895,5519,611,25]
[null,"Female 30-34",9712,17943,8231,3238,1920,10174,2828,3996,1462,3753,3753,5361,3622,2437,2969,2196,48660,22996,664,5214,10880,10880,9210,26708,63296,20877,42021,8755,6835,2230,6835,21275,34952,2878,2934,3676,11344,594,594,4385,5477,179608,2828,641,641,2876,9931,2534,23864,12984,2973,6109,664,26]
[null,"Female 35-39",7583,16085,8502,3276,2083,10193,2805,4130,1504,3612,3612,4328,3547,3044,3171,2902,44086,18399,746,5111,10973,10973,9241,21043,58299,18652,37236,8759,6676,2249,6676,21063,30308,2893,2567,3679,11088,587,587,4006,5318,166485,2805,700,700,2967,9975,2626,22583,11610,2680,5845,746,27]
[null,"Female 40-44",6824,15898,9074,3662,2531,11821,3657,4700,1736,4255,4255,3957,4002,3415,3457,3182,44368,16077,826,5798,11795,11795,10498,18545,58315,19026,36123,9983,7452,2474,7452,22192,28916,2880,3128,4405,11655,679,679,4598,5707,172709,3657,721,721,3414,10537,2964,24012,12217,2800,6502,826,28]
[null,"Female 45-49",7059,17560,10501,4288,3168,14637,4591,5736,2106,5713,5713,4585,4999,4300,4361,3828,50032,16115,994,6395,13972,13972,12131,21204,69713,21168,43438,12131,8963,3245,8963,26275,31469,3511,3608,5391,13605,825,825,5763,7211,202829,4591,849,849,4247,12670,3630,28608,14636,3650,7482,994,29]
[null,"Female 50-54",7514,18002,10488,4561,3606,15343,4773,5816,2099,6247,6247,5222,5016,4541,4176,3870,50162,16086,1055,6308,14461,14461,12124,22092,71857,21705,45100,13200,9594,3438,9594,26757,30928,3468,3703,5694,13668,884,884,6032,7332,209262,4773,870,870,4633,13089,3717,30276,15815,3827,7198,1055,30]
[null,"Female 55-59",6840,15898,9058,4348,3443,14228,4541,5068,1864,5813,5813,4949,4484,4332,3915,3436,45797,14875,972,5503,13155,13155,10571,19421,64733,19238,40548,12373,8930,3211,8930,24185,28101,3217,3340,5208,12011,805,805,5481,6630,190084,4541,776,776,4536,12174,3204,27933,14778,3518,6094,972,31]
[null,"Female 60-64",5820,14164,8344,3966,3221,12941,4117,4397,1655,5644,5644,3904,3948,3656,3310,2999,39293,12299,979,4825,11746,11746,9222,15156,53781,17262,32864,11540,8319,2621,8319,20917,23430,2702,3098,4810,10348,750,750,5122,5470,165146,4117,742,742,4183,10569,2742,24738,12992,2962,5119,979,32]
[null,"Female 65-69",5622,13715,8093,4306,3532,13256,4447,4573,1787,5665,5665,4107,4031,3622,3350,2876,40441,12277,1002,4943,12418,12418,9516,13288,50288,16937,30723,11757,8225,2639,8225,19565,23576,2896,3222,4928,9706,779,779,5320,5474,164057,4447,683,683,4297,9859,2786,26151,13733,2824,5053,1002,33]
[null,"Female 70-74",4129,10057,5928,3313,2739,10604,3466,3610,1346,4801,4801,3099,3110,2935,2627,2330,30842,9152,794,3713,9547,9547,7323,10260,39137,12629,23856,9093,6354,2076,6354,15281,17829,2151,2572,3901,7638,666,666,4272,4201,127150,3466,577,577,3593,7643,2264,20231,10684,2054,3899,794,34]
[null,"Female 75-79",3695,8281,4586,2642,2245,8316,2800,2850,983,3660,3660,2766,2449,2597,2148,1948,24775,7867,713,3109,7370,7370,5959,9530,33698,10254,21120,7233,4988,1746,4988,12578,14605,1653,1973,3062,6233,498,498,3398,3509,104331,2800,419,419,2805,6345,1867,16176,8806,1790,2937,713,35]
[null,"Female 80-84",3033,6388,3355,2034,1632,6246,2000,2054,662,2870,2870,2379,1804,1951,1635,1685,18839,6454,553,2196,5495,5495,4250,7853,26368,7981,16925,5426,3794,1382,3794,9443,11344,1238,1593,2273,4548,327,327,2633,2732,80217,2000,311,311,2169,4895,1392,12541,7046,1322,2017,553,36]
[null,"Female 85-89",2017,4180,2163,1315,1000,3632,1227,1203,412,1757,1757,1526,1048,1203,1030,1082,12103,4595,330,1285,3473,3473,2488,4753,15785,5134,10347,3415,2415,892,2415,5438,7403,693,954,1283,2478,219,219,1798,1579,49691,1227,189,189,1301,2960,791,8112,4639,838,1085,330,37]
[null,"Female 90+",1109,2389,1280,884,634,2253,751,747,225,991,991,840,608,710,568,667,7232,2758,240,780,2124,2124,1527,2768,8781,2925,6002,1989,1355,525,1355,2779,4357,403,536,783,1168,134,134,1129,882,29050,751,125,125,862,1611,522,4977,2853,450,628,240,38]
[null,"Male 0-4",null,null,null,null,null,null,null,null,null,null,null,null,null,null,null,null,null,null,null,null,null,null,null,null,null,null,null,null,null,null,null,null,null,null,null,null,null,null,null,null,null,null,null,null,null,null,null,null,null,null,null,null,null,39]
[null,"Male 5-9",null,null,null,null,null,null,null,null,null,null,null,null,null,null,null,null,null,null,null,null,null,null,null,null,null,null,null,null,null,null,null,null,null,null,null,null,null,null,null,null,null,null,null,null,null,null,null,null,null,null,null,null,null,40]
[null,"Male 10-15",null,null,null,null,null,null,null,null,null,null,null,null,null,null,null,null,null,null,null,null,null,null,null,null,null,null,null,null,null,null,null,null,null,null,null,null,null,null,null,null,null,null,null,null,null,null,null,null,null,null,null,null,null,41]
[null,"Male 16-19",4618,10741,6123,2762,2139,8596,2478,3910,1252,3221,3221,3524,2828,2623,2309,2475,30158,10532,556,3747,8648,8648,7657,13791,42639,13104,26871,7596,5457,1848,5457,15768,19032,1961,2363,3245,8401,494,494,3562,4118,124418,2478,549,549,2523,7367,2658,18496,9848,2016,4230,556,42]
[null,"Male 20-24",10055,17241,7186,3297,2955,10847,2809,5494,1591,3996,3996,6850,3689,3335,2990,2815,46618,20799,650,4670,12020,12020,10164,27102,64147,20259,44004,9133,6178,2412,6178,20143,31789,2508,3018,4148,10761,577,577,4430,5464,181688,2809,720,720,3010,9382,3903,26597,14577,2876,5492,650,43]
[null,"Male 25-29",13084,20153,7069,3008,2486,9915,2465,4320,1326,3672,3672,7015,3552,2823,2551,2235,49299,25953,613,4538,10466,10466,8858,31828,66712,23042,47795,8662,6176,2322,6176,18917,36368,2460,2889,3564,10197,605,605,4041,5719,186149,2465,707,707,2799,8720,2994,24530,14064,2868,5404,613,44]
[null,"Male 30-34",10533,18196,7663,3098,1993,9097,2438,3686,1379,3519,3519,5275,3358,2430,2530,1892,45742,22449,618,4657,10197,10197,8343,27904,61765,21010,42551,8457,6464,2227,6464,19214,33107,2518,2814,3224,10357,540,540,4186,5418,172305,2438,655,655,2515,8857,2307,22756,12559,2680,5610,618,45]
[null,"Male 35-39",8518,16872,8354,2990,2111,9060,2607,3767,1433,3252,3252,4008,3246,2566,2713,2396,42754,18925,687,4994,10280,10280,8761,22182,56216,19515,36499,8592,6481,2010,6481,19717,29867,2614,2643,3157,10380,536,536,4185,4942,161268,2607,712,712,2657,9337,2334,21463,11183,2403,5615,687,46]
[null,"Male 40-44",7308,16431,9123,3389,2439,10458,3273,4276,1613,3894,3894,3685,3714,3061,3382,2856,43545,16766,816,5398,11190,11190,9674,18717,55295,19411,34216,9153,6714,2118,6714,21079,29082,2717,2980,3700,11022,622,622,4187,5030,164929,3273,800,800,3044,10057,2663,22451,11261,2434,6217,816,47]
[null,"Male 45-49",7281,17228,9947,4018,3009,12866,4231,5337,2056,5061,5061,4514,4466,3704,3741,3208,47799,16303,1062,6279,13408,13408,11616,19948,63590,20910,38936,11193,8184,2694,8184,24654,30160,3128,3682,4645,12690,795,795,5184,6312,189422,4231,814,814,3755,11964,3281,27124,13716,3070,6988,1062,48]
[null,"Male 50-54",7284,17410,10126,4570,3357,13909,4657,5491,2021,5884,5884,4693,4685,4160,4090,3473,48325,16177,1035,6186,13327,13327,11677,19976,66121,21027,41191,12412,9055,3256,9055,24930,30341,3186,3617,5069,12858,908,908,5940,6814,197429,4657,928,928,4155,12072,3470,28530,15203,3512,6888,1035,49]
[null,"Male 55-59",6797,15936,9139,4032,3246,13173,4341,4964,1828,5552,5552,4632,4283,3876,3744,3233,44067,14276,1018,5421,12779,12779,10385,17580,59729,19197,37212,11962,8716,2965,8716,22517,26947,2942,3261,4790,11103,876,876,5288,6350,180737,4341,826,826,4100,11414,3136,26731,13952,3208,5985,1018,50]
[null,"Male 60-64",6027,14211,8184,3723,3097,11857,4040,4209,1579,5261,5261,3735,3731,3387,3034,2791,37412,12088,987,4431,10956,10956,8640,14433,50045,17177,30858,11077,7980,2425,7980,19187,22416,2609,2966,4304,9377,766,766,4954,5063,156406,4040,772,772,3822,9810,2630,23368,12412,2759,4685,987,51]
[null,"Male 65-69",5436,13667,8231,4139,3351,12280,4344,4311,1637,5663,5663,3703,3787,3321,3001,2478,37322,11191,1050,4682,11517,11517,8993,12473,45785,16610,27887,11360,8009,2361,8009,17898,21461,2602,2943,4478,8878,770,770,5018,4816,153467,4344,774,774,4015,9020,2674,24377,12860,2438,4667,1050,52]
[null,"Male 70-74",3551,9080,5529,2968,2599,9328,3194,3112,1185,4333,4333,2650,2773,2472,2305,1844,27189,7692,741,3266,8633,8633,6378,8760,33436,11338,20327,8593,5994,1795,5994,13109,15362,1939,2258,3391,6342,611,611,3766,3632,111869,3194,538,538,3164,6767,1927,18017,9384,1824,3426,741,53]
[null,"Male 75-79",2734,6713,3979,2218,1841,6859,2310,2318,810,3339,3339,2157,2086,2013,1690,1519,19727,5881,580,2408,6060,6060,4726,6503,24796,8457,15290,5897,4056,1293,4056,9506,11357,1321,1744,2461,4679,467,467,2901,2725,82515,2310,391,391,2312,4827,1508,13336,7276,1237,2465,580,54]
[null,"Male 80-84",2016,4681,2665,1505,1171,4512,1523,1512,486,2250,2250,1534,1329,1495,1188,1102,13669,4490,355,1683,4105,4105,3195,4488,16812,5789,10574,3989,2818,847,2818,6238,8041,862,1108,1620,2981,282,282,2077,1771,56201,1523,232,232,1563,3257,1026,9221,5116,871,1501,355,55]
[null,"Male 85-89",1046,2394,1348,820,580,2206,872,732,249,1098,1098,852,643,749,598,561,7057,2411,210,763,2030,2030,1495,2162,8120,2993,5207,2040,1460,423,1460,2913,4155,460,599,748,1326,147,147,1130,930,28287,872,119,119,815,1587,483,4832,2802,382,686,210,56]
[null,"Male 90+",444,1058,614,343,232,909,309,286,101,480,480,354,249,337,258,261,3070,1165,71,329,886,886,615,952,3439,1310,2315,840,608,190,608,1124,1875,174,252,299,520,67,67,474,414,12017,309,45,45,361,604,185,2057,1171,161,278,71,57]
["SIMD Q1 (most deprived)","Female 0-4",null,null,null,null,null,null,null,null,null,null,null,null,null,null,null,null,null,null,null,null,null,null,null,null,null,null,null,null,null,null,null,null,null,null,null,null,null,null,null,null,null,null,null,null,null,null,null,null,null,null,null,null,null,58]
[null,"Female 5-9",null,null,null,null,null,null,null,null,null,null,null,null,null,null,null,null,null,null,null,null,null,null,null,null,null,null,null,null,null,null,null,null,null,null,null,null,null,null,null,null,null,null,null,null,null,null,null,null,null,null,null,null,null,59]
[null,"Female 10-15",null,null,null,null,null,null,null,null,null,null,null,null,null,null,null,null,null,null,null,null,null,null,null,null,null,null,null,null,null,null,null,null,null,null,null,null,null,null,null,null,null,null,null,null,null,null,null,null,null,null,null,null,null,60]
[null,"Female 16-19",367,479,112,222,146,2710,169,594,274,315,315,1259,870,113,83,167,4509,1504,0,474,1829,1829,1068,6019,12832,495,8838,549,403,688,403,3994,2511,205,16,1351,2539,0,0,183,1046,24142,169,0,0,489,1455,320,3493,1664,805,719,0,61]
[null,"Female 20-24",782,982,200,320,208,4057,217,957,442,502,502,2144,1363,177,120,229,6262,2376,0,776,2248,2248,1733,10248,20452,1017,14969,811,603,1133,603,5483,3797,326,35,1946,3424,0,0,326,1925,37624,217,0,0,748,2059,515,5038,2790,1257,975,0,62]
[null,"Female 25-29",1031,1269,238,299,172,4063,204,1014,428,504,504,2793,1402,192,137,220,8045,3578,0,892,2758,2758,1906,14159,25059,1292,19205,767,595,1143,595,5854,5083,337,23,1950,3719,0,0,401,2185,45129,204,0,0,711,2135,586,6251,3493,1306,1031,0,63]
[null,"Female 30-34",906,1141,235,332,201,3606,207,887,409,430,430,2239,1246,165,124,214,7688,3523,0,874,2433,2433,1761,11989,22794,1174,16689,856,655,1118,655,6105,5048,296,33,1693,3760,0,0,360,1864,41240,207,0,0,667,2345,478,5364,2931,1339,1105,0,64]
[null,"Female 35-39",648,820,172,298,177,3239,192,774,422,361,361,1753,1095,151,145,215,6597,2822,0,690,2211,2211,1464,9938,19487,844,14051,699,522,993,522,5436,4194,280,24,1582,3365,0,0,296,1645,35038,192,0,0,562,2071,352,4558,2347,1109,947,0,65]
[null,"Female 40-44",661,829,168,255,208,3677,233,774,407,365,365,1449,1232,176,106,201,6089,2185,0,792,2275,2275,1566,8898,18428,857,12865,734,526,999,526,5563,3581,284,28,1837,3465,0,0,243,1486,33663,233,0,0,608,2098,367,4222,1947,1105,1006,0,66]
[null,"Female 45-49",594,790,196,304,239,4383,227,982,472,458,458,1647,1527,211,153,246,6820,2329,0,789,2760,2760,1771,10444,21908,818,15496,849,610,1343,610,6412,3833,312,28,2122,3984,0,0,239,1877,39197,227,0,0,734,2428,510,4950,2190,1375,1039,0,67]
[null,"Female 50-54",627,812,185,279,233,4464,220,905,457,473,473,1866,1566,212,125,258,6559,2093,0,840,2766,2766,1745,10956,22425,839,15965,795,562,1323,562,6460,3573,317,27,2202,4042,0,0,259,1798,39704,220,0,0,696,2418,448,5170,2404,1418,1038,0,68]
[null,"Female 55-59",541,700,159,260,223,3913,195,835,419,384,384,1669,1268,212,137,195,6082,2063,0,766,2446,2446,1601,9487,19924,723,14043,739,516,1263,516,5881,3441,310,23,1961,3571,0,0,233,1653,35528,195,0,0,684,2310,416,4608,2162,1233,931,0,69]
[null,"Female 60-64",440,565,125,209,200,3543,186,639,338,345,345,1330,1151,163,97,172,4925,1543,0,649,2086,2086,1288,7302,16077,602,10991,681,481,1042,481,5086,2653,232,37,1762,3061,0,0,212,1259,29212,186,0,0,630,2025,301,3837,1751,1053,781,0,70]
[null,"Female 65-69",408,525,117,187,225,3388,193,684,372,298,298,1327,1122,147,102,173,4911,1493,0,654,2098,2098,1338,6552,14944,557,10089,630,405,1045,405,4855,2620,261,32,1726,2902,0,0,182,1213,27762,193,0,0,540,1953,312,3794,1696,959,764,0,71]
[null,"Female 70-74",287,367,80,161,166,2652,149,528,279,311,311,958,867,102,87,124,3786,1086,0,473,1663,1663,1001,5396,11902,381,8053,483,317,788,317,3849,1974,198,14,1345,2379,0,0,151,960,21786,149,0,0,440,1470,249,2933,1270,683,603,0,72]
[null,"Female 75-79",243,297,54,166,144,2288,104,412,213,189,189,839,739,86,75,109,3115,962,0,508,1365,1365,920,5115,10810,307,7609,409,265,751,265,3201,1646,130,10,1167,1967,0,0,95,958,19138,104,0,0,382,1234,199,2465,1100,590,479,0,73]
[null,"Female 80-84",189,239,50,97,117,1672,82,311,140,151,151,671,560,56,42,94,2364,762,0,363,986,986,674,4049,8473,249,6032,316,199,598,199,2441,1296,136,10,821,1481,0,0,109,787,14776,82,0,0,291,960,171,1863,877,448,356,0,74]
[null,"Female 85-89",145,180,35,60,86,1027,59,165,88,101,101,442,381,33,21,44,1424,509,0,217,605,605,382,2360,4985,188,3577,208,122,361,122,1408,760,72,8,453,894,0,0,52,453,8869,59,0,0,193,514,77,1159,554,326,158,0,75]
[null,"Female 90+",71,89,18,37,55,568,24,100,56,40,40,239,203,5,6,26,814,271,0,104,352,352,204,1272,2684,91,1908,121,66,181,66,776,438,38,2,257,464,0,0,27,211,4825,24,0,0,108,312,44,655,303,213,123,0,76]
[null,"Male 0-4",null,null,null,null,null,null,null,null,null,null,null,null,null,null,null,null,null,null,null,null,null,null,null,null,null,null,null,null,null,null,null,null,null,null,null,null,null,null,null,null,null,null,null,null,null,null,null,null,null,null,null,null,null,77]
[null,"Male 5-9",null,null,null,null,null,null,null,null,null,null,null,null,null,null,null,null,null,null,null,null,null,null,null,null,null,null,null,null,null,null,null,null,null,null,null,null,null,null,null,null,null,null,null,null,null,null,null,null,null,null,null,null,null,78]
[null,"Male 10-15",null,null,null,null,null,null,null,null,null,null,null,null,null,null,null,null,null,null,null,null,null,null,null,null,null,null,null,null,null,null,null,null,null,null,null,null,null,null,null,null,null,null,null,null,null,null,null,null,null,null,null,null,null,79]
[null,"Male 16-19",377,466,89,241,178,2741,177,694,342,294,294,1171,940,136,88,163,4493,1501,0,502,1784,1784,1196,6797,13975,489,9777,588,410,774,410,4198,2532,207,23,1370,2730,0,0,171,1068,25359,177,0,0,431,1468,352,3367,1583,839,736,0,80]
[null,"Male 20-24",616,848,232,340,279,3842,211,887,427,439,439,1933,1299,169,119,194,6147,2198,0,737,2299,2299,1624,10608,20829,872,15004,845,566,1102,566,5825,3637,331,24,1872,3747,0,0,309,1746,37180,211,0,0,671,2078,460,4881,2582,1185,989,0,81]
[null,"Male 25-29",1034,1297,263,314,225,3699,158,865,346,496,496,2715,1282,163,105,196,7309,3335,0,832,2441,2441,1697,13525,23796,1309,18229,822,597,1111,597,5567,4710,255,12,1707,3574,0,0,443,2064,42600,158,0,0,710,1993,519,5913,3472,1170,1015,0,82]
[null,"Male 30-34",867,1140,273,258,176,3261,174,759,363,346,346,2130,1116,134,110,184,6619,2881,0,764,2287,2287,1523,11843,21614,1149,16292,796,620,1046,620,5322,4158,281,9,1550,3370,0,0,310,1941,38006,174,0,0,595,1952,396,4985,2698,1144,886,0,83]
[null,"Male 35-39",826,1033,207,256,150,2914,187,657,362,298,298,1533,948,136,86,165,6118,2620,0,721,2123,2123,1378,9660,18511,1059,13358,612,462,831,462,5153,3808,238,26,1384,3174,0,0,305,1610,32984,187,0,0,582,1979,295,4217,2094,956,864,0,84]
[null,"Male 40-44",675,887,212,251,167,3182,190,633,352,341,341,1296,1123,136,133,169,5949,2370,0,754,2102,2102,1387,8680,17348,917,12125,700,533,854,533,5223,3657,267,30,1491,3200,0,0,252,1408,31623,190,0,0,568,2023,281,3901,1799,878,887,0,85]
[null,"Male 45-49",626,815,189,277,203,3604,252,780,425,406,406,1626,1280,185,94,183,6621,2305,0,851,2635,2635,1631,9474,19864,854,13826,738,535,1118,535,6038,3734,309,39,1724,3787,0,0,257,1813,35878,252,0,0,600,2251,355,4795,2160,1053,1026,0,86]
[null,"Male 50-54",615,772,157,292,263,3880,260,861,454,437,437,1665,1353,189,143,241,6530,2390,0,858,2439,2439,1719,9703,20490,797,14561,815,552,1285,552,5929,3831,305,25,1895,3785,0,0,297,1800,36922,260,0,0,632,2144,407,4693,2254,1343,993,0,87]
[null,"Male 55-59",562,744,182,232,213,3779,197,814,428,389,389,1605,1264,173,112,193,5690,1884,0,727,2413,2413,1541,8490,18264,771,12759,747,534,1125,534,5505,3080,269,27,1860,3387,0,0,233,1675,33251,197,0,0,655,2118,386,4483,2070,1103,815,0,88]
[null,"Male 60-64",506,607,101,196,207,3230,154,635,333,322,322,1294,1045,160,87,146,4762,1610,0,623,2018,2018,1258,6842,14830,627,10291,645,438,964,438,4539,2590,244,20,1575,2722,0,0,194,1196,27358,154,0,0,610,1817,302,3702,1684,983,649,0,89]
[null,"Male 65-69",435,554,119,205,171,3104,200,620,337,371,371,1230,1089,127,101,136,4456,1314,0,644,1949,1949,1264,6096,13626,573,9229,577,406,978,406,4397,2307,203,19,1490,2667,0,0,161,1075,25567,200,0,0,525,1730,283,3545,1596,817,689,0,90]
[null,"Male 70-74",253,320,67,135,156,2302,139,445,245,226,226,875,747,88,64,87,3277,894,0,406,1490,1490,851,4417,9819,335,6634,419,263,674,263,3185,1648,152,15,1143,1879,0,0,119,770,18358,139,0,0,412,1306,200,2619,1129,598,538,0,91]
[null,"Male 75-79",167,225,58,122,90,1795,73,356,182,183,183,664,635,67,61,101,2383,725,0,350,1000,1000,706,3313,7452,232,5066,281,191,506,191,2386,1310,116,7,852,1478,0,0,96,679,13914,73,0,0,308,908,174,1882,882,400,408,0,92]
[null,"Male 80-84",120,162,42,69,69,1204,56,170,81,116,116,422,422,43,39,48,1646,496,0,256,725,725,426,2264,4928,165,3371,196,127,325,127,1557,865,74,3,555,970,0,0,64,425,9236,56,0,0,227,587,89,1280,555,266,256,0,93]
[null,"Male 85-89",62,83,21,37,39,565,38,104,55,67,67,224,208,23,10,24,789,234,0,104,347,347,208,1083,2336,87,1617,104,65,141,65,719,404,56,4,251,419,0,0,32,226,4449,38,0,0,106,300,49,640,293,120,104,0,94]
[null,"Male 90+",25,40,15,11,12,215,14,45,29,26,26,91,81,9,7,11,371,110,0,52,156,156,97,464,1021,42,713,33,21,63,21,308,201,30,2,92,188,0,0,9,94,1916,14,0,0,42,120,16,267,111,72,54,0,95]
["SIMD Q2","Female 0-4",null,null,null,null,null,null,null,null,null,null,null,null,null,null,null,null,null,null,null,null,null,null,null,null,null,null,null,null,null,null,null,null,null,null,null,null,null,null,null,null,null,null,null,null,null,null,null,null,null,null,null,null,null,96]
[null,"Female 5-9",null,null,null,null,null,null,null,null,null,null,null,null,null,null,null,null,null,null,null,null,null,null,null,null,null,null,null,null,null,null,null,null,null,null,null,null,null,null,null,null,null,null,null,null,null,null,null,null,null,null,null,null,null,97]
[null,"Female 10-15",null,null,null,null,null,null,null,null,null,null,null,null,null,null,null,null,null,null,null,null,null,null,null,null,null,null,null,null,null,null,null,null,null,null,null,null,null,null,null,null,null,null,null,null,null,null,null,null,null,null,null,null,null,98]
[null,"Female 16-19",959,1342,383,387,281,1847,362,646,329,884,884,668,690,359,552,215,5913,1606,118,929,1557,1557,1575,2401,8450,1616,4538,1238,957,231,957,3912,3994,760,274,561,2196,49,49,362,755,23121,362,14,14,596,1716,317,2974,1417,577,1076,118,99]
[null,"Female 20-24",2193,2788,595,753,365,2502,553,1032,376,1105,1105,1621,894,514,929,273,10080,4104,144,1303,2106,2106,2335,4568,12732,3344,7386,1593,1228,289,1228,5346,7421,953,556,762,2801,88,88,576,960,36899,553,26,26,846,2545,656,5056,2950,782,1435,144,100]
[null,"Female 25-29",2497,3162,665,776,428,2689,560,1019,434,1072,1072,1497,1016,584,927,254,11158,4643,157,1414,2393,2393,2433,5944,14679,3657,9066,1727,1299,357,1299,5613,8205,1001,495,763,3033,100,100,642,1074,40610,560,23,23,910,2580,585,5308,2915,853,1634,157,101]
[null,"Female 30-34",2127,2745,618,706,356,2556,474,846,403,1091,1091,1106,966,516,953,246,10451,3896,150,1505,2371,2371,2351,4938,13925,3276,7994,1718,1362,379,1362,5931,7606,1060,531,786,3202,62,62,694,1031,38102,474,16,16,804,2729,443,4877,2506,884,1697,150,102]
[null,"Female 35-39",1590,2207,617,566,373,2574,455,848,407,1065,1065,862,960,578,899,269,8704,2632,153,1467,2235,2235,2315,3687,11871,2646,6545,1625,1252,248,1252,5326,6014,1025,439,770,2945,71,71,528,956,33014,455,34,34,844,2381,441,4191,1956,807,1458,153,103]
[null,"Female 40-44",1433,2044,611,626,439,2816,494,905,462,1197,1197,767,1025,550,873,266,8657,2320,200,1535,2390,2390,2440,3234,11853,2501,6289,1806,1367,291,1367,5564,5773,971,457,916,3066,105,105,460,1112,33442,494,14,14,875,2498,443,4243,1853,836,1609,200,104]
[null,"Female 45-49",1498,2184,686,665,520,3587,664,1040,545,1566,1566,799,1328,754,1094,385,9718,2170,233,1758,2735,2735,2798,3645,14257,2712,7483,2134,1614,400,1614,6774,6319,1216,528,1140,3608,95,95,583,1267,39170,664,23,23,1119,3166,495,4782,2047,1032,1839,233,105]
[null,"Female 50-54",1562,2295,733,620,577,3706,713,1090,562,1695,1695,953,1254,740,1112,363,9801,2060,270,1752,2947,2947,2842,3735,14788,2808,7726,2331,1754,480,1754,7062,6141,1207,513,1189,3723,122,122,562,1315,40518,713,20,20,1263,3339,528,5082,2135,1093,1762,270,106]
[null,"Female 55-59",1390,2044,654,671,587,3484,693,936,471,1582,1582,900,1188,700,1053,288,9078,1871,231,1530,2660,2660,2466,3343,13419,2553,6938,2259,1672,438,1672,6481,5725,1183,509,1060,3369,109,109,509,1159,37275,693,14,14,1236,3112,465,4740,2080,1010,1618,231,107]
[null,"Female 60-64",1242,1852,610,563,526,3066,629,796,418,1556,1556,775,1040,528,882,251,7802,1536,248,1426,2425,2425,2222,2630,11399,2340,5533,2041,1515,318,1515,5866,4748,969,488,923,3059,104,104,498,941,32644,629,30,30,1103,2807,378,4261,1836,865,1361,248,108]
[null,"Female 65-69",1175,1846,671,601,577,3156,684,825,459,1539,1539,799,1047,523,858,247,8027,1507,236,1421,2498,2498,2246,2289,10956,2299,5323,2117,1540,360,1540,5633,4845,1041,453,976,2936,119,119,460,1056,32580,684,25,25,1133,2697,366,4358,1860,848,1439,236,109]
[null,"Female 70-74",810,1333,523,485,476,2542,547,672,353,1252,1252,642,854,468,694,146,6254,1136,173,1160,1922,1922,1832,1748,8804,1687,4127,1602,1126,274,1126,4677,3785,756,354,747,2486,103,103,369,855,25764,547,19,19,941,2191,319,3418,1496,636,1199,173,110]
[null,"Female 75-79",804,1228,424,427,440,2066,442,534,240,981,981,617,730,380,613,158,5240,1088,166,962,1578,1578,1496,1715,7811,1536,3868,1472,1032,202,1032,3943,3220,601,308,568,2070,63,63,282,805,22167,442,10,10,768,1873,294,2904,1326,608,918,166,111]
[null,"Female 80-84",713,1051,338,330,334,1620,350,357,161,817,817,502,541,350,483,151,4031,815,153,693,1257,1257,1050,1545,6306,1272,3305,1078,744,156,744,3001,2424,473,221,478,1529,60,60,236,671,17470,350,15,15,601,1472,196,2325,1068,432,653,153,112]
[null,"Female 85-89",401,587,186,245,187,890,213,208,102,455,455,275,289,203,272,67,2527,556,63,433,809,809,641,960,3673,728,1920,676,489,80,489,1753,1505,307,141,244,842,29,29,204,353,10411,213,5,5,357,911,106,1533,724,257,370,63,113]
[null,"Female 90+",195,309,114,161,104,620,147,126,61,276,276,165,184,139,147,35,1456,336,57,276,482,482,402,563,1897,373,1033,376,272,26,272,864,827,139,64,154,360,12,12,96,168,5892,147,1,1,282,504,65,904,422,102,205,57,114]
[null,"Male 0-4",null,null,null,null,null,null,null,null,null,null,null,null,null,null,null,null,null,null,null,null,null,null,null,null,null,null,null,null,null,null,null,null,null,null,null,null,null,null,null,null,null,null,null,null,null,null,null,null,null,null,null,null,null,115]
[null,"Male 5-9",null,null,null,null,null,null,null,null,null,null,null,null,null,null,null,null,null,null,null,null,null,null,null,null,null,null,null,null,null,null,null,null,null,null,null,null,null,null,null,null,null,null,null,null,null,null,null,null,null,null,null,null,null,116]
[null,"Male 10-15",null,null,null,null,null,null,null,null,null,null,null,null,null,null,null,null,null,null,null,null,null,null,null,null,null,null,null,null,null,null,null,null,null,null,null,null,null,null,null,null,null,null,null,null,null,null,null,null,null,null,null,null,null,117]
[null,"Male 16-19",925,1350,425,390,304,2032,365,621,306,904,904,564,727,419,608,218,5932,1517,140,1094,1635,1635,1715,2329,8547,1696,4487,1318,1014,213,1014,4060,3932,717,346,663,2211,67,67,380,725,23693,365,8,8,642,1849,315,2969,1334,583,1090,140,118]
[null,"Male 20-24",2227,2839,612,608,398,2609,540,1032,406,1220,1220,1679,978,616,853,295,8771,2929,156,1315,2030,2030,2347,4391,12741,3325,7435,1706,1308,322,1308,5306,6201,886,486,832,2832,91,91,669,976,35964,540,42,42,799,2474,626,4986,2956,835,1533,156,119]
[null,"Male 25-29",2659,3378,719,711,364,2551,568,1041,387,993,993,1555,940,580,850,258,10315,4305,177,1333,2157,2157,2374,6039,14465,3910,9057,1655,1291,320,1291,5408,7590,932,532,776,2896,104,104,755,1016,39611,568,46,46,835,2512,654,5178,3021,844,1503,177,120]
[null,"Male 30-34",2113,2753,640,719,387,2429,483,825,367,997,997,1196,961,508,831,220,9827,3889,146,1335,2107,2107,2160,5603,13940,3248,8561,1637,1250,319,1250,5379,7237,902,495,704,2963,71,71,752,1092,37146,483,24,24,764,2416,458,4774,2667,819,1615,146,121]
[null,"Male 35-39",1642,2265,623,614,377,2151,472,729,384,940,940,817,848,442,798,199,8615,2981,142,1335,2065,2065,2064,4380,11927,2731,6999,1557,1180,307,1180,4928,6078,886,466,603,2651,72,72,678,866,32341,472,33,33,700,2277,345,4174,2109,805,1413,142,122]
[null,"Male 40-44",1429,2014,585,580,360,2509,514,785,417,1122,1122,767,944,496,822,265,8563,2552,199,1446,2265,2265,2231,3379,11460,2417,6072,1530,1170,261,1170,5388,5784,883,403,743,2932,102,102,505,918,32014,514,29,29,822,2456,368,4117,1852,753,1527,199,123]
[null,"Male 45-49",1517,2140,623,666,498,3221,612,967,533,1351,1351,912,1179,566,936,284,9183,2341,235,1710,2595,2595,2677,3570,13124,2662,6727,1928,1430,319,1430,6397,5976,1025,522,992,3316,105,105,611,1061,36688,612,13,13,1050,3081,434,4784,2189,927,1674,235,124]
[null,"Male 50-54",1408,2065,657,667,512,3406,693,977,498,1582,1582,848,1234,726,1012,342,9438,2254,259,1662,2706,2706,2639,3451,13528,2570,7034,2125,1613,419,1613,6494,6039,1112,505,1006,3378,119,119,602,1120,37819,693,36,36,1166,3116,479,4823,2117,976,1661,259,125]
[null,"Male 55-59",1385,2032,647,563,542,3150,671,911,448,1530,1530,788,1136,622,950,282,8618,1937,257,1517,2522,2522,2428,3099,12461,2499,6391,2091,1549,381,1549,6070,5425,1049,467,914,3042,110,110,515,1055,35036,671,26,26,1100,3028,463,4388,1866,952,1489,257,126]
[null,"Male 60-64",1133,1677,544,560,505,2766,642,766,412,1384,1384,655,953,492,749,257,7336,1534,259,1249,2270,2270,2015,2467,10473,2051,5204,1879,1374,287,1374,5269,4424,921,374,847,2728,109,109,472,923,29980,642,21,21,966,2541,354,3957,1687,778,1220,259,127]
[null,"Male 65-69",1034,1670,636,598,547,2950,661,800,404,1537,1537,728,959,443,765,202,7355,1418,255,1398,2351,2351,2198,2048,9471,2054,4509,2003,1456,271,1456,4962,4343,881,384,883,2561,121,121,434,842,29727,661,23,23,1108,2401,396,4111,1760,703,1279,255,128]
[null,"Male 70-74",672,1103,431,406,433,2179,474,531,287,1161,1161,498,722,319,546,121,5419,1031,163,980,1692,1692,1511,1516,7393,1401,3466,1508,1075,216,1075,3927,3253,680,298,610,2005,98,98,291,704,22052,474,24,24,847,1922,244,2887,1195,590,996,163,129]
[null,"Male 75-79",558,884,326,303,321,1673,350,423,214,919,919,446,575,282,463,98,4030,750,145,725,1276,1276,1148,1131,5554,1091,2681,1066,745,152,745,2873,2404,472,207,468,1489,81,81,231,589,16695,350,8,8,630,1384,209,2256,980,429,719,145,130]
[null,"Male 80-84",451,719,268,227,211,1039,221,271,127,583,583,297,357,202,324,82,2740,546,89,525,878,878,796,800,3807,867,1869,697,486,107,486,1938,1641,294,148,292,1002,35,35,150,413,11333,221,6,6,390,936,144,1552,674,265,477,89,131]
[null,"Male 85-89",231,334,103,122,104,550,151,127,62,284,284,145,191,115,150,32,1369,272,49,253,430,430,380,396,1801,406,894,364,260,49,260,907,788,157,72,136,447,16,16,81,174,5568,151,1,1,223,460,65,778,348,128,209,49,132]
[null,"Male 90+",93,149,56,68,35,214,56,37,20,124,124,67,70,64,67,17,598,145,9,93,192,192,130,164,686,180,374,171,136,18,136,312,350,64,31,56,148,9,9,30,73,2286,56,0,0,88,164,17,357,165,38,74,9,133]
["SIMD Q3","Female 0-4",null,null,null,null,null,null,null,null,null,null,null,null,null,null,null,null,null,null,null,null,null,null,null,null,null,null,null,null,null,null,null,null,null,null,null,null,null,null,null,null,null,null,null,null,null,null,null,null,null,null,null,null,null,134]
[null,"Female 5-9",null,null,null,null,null,null,null,null,null,null,null,null,null,null,null,null,null,null,null,null,null,null,null,null,null,null,null,null,null,null,null,null,null,null,null,null,null,null,null,null,null,null,null,null,null,null,null,null,null,null,null,null,null,135]
[null,"Female 10-15",null,null,null,null,null,null,null,null,null,null,null,null,null,null,null,null,null,null,null,null,null,null,null,null,null,null,null,null,null,null,null,null,null,null,null,null,null,null,null,null,null,null,null,null,null,null,null,null,null,null,null,null,null,136]
[null,"Female 16-19",686,1739,1053,783,761,1343,778,521,175,1068,1068,476,417,164,454,231,5612,1436,359,598,1613,1613,1119,2366,6658,2309,3947,2204,1443,276,1443,2711,3221,478,570,407,1401,123,123,661,662,22864,778,149,149,519,1310,346,3533,1920,248,853,359,137]
[null,"Female 20-24",2047,3366,1319,892,679,1536,944,908,256,1258,1258,856,496,216,627,258,9979,4577,365,780,2249,2249,1688,5281,10715,4056,7340,2329,1650,319,1650,3375,6786,516,690,475,1711,169,169,894,872,34910,944,173,173,565,1664,652,4891,2642,394,1066,365,138]
[null,"Female 25-29",2001,3419,1418,811,728,1569,769,843,265,1309,1309,957,535,200,591,266,11165,5634,413,789,2483,2483,1632,4977,10596,4149,7016,2509,1781,307,1781,3580,7913,581,730,430,1886,184,184,928,883,36432,769,210,210,604,1694,578,5179,2696,383,1107,413,139]
[null,"Female 30-34",1580,3122,1542,1001,825,1684,948,690,274,1254,1254,616,555,161,607,281,10090,4317,453,918,2372,2372,1608,3952,9993,3968,6020,2744,1919,269,1919,3973,6770,615,846,465,2153,203,203,993,973,34795,948,188,188,664,1820,416,4982,2610,384,1231,453,140]
[null,"Female 35-39",986,2487,1501,1074,844,1712,901,700,237,1233,1233,481,545,195,619,295,8723,2948,547,934,2446,2446,1634,2996,9211,3196,5164,2899,2055,373,2055,4047,5376,619,709,499,2218,142,142,915,930,31957,901,190,190,668,1829,463,4916,2470,375,1190,547,141]
[null,"Female 40-44",869,2490,1621,1248,1048,1991,1201,773,293,1568,1568,422,658,213,683,311,8627,2347,574,1000,2434,2434,1773,2508,9074,3339,4878,3250,2202,415,2202,4196,4992,659,849,586,2292,193,193,1034,1027,33291,1201,198,198,747,1904,480,5138,2704,404,1303,574,142]
[null,"Female 45-49",895,2978,2083,1415,1294,2544,1550,940,393,2162,2162,536,868,310,942,357,10109,2094,709,1129,3028,3028,2069,2734,10876,3978,5847,4181,2887,489,2887,5029,5531,869,1000,744,2502,260,260,1369,1377,40488,1550,280,280,932,2527,547,6348,3320,580,1626,709,143]
[null,"Female 50-54",996,3074,2078,1588,1612,2825,1593,997,405,2340,2340,660,926,266,849,404,10273,2070,719,1196,3271,3271,2193,2861,10969,4168,5977,4739,3127,546,3127,4992,5409,875,1094,798,2428,284,284,1497,1329,42537,1593,282,282,1101,2564,592,7016,3745,571,1615,719,144]
[null,"Female 55-59",906,2768,1862,1542,1487,2500,1570,898,386,2173,2173,638,808,279,836,395,9353,1821,683,1070,2987,2987,1968,2555,10187,3724,5518,4507,3020,571,3020,4669,4796,764,956,764,2144,244,244,1372,1172,39153,1570,262,262,928,2525,512,6539,3552,546,1375,683,145]
[null,"Female 60-64",841,2642,1801,1362,1473,2298,1415,833,326,2131,2131,526,666,240,729,343,8015,1486,693,970,2581,2581,1803,1882,8296,3506,4371,4238,2765,397,2765,3925,4019,649,864,762,1815,221,221,1235,1017,34585,1415,261,261,870,2110,507,5704,3123,492,1155,693,146]
[null,"Female 65-69",794,2604,1810,1443,1556,2476,1515,823,359,2297,2297,548,770,211,739,327,8396,1422,707,1016,2823,2823,1839,1598,7763,3496,4058,4342,2786,395,2786,3705,4058,720,892,784,1794,227,227,1293,1042,35061,1515,234,234,922,1911,464,6107,3284,485,1177,707,147]
[null,"Female 70-74",599,1937,1338,1085,1160,1997,1143,657,279,1869,1869,415,608,162,589,261,6421,1066,575,729,2149,2149,1386,1242,6160,2692,3141,3394,2234,329,2234,3019,3129,545,755,653,1406,229,229,1119,795,27558,1143,216,216,736,1613,378,4768,2619,352,929,575,148]
[null,"Female 75-79",553,1598,1045,818,954,1479,921,537,217,1422,1422,400,433,119,501,257,5125,892,509,604,1689,1689,1141,1038,5134,2207,2637,2589,1635,296,1635,2497,2515,430,609,517,1087,185,185,851,639,22028,921,168,168,529,1410,320,3758,2069,288,692,509,149]
[null,"Female 80-84",501,1179,678,624,676,1081,680,386,148,1051,1051,397,318,78,390,250,3774,707,381,419,1223,1223,805,937,4117,1687,2178,1879,1203,216,1203,1939,1871,297,508,359,834,106,106,671,454,16697,680,124,124,404,1105,238,2915,1692,243,477,381,150]
[null,"Female 85-89",331,820,489,408,407,610,397,243,108,717,717,222,144,50,302,154,2406,491,245,220,815,815,463,565,2472,1088,1337,1219,812,175,812,1135,1194,155,268,227,441,78,78,458,259,10459,397,73,73,239,694,135,1903,1088,134,246,245,151]
[null,"Female 90+",190,459,269,274,271,363,232,142,45,413,413,132,97,47,172,82,1406,290,172,104,451,451,246,383,1563,629,981,666,395,153,395,582,723,109,170,149,199,67,67,288,243,6278,232,59,59,117,383,97,1145,694,73,152,172,152]
[null,"Male 0-4",null,null,null,null,null,null,null,null,null,null,null,null,null,null,null,null,null,null,null,null,null,null,null,null,null,null,null,null,null,null,null,null,null,null,null,null,null,null,null,null,null,null,null,null,null,null,null,null,null,null,null,null,null,153]
[null,"Male 5-9",null,null,null,null,null,null,null,null,null,null,null,null,null,null,null,null,null,null,null,null,null,null,null,null,null,null,null,null,null,null,null,null,null,null,null,null,null,null,null,null,null,null,null,null,null,null,null,null,null,null,null,null,null,154]
[null,"Male 10-15",null,null,null,null,null,null,null,null,null,null,null,null,null,null,null,null,null,null,null,null,null,null,null,null,null,null,null,null,null,null,null,null,null,null,null,null,null,null,null,null,null,null,null,null,null,null,null,null,null,null,null,null,null,155]
[null,"Male 16-19",619,1851,1232,925,815,1444,794,512,217,1208,1208,389,465,160,516,246,5571,1311,381,626,1656,1656,1138,2054,6634,2408,3768,2505,1690,260,1690,2866,3121,412,557,383,1487,150,150,807,785,23727,794,167,167,596,1379,295,3777,2121,263,882,381,156]
[null,"Male 20-24",2020,3535,1515,983,822,1804,938,931,293,1382,1382,762,629,221,635,326,9367,3675,447,830,2293,2293,1761,4734,10454,4210,6922,2598,1776,386,1776,3532,6136,599,675,528,1746,180,180,1070,864,35247,938,229,229,647,1786,638,5108,2815,391,1227,447,157]
[null,"Male 25-29",2507,3861,1354,874,741,1601,868,783,228,1315,1315,898,628,208,597,252,10586,5065,411,773,2284,2284,1556,4871,10361,4548,7046,2522,1781,364,1781,3315,7434,568,687,422,1654,203,203,863,916,35940,868,202,202,551,1661,555,4919,2635,435,1204,411,158]
[null,"Male 30-34",1901,3336,1435,977,702,1491,885,655,220,1233,1233,736,532,179,525,254,9969,4483,449,775,2265,2265,1430,4492,10217,4128,6576,2653,1951,323,1951,3641,6819,567,792,394,1927,175,175,963,950,34643,885,222,222,565,1714,435,4941,2676,378,1244,449,159]
[null,"Male 35-39",1378,2828,1450,967,788,1594,835,642,222,1144,1144,528,598,158,540,263,8852,3418,495,936,2232,2232,1578,3444,9199,3551,5375,2770,1982,347,1982,3824,5785,586,723,417,2112,162,162,942,831,32007,835,225,225,579,1712,420,4669,2437,332,1241,495,160]
[null,"Male 40-44",1063,2661,1598,1136,943,1780,1098,717,292,1367,1367,478,609,188,701,265,8689,2555,562,954,2385,2385,1671,2499,8483,3466,4552,2890,1947,349,1947,3931,5206,640,805,515,2101,166,166,923,847,31831,1098,220,220,656,1830,425,4922,2537,404,1310,562,161]
[null,"Male 45-49",1045,3055,2010,1368,1251,2296,1359,882,370,1886,1886,501,798,236,802,305,9492,2240,755,1160,2847,2847,2042,2602,9794,4032,5135,3799,2548,402,2548,4659,5286,743,977,674,2351,216,216,1207,1096,37651,1359,263,263,824,2308,512,5923,3076,494,1501,755,162]
[null,"Male 50-54",1068,3059,1991,1592,1399,2568,1561,946,380,2194,2194,642,905,242,819,388,9822,2201,720,1203,2967,2967,2149,2611,10234,4060,5533,4402,3003,479,3003,4701,5294,749,1001,756,2320,284,284,1419,1267,40386,1561,300,300,907,2381,566,6620,3653,546,1525,720,163]
[null,"Male 55-59",947,2791,1844,1476,1413,2249,1530,888,376,2106,2106,596,713,231,839,380,9193,1854,709,1022,2906,2906,1910,2317,9276,3753,5061,4380,2967,511,2967,4215,4757,692,962,722,1919,303,303,1324,1096,37545,1530,270,270,814,2296,512,6302,3396,526,1372,709,164]
[null,"Male 60-64",850,2574,1724,1256,1370,2167,1350,778,308,2038,2038,500,680,204,739,296,7823,1524,683,847,2431,2431,1625,1935,7810,3410,4163,4178,2808,383,2808,3647,4042,658,836,641,1637,242,242,1249,882,33247,1350,266,266,846,2010,470,5436,3005,463,1121,683,165]
[null,"Male 65-69",802,2600,1798,1465,1569,2320,1462,797,326,2190,2190,503,709,222,691,261,7857,1374,743,911,2594,2594,1708,1535,7064,3469,3692,4333,2764,358,2764,3372,3801,662,869,763,1649,234,234,1208,918,33371,1462,277,277,848,1723,471,5770,3176,398,1074,743,166]
[null,"Male 70-74",496,1770,1274,957,1133,1761,1079,571,249,1755,1755,354,545,123,526,217,5596,815,536,687,1900,1900,1258,1089,5184,2408,2713,3255,2122,301,2122,2471,2617,470,638,574,1160,195,195,970,679,24436,1079,207,207,642,1311,322,4181,2281,304,806,536,167]
[null,"Male 75-79",449,1329,880,715,851,1302,799,400,165,1317,1317,308,407,68,349,172,4159,651,413,488,1438,1438,888,776,3820,1893,1896,2293,1442,214,1442,1924,1922,344,564,429,846,140,140,742,479,18146,799,156,156,466,1078,235,3203,1765,187,578,413,168]
[null,"Male 80-84",317,916,599,470,508,803,522,283,105,892,892,210,259,69,274,129,2829,545,245,290,910,910,573,535,2594,1232,1373,1521,1013,141,1013,1221,1397,223,316,274,511,105,105,529,335,12096,522,93,93,270,710,178,2119,1209,164,355,245,169]
[null,"Male 85-89",158,417,259,267,245,374,259,124,56,413,413,144,106,20,140,71,1413,248,149,125,467,467,249,237,1267,607,694,740,495,89,495,573,687,121,190,117,244,53,53,286,208,6019,259,57,57,151,329,68,1164,697,69,178,149,170]
[null,"Male 90+",63,186,123,117,101,149,93,56,27,200,200,52,35,12,59,35,573,105,60,64,197,197,120,120,600,260,362,288,187,38,187,238,283,38,74,59,90,21,21,133,133,2593,93,20,20,55,148,29,499,302,24,81,60,171]
["SIMD Q4","Female 0-4",null,null,null,null,null,null,null,null,null,null,null,null,null,null,null,null,null,null,null,null,null,null,null,null,null,null,null,null,null,null,null,null,null,null,null,null,null,null,null,null,null,null,null,null,null,null,null,null,null,null,null,null,null,172]
[null,"Female 5-9",null,null,null,null,null,null,null,null,null,null,null,null,null,null,null,null,null,null,null,null,null,null,null,null,null,null,null,null,null,null,null,null,null,null,null,null,null,null,null,null,null,null,null,null,null,null,null,null,null,null,null,null,null,173]
[null,"Female 10-15",null,null,null,null,null,null,null,null,null,null,null,null,null,null,null,null,null,null,null,null,null,null,null,null,null,null,null,null,null,null,null,null,null,null,null,null,null,null,null,null,null,null,null,null,null,null,null,null,null,null,null,null,null,174]
[null,"Female 16-19",1082,2976,1894,569,433,1093,875,880,179,481,481,911,337,362,874,347,5276,1328,29,605,1236,1236,1485,1386,5855,3751,3282,1946,1513,325,1513,2573,3165,287,775,461,1132,197,197,1452,647,23408,875,363,363,295,1441,701,4168,2932,215,676,29,175]
[null,"Female 20-24",2572,4756,2184,634,461,1319,840,1254,191,624,624,1990,445,550,1110,357,8161,3456,50,805,1598,1598,2059,4937,10228,5560,7331,2129,1668,397,1668,2897,5723,332,804,535,1272,233,233,1483,814,34833,840,363,363,339,1625,1063,5705,4107,276,825,50,176]
[null,"Female 25-29",2096,4458,2362,631,406,1203,792,987,175,607,607,998,412,436,777,382,9342,4806,41,776,1580,1580,1763,4096,9115,5351,6268,2277,1871,319,1871,2847,6970,385,893,498,1234,257,257,1387,750,33433,792,461,461,293,1613,812,4596,3016,285,1002,41,177]
[null,"Female 30-34",1659,4533,2874,707,426,1307,920,894,235,624,624,781,461,467,863,341,9182,4054,61,882,1666,1666,1776,3266,8788,5547,5502,2667,2241,285,2241,3286,6596,481,1014,469,1365,290,290,1671,859,33838,920,437,437,377,1921,659,4825,3159,284,1198,61,178]
[null,"Female 35-39",1289,4279,2990,763,521,1435,946,980,244,605,605,660,543,502,958,404,8414,3028,46,941,1788,1788,1921,2401,8648,5267,4827,2670,2149,403,2149,3821,5680,492,988,512,1524,315,315,1580,853,32800,946,476,476,380,2297,736,4791,3003,264,1202,46,179]
[null,"Female 40-44",1032,4278,3246,824,642,1765,1248,1195,324,749,749,647,559,597,1156,463,8792,2583,52,1157,2062,2062,2352,2023,9050,5535,4898,3193,2551,466,2551,4152,5482,472,1257,661,1717,338,338,1999,1017,35805,1248,509,509,545,2435,871,5532,3470,332,1271,52,180]
[null,"Female 45-49",1060,4916,3856,1089,851,2127,1657,1405,401,1025,1025,749,671,762,1391,564,9998,2440,52,1304,2558,2558,2709,2256,10779,6352,5996,3821,2970,619,2970,4783,5783,552,1436,848,2076,395,395,2547,1313,42189,1657,546,546,608,2707,1004,6943,4385,482,1400,52,181]
[null,"Female 50-54",1120,5059,3939,1238,908,2293,1803,1481,361,1135,1135,834,692,853,1356,566,10326,2652,66,1218,2674,2674,2699,2381,11241,6550,6431,4130,3222,690,3222,4810,5849,539,1491,986,2063,411,411,2584,1401,44075,1803,568,568,615,2747,1120,7330,4656,540,1302,66,182]
[null,"Female 55-59",1037,4423,3386,1097,848,2195,1691,1228,322,1139,1139,841,660,914,1271,522,9310,2379,58,1067,2469,2469,2295,2093,10126,5775,5988,3761,2913,591,2913,4138,5150,462,1352,889,1694,399,399,2318,1309,39814,1691,500,500,646,2444,906,6725,4256,559,1038,58,183]
[null,"Female 60-64",959,3995,3036,1106,803,2041,1524,1023,264,1097,1097,601,589,730,1062,466,8119,1996,38,888,2250,2250,1911,1635,8356,5199,4848,3583,2780,464,2780,3508,4345,422,1204,891,1445,369,369,2190,1135,35061,1524,451,451,561,2063,759,6147,3897,418,865,38,184]
[null,"Female 65-69",988,3965,2977,1187,921,2080,1655,1061,293,1044,1044,664,582,714,1063,425,8269,1919,59,987,2316,2316,2048,1431,7576,5290,4498,3646,2725,434,2725,3078,4298,459,1325,914,1206,382,382,2219,1057,34888,1655,424,424,584,1872,768,6386,4070,437,857,59,185]
[null,"Female 70-74",696,2869,2173,943,729,1752,1324,844,227,900,900,466,431,507,761,332,6267,1445,46,739,1793,1793,1583,1025,5385,3866,3323,2793,2064,363,2064,2062,3150,354,997,745,790,289,289,1688,760,26320,1324,342,342,576,1272,617,4890,3097,336,590,46,186]
[null,"Female 75-79",592,2298,1706,734,561,1235,1068,619,149,709,709,407,305,480,570,302,4862,1182,38,582,1309,1309,1201,920,4486,3022,2785,2157,1596,242,1596,1701,2485,263,724,512,677,227,227,1389,570,20708,1068,241,241,418,1024,470,3839,2530,271,470,38,187]
[null,"Female 80-84",457,1728,1271,591,383,941,729,486,110,561,561,405,191,337,443,257,3631,1013,19,423,976,976,909,691,3303,2317,2127,1636,1253,226,1253,1176,1926,178,589,381,429,134,134,1015,439,15634,729,172,172,369,747,376,2987,2011,177,292,19,188]
[null,"Female 85-89",280,1087,807,349,250,552,474,299,69,328,328,324,116,258,253,169,2389,835,22,254,592,592,553,445,2100,1464,1421,1002,752,144,752,679,1323,96,377,226,178,98,98,696,294,9988,474,111,111,210,501,230,1961,1369,111,139,22,189]
[null,"Female 90+",129,593,464,283,160,342,279,217,45,171,171,187,71,129,129,168,1420,493,11,173,407,407,390,274,1185,790,862,652,492,75,492,323,734,71,197,150,79,48,48,454,161,5998,279,65,65,121,244,172,1331,924,55,41,11,190]
[null,"Male 0-4",null,null,null,null,null,null,null,null,null,null,null,null,null,null,null,null,null,null,null,null,null,null,null,null,null,null,null,null,null,null,null,null,null,null,null,null,null,null,null,null,null,null,null,null,null,null,null,null,null,null,null,null,null,191]
[null,"Male 5-9",null,null,null,null,null,null,null,null,null,null,null,null,null,null,null,null,null,null,null,null,null,null,null,null,null,null,null,null,null,null,null,null,null,null,null,null,null,null,null,null,null,null,null,null,null,null,null,null,null,null,null,null,null,192]
[null,"Male 10-15",null,null,null,null,null,null,null,null,null,null,null,null,null,null,null,null,null,null,null,null,null,null,null,null,null,null,null,null,null,null,null,null,null,null,null,null,null,null,null,null,null,null,null,null,null,null,null,null,null,null,null,null,null,193]
[null,"Male 16-19",864,3036,2172,703,506,1224,850,887,230,530,530,764,360,450,741,351,5165,1255,35,817,1393,1393,1704,1295,6138,3869,3424,2351,1845,396,1845,2714,2922,275,833,516,1150,247,247,1628,709,24732,850,374,374,348,1564,657,4488,3095,223,651,35,194]
[null,"Male 20-24",2141,4587,2446,841,566,1330,880,1289,301,642,642,1669,402,597,931,359,7703,2963,47,956,1822,1822,2245,4227,10081,5633,6841,2612,2046,415,2046,3240,5001,299,1046,586,1511,259,259,1717,915,35228,880,449,449,342,1729,988,6049,4227,328,808,47,195]
[null,"Male 25-29",2425,4870,2445,698,460,1183,705,923,250,607,607,1097,396,471,656,379,8535,4394,25,783,1592,1592,1706,4060,9419,5814,6535,2476,2016,329,2016,2884,6238,329,944,447,1294,253,253,1446,969,33718,705,459,459,340,1590,673,4833,3241,327,859,25,196]
[null,"Male 30-34",1793,4435,2642,681,400,1120,711,862,311,641,641,696,421,426,691,297,8655,4162,23,811,1593,1593,1673,3364,8697,5396,5455,2509,2109,350,2109,3242,6351,386,961,379,1407,253,253,1593,763,32346,711,409,409,320,1835,551,4563,2970,255,1112,23,197]
[null,"Male 35-39",1410,4392,2982,650,500,1313,843,1016,315,547,547,567,468,424,839,355,8327,3277,50,937,1744,1744,1953,2491,8318,5349,4664,2650,2150,338,2150,3654,5740,473,957,472,1527,241,241,1602,833,32021,843,454,454,373,2127,701,4563,2819,223,1151,50,198]
[null,"Male 40-44",1182,4472,3290,768,626,1567,1096,1129,340,713,713,578,556,506,1115,431,8523,2736,55,1029,1858,1858,2158,2165,8703,5637,4733,2996,2370,409,2370,3970,5569,453,1165,599,1714,308,308,1791,917,34348,1096,551,551,412,2256,789,4995,3137,305,1265,55,199]
[null,"Male 45-49",1108,4649,3541,985,767,1992,1507,1411,427,944,944,692,628,668,1232,447,9571,2552,72,1240,2496,2496,2651,2237,10048,6126,5484,3583,2816,566,2816,4564,5568,471,1477,782,1991,406,406,2238,1135,39846,1507,538,538,582,2573,984,6411,3915,431,1313,72,200]
[null,"Male 50-54",1144,4977,3833,1168,865,2145,1729,1457,400,1119,1119,765,662,716,1335,559,9927,2528,56,1183,2559,2559,2640,2180,10501,6471,5827,3900,3035,645,3035,4674,5639,485,1494,887,2030,442,442,2532,1256,42258,1729,592,592,596,2644,1057,7024,4465,471,1291,56,201]
[null,"Male 55-59",1038,4504,3466,1025,803,2055,1594,1286,335,1032,1032,828,629,765,1249,420,9120,2326,52,1095,2389,2389,2381,1892,9235,5816,5354,3697,2894,566,2894,3881,5137,464,1312,830,1589,390,390,2322,1225,38483,1594,530,530,596,2292,951,6564,4175,486,1098,52,202]
[null,"Male 60-64",999,4067,3068,1028,788,1873,1526,1018,257,1046,1046,623,584,688,957,435,7736,2022,45,849,2043,2043,1867,1603,7844,5335,4598,3435,2647,474,2647,3246,4167,392,1268,767,1323,361,361,2142,1002,33820,1526,485,485,522,1923,761,5836,3793,396,796,45,203]
[null,"Male 65-69",920,4039,3119,1056,822,1882,1618,974,265,1053,1053,585,538,687,936,388,7692,1704,52,891,2202,2202,1865,1386,7242,5241,4231,3458,2636,403,2636,3011,3872,430,1202,837,1159,352,352,2162,944,33114,1618,474,474,507,1852,709,6005,3803,423,802,52,204]
[null,"Male 70-74",663,2714,2051,866,675,1555,1242,803,207,826,826,410,439,479,744,277,5750,1199,42,643,1652,1652,1446,896,4974,3647,2962,2680,2005,307,2005,2012,2856,353,933,678,793,277,277,1580,720,24360,1242,307,307,438,1219,596,4508,2856,283,560,42,205]
[null,"Male 75-79",448,1947,1499,681,453,1024,911,527,128,609,609,317,253,373,491,207,4096,953,22,475,1142,1142,1002,699,3473,2624,2183,1770,1317,221,1317,1290,2043,207,677,461,506,224,224,1216,494,17285,911,227,227,310,784,399,3356,2214,189,392,22,206]
[null,"Male 80-84",305,1272,967,409,307,702,594,362,92,456,456,278,156,270,327,157,2720,696,21,341,720,720,703,501,2361,1719,1523,1230,923,133,923,838,1406,158,447,309,302,126,126,855,307,11713,594,133,133,237,536,270,2262,1542,155,225,21,207]
[null,"Male 85-89",141,684,543,250,140,324,344,200,42,229,229,152,63,144,197,76,1510,429,12,171,360,360,371,256,1204,898,792,639,499,77,499,412,806,70,214,153,129,68,68,466,180,6184,344,61,61,108,283,158,1228,868,59,110,12,208]
[null,"Male 90+",41,270,229,95,70,140,123,76,16,86,86,83,33,62,62,49,596,211,2,70,159,159,146,104,498,368,345,278,208,29,208,153,314,18,98,50,54,33,33,194,76,2544,123,25,25,57,99,60,531,372,25,23,2,209]
["SIMD Q5 (least deprived)","Female 0-4",null,null,null,null,null,null,null,null,null,null,null,null,null,null,null,null,null,null,null,null,null,null,null,null,null,null,null,null,null,null,null,null,null,null,null,null,null,null,null,null,null,null,null,null,null,null,null,null,null,null,null,null,null,210]
[null,"Female 5-9",null,null,null,null,null,null,null,null,null,null,null,null,null,null,null,null,null,null,null,null,null,null,null,null,null,null,null,null,null,null,null,null,null,null,null,null,null,null,null,null,null,null,null,null,null,null,null,null,null,null,null,null,null,211]
[null,"Female 10-15",null,null,null,null,null,null,null,null,null,null,null,null,null,null,null,null,null,null,null,null,null,null,null,null,null,null,null,null,null,null,null,null,null,null,null,null,null,null,null,null,null,null,null,null,null,null,null,null,null,null,null,null,null,212]
[null,"Female 16-19",2038,3913,1875,459,134,1062,210,1237,163,259,259,632,318,1321,357,1309,8569,4607,0,677,2298,2298,1914,1490,6939,4329,5165,575,441,195,441,1774,6061,283,416,256,787,26,26,504,748,25268,210,0,0,488,987,1074,3893,1595,102,814,0,213]
[null,"Female 20-24",3592,5647,2055,424,184,1035,203,1289,146,308,308,776,318,1390,358,1374,16115,10278,0,801,4167,4167,2090,3864,9888,6082,7874,676,492,245,492,2014,11745,349,435,249,859,44,44,575,883,38013,203,0,0,468,1155,1143,5942,1775,118,760,0,214]
[null,"Female 25-29",4021,6104,2083,402,146,869,158,797,106,354,354,639,341,1057,364,1126,12373,8825,0,770,1932,1932,1567,3427,8261,6570,6581,750,604,171,604,1680,10283,349,466,182,735,54,54,532,732,32371,158,0,0,346,945,691,3505,1573,68,745,0,215]
[null,"Female 30-34",3440,6402,2962,492,112,1021,279,679,141,354,354,619,394,1128,422,1114,11249,7206,0,1035,2038,2038,1714,2563,7796,6912,5816,770,658,179,658,1980,8932,426,510,263,864,39,39,667,750,31633,279,0,0,364,1116,538,3816,1778,82,878,0,216]
[null,"Female 35-39",3070,6292,3222,575,168,1233,311,828,194,348,348,572,404,1618,550,1719,11648,6969,0,1079,2293,2293,1907,2021,9082,6699,6649,866,698,232,698,2433,9044,477,407,316,1036,59,59,687,934,33676,311,0,0,513,1397,634,4127,1834,125,1048,0,217]
[null,"Female 40-44",2829,6257,3428,709,194,1572,481,1053,250,376,376,672,528,1879,639,1941,12203,6642,0,1314,2634,2634,2367,1882,9910,6794,7193,1000,806,303,806,2717,9088,494,537,405,1115,43,43,862,1065,36508,481,0,0,639,1602,803,4877,2243,123,1313,0,218]
[null,"Female 45-49",3012,6692,3680,815,264,1996,493,1369,295,502,502,854,605,2263,781,2276,13387,7082,0,1415,2891,2891,2784,2125,11893,7308,8616,1146,882,394,882,3277,10003,562,616,537,1435,75,75,1025,1377,41785,493,0,0,854,1842,1074,5585,2694,181,1578,0,219]
[null,"Female 50-54",3209,6762,3553,836,276,2055,444,1343,314,604,604,909,578,2470,734,2279,13203,7211,0,1302,2803,2803,2645,2159,12434,7340,9001,1205,929,399,929,3433,9956,530,578,519,1412,67,67,1130,1489,42428,444,0,0,958,2021,1029,5678,2875,205,1481,0,220]
[null,"Female 55-59",2966,5963,2997,778,298,2136,392,1171,266,535,535,901,560,2227,618,2036,11974,6741,0,1070,2593,2593,2241,1943,11077,6463,8061,1107,809,348,809,3016,8989,498,500,534,1233,53,53,1049,1337,38314,392,0,0,1042,1783,905,5321,2728,170,1132,0,221]
[null,"Female 60-64",2338,5110,2772,726,219,1993,363,1106,309,515,515,672,502,1995,540,1767,10432,5738,0,892,2404,2404,1998,1707,9653,5615,7121,997,778,400,778,2532,7665,430,505,472,968,56,56,987,1118,33644,363,0,0,1019,1564,797,4789,2385,134,957,0,222]
[null,"Female 65-69",2257,4775,2518,888,253,2156,400,1180,304,487,487,769,510,2027,588,1704,10838,5936,0,865,2683,2683,2045,1418,9049,5295,6755,1022,769,405,769,2294,7755,415,520,528,868,51,51,1166,1106,33766,400,0,0,1118,1426,876,5506,2823,95,816,0,223]
[null,"Female 70-74",1737,3551,1814,639,208,1661,303,909,208,469,469,618,350,1696,496,1467,8114,4419,0,612,2020,2020,1521,849,6886,4003,5212,821,613,322,613,1674,5791,298,452,411,577,45,45,945,831,25722,303,0,0,900,1097,701,4222,2202,47,578,0,224]
[null,"Female 75-79",1503,2860,1357,497,146,1248,265,748,164,359,359,503,242,1532,389,1122,6433,3743,0,453,1429,1429,1201,742,5457,3182,4221,606,460,255,460,1236,4739,229,322,298,432,23,23,781,537,20290,265,0,0,708,804,584,3210,1781,33,378,0,225]
[null,"Female 80-84",1173,2191,1018,392,122,932,159,514,103,290,290,404,194,1130,277,933,5039,3157,0,298,1053,1053,812,631,4169,2456,3283,517,395,186,395,886,3827,154,265,234,275,27,27,602,381,15640,159,0,0,504,611,411,2451,1398,22,239,0,226]
[null,"Female 85-89",860,1506,646,253,70,553,84,288,45,156,156,263,118,659,182,648,3357,2204,0,161,652,652,449,423,2555,1666,2092,310,240,132,240,463,2621,63,160,133,123,14,14,388,220,9964,84,0,0,302,340,243,1556,904,10,172,0,227]
[null,"Female 90+",524,939,415,129,44,360,69,162,18,91,91,117,53,390,114,356,2136,1368,0,123,432,432,285,276,1452,1042,1218,174,130,90,130,234,1635,46,103,73,66,7,7,264,99,6057,69,0,0,234,168,144,942,510,7,107,0,228]
[null,"Male 0-4",null,null,null,null,null,null,null,null,null,null,null,null,null,null,null,null,null,null,null,null,null,null,null,null,null,null,null,null,null,null,null,null,null,null,null,null,null,null,null,null,null,null,null,null,null,null,null,null,null,null,null,null,null,229]
[null,"Male 5-9",null,null,null,null,null,null,null,null,null,null,null,null,null,null,null,null,null,null,null,null,null,null,null,null,null,null,null,null,null,null,null,null,null,null,null,null,null,null,null,null,null,null,null,null,null,null,null,null,null,null,null,null,null,230]
[null,"Male 10-15",null,null,null,null,null,null,null,null,null,null,null,null,null,null,null,null,null,null,null,null,null,null,null,null,null,null,null,null,null,null,null,null,null,null,null,null,null,null,null,null,null,null,null,null,null,null,null,null,null,null,null,null,null,231]
[null,"Male 16-19",1833,4038,2205,503,336,1155,292,1196,157,285,285,636,336,1458,356,1497,8997,4948,0,708,2180,2180,1904,1316,7345,4642,5415,834,498,205,498,1930,6525,350,604,313,823,30,30,576,831,26907,292,0,0,506,1107,1039,3895,1715,108,871,0,232]
[null,"Male 20-24",3051,5432,2381,525,890,1262,240,1355,164,313,313,807,381,1732,452,1641,14630,9034,0,832,3576,3576,2187,3142,10042,6219,7802,1372,482,187,482,2240,10814,393,787,330,925,47,47,665,963,38069,240,0,0,551,1315,1191,5573,1997,137,935,0,233]
[null,"Male 25-29",4459,6747,2288,411,696,881,166,708,115,261,261,750,306,1401,343,1150,12554,8854,0,817,1992,1992,1525,3333,8671,7461,6928,1187,491,198,491,1743,10396,376,714,212,779,45,45,534,754,34280,166,0,0,363,964,593,3687,1695,92,823,0,234]
[null,"Male 30-34",3859,6532,2673,463,328,796,185,585,118,302,302,517,328,1183,373,937,10672,7034,0,972,1945,1945,1557,2602,7297,7089,5667,862,534,189,534,1630,8542,382,557,197,690,41,41,568,672,30164,185,0,0,271,940,467,3493,1548,84,753,0,235]
[null,"Male 35-39",3262,6354,3092,503,296,1088,270,723,150,323,323,563,384,1406,450,1414,10842,6629,0,1065,2116,2116,1788,2207,8261,6825,6103,1003,707,187,707,2158,8456,431,471,281,916,61,61,658,802,31915,270,0,0,423,1242,573,3840,1724,87,946,0,236]
[null,"Male 40-44",2959,6397,3438,654,343,1420,375,1012,212,351,351,566,482,1735,611,1726,11821,6553,0,1215,2580,2580,2227,1994,9301,6974,6734,1037,694,245,694,2567,8866,474,577,352,1075,46,46,716,940,35113,375,0,0,586,1492,800,4516,1936,94,1228,0,237]
[null,"Male 45-49",2985,6569,3584,722,290,1753,501,1297,301,474,474,783,581,2049,677,1989,12932,6865,0,1318,2835,2835,2615,2065,10760,7236,7764,1145,855,289,855,2996,9596,580,667,473,1245,68,68,871,1207,39359,501,0,0,699,1751,996,5211,2376,165,1474,0,238]
[null,"Male 50-54",3049,6537,3488,851,318,1910,414,1250,289,552,552,773,531,2287,781,1943,12608,6804,0,1280,2656,2656,2530,2031,11368,7129,8236,1170,852,428,852,3132,9538,535,592,525,1345,63,63,1090,1371,40044,414,0,0,854,1787,961,5370,2714,176,1418,0,239]
[null,"Male 55-59",2865,5865,3000,736,275,1940,349,1065,241,495,495,815,541,2085,594,1958,11446,6275,0,1060,2549,2549,2125,1782,10493,6358,7647,1047,772,382,772,2846,8548,468,493,464,1166,73,73,894,1299,36422,349,0,0,935,1680,824,4994,2445,141,1211,0,240]
[null,"Male 60-64",2539,5286,2747,683,227,1821,368,1012,269,471,471,663,469,1843,502,1657,9755,5398,0,863,2194,2194,1875,1586,9088,5754,6602,940,713,317,713,2486,7193,394,468,474,967,54,54,897,1060,32001,368,0,0,878,1519,743,4437,2243,139,899,0,241]
[null,"Male 65-69",2245,4804,2559,815,242,2024,403,1120,305,512,512,657,492,1842,508,1491,9962,5381,0,838,2421,2421,1958,1408,8382,5273,6226,989,747,351,747,2156,7138,426,469,505,842,63,63,1053,1037,31688,403,0,0,1027,1314,815,4946,2525,97,823,0,242]
[null,"Male 70-74",1467,3173,1706,604,202,1531,260,762,197,365,365,513,320,1463,425,1142,7147,3753,0,550,1899,1899,1312,842,6066,3547,4552,731,529,297,529,1514,4988,284,374,386,505,41,41,806,759,22663,260,0,0,825,1009,565,3822,1923,49,526,0,243]
[null,"Male 75-79",1112,2328,1216,397,126,1065,177,612,121,311,311,422,216,1223,326,941,5059,2802,0,370,1204,1204,982,584,4497,2617,3464,487,361,200,361,1033,3678,182,289,251,360,22,22,616,484,16475,177,0,0,598,673,491,2639,1435,32,368,0,244]
[null,"Male 80-84",823,1612,789,330,76,764,130,426,81,203,203,327,135,911,224,686,3734,2207,0,271,872,872,697,388,3122,1806,2438,345,269,141,269,684,2732,113,194,190,196,16,16,479,291,11823,130,0,0,439,488,345,2008,1136,21,188,0,245]
[null,"Male 85-89",454,876,422,144,52,393,80,177,34,105,105,187,75,447,101,358,1976,1228,0,110,426,426,287,190,1512,995,1210,193,141,67,141,302,1470,56,119,91,87,10,10,265,142,6067,80,0,0,227,215,143,1022,596,6,85,0,246]
[null,"Male 90+",222,413,191,52,14,191,23,72,9,44,44,61,30,190,63,149,932,594,0,50,182,182,122,100,634,460,521,70,56,42,56,113,727,24,47,42,40,4,4,108,38,2678,23,0,0,119,73,63,403,221,2,46,0,247]

{"sheet":"Population at Risk","index":13,"n_rows":257,"n_cols":56,"rows_kept":257,"cut":false,"hidden":true,"merged":[]}
["Population at Risk "]
["(=prevalence*population in 2016)"]
["SIMD","group","Aberdeen City Local Authority","Aberdeen City Region Deal","Aberdeenshire Local Authority","Angus Local Authority","Argyll & Bute Local Authority","Ayrshire & Arran Health Board","Borders Health Board","Clackmannanshire & Stirling IJB","Clackmannanshire Local Authority","Dumfries & Galloway Health Board","Dumfries & Galloway Local Authority","Dundee City Local Authority","East Ayrshire Local Authority","East Dunbartonshire Local Authority","East Lothian Local Authority","East Renfrewshire Local Authority","Edinburgh & SE Scotland City Region Deal","Edinburgh, City of Local Authority","Eilean Siar Local Authority","Falkirk Local Authority","Fife Health Board","Fife Local Authority","Forth Valley Health Board","Glasgow City Local Authority","Glasgow City Region Deal","Grampian Health Board","Greater Glasgow & Clyde Health Board","Highland Health Board","Highland Local Authority","Inverclyde Local Authority","Inverness & Highland City Region Deal","Lanarkshire Health Board","Lothian Health Board","Midlothian Local Authority","Moray Local Authority","North Ayrshire Local Authority","North Lanarkshire Local Authority","Orkney Health Board","Orkney Islands Local Authority","Perth & Kinross Local Authority","Renfrewshire Local Authority","Scotland","Scottish Borders Local Authority","Shetland Health Board","Shetland Islands Local Authority","South Ayrshire Local Authority","South Lanarkshire Local Authority","Stirling Local Authority","Tay Cities Region Deal ","Tayside Health Board","West Dunbartonshire Local Authority","West Lothian Local Authority","Western Isles Health Board",1]
[null,null,"popS12000033","Aber_deal","popS12000034","popS12000041","popS12000035","popS08000015","popS08000016","ClacksStirIJB","popS12000005","popS08000017","popS12000006","popS12000042","popS12000008","popS12000045","popS12000010","popS12000011","EdinSE_deal","popS12000036","popS12000013","popS12000014","popS08000018","popS12000015","popS08000019","popS12000046","GClyde_deal","popS08000020","popS08000021","popS08000022","popS12000017","popS12000018","Inver_deal","popS08000023","popS08000024","popS12000019","popS12000020","popS12000021","popS12000044","popS08000025","popS12000023","popS12000024","popS12000038","popS00000001","popS12000026","popS08000026","popS12000027","popS12000028","popS12000029","popS12000030","Tay_deal","popS08000027","popS12000039","popS12000040","popS08000028",2]
["All quintiles","16+ Males and Females",{"$f":"SUM(C7:C11)","v":38501.644480168361},31650.587444437882,30230.076571870486,16025.675174002699,14766.830599999999,77225.713446203226,16052.327776050264,25283.411300000003,10093.963000000002,29519.798412005788,29519.798412005788,37955.409689162545,25984.396673343181,11376.610908842085,17404.856903376934,5865.7758528548775,152028.06058807109,67839.05193405287,4803.0752000000002,23187.038770003943,71067.760408106798,71067.760408106798,43175.52841651965,173181.25354788156,144079.47332649602,84670.091681894235,265387.28703555051,54374.447202856652,39709.05370530131,16980.833500000001,17917.859663439674,140272.13308747558,{"$f":"SUM(AI7:AI11)","v":133992.39156131336},15977.620599999998,16471.624755264787,32901.982880498865,83854.895560381119,3325.9813000000004,3325.9813000000004,19042.439949079595,37780.774683167168,990842.21130000008,16052.327776050264,3405.3119999999999,3405.3119999999999,18758.630063021166,57315.669842809541,15189.4483,72531.178122679878,71073.815175826734,25317.820538799791,30726.75309481662,4803.0752000000002,3]
["Q1 and Q2","16+ Males and Females",{"$f":"SUM(C7:C8)","v":17226.873234261519},10063.722584842899,5198.4665110908718,5794.4722147159227,5180.1660999999995,54729.429950146667,5224.8817124317393,13438.219300000001,6661.4721000000009,14229.38287298248,14229.38287298248,27244.924746810386,18879.168518195809,4466.0830985441571,7645.5166681717255,1841.9926222941824,76813.96533349852,30996.499949763383,1440.9021,13692.540355329853,40372.073170344876,40372.073170344876,24313.150268444726,134131.33554629196,100959.83381588917,25743.507299700468,188520.10040902236,19944.489904899016,14808.650488871572,12217.448400000001,6717.504087349248,95648.534995937749,{"$f":"SUM(AI7:AI8)","v":66645.422778914202},9525.8901000000005,4077.8034700198591,24933.503135780833,61272.801925700274,694.58400000000006,694.58400000000006,5338.3966498105201,24366.633211712739,561679.87490000005,5224.8817124317393,175.53950000000003,175.53950000000003,11556.694541084298,35753.121240297369,6776.7471999999998,38314.511245447473,34764.28946059764,20184.601083044407,17889.648432685957,1440.9021,4]
["SIMD Q1 (most deprived)","16+ Males and Females",{"$f":"SUM(C12,C17)","v":5922.8542925480269},3247.81699516145,1403.7102476674145,2056.1600662913379,1908.6546000000001,33969.491143299565,1620.6537048400974,7182.7689,3611.7577000000001,3988.1386513034499,3988.1386513034499,18973.622413131066,11463.837156502037,1223.5756752725297,1099.9693800470886,893.91943176278392,36222.180534083222,16686.255726125521,0,5501.6257774622063,22669.011695195397,22669.011695195397,11179.457901275799,103336.68586064287,67289.432941993451,7459.0303499999991,136676.76351807572,6751.8004062134523,4855.539252524366,9885.0972000000002,2196.7339380409676,53075.245851851811,{"$f":"SUM(AI12,AI17)","v":29253.857128672797},2546.6169,267.0522579766108,18064.899602207188,36337.82187548028,0,0,2032.0903873461527,16331.641951197347,316301.97120000003,1620.6537048400974,0,0,5283.1636135385252,17929.569123792324,3571.0111999999999,21739.544640120032,19945.791781234439,12691.642710892473,7839.3835779333731,0,5]
["SIMD Q2",null,{"$f":"SUM(C13,C18)","v":11304.01894171349},6815.9055896814489,3794.7562634234573,3738.3121484245844,3271.5114999999996,20759.938806847102,3604.2280075916415,6255.4503999999997,3049.7144000000003,10241.24422167903,10241.24422167903,8271.3023336793194,7415.3313616937712,3242.5074232716279,6545.5472881246369,948.0731905313985,40591.784799415298,14310.244223637863,1440.9021,8190.9145778676466,17703.06147514948,17703.06147514948,13133.692367168926,30794.649685649092,33670.40087389572,18284.476949700471,51843.336890946637,13192.689498685562,9953.1112363472057,2332.3512000000005,4520.7701493082805,42573.289144085938,{"$f":"SUM(AI13,AI18)","v":37391.565650241406},6979.2732000000015,3810.7512120432484,6868.6035335736433,24934.980050219994,694.58400000000006,694.58400000000006,3306.3062624643671,8034.9912605153895,245377.9037,3604.2280075916415,175.53950000000003,175.53950000000003,6273.530927545773,17823.552116505045,3205.7360000000003,16574.966605327438,14818.497679363203,7492.9583721519321,10050.264854752586,1440.9021,6]
["SIMD Q3",null,{"$f":"SUM(C14,C19)","v":6801.548632651311},6752.295956830174,7658.1673829599458,5525.2790251462902,5996.0144,11148.084709649491,5601.913381528846,4293.4882999999991,1629.3069,10242.58322244897,10242.58322244897,3991.952346769544,3667.2629647291133,921.22322390095974,3883.3469397079871,845.2144935881488,31617.363102803873,11934.045154769487,3160.0437000000002,4051.9430063602572,14524.668777392162,14524.668777392162,7445.0011666731616,19383.374626132747,19212.366319790934,19475.694187616195,31606.008534308272,18756.220585261028,12791.148067239112,2120.4009999999998,5766.1521614556332,22391.959142310196,{"$f":"SUM(AI14,AI19)","v":25785.660041330164},3508.6166999999996,5190.6407999470439,3632.2045889242936,12370.655687878538,1150.6635000000001,1150.6635000000001,5062.8754920668634,5905.13459738249,188329.30210000003,5601.913381528846,1270.1935999999996,1270.1935999999996,3693.9415028774106,9971.3375092769165,2664.1813999999995,15304.342747294268,15448.545609729303,2896.2323502951585,6304.2648025180742,3160.0437000000002,7]
["SIMD Q4",null,{"$f":"SUM(C15,C20)","v":5904.5576825893422},7886.684504486142,10663.741708488342,3185.1715178478812,2716.0707000000002,7080.7869640635863,4447.5532625078877,4665.4991000000009,1216.8255000000001,3789.4573140784214,3789.4573140784214,4340.4759656083452,2204.5413663648569,2020.8785332120519,4376.4137920165831,889.09854537496983,22841.5511388624,9469.8408083491395,202.1294,3235.0209137473475,8805.3880058608302,8805.3880058608302,6932.0386199815493,12556.147716827338,14117.78179322022,22256.267357054327,24282.465853711663,12865.560533431013,10188.582239042553,1850.7936,4572.3841658186875,15446.751706690953,{"$f":"SUM(AI15,AI20)","v":19670.657543319612},1760.6819000000003,5460.8126185260389,3145.2874076704193,7153.8831979208826,1337.3127000000002,1337.3127000000002,6746.760606069558,4489.9963229086779,145604.97149999999,4447.5532625078877,1959.5789,1959.5789,1779.2024937973933,8000.77738229038,3448.6736000000001,12244.963334511389,15001.045347932715,1839.1637707775913,3970.5793279985351,202.1294,8]
["SIMD Q5 (least deprived)",null,{"$f":"SUM(C16,C21)","v":8568.6649306661839},6947.8843982786675,6709.7009693313285,1520.7524162926049,874.57939999999985,4267.411822343478,777.97941958179194,2886.2046,586.35849999999994,1258.3750024959159,1258.3750024959159,2378.0566299742727,1233.4238240533982,3968.4260531849168,1499.5795034806392,2289.4701915975766,20755.18101290628,15438.666021170873,0,2207.5344945664874,7365.6304545089288,7365.6304545089288,4485.3383614202085,7110.395658629508,9789.4913975957079,17194.622837523242,20978.712238508197,2808.1761792656007,1920.6729101480723,792.19049999999993,861.81924881610723,6784.8872425366681,{"$f":"SUM(AI16,AI21)","v":21890.65119774939},1182.4319,1742.367866771845,1190.9877481233216,3057.5547488814295,143.42110000000002,143.42110000000002,1894.4072011326548,3019.0105511632646,95228.0628,777.97941958179194,0,0,1728.7915252620608,3590.4337109448652,2299.8461000000002,6667.3607954267545,5859.9347575670872,397.82333468263511,2562.2605316140539,0,9]
["SIMD Q1 (most deprived)","16+ Females",{"$f":"SUM(C60:C78)","v":2417.9823313829788},1665.2497857889286,559.67111143617024,616.72102361702127,920.84339999999997,16772.232389680852,918.02260276595769,3595.2638000000002,1776.4721,2110.7236993617021,2110.7236993617021,9951.615467499998,5714.1560793617018,577.98871675531893,601.398598670213,395.90445744680846,19404.296122227373,7596.4101440425538,0,2197.3249889361696,10773.755371276597,10773.755371276597,5087.1762390957447,51359.166953670217,36209.09968087999,3171.0523499999999,68503.399515957441,3093.0592719680858,2191.706042021277,4942.7268999999997,1170.9099687789083,28766.870453617023,{"$f":"SUM(AI60:AI78)","v":14466.254659255319},1262.9519,145.9532375,7956.4783041489363,20994.929313829791,0,0,899.61008063829786,8320.737765319147,155362.39509999999,918.02260276595769,0,0,2964.2916038297872,8898.6827873404272,1818.7917,11653.256101688856,8956.8289937234058,6911.0887722340422,4431.0819417021276,0,10]
["SIMD Q2",null,{"$f":"SUM(C98:C116)","v":4779.4857562765965},3621.6485620755411,1624.226641755319,1140.7964410106383,1630.1906999999999,10266.631807553193,2051.2157002659574,3103.8535999999999,1516.1638,5456.9888044680847,5456.9888044680847,4313.7034697340423,3678.9420518085103,1530.9504933510634,3586.181109042554,409.80909441489365,21974.095431621834,6491.8873123404246,688.38700000000017,3354.0327268085116,8555.7732328723396,8555.7732328723396,6008.8393704787231,14989.999168085104,18194.049031866554,8112.8048021276572,25908.251808510635,6216.4085741489353,4612.0174962765959,1181.9166000000002,2463.9514419518969,23340.249617872341,{"$f":"SUM(AI98:AI116)","v":18696.231466702124},3548.0896000000007,2004.8293650000003,3034.9948597872344,14676.024145851065,327.78570000000002,327.78570000000002,1430.3058804255322,4263.9784847872334,121132.14059999998,2051.2157002659574,74.633800000000008,74.633800000000008,3585.8545378723402,8841.5330440425532,1587.6898000000003,8910.9949341574757,6573.0419317021278,4007.1107896276599,5692.404828936169,688.38700000000017,11]
["SIMD Q3",null,{"$f":"SUM(C136:C154)","v":2559.0519447872343},3393.5849990256879,3152.217778723405,1605.4112341489363,2900.7543999999994,5329.0375045744704,3152.6991164361707,2072.7887000000001,787.06659999999999,5308.6777789361713,5308.6777789361713,2031.7014579787233,1722.3951836170213,425.64901595744686,2030.3129038297877,356.29454707446814,16482.68954659357,5187.2193427659568,1484.5510999999999,1592.223227234043,6787.1219610638291,6787.1219610638291,3294.0383981382984,9222.0254896808492,10106.870594026183,8160.8285138297888,15365.057154255317,8458.5396041489348,5634.2811563829782,1025.3730000000003,3010.0916119333951,11950.069151489362,{"$f":"SUM(AI136:AI154)","v":12262.205629414892},1703.1295,2653.9781799999996,1553.7739782446811,7069.8428412765952,540.7007000000001,540.7007000000001,2264.375008351064,3027.4884628723394,89636.196500000005,3152.6991164361707,573.9428999999999,573.9428999999999,2075.3065920212762,4832.2174741489362,1285.7221,8045.9183573789296,6751.0158226595759,1503.8155488829784,3395.458416595744,1484.5510999999999,12]
["SIMD Q4",null,{"$f":"SUM(C174:C192)","v":2350.4997607446812},3979.6093249825476,4249.0266534574484,913.72950632978711,1273.6505000000002,3346.4657968085112,2507.6622622872342,2163.4140000000002,514.34900000000005,1925.2366761702128,1925.2366761702128,2262.8022408510637,1042.0694662765959,908.87030585106368,2305.3240409574473,370.10446196808527,11825.577718422239,4120.1514319148937,98.127400000000023,1223.6142791489362,3982.3175460638299,3982.3175460638299,2951.7290178191488,5966.6486570744692,7252.2619162162746,9256.479108510639,11682.544851063829,5612.4835594680835,4350.1097390425539,863.00469999999996,2324.0282962534693,7888.8389361702129,{"$f":"SUM(AI174:AI192)","v":9361.2552162234024},848.04350000000011,2677.1968300000008,1314.0904261170213,3880.2810328723394,622.14550000000008,622.14550000000008,2937.2433493617018,2216.4047951063831,68009.497999999992,2507.6622622872342,883.91179999999997,883.91179999999997,982.91214648936159,3731.0040949999998,1649.0650000000001,6332.081713672289,6495.3775075531912,944.7444142021277,2129.8885744680847,98.127400000000023,13]
["SIMD Q5 (least deprived)",null,{"$f":"SUM(C212:C230)","v":3134.2643209574467},3298.6405379420594,2514.6659704787235,417.16224590425531,253.24579999999997,1961.4846630319157,422.04778723404252,1325.5498,273.06299999999999,633.26766957446807,633.26766957446807,1158.5532461702128,559.8826425000002,1664.6386117021275,746.40679271276622,900.70379601063837,10186.04358340539,6370.4448753191491,0,790.22437276595747,3216.0319337234041,3216.0319337234041,1853.507117819149,3129.8018374468079,4857.6875595604661,6611.8934627659573,9630.1567659574484,1069.6277655851063,819.16858755319151,374.23660000000007,437.63745999074933,3400.0109668085111,{"$f":"SUM(AI212:AI230)","v":9798.3872360106398},515.62009999999998,747.57254250000005,469.70976074468081,1641.6523605319146,62.162700000000001,62.162700000000001,830.28889265957446,1443.9140215957448,42263.342299999997,422.04778723404252,0,0,948.38833638297865,1629.140260106383,1052.4867999999999,3346.9865078638672,2466.7004167021282,193.3129030851064,1306.4199757446806,0,14]
["SIMD Q1 (most deprived)","16+ Males",{"$f":"SUM(C79:C97)","v":3504.8719611650481},1582.5672093725216,844.03913623124436,1439.4390426743164,987.8112000000001,17197.258753618713,702.63110207413956,3587.5050999999999,1835.2856000000004,1877.4149519417479,1877.4149519417479,9022.0069456310684,5749.6810771403352,645.58695851721086,498.57078137687563,498.01497431597539,16817.884411855845,9089.8455820829658,0,3304.3007885260372,11895.256323918802,11895.256323918802,6092.2816621800539,51977.518906972648,31080.333261113457,4287.9779999999992,68173.36400211828,3658.7411342453665,2663.833210503089,4942.3703000000014,1025.8239692620593,24308.375398234788,{"$f":"SUM(AI79:AI97)","v":14787.602469417478},1283.6650000000002,121.09902047661079,10108.421298058252,15342.892561650489,0,0,1132.4803067078549,8010.9041858782002,160939.57610000003,702.63110207413956,0,0,2318.872009708738,9030.8863364518984,1752.2195000000002,10086.288538431174,10988.962787511031,5780.5539386584305,3408.3016362312451,0,15]
["SIMD Q2",null,{"$f":"SUM(C117:C135)","v":6524.5331854368942},3194.2570276059078,2170.5296216681381,2597.5157074139461,1641.3208,10493.306999293911,1553.0123073256841,3151.5968000000003,1533.5506000000003,4784.255417210944,4784.255417210944,3957.598863945278,3736.3893098852609,1711.5569299205645,2959.3661790820834,538.2640961165049,18617.689367793468,7818.3569112974392,752.51509999999985,4836.8818510591354,9147.2882422771399,9147.2882422771399,7124.8529966902033,15804.65051756399,15476.351842029162,10171.672147572814,25935.085082436006,6976.280924536627,5341.0937400706089,1150.4346000000003,2056.818707356384,19233.039526213593,{"$f":"SUM(AI117:AI135)","v":18695.334183539278},3431.1836000000003,1805.9218470432484,3833.6086737864084,10258.955904368931,366.79829999999998,366.79829999999998,1876.0003820388349,3771.0127757281557,124245.76310000001,1553.0123073256841,100.90570000000001,100.90570000000001,2687.6763896734333,8982.0190724624899,1618.0462,7663.9716711699612,8245.4557476610753,3485.8475825242717,4357.8600258164161,752.51509999999985,16]
["SIMD Q3",null,{"$f":"SUM(C155:C173)","v":4242.4966878640771},3358.710957804486,4505.9496042365408,3919.8677909973544,3095.2600000000007,5819.0472050750204,2449.2142650926749,2220.6995999999995,842.24030000000016,4933.9054435127982,4933.9054435127982,1960.2508887908207,1944.867781112092,495.57420794351287,1853.0340358781996,488.9199465136806,15134.6735562103,6746.8258120035298,1675.4926,2459.7197791262142,7737.5468163283322,7737.5468163283322,4150.9627685348632,10161.349136451898,9105.4957257647529,11314.865673786406,16240.951380052955,10297.680981112091,7156.8669108561335,1095.0279999999998,2756.060549522238,10441.889990820833,{"$f":"SUM(AI155:AI173)","v":13523.454411915271},1805.4871999999998,2536.6626199470443,2078.4306106796125,5300.8128466019425,609.96280000000002,609.96280000000002,2798.5004837157994,2877.6461345101507,98693.10560000001,2449.2142650926749,696.25069999999982,696.25069999999982,1618.6349108561344,5139.1200351279804,1378.4592999999998,7258.4243899153389,8697.5297870697268,1392.4168014121801,2908.8063859223303,1675.4926,17]
["SIMD Q4",null,{"$f":"SUM(C193:C211)","v":3554.0579218446605},3907.075179503594,6414.7150550308934,2271.4420115180942,1442.4202000000002,3734.3211672550751,1939.8910002206535,2502.0851000000002,702.4765000000001,1864.2206379082086,1864.2206379082086,2077.6737247572814,1162.4719000882612,1112.0082273609883,2071.0897510591353,518.99408340688456,11015.973420440161,5349.6893764342458,104.00199999999998,2011.4066345984115,4823.0704597969998,4823.0704597969998,3980.3096021624001,6589.4990597528695,6865.5198770039451,12999.788248543688,12599.921002647836,7253.0769739629295,5838.4724999999999,987.78890000000001,2248.3558695652182,7557.9127705207402,{"$f":"SUM(AI193:AI211)","v":10309.402327096208},912.63840000000016,2783.6157885260382,1831.1969815533982,3273.6021650485432,715.16720000000009,715.16720000000009,3809.5172567078557,2273.5915278022949,77595.473500000007,1939.8910002206535,1075.6671000000001,1075.6671000000001,796.29034730803176,4269.7732872903807,1799.6086,5912.8816208390999,8505.6678403795231,894.41935657546355,1840.6907535304504,104.00199999999998,18]
["SIMD Q5 (least deprived)",null,{"$f":"SUM(C231:C249)","v":5434.4006097087376},3649.2438603366081,4195.034998852605,1103.5901703883496,621.33359999999982,2305.9271593115627,355.93163234774948,1560.6547999999998,313.29549999999995,625.10733292144766,625.10733292144766,1219.5033838040599,673.54118155339813,2303.7874414827893,753.17271076787301,1388.766395586938,10569.137429500892,9068.2211458517231,0,1417.3101218005297,4149.5985207855247,4149.5985207855247,2631.8312436010592,3980.5938211827006,4931.8038380352418,10582.729374757284,11348.55547255075,1738.5484136804944,1101.5043225948809,417.95389999999992,424.1817888253579,3384.8762757281565,{"$f":"SUM(AI231:AI249)","v":12092.26396173875},666.81180000000006,994.79532427184495,721.27798737864089,1415.9023883495149,81.258400000000009,81.258400000000009,1064.1183084730803,1575.0965295675198,52964.720500000003,355.93163234774948,0,0,780.40318887908211,1961.2934508384824,1247.3593000000003,3320.3742875628873,3393.2343408649594,204.51043159752871,1255.8405558693732,0,19]
["All quintiles","Female 0-4",{"$f":"SUM(C60,C98,C136,C174,C212)","v":0},0,0,0,0,0,0,0,0,0,0,0,0,0,0,0,0,0,0,0,0,0,0,0,0,0,0,0,0,0,0,0,{"$f":"SUM(AI60,AI98,AI136,AI174,AI212)","v":0},0,0,0,0,0,0,0,0,0,0,0,0,0,0,0,0,0,0,0,0,20]
[null,"Female 5-9",{"$f":"SUM(C61,C99,C137,C175,C213)","v":0},0,0,0,0,0,0,0,0,0,0,0,0,0,0,0,0,0,0,0,0,0,0,0,0,0,0,0,0,0,0,0,{"$f":"SUM(AI61,AI99,AI137,AI175,AI213)","v":0},0,0,0,0,0,0,0,0,0,0,0,0,0,0,0,0,0,0,0,0,21]
[null,"Female 10-15",{"$f":"SUM(C62,C100,C138,C176,C214)","v":0},0,0,0,0,0,0,0,0,0,0,0,0,0,0,0,0,0,0,0,0,0,0,0,0,0,0,0,0,0,0,0,{"$f":"SUM(AI62,AI100,AI138,AI176,AI214)","v":0},0,0,0,0,0,0,0,0,0,0,0,0,0,0,0,0,0,0,0,0,22]
[null,"Female 16-19",{"$f":"SUM(C63,C101,C139,C177,C215)","v":796.29172819148937},857.18005636113389,668.8932303191491,247.45414553191489,361.86869999999999,1838.2404062234048,495.79926882978731,728.62109999999996,247.7106,773.23151680851049,773.23151680851049,1112.3860039361703,613.95873553191495,271.20706117021274,519.59681781914901,149.13936436170212,4111.0808691119364,1391.9790797872338,107.97619999999999,449.76552510638311,1752.5994775531913,1752.5994775531913,1035.9155385638298,3859.9765086702123,3750.4291569122433,1913.1545031914893,6215.2295904255316,1279.3242311170211,924.36460468085102,387.67019999999997,493.83800092506937,3898.289877446809,{"$f":"SUM(AI63,AI101,AI139,AI177,AI215)","v":3264.1868183510633},434.95230000000004,464.79244000000006,699.92367558510637,2551.0597011702125,77.68950000000001,77.68950000000001,473.71301553191489,945.60038031914883,24293.802499999998,495.79926882978731,102.9066,102.9066,520.89590510638288,1408.0484190425534,480.91050000000001,2072.4341633335198,1735.069953829787,634.07804101063834,927.85241531914892,107.97619999999999,23]
[null,"Female 20-24",{"$f":"SUM(C64,C102,C140,C178,C216)","v":1814.6010854255319},1507.286417721084,824.24698351063842,328.14092930851069,395.18130000000002,2469.8128719680853,586.96461542553197,1084.5907,323.32400000000001,987.33731808510629,987.33731808510629,2142.6686254787228,845.3217456382979,355.91648936170208,732.84785813829808,169.13543271276595,6777.5639535450237,3282.9431361702123,120.05180000000001,628.27718808510645,2412.5651728723406,2412.5651728723406,1496.2669954787234,7785.4684331914896,5928.3550081135991,3207.9575936170213,10867.423372340425,1503.6381665425531,1114.7499255319149,553.40519999999992,595.55057816836268,5073.4660834042561,{"$f":"SUM(AI64,AI102,AI140,AI178,AI216)","v":6006.8002905319145},542.00479999999993,600.62595249999993,939.03619430851063,3238.8285472340422,105.78360000000001,105.78360000000001,595.15901026595736,1390.0825437234041,37495.362800000003,586.96461542553197,110.8374,110.8374,680.47811255319141,1888.3963982978723,761.2666999999999,3065.9805131476251,2723.6911190425531,929.37103680851044,1176.6546608510637,120.05180000000001,24]
[null,"Female 25-29",{"$f":"SUM(C65,C103,C141,C179,C217)","v":2062.5949332978721},1716.0591902021038,941.25348404255328,350.61513281914898,440.53980000000001,2917.9360064361708,584.40641563829797,1108.7508000000003,379.74680000000001,1109.4715629787233,1109.4715629787233,2460.3277571808508,1043.7111299468083,353.46450398936167,706.48951904255341,171.67316063829787,8243.4821052916195,4307.8084059574467,147.13649999999998,744.11123744680867,2807.2126892553192,2807.2126892553192,1642.61559893617,10925.661681595744,7614.490513986224,3627.0056095744681,14391.437617021274,1749.3739545744681,1314.9899021276597,657.83630000000005,702.52796484736359,6064.3656297872358,{"$f":"SUM(AI65,AI103,AI141,AI179,AI217)","v":7533.3693584574467},642.66590000000008,648.74162500000011,1098.3672167553191,4022.4915003191491,124.07740000000001,124.07740000000001,666.03632845744676,1737.5302986170211,45491.1806,584.40641563829797,141.29349999999999,141.29349999999999,769.79072031914882,2153.3399612765957,729.00400000000013,3499.7860838986767,3062.7023135106388,1141.6311257978723,1448.8173114893616,147.13649999999998,25]
[null,"Female 30-34",{"$f":"SUM(C66,C104,C142,C180,C218)","v":1720.6303554255321},1626.1571433244474,1090.6098199468088,381.68018117021279,453.53510000000006,2776.4967528191496,640.06452957446811,950.12,381.07170000000002,1072.8921491489364,1072.8921491489364,1901.9378744680848,991.80677329787238,334.64844015957442,738.284269095745,167.42310904255322,7732.9453055114673,3672.3379997872344,158.1678,807.36093957446826,2681.7870817021276,2681.7870817021276,1595.9449297872341,9058.1841715957453,7079.3828882499101,3521.138138297872,12544.826856382977,1900.2703257446808,1451.9057215957446,640.68300000000011,775.67468015726195,6510.0387557446811,{"$f":"SUM(AI66,AI104,AI142,AI180,AI218)","v":6942.3879771276606},678.04020000000003,731.49552000000006,1025.1255381914893,4244.2766265957443,122.49950000000001,122.49950000000001,729.87757196808502,1640.1989309574469,43017.025700000006,640.06452957446811,129.75360000000001,129.75360000000001,755.13571521276594,2362.3514272340431,569.04830000000004,3265.8093384465619,2803.7915441489367,1170.9262209042554,1581.1201625531912,158.1678,26]
[null,"Female 35-39",{"$f":"SUM(C67,C105,C143,C181,C219)","v":1276.5270394680849},1340.074211292696,1018.8401920212768,365.90716186170209,467.22940000000006,2802.4366056382987,603.29250234042559,946.49620000000004,397.90780000000007,1029.2660051063829,1029.2660051063829,1576.2265887765957,984.55050351063824,383.25973803191482,751.91549696808534,196.52255398936174,6804.12010785446,2793.9691991489358,175.11060000000001,776.73083744680866,2660.6289667021274,2660.6289667021274,1559.2827273936171,7583.2151964361701,6522.9814114630162,2901.8950053191484,11193.270765957446,1814.9495354787234,1354.7236809574467,632.71479999999997,723.75557331174844,6380.0015038297879,{"$f":"SUM(AI67,AI105,AI143,AI181,AI219)","v":5807.4407135106385},679.20460000000003,603.10596500000008,1050.5306619148937,4183.8358918085105,107.8657,107.8657,618.54204191489373,1575.4728221276594,39115.2048,603.29250234042559,127.10920000000002,127.10920000000002,762.17857872340414,2298.4300574468089,548.58840000000009,3012.8704523278125,2424.3453165957449,1088.7659634574466,1467.6662421276594,175.11060000000001,27]
[null,"Female 40-44",{"$f":"SUM(C68,C106,C144,C182,C220)","v":1160.4805688297872},1316.7800590371744,1080.8463952127661,398.25288143617024,566.09400000000005,3197.1739975531923,764.31245941489362,1034.4233000000002,438.82170000000002,1197.145598723404,1197.145598723404,1375.9090353191486,1099.4566509042554,416.8297061170212,785.98129255319157,208.16634627659579,6715.3231092287342,2354.7555931914894,196.2912,863.59907234042566,2808.88617287234,2808.88617287234,1720.463060106383,6701.9277937765955,6391.3467992238366,2940.4828531914891,10583.584803191488,2043.9284914361704,1488.1421628723406,673.8519,795.03385037002784,6651.8708331914904,{"$f":"SUM(AI68,AI106,AI144,AI182,AI220)","v":5420.038321117022},671.73559999999998,716.13904250000007,1241.3763964893617,4362.5487121276592,131.62880000000001,131.62880000000001,670.81449638297875,1626.5008807446807,39733.060000000005,764.31245941489362,127.9979,127.9979,848.09405648936149,2396.0781011702129,595.60160000000008,3080.33951162332,2401.4897032978724,1120.9441085638298,1606.8571527659572,196.2912,28]
[null,"Female 45-49",{"$f":"SUM(C69,C107,C145,C183,C221)","v":1232.5537670212766},1494.1241425976291,1297.9466840425534,476.0640242021276,718.52900000000011,4164.6442650000008,981.88910882978723,1313.0466999999999,554.39610000000005,1654.001669574468,1654.001669574468,1665.5745057446807,1465.4565989361704,559.64305452127655,1026.8704435106386,269.0272515957447,7936.2025177714158,2460.5928006382978,244.5772,987.47714553191508,3522.8968123404256,3522.8968123404256,2063.2023797872339,8284.6281562765962,8094.8349680727533,3355.2808276595742,13555.401255319146,2553.2391752127655,1848.276061276596,949.54299999999989,987.43390934320087,8267.2132314893624,{"$f":"SUM(AI69,AI107,AI145,AI183,AI221)","v":6156.170526702128},854.5172,838.63402000000008,1587.4576206382978,5336.6729036170209,156.3655,156.3655,849.01362723404247,2148.9337799999998,49004.105599999995,981.88910882978723,153.5574,153.5574,1102.2579746808508,3036.5755528723407,758.65060000000005,3817.0438117823232,2939.1009360638295,1520.6567214361705,1901.5730846808508,244.5772,29]
[null,"Female 50-54",{"$f":"SUM(C70,C108,C146,C184,C222)","v":1308.9775292553193},1539.5774746706929,1304.3691281914894,496.72030515957448,817.01030000000003,4334.3662528191498,1021.9287775000001,1317.4068,551.93180000000007,1790.3047804255316,1790.3047804255316,1911.8691892553193,1473.1487267021275,574.91071675531907,984.21931207446823,273.25883563829791,7923.3418715907155,2386.7449959574469,260.55580000000003,995.10169531914903,3660.6636657446811,3660.6636657446811,2074.8760143617023,8649.2521940957449,8319.5628964482821,3457.5411542553193,14015.497180851064,2761.7990897340424,1961.8755142553191,990.22889999999995,1048.1239514338577,8409.2843302127676,{"$f":"SUM(AI70,AI108,AI146,AI184,AI222)","v":5982.6357577659564},850.1096,864.40728500000012,1666.7677505319148,5391.2145322340421,171.95350000000002,171.95350000000002,886.30918909574473,2142.1827005319146,50464.387700000007,1021.9287775000001,156.37040000000002,156.37040000000002,1184.6863377659572,3114.3138741489365,765.47500000000002,4051.0064174033446,3187.2529627659578,1582.825920851064,1846.2447838297871,260.55580000000003,30]
[null,"Female 55-59",{"$f":"SUM(C71,C109,C147,C185,C223)","v":1109.6899889361705},1266.4436837030526,1044.9894672872342,428.05221271276599,682.97240000000011,3601.4493536170226,862.93057074468106,1065.6773000000001,447.87010000000009,1463.158474893617,1463.158474893617,1630.0340536170213,1173.5125961702129,536.2942779255319,854.23269691489384,228.35987872340428,6666.030667681548,2094.3486274468082,201.40990000000002,803.89169872340437,3007.2533585106385,3007.2533585106385,1677.2261595744685,6914.4788962234052,6853.7953222772976,2838.9761489361708,11503.370728723405,2301.8469618617023,1633.238601595745,851.82290000000012,872.55102798334894,6972.416437446811,{"$f":"SUM(AI71,AI109,AI147,AI185,AI223)","v":5094.418551329788},727.41499999999996,703.88365250000015,1374.5416990425535,4347.1825075531915,137.54490000000004,137.54490000000004,725.11481824468103,1773.8489344680852,41809.486100000002,862.93057074468106,121.18620000000001,121.18620000000001,1046.9936329787233,2666.6477101063829,617.80719999999997,3373.6161429874287,2690.217651702128,1305.8480269148938,1465.1146025531916,201.40990000000002,31]
[null,"Female 60-64",{"$f":"SUM(C72,C110,C148,C186,C224)","v":955.43292212765971},1130.1324148025592,962.08604734042569,381.33890239361705,638.66999999999996,3254.9919013829794,784.26694909574485,899.93750000000011,385.95040000000006,1417.1084117021278,1417.1084117021278,1306.3073155851066,1038.9578281914896,439.70413962765952,715.89778234042581,199.58478643617025,5663.4067342672579,1694.1677304255318,205.47790000000003,711.56917276595755,2660.3188867021281,2660.3188867021281,1452.668005851064,5355.1632729255325,5650.1246706002667,2554.9991542553198,9170.8545957446804,2137.6341138297871,1512.5714851063833,685.41710000000012,808.08511563367267,6073.8765778723418,{"$f":"SUM(AI72,AI110,AI148,AI186,AI224)","v":4189.7637647340425},599.82890000000009,658.07649250000009,1251.7956064361704,3774.9403228723404,128.03980000000001,128.03980000000001,677.31326484042563,1431.724819893617,35954.203400000006,784.26694909574485,118.94280000000001,118.94280000000001,958.26842521276603,2331.2579902127663,513.98710000000005,2953.9218956061395,2331.8935962765959,1109.9573144148937,1230.5350480851064,205.47790000000003,32]
[null,"Female 65-69",{"$f":"SUM(C73,C111,C149,C187,C225)","v":681.24778191489372},847.99821806379975,752.19510824468091,323.09233542553193,565.06050000000005,2425.7698365957449,682.19267265957455,705.48270000000002,313.8775,1119.8659895744679,1119.8659895744679,980.90543324468081,775.19495287234042,314.65334042553189,559.13111718085122,141.45244042553193,4389.0767307596652,1226.0848257446808,173.34210000000002,546.64298553191497,2092.5176677659574,2092.5176677659574,1126.3816757978725,3407.5004838297868,3880.4332913169201,1951.9750159574467,6216.078079787233,1741.0484356382979,1189.7922441489363,506.76440000000002,635.64162927844598,4257.4157310638302,{"$f":"SUM(AI73,AI111,AI149,AI187,AI225)","v":3153.6746060638297},493.14810000000006,542.10243500000013,930.0025513829786,2630.5578804255315,110.44850000000001,110.44850000000001,548.89872058510639,1074.6649784042552,26745.874900000003,682.19267265957455,92.922799999999995,92.922799999999995,716.29513999999983,1644.687829787234,391.60520000000002,2340.0158708279023,1860.236800212766,771.96130744680852,931.65290595744682,173.34210000000002,33]
[null,"Female 70-74",{"$f":"SUM(C74,C112,C150,C188,C226)","v":491.75410617021271},619.14801576071545,553.99357446808517,251.4683410638298,436.75940000000003,1936.4302919680854,531.29934882978728,558.33609999999999,238.25020000000001,946.677204255319,946.677204255319,734.09486090425537,605.41010090425516,254.0368723404255,440.82133351063845,109.5565050531915,3366.1170406944293,912.0910965957446,136.75309999999999,414.52027914893625,1617.8463172340425,1617.8463172340425,871.35190132978732,2706.7399142553195,3054.5058076723026,1450.0394031914893,4865.758308510638,1343.1433240957447,917.08426968085121,393.14750000000004,489.94851179463467,3379.708149787235,{"$f":"SUM(AI74,AI112,AI150,AI188,AI226)","v":2399.9480636702128},366.24529999999999,430.27475750000008,732.37125148936184,2119.7264556382975,96.21629999999999,96.21629999999999,444.17502255319141,835.60014329787236,20858.867200000001,531.29934882978728,79.205800000000011,79.205800000000011,596.16746574468073,1283.9729588297873,320.08590000000004,1814.7778190506729,1447.0277052127663,562.07753441489365,733.78052936170207,136.75309999999999,34]
[null,"Female 75-79",{"$f":"SUM(C75,C113,C151,C189,C227)","v":236.56287244680851},271.61681745345021,225.33957792553193,102.7140360106383,176.05879999999999,797.06614420212782,209.48188239361704,228.35129999999998,88.3369,344.11433425531908,344.11433425531908,343.67435281914891,248.49039132978726,125.25257313829786,182.34869585106387,54.511751861702123,1403.2115498354287,437.54603617021269,55.865500000000004,180.36016340425533,652.34451031914898,652.34451031914898,368.38620452127662,1332.4028352659575,1387.0711352152471,620.89553936170216,2330.0298670212765,529.35283930851062,357.74923478723406,180.96899999999999,191.12606221091585,1409.0134025531916,{"$f":"SUM(AI75,AI113,AI151,AI189,AI227)","v":1030.5923601595744},136.79310000000001,167.6315725,306.1472869680851,875.35673585106372,34.815600000000003,34.815600000000003,179.09417175531914,381.24674787234039,8912.2862999999998,209.48188239361704,28.144000000000002,28.144000000000002,241.11239010638292,541.04492712765955,140.01440000000002,754.10125274827806,618.62290499999995,248.18873276595744,278.7771472340425,55.865500000000004,35]
[null,"Female 80-84",{"$f":"SUM(C76,C114,C152,C190,C228)","v":196.1119493617021},211.44999333176639,165.27335478723404,77.599170319148925,129.1746,596.65544377659592,152.16261436170214,165.0865,59.269900000000007,271.07646468085107,271.07646468085107,289.76877813829788,184.37394739361702,95.3062739361702,138.31092941489365,47.682745478723405,1065.6682522856804,354.13929063829784,44.010800000000003,128.04798638297873,486.10585978723407,486.10585978723407,263.72411196808514,1086.8799991489361,1089.7294922809601,486.27254148936174,1870.9399308510638,395.61509005319152,269.62433180851065,143.36319999999998,144.04569403330251,1064.8080731914895,{"$f":"SUM(AI76,AI114,AI152,AI190,AI228)","v":797.0624189893615},106.51900000000001,134.5413825,224.88407430851066,646.41595499999994,23.195999999999998,23.195999999999998,141.81840579787234,302.63409840425527,6869.3594999999996,152.16261436170214,21.147100000000002,21.147100000000002,186.72789861702122,419.25703414893621,105.81659999999999,583.9564371354935,495.62086468085107,184.4646599468085,195.11747574468086,44.010800000000003,36]
[null,"Female 85-89",{"$f":"SUM(C77,C115,C153,C191,C229)","v":128.85287085106381},137.57069743298237,106.4566970744681,50.657179521276589,79.747399999999999,349.60158489361709,93.963875744680863,95.497500000000002,37.428200000000004,166.31106340425529,166.31106340425529,184.47028026595743,110.61146622340425,58.650953457446803,86.006277978723418,29.277877925531918,676.07625881538661,249.49978021276593,25.486799999999999,75.725520000000003,306.80086276595739,306.80086276595739,154.39154893617021,648.68643154255324,647.39923418079684,311.37255744680851,1128.0736436170214,250.25138494680849,172.39889265957447,89.927299999999988,92.103401711378368,615.30419404255315,{"$f":"SUM(AI77,AI115,AI153,AI191,AI229)","v":509.35935952127653},60.859200000000001,80.597527500000012,125.4427695212766,363.29682351063832,15.272699999999999,15.272699999999999,96.675841382978732,173.26479340425527,4214.4124000000002,93.963875744680863,12.678000000000001,12.678000000000001,113.5192159574468,249.30841734042554,58.069299999999998,376.31085093687574,325.00035510638304,120.7783254787234,101.86210638297869,25.486799999999999,37]
[null,"Female 90+",{"$f":"SUM(C78,C116,C154,C192,C230)","v":68.974615425531908},77.134674059475913,62.468411436170214,34.063512074468086,50.254099999999994,212.78044675531919,56.691877606382981,59.045400000000001,21.220800000000001,92.932084893617002,92.932084893617002,102.2212275,63.483276010638299,34.319002659574465,46.669602819148949,18.044316755319148,399.05532802564142,147.10450851063828,18.8523,44.238148085106388,184.57254287234042,184.57254287234042,92.593290957446811,367.47613712765957,355.52618653583011,174.0721914893617,637.63350000000003,144.70365574468087,95.79638819148937,49.9131,51.178827705827949,318.96631489361704,{"$f":"SUM(AI78,AI116,AI154,AI192,AI230)","v":296.48531957446801},33.7958,44.480485000000002,75.277035478723406,174.32459840425531,9.3973000000000013,9.3973000000000013,59.267685425531916,93.036676914893604,2424.9529999999995,56.691877606382981,8.4358000000000004,8.4358000000000004,74.151647127659558,138.86700159574468,37.824599999999997,227.26705350544651,196.90094489361704,67.597387819148935,61.628108510638292,18.8523,38]
[null,"Male 0-4",{"$f":"SUM(C79,C117,C155,C193,C231)","v":0},0,0,0,0,0,0,0,0,0,0,0,0,0,0,0,0,0,0,0,0,0,0,0,0,0,0,0,0,0,0,0,{"$f":"SUM(AI79,AI117,AI155,AI193,AI231)","v":0},0,0,0,0,0,0,0,0,0,0,0,0,0,0,0,0,0,0,0,0,39]
[null,"Male 5-9",{"$f":"SUM(C80,C118,C156,C194,C232)","v":0},0,0,0,0,0,0,0,0,0,0,0,0,0,0,0,0,0,0,0,0,0,0,0,0,0,0,0,0,0,0,0,{"$f":"SUM(AI80,AI118,AI156,AI194,AI232)","v":0},0,0,0,0,0,0,0,0,0,0,0,0,0,0,0,0,0,0,0,0,40]
[null,"Male 10-15",{"$f":"SUM(C81,C119,C157,C195,C233)","v":0},0,0,0,0,0,0,0,0,0,0,0,0,0,0,0,0,0,0,0,0,0,0,0,0,0,0,0,0,0,0,0,{"$f":"SUM(AI81,AI119,AI157,AI195,AI233)","v":0},0,0,0,0,0,0,0,0,0,0,0,0,0,0,0,0,0,0,0,0,41]
[null,"Male 16-19",{"$f":"SUM(C82,C120,C158,C196,C234)","v":1065.2579029126214},831.45320264178144,1102.6936364960284,685.64891844660201,462.56849999999997,2284.2062497352158,397.78751553398064,857.08680000000004,314.16339999999997,776.13954099735224,776.13954099735224,993.15589819064439,748.106393733451,419.69343830538389,487.36817396293031,254.34891765225069,3902.4104806766172,1817.0974441747571,125.3441,811.87383124448365,2168.8792511915271,2168.8792511915271,1476.0757255075023,4447.2473624007062,3739.2804096566779,2687.4864699029126,7235.7770902029997,1782.5230339805823,1318.0145851721095,480.66770000000002,507.55841168118502,3784.2477281553402,{"$f":"SUM(AI82,AI120,AI158,AI196,AI234)","v":3627.7270318623127},462.03800000000001,511.08651871138579,1109.0147126213592,2117.7877533980582,104.7004,104.7004,658.25623199470442,1029.8251173874671,28787.358999999997,397.78751553398064,113.35769999999999,113.35769999999999,465.20535922330095,1670.3339177405121,542.9233999999999,1982.532194978156,2322.3572098852601,645.02372065313318,799.69381416593103,125.3441,42]
[null,"Male 20-24",{"$f":"SUM(C83,C121,C159,C197,C235)","v":2383.8520684466021},1390.4675653020172,1332.4093122683144,845.53884121800547,611.63139999999999,2951.1179435127979,464.07215251544579,1228.7310000000002,402.13110000000006,983.80752281553407,983.80752281553407,1968.4578263459841,991.81568826125329,546.32422665489844,637.39300313327453,294.59100803177409,5923.3069200194586,3544.6528060458954,145.91829999999999,1024.7123785525155,2926.0385172550755,2926.0385172550755,1988.526574580759,8265.8662294792593,5638.1835901429795,4300.065401941747,11799.543685083849,2144.7693323918797,1526.3329170344216,648.22609999999997,587.78037798841092,4914.7276310679617,{"$f":"SUM(AI83,AI121,AI159,AI197,AI235)","v":5971.394177581642},600.67319999999995,654.6728714916153,1441.8305145631068,2752.2562655339807,122.47409999999999,122.47409999999999,846.68111531332738,1421.8772461606357,42252.691999999995,464.07215251544579,151.1961,151.1961,575.79813150926748,2167.5448766990289,826.59989999999993,2881.4491616545556,3592.4887356575459,920.12060017652254,1060.4966295675199,145.91829999999999,43]
[null,"Male 25-29",{"$f":"SUM(C84,C122,C160,C198,C236)","v":3875.5496252427188},2057.9633007884891,1677.0167875110328,983.19742983230367,664.29610000000002,3370.476298852604,511.48567312444845,1266.8220000000001,412.26260000000002,1128.5010549867611,1128.5010549867611,2582.9579193733448,1179.1874488967344,597.17012250661969,677.27350445719344,314.86536125330986,8131.2564173833107,5928.2993784201244,180.59739999999999,1240.6058204766109,3400.7027584289499,3400.7027584289499,2218.9473309796999,12284.366110061783,7421.9993995400591,6191.8857786407771,16385.630158517211,2549.0467087378643,1881.7480163283317,777.92210000000011,724.64830442457503,5710.7147306266552,{"$f":"SUM(AI84,AI122,AI160,AI198,AI236)","v":8847.905503442189},715.91410000000008,791.43784192409544,1545.4684300970878,3208.4516902912624,160.08259999999999,160.08259999999999,988.14999280670781,1897.244063636364,55018.754800000002,511.48567312444845,181.2989,181.2989,684.46179567519857,2508.4015180052957,854.55939999999998,3474.0595805159383,4453.3274121800523,1116.3029894086496,1297.4791812444837,180.59739999999999,44]
[null,"Male 30-34",{"$f":"SUM(C85,C123,C161,C199,C237)","v":3103.9963660194176},1835.4159129104219,1795.0365113415712,1000.7604332744927,555.30960000000005,3077.8859536187115,503.62907290379525,1079.4369000000002,425.53570000000002,1058.4758150044131,1058.4758150044131,1968.0726410414827,1099.0891596646072,514.58915163283325,667.07145119152688,270.5387068843778,7570.26246320267,5166.9342623565753,181.12800000000001,1249.7693864077671,3298.5035144748463,3298.5035144748463,2067.333591129744,10826.734276257721,6884.6084488229844,5595.8790757281558,14684.15788172992,2513.4723043248009,1963.2989585172108,742.43209999999999,756.05301508116202,5755.5387532215364,{"$f":"SUM(AI85,AI123,AI161,AI199,AI237)","v":8097.0783304501347},731.31850000000009,781.60138137687579,1400.0352825242721,3233.4563300970872,140.71440000000004,140.71440000000004,1001.0880571932921,1812.4294299205651,50858.897700000001,503.62907290379525,168.18430000000001,168.18430000000001,614.76017519858783,2528.2649155339805,653.90120000000002,3188.2504535966577,3916.5369514563104,1054.5781019417475,1330.5020594880848,181.12800000000001,45]
[null,"Male 35-39",{"$f":"SUM(C86,C124,C162,C200,C238)","v":2366.0566368932041},1540.2110770800496,1709.0758505736985,959.29299421888811,586.20870000000002,3143.8982841129746,529.43530410414837,1063.6946,456.27650000000006,1004.1300062224186,1004.1300062224186,1546.1446161076788,1089.7392760812004,459.38502383053844,682.38166218005301,278.61072056487205,6915.3778526331243,4144.4311615180941,212.32230000000001,1322.2324890997354,3326.2576490732577,3326.2576490732577,2120.3124565313328,9317.8124263901154,6458.7544672155555,4745.8414834951454,13031.62558022948,2502.5832729920567,1918.7842100617829,700.69169999999997,738.91068958900973,6061.7420792586063,{"$f":"SUM(AI86,AI124,AI162,AI200,AI238)","v":7059.2446275816428},750.54430000000013,707.35599823477503,1431.4395436893208,3380.413193203884,132.82590000000002,132.82590000000002,962.0139991615182,1671.5940065313328,47362.375300000007,529.43530410414837,175.59040000000002,175.59040000000002,652.64521712268311,2687.2562571050312,607.41810000000009,2986.8894046602427,3442.6163439099732,1023.1020317740512,1324.6434970432483,212.32230000000001,46]
[null,"Male 40-44",{"$f":"SUM(C87,C125,C163,C201,C239)","v":1994.6812169902917},1466.8468347831449,1847.3846187555166,1054.5072151368054,668.82860000000005,3562.4405308031774,649.85910450132405,1155.3674000000001,497.67290000000003,1200.1717101059137,1200.1717101059137,1384.3888507943514,1242.4259879964698,534.4169405119153,834.17892616946165,325.27745489849963,6926.2017035558993,3585.2355456751984,253.57180000000002,1413.0824390556047,3533.284069991174,3533.284069991174,2281.8699274051191,7917.024139541043,6207.7095946340723,4618.3684543689324,11893.680759752868,2657.5289152691967,1987.4975198587824,718.78290000000015,765.37171572201555,6387.9673712268323,{"$f":"SUM(AI87,AI125,AI163,AI201,AI239)","v":6762.6044669902931},781.37970000000007,775.1508929391,1640.5679436893206,3538.9446111650491,156.32040000000003,156.32040000000003,923.78056059135042,1631.8881228596649,47447.050199999998,649.85910450132405,192.88140000000001,192.88140000000001,722.09310944395406,2854.7241176522507,657.69450000000006,3027.6305121083096,3334.4329925419242,1006.5175895851721,1430.7530034863198,253.57180000000002,47]
[null,"Male 45-49",{"$f":"SUM(C88,C126,C164,C202,C240)","v":1905.5666344660192},1459.6426097050899,1905.6837372462492,1151.9523534863197,776.34199999999998,4105.6525791262129,769.9547762577231,1364.5574000000001,597.67970000000003,1440.8958309796999,1440.8958309796999,1598.3771990732566,1413.3458735216241,634.73802506619597,882.39351804942623,343.80968711385708,7190.7871143279135,3236.1395997352165,288.83479999999997,1587.8277770962047,4018.6589830538396,4018.6589830538396,2620.6793757722862,7966.9840999117387,6737.482261168795,4726.118586407767,12712.048330450132,3026.2011466902031,2247.2935304501325,855.62830000000008,865.41738439694541,7108.1049338040611,{"$f":"SUM(AI88,AI126,AI164,AI202,AI240)","v":6622.1262661076789},863.93899999999996,905.61919443954127,1909.0015699029129,3876.2378257281557,184.59119999999999,184.59119999999999,1068.247626831421,1923.7406085613418,51502.059699999998,769.9547762577231,181.465,181.465,835.23272153574578,3236.7745277140339,766.8777,3443.407819048376,3792.1916957193293,1186.6042493380407,1525.8738933362756,288.83479999999997,48]
[null,"Male 50-54",{"$f":"SUM(C89,C127,C165,C203,C241)","v":1878.7004902912622},1467.0864517140226,1946.4766437775816,1286.25630842895,868.07220000000007,4424.4013597087378,857.35358901147413,1423.0896,592.86590000000001,1668.8129462488969,1668.8129462488969,1646.5880244042366,1494.1555016769639,721.85597458075904,966.15826879964698,392.59841209179172,7291.113079230995,3221.5055004413066,285.63140000000004,1568.8727484995586,3992.8235176522512,3992.8235176522512,2653.2869437334512,8016.4125775816428,6981.3844115875436,4733.0904582524272,13420.496369991173,3370.0035619593996,2498.7875441306264,1017.4936,962.26601078322278,7144.519820476612,{"$f":"SUM(AI89,AI127,AI165,AI203,AI241)","v":6688.5419816416597},892.98689999999999,892.60271800529586,2071.7623291262134,3909.6013349514565,213.46790000000001,213.46790000000001,1205.1167898058254,2032.5692643424536,53634.113800000006,857.35358901147413,210.27680000000001,210.27680000000001,913.4858181818181,3240.1657014121806,830.22370000000001,3580.4066730923628,4121.3026362312448,1378.4969549867608,1505.9876229479257,285.63140000000004,49]
[null,"Male 55-59",{"$f":"SUM(C90,C128,C166,C204,C242)","v":1487.4922461165047},1123.0450432976902,1448.0894816416594,930.97430556045924,693.19510000000014,3668.985564121801,643.71915842894975,1109.8266000000001,468.49379999999996,1295.6238672550751,1295.6238672550751,1431.9142578111209,1194.7307640776701,560.70889885260374,715.89510516328323,304.48946213592239,5607.3251349826705,2402.5223009708739,229.24090000000001,1158.1087602824362,3300.9534198587826,3300.9534198587826,2009.2655732568403,6478.1790638128869,5572.4921061752066,3586.2118252427185,10799.298683142099,2655.8307669902911,1959.4203684907325,829.81290000000001,754.55939656164867,5625.157084730803,{"$f":"SUM(AI90,AI128,AI166,AI204,AI242)","v":4976.1468164607249},681.53600000000006,645.25544766107691,1770.4085300970876,2995.0664053398059,161.25530000000001,161.25530000000001,861.6070485436893,1662.5089131509269,42080.176299999999,643.71915842894975,143.1258,143.1258,759.3868826125331,2632.2855975286852,641.33280000000002,2863.21950327881,3192.1915691968225,1089.7940970873788,1103.514534863195,229.24090000000001,50]
[null,"Male 60-64",{"$f":"SUM(C91,C129,C167,C205,C243)","v":1307.7373834951454},989.13534828119816,1277.4514948808473,852.34003848190673,663.39660000000003,3248.3819305825241,590.28847299205654,922.13520000000005,394.46160000000003,1207.5008170344222,1207.5008170344222,1158.645129214475,1023.2660275375111,485.61866337157994,579.12673305383942,260.12361624007065,4750.4217218987487,2020.7452639011476,223.31570000000002,956.09845052956769,2825.8545109885263,2825.8545109885263,1663.8225589143867,5260.8976424536631,4620.8464647589108,3164.9372737864078,8841.3381987643425,2446.0450054721973,1777.6605339805824,685.54230000000007,684.5649261291685,4765.6915376875559,{"$f":"SUM(AI91,AI129,AI167,AI205,AI243)","v":4137.7601177405122},608.10840000000007,574.8415195057371,1557.3093038834954,2513.7781432038837,141.70099999999999,141.70099999999999,798.4224194616063,1295.2342640776701,35996.662900000003,590.28847299205654,134.14580000000001,134.14580000000001,705.41593380406005,2253.2214054721976,527.67360000000008,2478.3399817287618,2793.204583186231,942.17256619594002,875.96667524271857,223.31570000000002,51]
[null,"Male 65-69",{"$f":"SUM(C92,C130,C168,C206,C244)","v":866.75649368932045},709.46450962183758,976.76177621359238,709.50196107678755,539.47019999999998,2444.5472596646073,484.8558427184467,692.04210000000012,298.87950000000001,997.42540701676978,997.42540701676978,839.17889721977065,773.80160423654013,336.25939346866727,436.06299638128866,164.98566593115623,3481.0778732986132,1317.7160428067082,182.61310000000003,761.82310189761699,2160.181408252427,2160.181408252427,1289.2616372462489,3340.952924536628,3107.1665100590603,2292.2433786407769,5791.2276900264778,1896.0427624007064,1350.6566725507503,492.56139999999994,520.12865651022673,3341.5020185348635,{"$f":"SUM(AI92,AI130,AI168,AI206,AI244)","v":2896.6357028243601},444.21590000000003,435.13152621359234,1159.3173135922332,1785.9189310679612,109.19200000000001,109.19200000000001,590.20972069726406,894.14027828773169,26004.6296,484.8558427184467,103.80330000000001,103.80330000000001,535.78641791703444,1557.0445434245366,393.16260000000005,1888.1563114291653,2121.0664611650482,606.43442144748451,664.145162886143,182.61310000000003,52]
[null,"Male 70-74",{"$f":"SUM(C93,C131,C169,C207,C245)","v":557.28136941747562},468.44099314034054,657.6844776257725,497.07316478376009,419.21730000000002,1838.9152775375114,355.54089779346873,495.67780000000005,217.51420000000002,754.90028645189773,754.90028645189773,594.48967665489852,561.48006337157994,243.47943795233897,326.73371862312445,119.34915004413064,2541.9716047482962,902.03133296557814,127.66800000000001,527.56265573698147,1611.5638781994705,1611.5638781994705,906.85124205648731,2394.2428829655778,2278.7333848592953,1557.1355067961167,4222.5207187996466,1429.26992533098,1004.5736297440423,362.19409999999999,386.85444126789213,2472.5231798764348,{"$f":"SUM(AI93,AI131,AI169,AI207,AI245)","v":2085.7294167255077},333.71940000000001,332.21807316857905,873.31200873786418,1291.2347810679612,87.649300000000011,87.649300000000011,441.67382952338926,673.75005075022091,18963.054800000002,355.54089779346873,73.714300000000009,73.714300000000009,418.29377228596644,1181.6651462488969,278.16360000000003,1383.0168812917677,1525.5003954986762,459.83454545454543,500.56269373345106,127.66800000000001,53]
[null,"Male 75-79",{"$f":"SUM(C94,C132,C170,C208,C246)","v":204.14883155339805},158.33076662749963,208.88180498676084,170.646878375993,134.0566,681.10518164165933,111.14773998234777,178.73840000000001,74.797600000000003,266.79269518976173,266.79269518976173,239.51418150926744,218.90727740511915,93.807641306266561,110.82546659311562,49.48644942630186,878.74166695251517,339.88761738746695,46.029900000000005,188.9112100617829,547.20984174757291,547.20984174757291,325.79080935569283,924.04243927625771,849.77074836823135,525.06905242718449,1610.857201765225,441.22651765225066,305.10165710503094,134.37970000000001,117.49256360566409,889.80748190644306,{"$f":"SUM(AI94,AI132,AI170,AI208,AI246)","v":743.21368318623138},108.3749,111.01655666372466,321.58426893203887,482.27717621359233,28.497299999999999,28.497299999999999,149.34940816416591,262.2262367166814,6755.4880000000003,111.14773998234777,21.5869,21.5869,147.59995586937333,408.07570097087387,103.94080000000001,485.69985061406788,553.73569938217122,154.48619947043247,174.13491910856138,46.029900000000005,54]
[null,"Male 80-84",{"$f":"SUM(C95,C133,C171,C209,C247)","v":152.21573300970874},112.97046989111172,143.47246615180936,114.57089721977054,86.096900000000019,445.45313296557822,73.478940291262163,108.9359,41.328400000000002,176.71832952338923,176.71832952338923,161.18657356575466,141.19385622241839,69.05867608120036,78.256677669902913,34.466008561341575,605.50488727810716,253.08553265666376,27.929200000000002,132.83574633715799,375.9552583848191,375.9552583848191,214.7842314651368,635.65929240953221,571.3996783274589,365.56144077669904,1098.6909881729921,296.67933053839369,209.51997793468666,87.653099999999995,80.684711999693008,584.5073823477494,{"$f":"SUM(AI95,AI133,AI171,AI209,AI247)","v":516.7588425419242},69.616600000000005,69.863632127096224,209.12407572815539,313.02062427184472,17.055700000000002,17.055700000000002,105.47954126213591,170.94514307149163,4558.4476000000004,73.478940291262163,12.898099999999999,12.898099999999999,98.808947925860565,271.75687758164167,67.607500000000002,332.73323511802107,378.30149686672547,105.12563989408652,108.82648808473083,27.929200000000002,55]
[null,"Male 85-89",{"$f":"SUM(C96,C134,C172,C210,C248)","v":78.470328155339814},56.285428167342317,69.247141968225947,62.667679832303634,43.009500000000003,216.55098724624889,42.735017519858793,54.891500000000008,22.821900000000003,86.829611562224187,86.829611562224187,87.666787864077676,69.269146337157977,35.060021888790821,37.519966946160636,17.276086142983232,305.38397475368123,129.93815335392765,16.4389,59.40629752868491,184.62811496028246,184.62811496028246,101.32679589585173,304.98579373345103,273.35185420774297,185.49062912621361,533.98380794351272,151.37189876434246,107.89492939099733,41.364899999999999,41.549600138148058,272.16492391879967,{"$f":"SUM(AI96,AI134,AI172,AI210,AI248)","v":257.82528693733457},39.369500000000009,38.263600529567533,95.373850485436904,138.28500339805828,8.6976000000000013,8.6976000000000013,56.9742660635481,88.590469549867606,2257.9132999999997,42.735017519858793,6.8012000000000015,6.8012000000000015,51.451914827890555,133.83172365401589,32.069600000000001,172.32771901719352,205.60670525154458,47.306307590467789,48.361351059135046,16.4389,56]
[null,"Male 90+",{"$f":"SUM(C97,C135,C173,C211,C249)","v":32.597039320388348},25.094720671080267,32.902674580759054,26.925303618711389,16.4465,85.842751323918804,15.337049382171228,21.508199999999999,9.9636999999999993,38.17834210061784,38.17834210061784,36.29532775816417,26.437180759046779,16.348129214474845,16.594285789938215,8.1427889673433373,134.21529085803994,62.716885260370695,5.4259000000000004,25.896082303618712,81.26566959399824,81.26566959399824,42.103499338040606,132.20418111209179,116.34121442198092,81.648629126213592,236.99979523389234,61.733944042365401,45.185633274492496,18.222799999999999,17.400678652289042,107.17730467784642,{"$f":"SUM(AI97,AI135,AI173,AI211,AI249)","v":117.3651016328332},16.051600000000001,15.976827272727276,37.385873786407771,55.435797087378653,3.9616000000000007,3.9616000000000007,23.566130229479256,39.68793848190645,958.96380000000011,15.337049382171228,2.4975000000000005,2.4975000000000005,21.450693292144749,51.745355428067086,11.544500000000001,73.821225786079879,85.989615357458078,21.848095763459842,20.557831112091794,5.4259000000000004,57]
["SIMD Q1 (most deprived)","Female 0-4",{"$f":"'Population 2016'!C60*'Prevalence Rates'!C60","v":0},{"$f":"'Population 2016'!D60*'Prevalence Rates'!D60","v":0},{"$f":"'Population 2016'!E60*'Prevalence Rates'!E60","v":0},{"$f":"'Population 2016'!F60*'Prevalence Rates'!F60","v":0},{"$f":"'Population 2016'!G60*'Prevalence Rates'!G60","v":0},{"$f":"'Population 2016'!H60*'Prevalence Rates'!H60","v":0},{"$f":"'Population 2016'!I60*'Prevalence Rates'!I60","v":0},{"$f":"'Population 2016'!J60*'Prevalence Rates'!J60","v":0},{"$f":"'Population 2016'!K60*'Prevalence Rates'!K60","v":0},{"$f":"'Population 2016'!L60*'Prevalence Rates'!L60","v":0},{"$f":"'Population 2016'!M60*'Prevalence Rates'!M60","v":0},{"$f":"'Population 2016'!N60*'Prevalence Rates'!N60","v":0},{"$f":"'Population 2016'!O60*'Prevalence Rates'!O60","v":0},{"$f":"'Population 2016'!P60*'Prevalence Rates'!P60","v":0},{"$f":"'Population 2016'!Q60*'Prevalence Rates'!Q60","v":0},{"$f":"'Population 2016'!R60*'Prevalence Rates'!R60","v":0},{"$f":"'Population 2016'!S60*'Prevalence Rates'!S60","v":0},{"$f":"'Population 2016'!T60*'Prevalence Rates'!T60","v":0},{"$f":"'Population 2016'!U60*'Prevalence Rates'!U60","v":0},{"$f":"'Population 2016'!V60*'Prevalence Rates'!V60","v":0},{"$f":"'Population 2016'!W60*'Prevalence Rates'!W60","v":0},{"$f":"'Population 2016'!X60*'Prevalence Rates'!X60","v":0},{"$f":"'Population 2016'!Y60*'Prevalence Rates'!Y60","v":0},{"$f":"'Population 2016'!Z60*'Prevalence Rates'!Z60","v":0},{"$f":"'Population 2016'!AA60*'Prevalence Rates'!AA60","v":0},{"$f":"'Population 2016'!AB60*'Prevalence Rates'!AB60","v":0},{"$f":"'Population 2016'!AC60*'Prevalence Rates'!AC60","v":0},{"$f":"'Population 2016'!AD60*'Prevalence Rates'!AD60","v":0},{"$f":"'Population 2016'!AE60*'Prevalence Rates'!AE60","v":0},{"$f":"'Population 2016'!AF60*'Prevalence Rates'!AF60","v":0},{"$f":"'Population 2016'!AG60*'Prevalence Rates'!AG60","v":0},{"$f":"'Population 2016'!AH60*'Prevalence Rates'!AH60","v":0},{"$f":"'Population 2016'!AI60*'Prevalence Rates'!AI60","v":0},{"$f":"'Population 2016'!AJ60*'Prevalence Rates'!AJ60","v":0},{"$f":"'Population 2016'!AK60*'Prevalence Rates'!AK60","v":0},{"$f":"'Population 2016'!AL60*'Prevalence Rates'!AL60","v":0},{"$f":"'Population 2016'!AM60*'Prevalence Rates'!AM60","v":0},{"$f":"'Population 2016'!AN60*'Prevalence Rates'!AN60","v":0},{"$f":"'Population 2016'!AO60*'Prevalence Rates'!AO60","v":0},{"$f":"'Population 2016'!AP60*'Prevalence Rates'!AP60","v":0},{"$f":"'Population 2016'!AQ60*'Prevalence Rates'!AQ60","v":0},{"$f":"'Population 2016'!AR60*'Prevalence Rates'!AR60","v":0},{"$f":"'Population 2016'!AS60*'Prevalence Rates'!AS60","v":0},{"$f":"'Population 2016'!AT60*'Prevalence Rates'!AT60","v":0},{"$f":"'Population 2016'!AU60*'Prevalence Rates'!AU60","v":0},{"$f":"'Population 2016'!AV60*'Prevalence Rates'!AV60","v":0},{"$f":"'Population 2016'!AW60*'Prevalence Rates'!AW60","v":0},{"$f":"'Population 2016'!AX60*'Prevalence Rates'!AX60","v":0},{"$f":"'Population 2016'!AY60*'Prevalence Rates'!AY60","v":0},{"$f":"'Population 2016'!AZ60*'Prevalence Rates'!AZ60","v":0},{"$f":"'Population 2016'!BA60*'Prevalence Rates'!BA60","v":0},{"$f":"'Population 2016'!BB60*'Prevalence Rates'!BB60","v":0},{"$f":"'Population 2016'!BC60*'Prevalence Rates'!BC60","v":0},58]
[null,"Female 5-9",{"$f":"'Population 2016'!C61*'Prevalence Rates'!C61","v":0},{"$f":"'Population 2016'!D61*'Prevalence Rates'!D61","v":0},{"$f":"'Population 2016'!E61*'Prevalence Rates'!E61","v":0},{"$f":"'Population 2016'!F61*'Prevalence Rates'!F61","v":0},{"$f":"'Population 2016'!G61*'Prevalence Rates'!G61","v":0},{"$f":"'Population 2016'!H61*'Prevalence Rates'!H61","v":0},{"$f":"'Population 2016'!I61*'Prevalence Rates'!I61","v":0},{"$f":"'Population 2016'!J61*'Prevalence Rates'!J61","v":0},{"$f":"'Population 2016'!K61*'Prevalence Rates'!K61","v":0},{"$f":"'Population 2016'!L61*'Prevalence Rates'!L61","v":0},{"$f":"'Population 2016'!M61*'Prevalence Rates'!M61","v":0},{"$f":"'Population 2016'!N61*'Prevalence Rates'!N61","v":0},{"$f":"'Population 2016'!O61*'Prevalence Rates'!O61","v":0},{"$f":"'Population 2016'!P61*'Prevalence Rates'!P61","v":0},{"$f":"'Population 2016'!Q61*'Prevalence Rates'!Q61","v":0},{"$f":"'Population 2016'!R61*'Prevalence Rates'!R61","v":0},{"$f":"'Population 2016'!S61*'Prevalence Rates'!S61","v":0},{"$f":"'Population 2016'!T61*'Prevalence Rates'!T61","v":0},{"$f":"'Population 2016'!U61*'Prevalence Rates'!U61","v":0},{"$f":"'Population 2016'!V61*'Prevalence Rates'!V61","v":0},{"$f":"'Population 2016'!W61*'Prevalence Rates'!W61","v":0},{"$f":"'Population 2016'!X61*'Prevalence Rates'!X61","v":0},{"$f":"'Population 2016'!Y61*'Prevalence Rates'!Y61","v":0},{"$f":"'Population 2016'!Z61*'Prevalence Rates'!Z61","v":0},{"$f":"'Population 2016'!AA61*'Prevalence Rates'!AA61","v":0},{"$f":"'Population 2016'!AB61*'Prevalence Rates'!AB61","v":0},{"$f":"'Population 2016'!AC61*'Prevalence Rates'!AC61","v":0},{"$f":"'Population 2016'!AD61*'Prevalence Rates'!AD61","v":0},{"$f":"'Population 2016'!AE61*'Prevalence Rates'!AE61","v":0},{"$f":"'Population 2016'!AF61*'Prevalence Rates'!AF61","v":0},{"$f":"'Population 2016'!AG61*'Prevalence Rates'!AG61","v":0},{"$f":"'Population 2016'!AH61*'Prevalence Rates'!AH61","v":0},{"$f":"'Population 2016'!AI61*'Prevalence Rates'!AI61","v":0},{"$f":"'Population 2016'!AJ61*'Prevalence Rates'!AJ61","v":0},{"$f":"'Population 2016'!AK61*'Prevalence Rates'!AK61","v":0},{"$f":"'Population 2016'!AL61*'Prevalence Rates'!AL61","v":0},{"$f":"'Population 2016'!AM61*'Prevalence Rates'!AM61","v":0},{"$f":"'Population 2016'!AN61*'Prevalence Rates'!AN61","v":0},{"$f":"'Population 2016'!AO61*'Prevalence Rates'!AO61","v":0},{"$f":"'Population 2016'!AP61*'Prevalence Rates'!AP61","v":0},{"$f":"'Population 2016'!AQ61*'Prevalence Rates'!AQ61","v":0},{"$f":"'Population 2016'!AR61*'Prevalence Rates'!AR61","v":0},{"$f":"'Population 2016'!AS61*'Prevalence Rates'!AS61","v":0},{"$f":"'Population 2016'!AT61*'Prevalence Rates'!AT61","v":0},{"$f":"'Population 2016'!AU61*'Prevalence Rates'!AU61","v":0},{"$f":"'Population 2016'!AV61*'Prevalence Rates'!AV61","v":0},{"$f":"'Population 2016'!AW61*'Prevalence Rates'!AW61","v":0},{"$f":"'Population 2016'!AX61*'Prevalence Rates'!AX61","v":0},{"$f":"'Population 2016'!AY61*'Prevalence Rates'!AY61","v":0},{"$f":"'Population 2016'!AZ61*'Prevalence Rates'!AZ61","v":0},{"$f":"'Population 2016'!BA61*'Prevalence Rates'!BA61","v":0},{"$f":"'Population 2016'!BB61*'Prevalence Rates'!BB61","v":0},{"$f":"'Population 2016'!BC61*'Prevalence Rates'!BC61","v":0},59]
[null,"Female 10-15",{"$f":"'Population 2016'!C62*'Prevalence Rates'!C62","v":0},{"$f":"'Population 2016'!D62*'Prevalence Rates'!D62","v":0},{"$f":"'Population 2016'!E62*'Prevalence Rates'!E62","v":0},{"$f":"'Population 2016'!F62*'Prevalence Rates'!F62","v":0},{"$f":"'Population 2016'!G62*'Prevalence Rates'!G62","v":0},{"$f":"'Population 2016'!H62*'Prevalence Rates'!H62","v":0},{"$f":"'Population 2016'!I62*'Prevalence Rates'!I62","v":0},{"$f":"'Population 2016'!J62*'Prevalence Rates'!J62","v":0},{"$f":"'Population 2016'!K62*'Prevalence Rates'!K62","v":0},{"$f":"'Population 2016'!L62*'Prevalence Rates'!L62","v":0},{"$f":"'Population 2016'!M62*'Prevalence Rates'!M62","v":0},{"$f":"'Population 2016'!N62*'Prevalence Rates'!N62","v":0},{"$f":"'Population 2016'!O62*'Prevalence Rates'!O62","v":0},{"$f":"'Population 2016'!P62*'Prevalence Rates'!P62","v":0},{"$f":"'Population 2016'!Q62*'Prevalence Rates'!Q62","v":0},{"$f":"'Population 2016'!R62*'Prevalence Rates'!R62","v":0},{"$f":"'Population 2016'!S62*'Prevalence Rates'!S62","v":0},{"$f":"'Population 2016'!T62*'Prevalence Rates'!T62","v":0},{"$f":"'Population 2016'!U62*'Prevalence Rates'!U62","v":0},{"$f":"'Population 2016'!V62*'Prevalence Rates'!V62","v":0},{"$f":"'Population 2016'!W62*'Prevalence Rates'!W62","v":0},{"$f":"'Population 2016'!X62*'Prevalence Rates'!X62","v":0},{"$f":"'Population 2016'!Y62*'Prevalence Rates'!Y62","v":0},{"$f":"'Population 2016'!Z62*'Prevalence Rates'!Z62","v":0},{"$f":"'Population 2016'!AA62*'Prevalence Rates'!AA62","v":0},{"$f":"'Population 2016'!AB62*'Prevalence Rates'!AB62","v":0},{"$f":"'Population 2016'!AC62*'Prevalence Rates'!AC62","v":0},{"$f":"'Population 2016'!AD62*'Prevalence Rates'!AD62","v":0},{"$f":"'Population 2016'!AE62*'Prevalence Rates'!AE62","v":0},{"$f":"'Population 2016'!AF62*'Prevalence Rates'!AF62","v":0},{"$f":"'Population 2016'!AG62*'Prevalence Rates'!AG62","v":0},{"$f":"'Population 2016'!AH62*'Prevalence Rates'!AH62","v":0},{"$f":"'Population 2016'!AI62*'Prevalence Rates'!AI62","v":0},{"$f":"'Population 2016'!AJ62*'Prevalence Rates'!AJ62","v":0},{"$f":"'Population 2016'!AK62*'Prevalence Rates'!AK62","v":0},{"$f":"'Population 2016'!AL62*'Prevalence Rates'!AL62","v":0},{"$f":"'Population 2016'!AM62*'Prevalence Rates'!AM62","v":0},{"$f":"'Population 2016'!AN62*'Prevalence Rates'!AN62","v":0},{"$f":"'Population 2016'!AO62*'Prevalence Rates'!AO62","v":0},{"$f":"'Population 2016'!AP62*'Prevalence Rates'!AP62","v":0},{"$f":"'Population 2016'!AQ62*'Prevalence Rates'!AQ62","v":0},{"$f":"'Population 2016'!AR62*'Prevalence Rates'!AR62","v":0},{"$f":"'Population 2016'!AS62*'Prevalence Rates'!AS62","v":0},{"$f":"'Population 2016'!AT62*'Prevalence Rates'!AT62","v":0},{"$f":"'Population 2016'!AU62*'Prevalence Rates'!AU62","v":0},{"$f":"'Population 2016'!AV62*'Prevalence Rates'!AV62","v":0},{"$f":"'Population 2016'!AW62*'Prevalence Rates'!AW62","v":0},{"$f":"'Population 2016'!AX62*'Prevalence Rates'!AX62","v":0},{"$f":"'Population 2016'!AY62*'Prevalence Rates'!AY62","v":0},{"$f":"'Population 2016'!AZ62*'Prevalence Rates'!AZ62","v":0},{"$f":"'Population 2016'!BA62*'Prevalence Rates'!BA62","v":0},{"$f":"'Population 2016'!BB62*'Prevalence Rates'!BB62","v":0},{"$f":"'Population 2016'!BC62*'Prevalence Rates'!BC62","v":0},60]
[null,"Female 16-19",{"$f":"'Population 2016'!C63*'Prevalence Rates'!C63","v":90.022132765957437},{"$f":"'Population 2016'!D63*'Prevalence Rates'!D63","v":63.588767221192775},{"$f":"'Population 2016'!E63*'Prevalence Rates'!E63","v":23.333651063829787},{"$f":"'Population 2016'!F63*'Prevalence Rates'!F63","v":32.130296170212766},{"$f":"'Population 2016'!G63*'Prevalence Rates'!G63","v":40.412799999999997},{"$f":"'Population 2016'!H63*'Prevalence Rates'!H63","v":758.50708936170236},{"$f":"'Population 2016'!I63*'Prevalence Rates'!I63","v":47.799384680851063},{"$f":"'Population 2016'!J63*'Prevalence Rates'!J63","v":164.41919999999999},{"$f":"'Population 2016'!K63*'Prevalence Rates'!K63","v":75.843199999999996},{"$f":"'Population 2016'!L63*'Prevalence Rates'!L63","v":103.70282553191488},{"$f":"'Population 2016'!M63*'Prevalence Rates'!M63","v":103.70282553191488},{"$f":"'Population 2016'!N63*'Prevalence Rates'!N63","v":452.85319234042549},{"$f":"'Population 2016'!O63*'Prevalence Rates'!O63","v":245.8116510638298},{"$f":"'Population 2016'!P63*'Prevalence Rates'!P63","v":23.708361702127654},{"$f":"'Population 2016'!Q63*'Prevalence Rates'!Q63","v":25.870640851063833},{"$f":"'Population 2016'!R63*'Prevalence Rates'!R63","v":20.039289361702128},{"$f":"'Population 2016'!S63*'Prevalence Rates'!S63","v":888.30677796553482},{"$f":"'Population 2016'!T63*'Prevalence Rates'!T63","v":316.21632},{"$f":"'Population 2016'!U63*'Prevalence Rates'!U63","v":0},{"$f":"'Population 2016'!V63*'Prevalence Rates'!V63","v":87.096592340425545},{"$f":"'Population 2016'!W63*'Prevalence Rates'!W63","v":521.88608170212763},{"$f":"'Population 2016'!X63*'Prevalence Rates'!X63","v":521.88608170212763},{"$f":"'Population 2016'!Y63*'Prevalence Rates'!Y63","v":217.78565106382976},{"$f":"'Population 2016'!Z63*'Prevalence Rates'!Z63","v":2021.4260825531915},{"$f":"'Population 2016'!AA63*'Prevalence Rates'!AA63","v":1495.4913640360492},{"$f":"'Population 2016'!AB63*'Prevalence Rates'!AB63","v":120.98221276595744},{"$f":"'Population 2016'!AC63*'Prevalence Rates'!AC63","v":2732.6343829787234},{"$f":"'Population 2016'!AD63*'Prevalence Rates'!AD63","v":144.44587148936168},{"$f":"'Population 2016'!AE63*'Prevalence Rates'!AE63","v":104.78617361702128},{"$f":"'Population 2016'!AF63*'Prevalence Rates'!AF63","v":190.4384},{"$f":"'Population 2016'!AG63*'Prevalence Rates'!AG63","v":55.981583718778914},{"$f":"'Population 2016'!AH63*'Prevalence Rates'!AH63","v":1289.0116629787235},{"$f":"'Population 2016'!AI63*'Prevalence Rates'!AI63","v":631.82529957446798},{"$f":"'Population 2016'!AJ63*'Prevalence Rates'!AJ63","v":56.744},{"$f":"'Population 2016'!AK63*'Prevalence Rates'!AK63","v":5.4252799999999999},{"$f":"'Population 2016'!AL63*'Prevalence Rates'!AL63","v":365.40353276595749},{"$f":"'Population 2016'!AM63*'Prevalence Rates'!AM63","v":966.71722723404253},{"$f":"'Population 2016'!AN63*'Prevalence Rates'!AN63","v":0},{"$f":"'Population 2016'!AO63*'Prevalence Rates'!AO63","v":0},{"$f":"'Population 2016'!AP63*'Prevalence Rates'!AP63","v":39.634373617021275},{"$f":"'Population 2016'!AQ63*'Prevalence Rates'!AQ63","v":334.81080170212761},{"$f":"'Population 2016'!AR63*'Prevalence Rates'!AR63","v":6682.5055999999995},{"$f":"'Population 2016'!AS63*'Prevalence Rates'!AS63","v":47.799384680851063},{"$f":"'Population 2016'!AT63*'Prevalence Rates'!AT63","v":0},{"$f":"'Population 2016'!AU63*'Prevalence Rates'!AU63","v":0},{"$f":"'Population 2016'!AV63*'Prevalence Rates'!AV63","v":140.97100085106379},{"$f":"'Population 2016'!AW63*'Prevalence Rates'!AW63","v":380.89299574468089},{"$f":"'Population 2016'!AX63*'Prevalence Rates'!AX63","v":88.575999999999993},{"$f":"'Population 2016'!AY63*'Prevalence Rates'!AY63","v":551.26092850361397},{"$f":"'Population 2016'!AZ63*'Prevalence Rates'!AZ63","v":413.06569531914892},{"$f":"'Population 2016'!BA63*'Prevalence Rates'!BA63","v":297.13817446808508},{"$f":"'Population 2016'!BB63*'Prevalence Rates'!BB63","v":214.26322382978719},{"$f":"'Population 2016'!BC63*'Prevalence Rates'!BC63","v":0},61]
[null,"Female 20-24",{"$f":"'Population 2016'!C64*'Prevalence Rates'!C64","v":191.81827744680851},{"$f":"'Population 2016'!D64*'Prevalence Rates'!D64","v":130.36361046181901},{"$f":"'Population 2016'!E64*'Prevalence Rates'!E64","v":41.66723404255319},{"$f":"'Population 2016'!F64*'Prevalence Rates'!F64","v":46.313940425531911},{"$f":"'Population 2016'!G64*'Prevalence Rates'!G64","v":57.574399999999997},{"$f":"'Population 2016'!H64*'Prevalence Rates'!H64","v":1135.5214987234044},{"$f":"'Population 2016'!I64*'Prevalence Rates'!I64","v":61.37554127659574},{"$f":"'Population 2016'!J64*'Prevalence Rates'!J64","v":264.89760000000001},{"$f":"'Population 2016'!K64*'Prevalence Rates'!K64","v":122.34559999999999},{"$f":"'Population 2016'!L64*'Prevalence Rates'!L64","v":165.26609021276596},{"$f":"'Population 2016'!M64*'Prevalence Rates'!M64","v":165.26609021276596},{"$f":"'Population 2016'!N64*'Prevalence Rates'!N64","v":771.18129021276582},{"$f":"'Population 2016'!O64*'Prevalence Rates'!O64","v":385.10491999999999},{"$f":"'Population 2016'!P64*'Prevalence Rates'!P64","v":37.136106382978717},{"$f":"'Population 2016'!Q64*'Prevalence Rates'!Q64","v":37.403336170212768},{"$f":"'Population 2016'!R64*'Prevalence Rates'!R64","v":27.479025531914893},{"$f":"'Population 2016'!S64*'Prevalence Rates'!S64","v":1233.6609100954045},{"$f":"'Population 2016'!T64*'Prevalence Rates'!T64","v":499.55450553191486},{"$f":"'Population 2016'!U64*'Prevalence Rates'!U64","v":0},{"$f":"'Population 2016'!V64*'Prevalence Rates'!V64","v":142.58851404255321},{"$f":"'Population 2016'!W64*'Prevalence Rates'!W64","v":641.44336340425536},{"$f":"'Population 2016'!X64*'Prevalence Rates'!X64","v":641.44336340425536},{"$f":"'Population 2016'!Y64*'Prevalence Rates'!Y64","v":353.39188510638292},{"$f":"'Population 2016'!Z64*'Prevalence Rates'!Z64","v":3441.6970417021275},{"$f":"'Population 2016'!AA64*'Prevalence Rates'!AA64","v":2383.5559053355109},{"$f":"'Population 2016'!AB64*'Prevalence Rates'!AB64","v":248.56345531914891},{"$f":"'Population 2016'!AC64*'Prevalence Rates'!AC64","v":4628.2874042553185},{"$f":"'Population 2016'!AD64*'Prevalence Rates'!AD64","v":213.3799668085106},{"$f":"'Population 2016'!AE64*'Prevalence Rates'!AE64","v":156.7892374468085},{"$f":"'Population 2016'!AF64*'Prevalence Rates'!AF64","v":313.61439999999999},{"$f":"'Population 2016'!AG64*'Prevalence Rates'!AG64","v":83.764007400555045},{"$f":"'Population 2016'!AH64*'Prevalence Rates'!AH64","v":1769.5670876595746},{"$f":"'Population 2016'!AI64*'Prevalence Rates'!AI64","v":955.41245021276586},{"$f":"'Population 2016'!AJ64*'Prevalence Rates'!AJ64","v":90.236800000000002},{"$f":"'Population 2016'!AK64*'Prevalence Rates'!AK64","v":11.867799999999999},{"$f":"'Population 2016'!AL64*'Prevalence Rates'!AL64","v":526.33254978723403},{"$f":"'Population 2016'!AM64*'Prevalence Rates'!AM64","v":1303.678529361702},{"$f":"'Population 2016'!AN64*'Prevalence Rates'!AN64","v":0},{"$f":"'Population 2016'!AO64*'Prevalence Rates'!AO64","v":0},{"$f":"'Population 2016'!AP64*'Prevalence Rates'!AP64","v":70.60549617021276},{"$f":"'Population 2016'!AQ64*'Prevalence Rates'!AQ64","v":616.16710638297866},{"$f":"'Population 2016'!AR64*'Prevalence Rates'!AR64","v":10414.323199999999},{"$f":"'Population 2016'!AS64*'Prevalence Rates'!AS64","v":61.37554127659574},{"$f":"'Population 2016'!AT64*'Prevalence Rates'!AT64","v":0},{"$f":"'Population 2016'!AU64*'Prevalence Rates'!AU64","v":0},{"$f":"'Population 2016'!AV64*'Prevalence Rates'!AV64","v":215.63662297872335},{"$f":"'Population 2016'!AW64*'Prevalence Rates'!AW64","v":539.0094008510639},{"$f":"'Population 2016'!AX64*'Prevalence Rates'!AX64","v":142.55199999999999},{"$f":"'Population 2016'!AY64*'Prevalence Rates'!AY64","v":795.09091262559616},{"$f":"'Population 2016'!AZ64*'Prevalence Rates'!AZ64","v":692.58010212765953},{"$f":"'Population 2016'!BA64*'Prevalence Rates'!BA64","v":463.97849106382978},{"$f":"'Population 2016'!BB64*'Prevalence Rates'!BB64","v":290.55165957446803},{"$f":"'Population 2016'!BC64*'Prevalence Rates'!BC64","v":0},62]
[null,"Female 25-29",{"$f":"'Population 2016'!C65*'Prevalence Rates'!C65","v":327.72320223404256},{"$f":"'Population 2016'!D65*'Prevalence Rates'!D65","v":218.30908283789771},{"$f":"'Population 2016'!E65*'Prevalence Rates'!E65","v":64.254999468085117},{"$f":"'Population 2016'!F65*'Prevalence Rates'!F65","v":56.078738244680849},{"$f":"'Population 2016'!G65*'Prevalence Rates'!G65","v":61.696400000000004},{"$f":"'Population 2016'!H65*'Prevalence Rates'!H65","v":1473.6775468617025},{"$f":"'Population 2016'!I65*'Prevalence Rates'!I65","v":74.770633404255335},{"$f":"'Population 2016'!J65*'Prevalence Rates'!J65","v":363.72180000000003},{"$f":"'Population 2016'!K65*'Prevalence Rates'!K65","v":153.52360000000002},{"$f":"'Population 2016'!L65*'Prevalence Rates'!L65","v":215.01851744680852},{"$f":"'Population 2016'!M65*'Prevalence Rates'!M65","v":215.01851744680852},{"$f":"'Population 2016'!N65*'Prevalence Rates'!N65","v":1301.8709315425531},{"$f":"'Population 2016'!O65*'Prevalence Rates'!O65","v":513.32984606382979},{"$f":"'Population 2016'!P65*'Prevalence Rates'!P65","v":52.202297872340424},{"$f":"'Population 2016'!Q65*'Prevalence Rates'!Q65","v":55.336916117021296},{"$f":"'Population 2016'!R65*'Prevalence Rates'!R65","v":34.210058510638298},{"$f":"'Population 2016'!S65*'Prevalence Rates'!S65","v":2053.8753369196334},{"$f":"'Population 2016'!T65*'Prevalence Rates'!T65","v":974.85959617021274},{"$f":"'Population 2016'!U65*'Prevalence Rates'!U65","v":0},{"$f":"'Population 2016'!V65*'Prevalence Rates'!V65","v":212.39924425531916},{"$f":"'Population 2016'!W65*'Prevalence Rates'!W65","v":1019.8153908510639},{"$f":"'Population 2016'!X65*'Prevalence Rates'!X65","v":1019.8153908510639},{"$f":"'Population 2016'!Y65*'Prevalence Rates'!Y65","v":503.6701313829787},{"$f":"'Population 2016'!Z65*'Prevalence Rates'!Z65","v":6162.137636861702},{"$f":"'Population 2016'!AA65*'Prevalence Rates'!AA65","v":3784.5878043831494},{"$f":"'Population 2016'!AB65*'Prevalence Rates'!AB65","v":409.20801276595745},{"$f":"'Population 2016'!AC65*'Prevalence Rates'!AC65","v":7694.9735904255313},{"$f":"'Population 2016'!AD65*'Prevalence Rates'!AD65","v":261.51309696808511},{"$f":"'Population 2016'!AE65*'Prevalence Rates'!AE65","v":200.48468031914896},{"$f":"'Population 2016'!AF65*'Prevalence Rates'!AF65","v":409.9941},{"$f":"'Population 2016'!AG65*'Prevalence Rates'!AG65","v":107.10811864014802},{"$f":"'Population 2016'!AH65*'Prevalence Rates'!AH65","v":2448.312192340426},{"$f":"'Population 2016'!AI65*'Prevalence Rates'!AI65","v":1657.4319249468085},{"$f":"'Population 2016'!AJ65*'Prevalence Rates'!AJ65","v":120.8819},{"$f":"'Population 2016'!AK65*'Prevalence Rates'!AK65","v":10.106372500000001},{"$f":"'Population 2016'!AL65*'Prevalence Rates'!AL65","v":683.46659840425536},{"$f":"'Population 2016'!AM65*'Prevalence Rates'!AM65","v":1834.966864787234},{"$f":"'Population 2016'!AN65*'Prevalence Rates'!AN65","v":0},{"$f":"'Population 2016'!AO65*'Prevalence Rates'!AO65","v":0},{"$f":"'Population 2016'!AP65*'Prevalence Rates'!AP65","v":112.54613175531915},{"$f":"'Population 2016'!AQ65*'Prevalence Rates'!AQ65","v":906.32614521276594},{"$f":"'Population 2016'!AR65*'Prevalence Rates'!AR65","v":16187.772300000001},{"$f":"'Population 2016'!AS65*'Prevalence Rates'!AS65","v":74.770633404255335},{"$f":"'Population 2016'!AT65*'Prevalence Rates'!AT65","v":0},{"$f":"'Population 2016'!AU65*'Prevalence Rates'!AU65","v":0},{"$f":"'Population 2016'!AV65*'Prevalence Rates'!AV65","v":265.61696840425526},{"$f":"'Population 2016'!AW65*'Prevalence Rates'!AW65","v":724.27444734042558},{"$f":"'Population 2016'!AX65*'Prevalence Rates'!AX65","v":210.19820000000001},{"$f":"'Population 2016'!AY65*'Prevalence Rates'!AY65","v":1278.4195883344869},{"$f":"'Population 2016'!AZ65*'Prevalence Rates'!AZ65","v":1123.6464481914895},{"$f":"'Population 2016'!BA65*'Prevalence Rates'!BA65","v":624.6993273404255},{"$f":"'Population 2016'!BB65*'Prevalence Rates'!BB65","v":398.14631531914887},{"$f":"'Population 2016'!BC65*'Prevalence Rates'!BC65","v":0},63]
[null,"Female 30-34",{"$f":"'Population 2016'!C66*'Prevalence Rates'!C66","v":287.98954531914893},{"$f":"'Population 2016'!D66*'Prevalence Rates'!D66","v":196.28893894250692},{"$f":"'Population 2016'!E66*'Prevalence Rates'!E66","v":63.445062500000013},{"$f":"'Population 2016'!F66*'Prevalence Rates'!F66","v":62.268030425531911},{"$f":"'Population 2016'!G66*'Prevalence Rates'!G66","v":72.098700000000008},{"$f":"'Population 2016'!H66*'Prevalence Rates'!H66","v":1307.9205596808515},{"$f":"'Population 2016'!I66*'Prevalence Rates'!I66","v":75.870201542553204},{"$f":"'Population 2016'!J66*'Prevalence Rates'!J66","v":318.1669},{"$f":"'Population 2016'!K66*'Prevalence Rates'!K66","v":146.70830000000001},{"$f":"'Population 2016'!L66*'Prevalence Rates'!L66","v":183.44833829787234},{"$f":"'Population 2016'!M66*'Prevalence Rates'!M66","v":183.44833829787234},{"$f":"'Population 2016'!N66*'Prevalence Rates'!N66","v":1043.6408935638296},{"$f":"'Population 2016'!O66*'Prevalence Rates'!O66","v":456.21183180851068},{"$f":"'Population 2016'!P66*'Prevalence Rates'!P66","v":44.861349734042548},{"$f":"'Population 2016'!Q66*'Prevalence Rates'!Q66","v":50.08596787234044},{"$f":"'Population 2016'!R66*'Prevalence Rates'!R66","v":33.27705691489362},{"$f":"'Population 2016'!S66*'Prevalence Rates'!S66","v":1962.7338210364378},{"$f":"'Population 2016'!T66*'Prevalence Rates'!T66","v":959.87433127659574},{"$f":"'Population 2016'!U66*'Prevalence Rates'!U66","v":0},{"$f":"'Population 2016'!V66*'Prevalence Rates'!V66","v":208.11316085106384},{"$f":"'Population 2016'!W66*'Prevalence Rates'!W66","v":899.64135095744678},{"$f":"'Population 2016'!X66*'Prevalence Rates'!X66","v":899.64135095744678},{"$f":"'Population 2016'!Y66*'Prevalence Rates'!Y66","v":465.3531486702127},{"$f":"'Population 2016'!Z66*'Prevalence Rates'!Z66","v":5217.7320522872342},{"$f":"'Population 2016'!AA66*'Prevalence Rates'!AA66","v":3442.5114495035518},{"$f":"'Population 2016'!AB66*'Prevalence Rates'!AB66","v":371.83452553191489},{"$f":"'Population 2016'!AC66*'Prevalence Rates'!AC66","v":6686.8739521276593},{"$f":"'Population 2016'!AD66*'Prevalence Rates'!AD66","v":291.85816297872339},{"$f":"'Population 2016'!AE66*'Prevalence Rates'!AE66","v":220.70162287234044},{"$f":"'Population 2016'!AF66*'Prevalence Rates'!AF66","v":401.02660000000003},{"$f":"'Population 2016'!AG66*'Prevalence Rates'!AG66","v":117.90893732654951},{"$f":"'Population 2016'!AH66*'Prevalence Rates'!AH66","v":2553.2876553191495},{"$f":"'Population 2016'!AI66*'Prevalence Rates'!AI66","v":1646.0193502127661},{"$f":"'Population 2016'!AJ66*'Prevalence Rates'!AJ66","v":106.1752},{"$f":"'Population 2016'!AK66*'Prevalence Rates'!AK66","v":14.500447500000002},{"$f":"'Population 2016'!AL66*'Prevalence Rates'!AL66","v":593.38920569148934},{"$f":"'Population 2016'!AM66*'Prevalence Rates'!AM66","v":1855.1964},{"$f":"'Population 2016'!AN66*'Prevalence Rates'!AN66","v":0},{"$f":"'Population 2016'!AO66*'Prevalence Rates'!AO66","v":0},{"$f":"'Population 2016'!AP66*'Prevalence Rates'!AP66","v":101.03892127659574},{"$f":"'Population 2016'!AQ66*'Prevalence Rates'!AQ66","v":773.17708680851058},{"$f":"'Population 2016'!AR66*'Prevalence Rates'!AR66","v":14792.788},{"$f":"'Population 2016'!AS66*'Prevalence Rates'!AS66","v":75.870201542553204},{"$f":"'Population 2016'!AT66*'Prevalence Rates'!AT66","v":0},{"$f":"'Population 2016'!AU66*'Prevalence Rates'!AU66","v":0},{"$f":"'Population 2016'!AV66*'Prevalence Rates'!AV66","v":249.17935010638294},{"$f":"'Population 2016'!AW66*'Prevalence Rates'!AW66","v":795.51455691489366},{"$f":"'Population 2016'!AX66*'Prevalence Rates'!AX66","v":171.45860000000002},{"$f":"'Population 2016'!AY66*'Prevalence Rates'!AY66","v":1097.015305043383},{"$f":"'Population 2016'!AZ66*'Prevalence Rates'!AZ66","v":942.85935861702137},{"$f":"'Population 2016'!BA66*'Prevalence Rates'!BA66","v":640.48422611702131},{"$f":"'Population 2016'!BB66*'Prevalence Rates'!BB66","v":426.72325744680847},{"$f":"'Population 2016'!BC66*'Prevalence Rates'!BC66","v":0},64]
[null,"Female 35-39",{"$f":"'Population 2016'!C67*'Prevalence Rates'!C67","v":225.61822723404256},{"$f":"'Population 2016'!D67*'Prevalence Rates'!D67","v":154.51643782951481},{"$f":"'Population 2016'!E67*'Prevalence Rates'!E67","v":50.863830851063845},{"$f":"'Population 2016'!F67*'Prevalence Rates'!F67","v":61.220089680851068},{"$f":"'Population 2016'!G67*'Prevalence Rates'!G67","v":69.543300000000002},{"$f":"'Population 2016'!H67*'Prevalence Rates'!H67","v":1286.8183473936174},{"$f":"'Population 2016'!I67*'Prevalence Rates'!I67","v":77.081964255319164},{"$f":"'Population 2016'!J67*'Prevalence Rates'!J67","v":304.1046},{"$f":"'Population 2016'!K67*'Prevalence Rates'!K67","v":165.80380000000002},{"$f":"'Population 2016'!L67*'Prevalence Rates'!L67","v":168.69537680851064},{"$f":"'Population 2016'!M67*'Prevalence Rates'!M67","v":168.69537680851064},{"$f":"'Population 2016'!N67*'Prevalence Rates'!N67","v":895.0134516489361},{"$f":"'Population 2016'!O67*'Prevalence Rates'!O67","v":439.15039069148941},{"$f":"'Population 2016'!P67*'Prevalence Rates'!P67","v":44.969285904255315},{"$f":"'Population 2016'!Q67*'Prevalence Rates'!Q67","v":64.152419414893643},{"$f":"'Population 2016'!R67*'Prevalence Rates'!R67","v":36.620160904255322},{"$f":"'Population 2016'!S67*'Prevalence Rates'!S67","v":1844.7824894641988},{"$f":"'Population 2016'!T67*'Prevalence Rates'!T67","v":842.18867361702132},{"$f":"'Population 2016'!U67*'Prevalence Rates'!U67","v":0},{"$f":"'Population 2016'!V67*'Prevalence Rates'!V67","v":179.96491914893622},{"$f":"'Population 2016'!W67*'Prevalence Rates'!W67","v":895.5022777659575},{"$f":"'Population 2016'!X67*'Prevalence Rates'!X67","v":895.5022777659575},{"$f":"'Population 2016'!Y67*'Prevalence Rates'!Y67","v":423.75518936170215},{"$f":"'Population 2016'!Z67*'Prevalence Rates'!Z67","v":4737.4916469148939},{"$f":"'Population 2016'!AA67*'Prevalence Rates'!AA67","v":3223.6693250645253},{"$f":"'Population 2016'!AB67*'Prevalence Rates'!AB67","v":292.80245531914898},{"$f":"'Population 2016'!AC67*'Prevalence Rates'!AC67","v":6166.6699946808503},{"$f":"'Population 2016'!AD67*'Prevalence Rates'!AD67","v":261.05132856382983},{"$f":"'Population 2016'!AE67*'Prevalence Rates'!AE67","v":192.65726106382979},{"$f":"'Population 2016'!AF67*'Prevalence Rates'!AF67","v":390.14970000000005},{"$f":"'Population 2016'!AG67*'Prevalence Rates'!AG67","v":102.92635198889919},{"$f":"'Population 2016'!AH67*'Prevalence Rates'!AH67","v":2490.2570451063834},{"$f":"'Population 2016'!AI67*'Prevalence Rates'!AI67","v":1497.9408635106383},{"$f":"'Population 2016'!AJ67*'Prevalence Rates'!AJ67","v":110.012},{"$f":"'Population 2016'!AK67*'Prevalence Rates'!AK67","v":11.551260000000003},{"$f":"'Population 2016'!AL67*'Prevalence Rates'!AL67","v":607.35108968085115},{"$f":"'Population 2016'!AM67*'Prevalence Rates'!AM67","v":1818.6024367021278},{"$f":"'Population 2016'!AN67*'Prevalence Rates'!AN67","v":0},{"$f":"'Population 2016'!AO67*'Prevalence Rates'!AO67","v":0},{"$f":"'Population 2016'!AP67*'Prevalence Rates'!AP67","v":90.997311914893615},{"$f":"'Population 2016'!AQ67*'Prevalence Rates'!AQ67","v":747.39402499999994},{"$f":"'Population 2016'!AR67*'Prevalence Rates'!AR67","v":13766.430200000001},{"$f":"'Population 2016'!AS67*'Prevalence Rates'!AS67","v":77.081964255319164},{"$f":"'Population 2016'!AT67*'Prevalence Rates'!AT67","v":0},{"$f":"'Population 2016'!AU67*'Prevalence Rates'!AU67","v":0},{"$f":"'Population 2016'!AV67*'Prevalence Rates'!AV67","v":229.97105765957446},{"$f":"'Population 2016'!AW67*'Prevalence Rates'!AW67","v":769.54856925531931},{"$f":"'Population 2016'!AX67*'Prevalence Rates'!AX67","v":138.30080000000001},{"$f":"'Population 2016'!AY67*'Prevalence Rates'!AY67","v":1021.0544219443644},{"$f":"'Population 2016'!AZ67*'Prevalence Rates'!AZ67","v":826.9796818085108},{"$f":"'Population 2016'!BA67*'Prevalence Rates'!BA67","v":581.04538973404249},{"$f":"'Population 2016'!BB67*'Prevalence Rates'!BB67","v":400.57576127659576},{"$f":"'Population 2016'!BC67*'Prevalence Rates'!BC67","v":0},65]
[null,"Female 40-44",{"$f":"'Population 2016'!C68*'Prevalence Rates'!C68","v":230.14451882978724},{"$f":"'Population 2016'!D68*'Prevalence Rates'!D68","v":156.21234995203389},{"$f":"'Population 2016'!E68*'Prevalence Rates'!E68","v":49.680951063829802},{"$f":"'Population 2016'!F68*'Prevalence Rates'!F68","v":52.386318351063828},{"$f":"'Population 2016'!G68*'Prevalence Rates'!G68","v":81.723200000000006},{"$f":"'Population 2016'!H68*'Prevalence Rates'!H68","v":1460.8308315425536},{"$f":"'Population 2016'!I68*'Prevalence Rates'!I68","v":93.542175372340438},{"$f":"'Population 2016'!J68*'Prevalence Rates'!J68","v":304.1046},{"$f":"'Population 2016'!K68*'Prevalence Rates'!K68","v":159.91030000000001},{"$f":"'Population 2016'!L68*'Prevalence Rates'!L68","v":170.56457765957447},{"$f":"'Population 2016'!M68*'Prevalence Rates'!M68","v":170.56457765957447},{"$f":"'Population 2016'!N68*'Prevalence Rates'!N68","v":739.80290441489353},{"$f":"'Population 2016'!O68*'Prevalence Rates'!O68","v":494.09432085106391},{"$f":"'Population 2016'!P68*'Prevalence Rates'!P68","v":52.414531914893608},{"$f":"'Population 2016'!Q68*'Prevalence Rates'!Q68","v":46.897630744680868},{"$f":"'Population 2016'!R68*'Prevalence Rates'!R68","v":34.235592287234041},{"$f":"'Population 2016'!S68*'Prevalence Rates'!S68","v":1702.7255689476287},{"$f":"'Population 2016'!T68*'Prevalence Rates'!T68","v":652.08442659574473},{"$f":"'Population 2016'!U68*'Prevalence Rates'!U68","v":0},{"$f":"'Population 2016'!V68*'Prevalence Rates'!V68","v":206.56842893617025},{"$f":"'Population 2016'!W68*'Prevalence Rates'!W68","v":921.42364627659583},{"$f":"'Population 2016'!X68*'Prevalence Rates'!X68","v":921.42364627659583},{"$f":"'Population 2016'!Y68*'Prevalence Rates'!Y68","v":453.27911648936174},{"$f":"'Population 2016'!Z68*'Prevalence Rates'!Z68","v":4241.7187235106385},{"$f":"'Population 2016'!AA68*'Prevalence Rates'!AA68","v":3048.4824920351552},{"$f":"'Population 2016'!AB68*'Prevalence Rates'!AB68","v":297.31244574468087},{"$f":"'Population 2016'!AC68*'Prevalence Rates'!AC68","v":5646.1610904255313},{"$f":"'Population 2016'!AD68*'Prevalence Rates'!AD68","v":274.12256819148939},{"$f":"'Population 2016'!AE68*'Prevalence Rates'!AE68","v":194.13356191489362},{"$f":"'Population 2016'!AF68*'Prevalence Rates'!AF68","v":392.50710000000004},{"$f":"'Population 2016'!AG68*'Prevalence Rates'!AG68","v":103.71505966697504},{"$f":"'Population 2016'!AH68*'Prevalence Rates'!AH68","v":2548.4363395744685},{"$f":"'Population 2016'!AI68*'Prevalence Rates'!AI68","v":1279.0000553723403},{"$f":"'Population 2016'!AJ68*'Prevalence Rates'!AJ68","v":111.5836},{"$f":"'Population 2016'!AK68*'Prevalence Rates'!AK68","v":13.476470000000003},{"$f":"'Population 2016'!AL68*'Prevalence Rates'!AL68","v":705.2490213297873},{"$f":"'Population 2016'!AM68*'Prevalence Rates'!AM68","v":1872.647085638298},{"$f":"'Population 2016'!AN68*'Prevalence Rates'!AN68","v":0},{"$f":"'Population 2016'!AO68*'Prevalence Rates'!AO68","v":0},{"$f":"'Population 2016'!AP68*'Prevalence Rates'!AP68","v":74.703874308510635},{"$f":"'Population 2016'!AQ68*'Prevalence Rates'!AQ68","v":675.15350829787235},{"$f":"'Population 2016'!AR68*'Prevalence Rates'!AR68","v":13226.192700000001},{"$f":"'Population 2016'!AS68*'Prevalence Rates'!AS68","v":93.542175372340438},{"$f":"'Population 2016'!AT68*'Prevalence Rates'!AT68","v":0},{"$f":"'Population 2016'!AU68*'Prevalence Rates'!AU68","v":0},{"$f":"'Population 2016'!AV68*'Prevalence Rates'!AV68","v":248.79431148936169},{"$f":"'Population 2016'!AW68*'Prevalence Rates'!AW68","v":779.58131255319165},{"$f":"'Population 2016'!AX68*'Prevalence Rates'!AX68","v":144.1943},{"$f":"'Population 2016'!AY68*'Prevalence Rates'!AY68","v":945.78582041445964},{"$f":"'Population 2016'!AZ68*'Prevalence Rates'!AZ68","v":686.03725627659583},{"$f":"'Population 2016'!BA68*'Prevalence Rates'!BA68","v":578.94964441489356},{"$f":"'Population 2016'!BB68*'Prevalence Rates'!BB68","v":425.53243489361699},{"$f":"'Population 2016'!BC68*'Prevalence Rates'!BC68","v":0},66]
[null,"Female 45-49",{"$f":"'Population 2016'!C69*'Prevalence Rates'!C69","v":227.13517340425531},{"$f":"'Population 2016'!D69*'Prevalence Rates'!D69","v":163.48830742482156},{"$f":"'Population 2016'!E69*'Prevalence Rates'!E69","v":63.655430851063826},{"$f":"'Population 2016'!F69*'Prevalence Rates'!F69","v":68.588302127659574},{"$f":"'Population 2016'!G69*'Prevalence Rates'!G69","v":103.1285},{"$f":"'Population 2016'!H69*'Prevalence Rates'!H69","v":1912.3903268617025},{"$f":"'Population 2016'!I69*'Prevalence Rates'!I69","v":100.0866545212766},{"$f":"'Population 2016'!J69*'Prevalence Rates'!J69","v":423.733},{"$f":"'Population 2016'!K69*'Prevalence Rates'!K69","v":203.66800000000001},{"$f":"'Population 2016'!L69*'Prevalence Rates'!L69","v":235.04998510638293},{"$f":"'Population 2016'!M69*'Prevalence Rates'!M69","v":235.04998510638293},{"$f":"'Population 2016'!N69*'Prevalence Rates'!N69","v":923.50662845744682},{"$f":"'Population 2016'!O69*'Prevalence Rates'!O69","v":672.56918058510644},{"$f":"'Population 2016'!P69*'Prevalence Rates'!P69","v":69.011309840425525},{"$f":"'Population 2016'!Q69*'Prevalence Rates'!Q69","v":74.34217101063831},{"$f":"'Population 2016'!R69*'Prevalence Rates'!R69","v":46.016720744680853},{"$f":"'Population 2016'!S69*'Prevalence Rates'!S69","v":2094.5070643878548},{"$f":"'Population 2016'!T69*'Prevalence Rates'!T69","v":763.34461595744676},{"$f":"'Population 2016'!U69*'Prevalence Rates'!U69","v":0},{"$f":"'Population 2016'!V69*'Prevalence Rates'!V69","v":226.00317446808512},{"$f":"'Population 2016'!W69*'Prevalence Rates'!W69","v":1227.6817659574467},{"$f":"'Population 2016'!X69*'Prevalence Rates'!X69","v":1227.6817659574467},{"$f":"'Population 2016'!Y69*'Prevalence Rates'!Y69","v":562.9778204787234},{"$f":"'Population 2016'!Z69*'Prevalence Rates'!Z69","v":5467.8312053191485},{"$f":"'Population 2016'!AA69*'Prevalence Rates'!AA69","v":3980.2193347648067},{"$f":"'Population 2016'!AB69*'Prevalence Rates'!AB69","v":311.66235106382976},{"$f":"'Population 2016'!AC69*'Prevalence Rates'!AC69","v":7468.9895744680844},{"$f":"'Population 2016'!AD69*'Prevalence Rates'!AD69","v":348.2211885638298},{"$f":"'Population 2016'!AE69*'Prevalence Rates'!AE69","v":247.2540904255319},{"$f":"'Population 2016'!AF69*'Prevalence Rates'!AF69","v":579.50450000000001},{"$f":"'Population 2016'!AG69*'Prevalence Rates'!AG69","v":132.09448427382054},{"$f":"'Population 2016'!AH69*'Prevalence Rates'!AH69","v":3225.9454127659578},{"$f":"'Population 2016'!AI69*'Prevalence Rates'!AI69","v":1503.5013859042551},{"$f":"'Population 2016'!AJ69*'Prevalence Rates'!AJ69","v":134.62799999999999},{"$f":"'Population 2016'!AK69*'Prevalence Rates'!AK69","v":14.80045},{"$f":"'Population 2016'!AL69*'Prevalence Rates'!AL69","v":894.70010159574474},{"$f":"'Population 2016'!AM69*'Prevalence Rates'!AM69","v":2364.6714127659575},{"$f":"'Population 2016'!AN69*'Prevalence Rates'!AN69","v":0},{"$f":"'Population 2016'!AO69*'Prevalence Rates'!AO69","v":0},{"$f":"'Population 2016'!AP69*'Prevalence Rates'!AP69","v":80.692565691489364},{"$f":"'Population 2016'!AQ69*'Prevalence Rates'!AQ69","v":936.58406223404245},{"$f":"'Population 2016'!AR69*'Prevalence Rates'!AR69","v":16913.505499999999},{"$f":"'Population 2016'!AS69*'Prevalence Rates'!AS69","v":100.0866545212766},{"$f":"'Population 2016'!AT69*'Prevalence Rates'!AT69","v":0},{"$f":"'Population 2016'!AU69*'Prevalence Rates'!AU69","v":0},{"$f":"'Population 2016'!AV69*'Prevalence Rates'!AV69","v":329.86155212765954},{"$f":"'Population 2016'!AW69*'Prevalence Rates'!AW69","v":990.83967872340429},{"$f":"'Population 2016'!AX69*'Prevalence Rates'!AX69","v":220.065},{"$f":"'Population 2016'!AY69*'Prevalence Rates'!AY69","v":1217.8072068104848},{"$f":"'Population 2016'!AZ69*'Prevalence Rates'!AZ69","v":847.4705904255319},{"$f":"'Population 2016'!BA69*'Prevalence Rates'!BA69","v":791.18853058510638},{"$f":"'Population 2016'!BB69*'Prevalence Rates'!BB69","v":482.66855531914888},{"$f":"'Population 2016'!BC69*'Prevalence Rates'!BC69","v":0},67]
[null,"Female 50-54",{"$f":"'Population 2016'!C70*'Prevalence Rates'!C70","v":239.75379414893618},{"$f":"'Population 2016'!D70*'Prevalence Rates'!D70","v":168.04114636576597},{"$f":"'Population 2016'!E70*'Prevalence Rates'!E70","v":60.082932180851067},{"$f":"'Population 2016'!F70*'Prevalence Rates'!F70","v":62.947816755319145},{"$f":"'Population 2016'!G70*'Prevalence Rates'!G70","v":100.5395},{"$f":"'Population 2016'!H70*'Prevalence Rates'!H70","v":1947.7322425531918},{"$f":"'Population 2016'!I70*'Prevalence Rates'!I70","v":97.00028191489362},{"$f":"'Population 2016'!J70*'Prevalence Rates'!J70","v":390.50749999999999},{"$f":"'Population 2016'!K70*'Prevalence Rates'!K70","v":197.19550000000001},{"$f":"'Population 2016'!L70*'Prevalence Rates'!L70","v":242.74812872340422},{"$f":"'Population 2016'!M70*'Prevalence Rates'!M70","v":242.74812872340422},{"$f":"'Population 2016'!N70*'Prevalence Rates'!N70","v":1046.3044132978723},{"$f":"'Population 2016'!O70*'Prevalence Rates'!O70","v":689.74678244680854},{"$f":"'Population 2016'!P70*'Prevalence Rates'!P70","v":69.338377659574462},{"$f":"'Population 2016'!Q70*'Prevalence Rates'!Q70","v":60.737067819148947},{"$f":"'Population 2016'!R70*'Prevalence Rates'!R70","v":48.261438829787238},{"$f":"'Population 2016'!S70*'Prevalence Rates'!S70","v":2014.3507089911936},{"$f":"'Population 2016'!T70*'Prevalence Rates'!T70","v":685.9941095744681},{"$f":"'Population 2016'!U70*'Prevalence Rates'!U70","v":0},{"$f":"'Population 2016'!V70*'Prevalence Rates'!V70","v":240.61174468085107},{"$f":"'Population 2016'!W70*'Prevalence Rates'!W70","v":1230.350639361702},{"$f":"'Population 2016'!X70*'Prevalence Rates'!X70","v":1230.350639361702},{"$f":"'Population 2016'!Y70*'Prevalence Rates'!Y70","v":554.71275930851061},{"$f":"'Population 2016'!Z70*'Prevalence Rates'!Z70","v":5735.8826776595743},{"$f":"'Population 2016'!AA70*'Prevalence Rates'!AA70","v":4074.147278715574},{"$f":"'Population 2016'!AB70*'Prevalence Rates'!AB70","v":319.66346276595743},{"$f":"'Population 2016'!AC70*'Prevalence Rates'!AC70","v":7695.0450797872336},{"$f":"'Population 2016'!AD70*'Prevalence Rates'!AD70","v":326.07284441489361},{"$f":"'Population 2016'!AE70*'Prevalence Rates'!AE70","v":227.7980308510638},{"$f":"'Population 2016'!AF70*'Prevalence Rates'!AF70","v":570.87450000000001},{"$f":"'Population 2016'!AG70*'Prevalence Rates'!AG70","v":121.70016419981499},{"$f":"'Population 2016'!AH70*'Prevalence Rates'!AH70","v":3250.0947234042555},{"$f":"'Population 2016'!AI70*'Prevalence Rates'!AI70","v":1401.5159018617019},{"$f":"'Population 2016'!AJ70*'Prevalence Rates'!AJ70","v":136.78549999999998},{"$f":"'Population 2016'!AK70*'Prevalence Rates'!AK70","v":14.271862499999999},{"$f":"'Population 2016'!AL70*'Prevalence Rates'!AL70","v":928.43054840425543},{"$f":"'Population 2016'!AM70*'Prevalence Rates'!AM70","v":2399.0968499999999},{"$f":"'Population 2016'!AN70*'Prevalence Rates'!AN70","v":0},{"$f":"'Population 2016'!AO70*'Prevalence Rates'!AO70","v":0},{"$f":"'Population 2016'!AP70*'Prevalence Rates'!AP70","v":87.445081648936167},{"$f":"'Population 2016'!AQ70*'Prevalence Rates'!AQ70","v":897.16470106382974},{"$f":"'Population 2016'!AR70*'Prevalence Rates'!AR70","v":17132.275999999998},{"$f":"'Population 2016'!AS70*'Prevalence Rates'!AS70","v":97.00028191489362},{"$f":"'Population 2016'!AT70*'Prevalence Rates'!AT70","v":0},{"$f":"'Population 2016'!AU70*'Prevalence Rates'!AU70","v":0},{"$f":"'Population 2016'!AV70*'Prevalence Rates'!AV70","v":312.78425106382974},{"$f":"'Population 2016'!AW70*'Prevalence Rates'!AW70","v":986.75879042553197},{"$f":"'Population 2016'!AX70*'Prevalence Rates'!AX70","v":193.31200000000001},{"$f":"'Population 2016'!AY70*'Prevalence Rates'!AY70","v":1271.9319715576175},{"$f":"'Population 2016'!AZ70*'Prevalence Rates'!AZ70","v":930.28278510638302},{"$f":"'Population 2016'!BA70*'Prevalence Rates'!BA70","v":815.93115372340424},{"$f":"'Population 2016'!BB70*'Prevalence Rates'!BB70","v":482.20400425531909},{"$f":"'Population 2016'!BC70*'Prevalence Rates'!BC70","v":0},68]
[null,"Female 55-59",{"$f":"'Population 2016'!C71*'Prevalence Rates'!C71","v":189.51396904255321},{"$f":"'Population 2016'!D71*'Prevalence Rates'!D71","v":132.71000351298056},{"$f":"'Population 2016'!E71*'Prevalence Rates'!E71","v":47.306686436170217},{"$f":"'Population 2016'!F71*'Prevalence Rates'!F71","v":53.739773404255317},{"$f":"'Population 2016'!G71*'Prevalence Rates'!G71","v":88.151900000000012},{"$f":"'Population 2016'!H71*'Prevalence Rates'!H71","v":1564.0870845212771},{"$f":"'Population 2016'!I71*'Prevalence Rates'!I71","v":78.764576329787246},{"$f":"'Population 2016'!J71*'Prevalence Rates'!J71","v":330.07550000000003},{"$f":"'Population 2016'!K71*'Prevalence Rates'!K71","v":165.63070000000002},{"$f":"'Population 2016'!L71*'Prevalence Rates'!L71","v":180.53939744680849},{"$f":"'Population 2016'!M71*'Prevalence Rates'!M71","v":180.53939744680849},{"$f":"'Population 2016'!N71*'Prevalence Rates'!N71","v":857.33147611702123},{"$f":"'Population 2016'!O71*'Prevalence Rates'!O71","v":511.63847212765961},{"$f":"'Population 2016'!P71*'Prevalence Rates'!P71","v":63.52134574468085},{"$f":"'Population 2016'!Q71*'Prevalence Rates'!Q71","v":60.983225372340449},{"$f":"'Population 2016'!R71*'Prevalence Rates'!R71","v":33.416517287234051},{"$f":"'Population 2016'!S71*'Prevalence Rates'!S71","v":1711.1571052369391},{"$f":"'Population 2016'!T71*'Prevalence Rates'!T71","v":619.43594106382977},{"$f":"'Population 2016'!U71*'Prevalence Rates'!U71","v":0},{"$f":"'Population 2016'!V71*'Prevalence Rates'!V71","v":201.0075268085107},{"$f":"'Population 2016'!W71*'Prevalence Rates'!W71","v":996.73381085106394},{"$f":"'Population 2016'!X71*'Prevalence Rates'!X71","v":996.73381085106394},{"$f":"'Population 2016'!Y71*'Prevalence Rates'!Y71","v":466.24058005319154},{"$f":"'Population 2016'!Z71*'Prevalence Rates'!Z71","v":4550.1231484574473},{"$f":"'Population 2016'!AA71*'Prevalence Rates'!AA71","v":3316.0939031906619},{"$f":"'Population 2016'!AB71*'Prevalence Rates'!AB71","v":252.35699680851064},{"$f":"'Population 2016'!AC71*'Prevalence Rates'!AC71","v":6200.8061648936173},{"$f":"'Population 2016'!AD71*'Prevalence Rates'!AD71","v":277.6757515425532},{"$f":"'Population 2016'!AE71*'Prevalence Rates'!AE71","v":191.60611531914896},{"$f":"'Population 2016'!AF71*'Prevalence Rates'!AF71","v":499.26390000000004},{"$f":"'Population 2016'!AG71*'Prevalence Rates'!AG71","v":102.36478168362629},{"$f":"'Population 2016'!AH71*'Prevalence Rates'!AH71","v":2710.5704178723408},{"$f":"'Population 2016'!AI71*'Prevalence Rates'!AI71","v":1236.5044977127661},{"$f":"'Population 2016'!AJ71*'Prevalence Rates'!AJ71","v":122.54300000000001},{"$f":"'Population 2016'!AK71*'Prevalence Rates'!AK71","v":11.137577500000003},{"$f":"'Population 2016'!AL71*'Prevalence Rates'!AL71","v":757.45304367021288},{"$f":"'Population 2016'!AM71*'Prevalence Rates'!AM71","v":1941.7232722340425},{"$f":"'Population 2016'!AN71*'Prevalence Rates'!AN71","v":0},{"$f":"'Population 2016'!AO71*'Prevalence Rates'!AO71","v":0},{"$f":"'Population 2016'!AP71*'Prevalence Rates'!AP71","v":72.067185053191494},{"$f":"'Population 2016'!AQ71*'Prevalence Rates'!AQ71","v":755.61637053191487},{"$f":"'Population 2016'!AR71*'Prevalence Rates'!AR71","v":14044.218400000002},{"$f":"'Population 2016'!AS71*'Prevalence Rates'!AS71","v":78.764576329787246},{"$f":"'Population 2016'!AT71*'Prevalence Rates'!AT71","v":0},{"$f":"'Population 2016'!AU71*'Prevalence Rates'!AU71","v":0},{"$f":"'Population 2016'!AV71*'Prevalence Rates'!AV71","v":281.60330936170214},{"$f":"'Population 2016'!AW71*'Prevalence Rates'!AW71","v":863.60013510638305},{"$f":"'Population 2016'!AX71*'Prevalence Rates'!AX71","v":164.44480000000001},{"$f":"'Population 2016'!AY71*'Prevalence Rates'!AY71","v":1038.5605591164799},{"$f":"'Population 2016'!AZ71*'Prevalence Rates'!AZ71","v":766.44717000000014},{"$f":"'Population 2016'!BA71*'Prevalence Rates'!BA71","v":649.9596193085107},{"$f":"'Population 2016'!BB71*'Prevalence Rates'!BB71","v":396.2133953191489},{"$f":"'Population 2016'!BC71*'Prevalence Rates'!BC71","v":0},69]
[null,"Female 60-64",{"$f":"'Population 2016'!C72*'Prevalence Rates'!C72","v":154.13335744680853},{"$f":"'Population 2016'!D72*'Prevalence Rates'!D72","v":107.11593140690573},{"$f":"'Population 2016'!E72*'Prevalence Rates'!E72","v":37.190791223404261},{"$f":"'Population 2016'!F72*'Prevalence Rates'!F72","v":43.198510159574468},{"$f":"'Population 2016'!G72*'Prevalence Rates'!G72","v":79.06},{"$f":"'Population 2016'!H72*'Prevalence Rates'!H72","v":1416.1923180319154},{"$f":"'Population 2016'!I72*'Prevalence Rates'!I72","v":75.12928819148938},{"$f":"'Population 2016'!J72*'Prevalence Rates'!J72","v":252.59670000000003},{"$f":"'Population 2016'!K72*'Prevalence Rates'!K72","v":133.6114},{"$f":"'Population 2016'!L72*'Prevalence Rates'!L72","v":162.20336489361702},{"$f":"'Population 2016'!M72*'Prevalence Rates'!M72","v":162.20336489361702},{"$f":"'Population 2016'!N72*'Prevalence Rates'!N72","v":683.19404627659571},{"$f":"'Population 2016'!O72*'Prevalence Rates'!O72","v":464.42892856382986},{"$f":"'Population 2016'!P72*'Prevalence Rates'!P72","v":48.839525265957448},{"$f":"'Population 2016'!Q72*'Prevalence Rates'!Q72","v":43.177904095744694},{"$f":"'Population 2016'!R72*'Prevalence Rates'!R72","v":29.475081914893622},{"$f":"'Population 2016'!S72*'Prevalence Rates'!S72","v":1385.6377414159692},{"$f":"'Population 2016'!T72*'Prevalence Rates'!T72","v":463.30085170212766},{"$f":"'Population 2016'!U72*'Prevalence Rates'!U72","v":0},{"$f":"'Population 2016'!V72*'Prevalence Rates'!V72","v":170.3053327659575},{"$f":"'Population 2016'!W72*'Prevalence Rates'!W72","v":850.03545765957449},{"$f":"'Population 2016'!X72*'Prevalence Rates'!X72","v":850.03545765957449},{"$f":"'Population 2016'!Y72*'Prevalence Rates'!Y72","v":375.08923617021281},{"$f":"'Population 2016'!Z72*'Prevalence Rates'!Z72","v":3502.1607705319152},{"$f":"'Population 2016'!AA72*'Prevalence Rates'!AA72","v":2675.8101626980661},{"$f":"'Population 2016'!AB72*'Prevalence Rates'!AB72","v":210.12297659574469},{"$f":"'Population 2016'!AC72*'Prevalence Rates'!AC72","v":4853.1695904255321},{"$f":"'Population 2016'!AD72*'Prevalence Rates'!AD72","v":255.88252611702129},{"$f":"'Population 2016'!AE72*'Prevalence Rates'!AE72","v":178.60957648936173},{"$f":"'Population 2016'!AF72*'Prevalence Rates'!AF72","v":411.90260000000006},{"$f":"'Population 2016'!AG72*'Prevalence Rates'!AG72","v":95.421434088806677},{"$f":"'Population 2016'!AH72*'Prevalence Rates'!AH72","v":2344.1525497872344},{"$f":"'Population 2016'!AI72*'Prevalence Rates'!AI72","v":953.34101494680863},{"$f":"'Population 2016'!AJ72*'Prevalence Rates'!AJ72","v":91.709600000000009},{"$f":"'Population 2016'!AK72*'Prevalence Rates'!AK72","v":17.916972500000004},{"$f":"'Population 2016'!AL72*'Prevalence Rates'!AL72","v":680.58758946808518},{"$f":"'Population 2016'!AM72*'Prevalence Rates'!AM72","v":1664.4119115957446},{"$f":"'Population 2016'!AN72*'Prevalence Rates'!AN72","v":0},{"$f":"'Population 2016'!AO72*'Prevalence Rates'!AO72","v":0},{"$f":"'Population 2016'!AP72*'Prevalence Rates'!AP72","v":65.571859361702138},{"$f":"'Population 2016'!AQ72*'Prevalence Rates'!AQ72","v":575.51180308510629},{"$f":"'Population 2016'!AR72*'Prevalence Rates'!AR72","v":11547.503600000002},{"$f":"'Population 2016'!AS72*'Prevalence Rates'!AS72","v":75.12928819148938},{"$f":"'Population 2016'!AT72*'Prevalence Rates'!AT72","v":0},{"$f":"'Population 2016'!AU72*'Prevalence Rates'!AU72","v":0},{"$f":"'Population 2016'!AV72*'Prevalence Rates'!AV72","v":259.37146914893617},{"$f":"'Population 2016'!AW72*'Prevalence Rates'!AW72","v":757.05206648936178},{"$f":"'Population 2016'!AX72*'Prevalence Rates'!AX72","v":118.98530000000001},{"$f":"'Population 2016'!AY72*'Prevalence Rates'!AY72","v":864.79098639972506},{"$f":"'Population 2016'!AZ72*'Prevalence Rates'!AZ72","v":620.74421585106393},{"$f":"'Population 2016'!BA72*'Prevalence Rates'!BA72","v":555.07500335106386},{"$f":"'Population 2016'!BB72*'Prevalence Rates'!BB72","v":332.37665063829786},{"$f":"'Population 2016'!BC72*'Prevalence Rates'!BC72","v":0},70]
[null,"Female 65-69",{"$f":"'Population 2016'!C73*'Prevalence Rates'!C73","v":98.958273191489354},{"$f":"'Population 2016'!D73*'Prevalence Rates'!D73","v":68.914864586711559},{"$f":"'Population 2016'!E73*'Prevalence Rates'!E73","v":24.102342287234045},{"$f":"'Population 2016'!F73*'Prevalence Rates'!F73","v":26.761599840425529},{"$f":"'Population 2016'!G73*'Prevalence Rates'!G73","v":61.582500000000003},{"$f":"'Population 2016'!H73*'Prevalence Rates'!H73","v":937.65368914893622},{"$f":"'Population 2016'!I73*'Prevalence Rates'!I73","v":53.976114946808515},{"$f":"'Population 2016'!J73*'Prevalence Rates'!J73","v":187.21080000000001},{"$f":"'Population 2016'!K73*'Prevalence Rates'!K73","v":101.8164},{"$f":"'Population 2016'!L73*'Prevalence Rates'!L73","v":97.007432765957432},{"$f":"'Population 2016'!M73*'Prevalence Rates'!M73","v":97.007432765957432},{"$f":"'Population 2016'!N73*'Prevalence Rates'!N73","v":471.96667856382976},{"$f":"'Population 2016'!O73*'Prevalence Rates'!O73","v":313.4619130851064},{"$f":"'Population 2016'!P73*'Prevalence Rates'!P73","v":30.496440159574465},{"$f":"'Population 2016'!Q73*'Prevalence Rates'!Q73","v":31.436774361702135},{"$f":"'Population 2016'!R73*'Prevalence Rates'!R73","v":20.526772074468084},{"$f":"'Population 2016'!S73*'Prevalence Rates'!S73","v":956.66830624984664},{"$f":"'Population 2016'!T73*'Prevalence Rates'!T73","v":310.38802914893614},{"$f":"'Population 2016'!U73*'Prevalence Rates'!U73","v":0},{"$f":"'Population 2016'!V73*'Prevalence Rates'!V73","v":118.82539914893617},{"$f":"'Population 2016'!W73*'Prevalence Rates'!W73","v":591.93797808510635},{"$f":"'Population 2016'!X73*'Prevalence Rates'!X73","v":591.93797808510635},{"$f":"'Population 2016'!Y73*'Prevalence Rates'!Y73","v":269.78812819148936},{"$f":"'Population 2016'!Z73*'Prevalence Rates'!Z73","v":2175.7857204255315},{"$f":"'Population 2016'!AA73*'Prevalence Rates'!AA73","v":1722.1268146399116},{"$f":"'Population 2016'!AB73*'Prevalence Rates'!AB73","v":134.61090106382977},{"$f":"'Population 2016'!AC73*'Prevalence Rates'!AC73","v":3084.4970904255315},{"$f":"'Population 2016'!AD73*'Prevalence Rates'!AD73","v":163.90116861702126},{"$f":"'Population 2016'!AE73*'Prevalence Rates'!AE73","v":104.12683563829788},{"$f":"'Population 2016'!AF73*'Prevalence Rates'!AF73","v":286.01650000000001},{"$f":"'Population 2016'!AG73*'Prevalence Rates'!AG73","v":55.629335106382982},{"$f":"'Population 2016'!AH73*'Prevalence Rates'!AH73","v":1549.3399957446811},{"$f":"'Population 2016'!AI73*'Prevalence Rates'!AI73","v":651.86896063829784},{"$f":"'Population 2016'!AJ73*'Prevalence Rates'!AJ73","v":71.435699999999997},{"$f":"'Population 2016'!AK73*'Prevalence Rates'!AK73","v":10.729040000000001},{"$f":"'Population 2016'!AL73*'Prevalence Rates'!AL73","v":461.6011645744681},{"$f":"'Population 2016'!AM73*'Prevalence Rates'!AM73","v":1092.5539129787232},{"$f":"'Population 2016'!AN73*'Prevalence Rates'!AN73","v":0},{"$f":"'Population 2016'!AO73*'Prevalence Rates'!AO73","v":0},{"$f":"'Population 2016'!AP73*'Prevalence Rates'!AP73","v":38.97633585106383},{"$f":"'Population 2016'!AQ73*'Prevalence Rates'!AQ73","v":383.91695180851059},{"$f":"'Population 2016'!AR73*'Prevalence Rates'!AR73","v":7598.4593999999997},{"$f":"'Population 2016'!AS73*'Prevalence Rates'!AS73","v":53.976114946808515},{"$f":"'Population 2016'!AT73*'Prevalence Rates'!AT73","v":0},{"$f":"'Population 2016'!AU73*'Prevalence Rates'!AU73","v":0},{"$f":"'Population 2016'!AV73*'Prevalence Rates'!AV73","v":153.93004468085104},{"$f":"'Population 2016'!AW73*'Prevalence Rates'!AW73","v":505.53467329787236},{"$f":"'Population 2016'!AX73*'Prevalence Rates'!AX73","v":85.394400000000005},{"$f":"'Population 2016'!AY73*'Prevalence Rates'!AY73","v":592.05856035220745},{"$f":"'Population 2016'!AZ73*'Prevalence Rates'!AZ73","v":416.29420595744682},{"$f":"'Population 2016'!BA73*'Prevalence Rates'!BA73","v":350.01760537234043},{"$f":"'Population 2016'!BB73*'Prevalence Rates'!BB73","v":225.12349106382976},{"$f":"'Population 2016'!BC73*'Prevalence Rates'!BC73","v":0},71]
[null,"Female 70-74",{"$f":"'Population 2016'!C74*'Prevalence Rates'!C74","v":69.610353936170213},{"$f":"'Population 2016'!D74*'Prevalence Rates'!D74","v":48.174772006329796},{"$f":"'Population 2016'!E74*'Prevalence Rates'!E74","v":16.480234042553192},{"$f":"'Population 2016'!F74*'Prevalence Rates'!F74","v":23.04073569148936},{"$f":"'Population 2016'!G74*'Prevalence Rates'!G74","v":45.434199999999997},{"$f":"'Population 2016'!H74*'Prevalence Rates'!H74","v":733.96032574468097},{"$f":"'Population 2016'!I74*'Prevalence Rates'!I74","v":41.67067941489362},{"$f":"'Population 2016'!J74*'Prevalence Rates'!J74","v":144.5136},{"$f":"'Population 2016'!K74*'Prevalence Rates'!K74","v":76.362300000000005},{"$f":"'Population 2016'!L74*'Prevalence Rates'!L74","v":101.23930063829786},{"$f":"'Population 2016'!M74*'Prevalence Rates'!M74","v":101.23930063829786},{"$f":"'Population 2016'!N74*'Prevalence Rates'!N74","v":340.72650946808511},{"$f":"'Population 2016'!O74*'Prevalence Rates'!O74","v":242.22056920212765},{"$f":"'Population 2016'!P74*'Prevalence Rates'!P74","v":21.160795212765954},{"$f":"'Population 2016'!Q74*'Prevalence Rates'!Q74","v":26.813719308510642},{"$f":"'Population 2016'!R74*'Prevalence Rates'!R74","v":14.712830851063829},{"$f":"'Population 2016'!S74*'Prevalence Rates'!S74","v":737.51704489145175},{"$f":"'Population 2016'!T74*'Prevalence Rates'!T74","v":225.77454765957444},{"$f":"'Population 2016'!U74*'Prevalence Rates'!U74","v":0},{"$f":"'Population 2016'!V74*'Prevalence Rates'!V74","v":85.939470638297877},{"$f":"'Population 2016'!W74*'Prevalence Rates'!W74","v":469.20536585106385},{"$f":"'Population 2016'!X74*'Prevalence Rates'!X74","v":469.20536585106385},{"$f":"'Population 2016'!Y74*'Prevalence Rates'!Y74","v":201.83700771276597},{"$f":"'Population 2016'!Z74*'Prevalence Rates'!Z74","v":1791.9016708510637},{"$f":"'Population 2016'!AA74*'Prevalence Rates'!AA74","v":1371.5707540045655},{"$f":"'Population 2016'!AB74*'Prevalence Rates'!AB74","v":92.076756382978715},{"$f":"'Population 2016'!AC74*'Prevalence Rates'!AC74","v":2462.0334095744679},{"$f":"'Population 2016'!AD74*'Prevalence Rates'!AD74","v":125.65756260638297},{"$f":"'Population 2016'!AE74*'Prevalence Rates'!AE74","v":81.501745425531922},{"$f":"'Population 2016'!AF74*'Prevalence Rates'!AF74","v":215.6756},{"$f":"'Population 2016'!AG74*'Prevalence Rates'!AG74","v":43.541973404255323},{"$f":"'Population 2016'!AH74*'Prevalence Rates'!AH74","v":1228.3027072340428},{"$f":"'Population 2016'!AI74*'Prevalence Rates'!AI74","v":491.14096499999994},{"$f":"'Population 2016'!AJ74*'Prevalence Rates'!AJ74","v":54.192599999999999},{"$f":"'Population 2016'!AK74*'Prevalence Rates'!AK74","v":4.6939550000000008},{"$f":"'Population 2016'!AL74*'Prevalence Rates'!AL74","v":359.70658537234044},{"$f":"'Population 2016'!AM74*'Prevalence Rates'!AM74","v":895.65325946808503},{"$f":"'Population 2016'!AN74*'Prevalence Rates'!AN74","v":0},{"$f":"'Population 2016'!AO74*'Prevalence Rates'!AO74","v":0},{"$f":"'Population 2016'!AP74*'Prevalence Rates'!AP74","v":32.337509414893617},{"$f":"'Population 2016'!AQ74*'Prevalence Rates'!AQ74","v":303.8419404255319},{"$f":"'Population 2016'!AR74*'Prevalence Rates'!AR74","v":5962.8281999999999},{"$f":"'Population 2016'!AS74*'Prevalence Rates'!AS74","v":41.67067941489362},{"$f":"'Population 2016'!AT74*'Prevalence Rates'!AT74","v":0},{"$f":"'Population 2016'!AU74*'Prevalence Rates'!AU74","v":0},{"$f":"'Population 2016'!AV74*'Prevalence Rates'!AV74","v":125.42448085106381},{"$f":"'Population 2016'!AW74*'Prevalence Rates'!AW74","v":380.50996914893619},{"$f":"'Population 2016'!AX74*'Prevalence Rates'!AX74","v":68.151300000000006},{"$f":"'Population 2016'!AY74*'Prevalence Rates'!AY74","v":457.69840735714934},{"$f":"'Population 2016'!AZ74*'Prevalence Rates'!AZ74","v":311.72974148936174},{"$f":"'Population 2016'!BA74*'Prevalence Rates'!BA74","v":249.28261154255318},{"$f":"'Population 2016'!BB74*'Prevalence Rates'!BB74","v":177.68254595744679},{"$f":"'Population 2016'!BC74*'Prevalence Rates'!BC74","v":0},72]
[null,"Female 75-79",{"$f":"'Population 2016'!C75*'Prevalence Rates'!C75","v":32.085564893617018},{"$f":"'Population 2016'!D75*'Prevalence Rates'!D75","v":21.223720810451113},{"$f":"'Population 2016'!E75*'Prevalence Rates'!E75","v":6.0558989361702134},{"$f":"'Population 2016'!F75*'Prevalence Rates'!F75","v":12.932724468085103},{"$f":"'Population 2016'!G75*'Prevalence Rates'!G75","v":21.456},{"$f":"'Population 2016'!H75*'Prevalence Rates'!H75","v":344.72005957446817},{"$f":"'Population 2016'!I75*'Prevalence Rates'!I75","v":15.833944680851065},{"$f":"'Population 2016'!J75*'Prevalence Rates'!J75","v":61.387999999999998},{"$f":"'Population 2016'!K75*'Prevalence Rates'!K75","v":31.736999999999998},{"$f":"'Population 2016'!L75*'Prevalence Rates'!L75","v":33.493614893617014},{"$f":"'Population 2016'!M75*'Prevalence Rates'!M75","v":33.493614893617014},{"$f":"'Population 2016'!N75*'Prevalence Rates'!N75","v":162.44780478723402},{"$f":"'Population 2016'!O75*'Prevalence Rates'!O75","v":112.39521755319149},{"$f":"'Population 2016'!P75*'Prevalence Rates'!P75","v":9.7127393617021252},{"$f":"'Population 2016'!Q75*'Prevalence Rates'!Q75","v":12.583763297872343},{"$f":"'Population 2016'!R75*'Prevalence Rates'!R75","v":7.0406462765957452},{"$f":"'Population 2016'!S75*'Prevalence Rates'!S75","v":330.3398552854419},{"$f":"'Population 2016'!T75*'Prevalence Rates'!T75","v":108.87588510638297},{"$f":"'Population 2016'!U75*'Prevalence Rates'!U75","v":0},{"$f":"'Population 2016'!V75*'Prevalence Rates'!V75","v":50.246604255319156},{"$f":"'Population 2016'!W75*'Prevalence Rates'!W75","v":209.65964361702126},{"$f":"'Population 2016'!X75*'Prevalence Rates'!X75","v":209.65964361702126},{"$f":"'Population 2016'!Y75*'Prevalence Rates'!Y75","v":100.98712765957447},{"$f":"'Population 2016'!Z75*'Prevalence Rates'!Z75","v":924.69677393617019},{"$f":"'Population 2016'!AA75*'Prevalence Rates'!AA75","v":678.16509832356212},{"$f":"'Population 2016'!AB75*'Prevalence Rates'!AB75","v":40.390095744680856},{"$f":"'Population 2016'!AC75*'Prevalence Rates'!AC75","v":1266.412819148936},{"$f":"'Population 2016'!AD75*'Prevalence Rates'!AD75","v":57.926365425531912},{"$f":"'Population 2016'!AE75*'Prevalence Rates'!AE75","v":37.090696808510636},{"$f":"'Population 2016'!AF75*'Prevalence Rates'!AF75","v":111.899},{"$f":"'Population 2016'!AG75*'Prevalence Rates'!AG75","v":19.815552728954671},{"$f":"'Population 2016'!AH75*'Prevalence Rates'!AH75","v":556.1022382978723},{"$f":"'Population 2016'!AI75*'Prevalence Rates'!AI75","v":222.9463223404255},{"$f":"'Population 2016'!AJ75*'Prevalence Rates'!AJ75","v":19.369999999999997},{"$f":"'Population 2016'!AK75*'Prevalence Rates'!AK75","v":1.82525},{"$f":"'Population 2016'!AL75*'Prevalence Rates'!AL75","v":169.90588882978722},{"$f":"'Population 2016'!AM75*'Prevalence Rates'!AM75","v":403.14502021276587},{"$f":"'Population 2016'!AN75*'Prevalence Rates'!AN75","v":0},{"$f":"'Population 2016'!AO75*'Prevalence Rates'!AO75","v":0},{"$f":"'Population 2016'!AP75*'Prevalence Rates'!AP75","v":11.075534574468085},{"$f":"'Population 2016'!AQ75*'Prevalence Rates'!AQ75","v":165.06441914893614},{"$f":"'Population 2016'!AR75*'Prevalence Rates'!AR75","v":2851.5619999999999},{"$f":"'Population 2016'!AS75*'Prevalence Rates'!AS75","v":15.833944680851065},{"$f":"'Population 2016'!AT75*'Prevalence Rates'!AT75","v":0},{"$f":"'Population 2016'!AU75*'Prevalence Rates'!AU75","v":0},{"$f":"'Population 2016'!AV75*'Prevalence Rates'!AV75","v":59.279491489361689},{"$f":"'Population 2016'!AW75*'Prevalence Rates'!AW75","v":173.89029148936172},{"$f":"'Population 2016'!AX75*'Prevalence Rates'!AX75","v":29.651},{"$f":"'Population 2016'!AY75*'Prevalence Rates'!AY75","v":209.40918803487432},{"$f":"'Population 2016'!AZ75*'Prevalence Rates'!AZ75","v":146.98691489361704},{"$f":"'Population 2016'!BA75*'Prevalence Rates'!BA75","v":117.22892021276596},{"$f":"'Population 2016'!BB75*'Prevalence Rates'!BB75","v":76.837714893617004},{"$f":"'Population 2016'!BC75*'Prevalence Rates'!BC75","v":0},73]
[null,"Female 80-84",{"$f":"'Population 2016'!C76*'Prevalence Rates'!C76","v":24.955439361702126},{"$f":"'Population 2016'!D76*'Prevalence Rates'!D76","v":17.07902112356167},{"$f":"'Population 2016'!E76*'Prevalence Rates'!E76","v":5.6073138297872349},{"$f":"'Population 2016'!F76*'Prevalence Rates'!F76","v":7.5570739361702115},{"$f":"'Population 2016'!G76*'Prevalence Rates'!G76","v":17.433},{"$f":"'Population 2016'!H76*'Prevalence Rates'!H76","v":251.9108127659575},{"$f":"'Population 2016'!I76*'Prevalence Rates'!I76","v":12.484456382978724},{"$f":"'Population 2016'!J76*'Prevalence Rates'!J76","v":46.338999999999999},{"$f":"'Population 2016'!K76*'Prevalence Rates'!K76","v":20.86},{"$f":"'Population 2016'!L76*'Prevalence Rates'!L76","v":26.759448936170209},{"$f":"'Population 2016'!M76*'Prevalence Rates'!M76","v":26.759448936170209},{"$f":"'Population 2016'!N76*'Prevalence Rates'!N76","v":129.91951968085107},{"$f":"'Population 2016'!O76*'Prevalence Rates'!O76","v":85.170936170212769},{"$f":"'Population 2016'!P76*'Prevalence Rates'!P76","v":6.324574468085105},{"$f":"'Population 2016'!Q76*'Prevalence Rates'!Q76","v":7.046907446808512},{"$f":"'Population 2016'!R76*'Prevalence Rates'!R76","v":6.0717499999999998},{"$f":"'Population 2016'!S76*'Prevalence Rates'!S76","v":250.69772645097422},{"$f":"'Population 2016'!T76*'Prevalence Rates'!T76","v":86.24056595744679},{"$f":"'Population 2016'!U76*'Prevalence Rates'!U76","v":0},{"$f":"'Population 2016'!V76*'Prevalence Rates'!V76","v":35.904561702127658},{"$f":"'Population 2016'!W76*'Prevalence Rates'!W76","v":151.44645319148935},{"$f":"'Population 2016'!X76*'Prevalence Rates'!X76","v":151.44645319148935},{"$f":"'Population 2016'!Y76*'Prevalence Rates'!Y76","v":73.984047872340426},{"$f":"'Population 2016'!Z76*'Prevalence Rates'!Z76","v":731.98381968085107},{"$f":"'Population 2016'!AA76*'Prevalence Rates'!AA76","v":531.55345773316765},{"$f":"'Population 2016'!AB76*'Prevalence Rates'!AB76","v":32.759393617021281},{"$f":"'Population 2016'!AC76*'Prevalence Rates'!AC76","v":1003.9429787234042},{"$f":"'Population 2016'!AD76*'Prevalence Rates'!AD76","v":44.754844680851065},{"$f":"'Population 2016'!AE76*'Prevalence Rates'!AE76","v":27.853013829787233},{"$f":"'Population 2016'!AF76*'Prevalence Rates'!AF76","v":89.10199999999999},{"$f":"'Population 2016'!AG76*'Prevalence Rates'!AG76","v":14.88035846438483},{"$f":"'Population 2016'!AH76*'Prevalence Rates'!AH76","v":424.06921702127659},{"$f":"'Population 2016'!AI76*'Prevalence Rates'!AI76","v":175.53975319148932},{"$f":"'Population 2016'!AJ76*'Prevalence Rates'!AJ76","v":20.263999999999999},{"$f":"'Population 2016'!AK76*'Prevalence Rates'!AK76","v":1.82525},{"$f":"'Population 2016'!AL76*'Prevalence Rates'!AL76","v":119.5310494680851},{"$f":"'Population 2016'!AM76*'Prevalence Rates'!AM76","v":303.53725212765954},{"$f":"'Population 2016'!AN76*'Prevalence Rates'!AN76","v":0},{"$f":"'Population 2016'!AO76*'Prevalence Rates'!AO76","v":0},{"$f":"'Population 2016'!AP76*'Prevalence Rates'!AP76","v":12.707718617021277},{"$f":"'Population 2016'!AQ76*'Prevalence Rates'!AQ76","v":135.60093723404253},{"$f":"'Population 2016'!AR76*'Prevalence Rates'!AR76","v":2201.6239999999998},{"$f":"'Population 2016'!AS76*'Prevalence Rates'!AS76","v":12.484456382978724},{"$f":"'Population 2016'!AT76*'Prevalence Rates'!AT76","v":0},{"$f":"'Population 2016'!AU76*'Prevalence Rates'!AU76","v":0},{"$f":"'Population 2016'!AV76*'Prevalence Rates'!AV76","v":45.157937234042542},{"$f":"'Population 2016'!AW76*'Prevalence Rates'!AW76","v":135.27931914893617},{"$f":"'Population 2016'!AX76*'Prevalence Rates'!AX76","v":25.478999999999999},{"$f":"'Population 2016'!AY76*'Prevalence Rates'!AY76","v":158.26747152493746},{"$f":"'Population 2016'!AZ76*'Prevalence Rates'!AZ76","v":117.18865851063831},{"$f":"'Population 2016'!BA76*'Prevalence Rates'!BA76","v":89.014502127659568},{"$f":"'Population 2016'!BB76*'Prevalence Rates'!BB76","v":57.106944680851051},{"$f":"'Population 2016'!BC76*'Prevalence Rates'!BC76","v":0},74]
[null,"Female 85-89",{"$f":"'Population 2016'!C77*'Prevalence Rates'!C77","v":19.145707446808512},{"$f":"'Population 2016'!D77*'Prevalence Rates'!D77","v":12.862861097243099},{"$f":"'Population 2016'!E77*'Prevalence Rates'!E77","v":3.9251196808510644},{"$f":"'Population 2016'!F77*'Prevalence Rates'!F77","v":4.6744787234042544},{"$f":"'Population 2016'!G77*'Prevalence Rates'!G77","v":12.814},{"$f":"'Population 2016'!H77*'Prevalence Rates'!H77","v":154.73229946808513},{"$f":"'Population 2016'!I77*'Prevalence Rates'!I77","v":8.9827186170212769},{"$f":"'Population 2016'!J77*'Prevalence Rates'!J77","v":24.584999999999997},{"$f":"'Population 2016'!K77*'Prevalence Rates'!K77","v":13.112},{"$f":"'Population 2016'!L77*'Prevalence Rates'!L77","v":17.898704255319146},{"$f":"'Population 2016'!M77*'Prevalence Rates'!M77","v":17.898704255319146},{"$f":"'Population 2016'!N77*'Prevalence Rates'!N77","v":85.580369148936171},{"$f":"'Population 2016'!O77*'Prevalence Rates'!O77","v":57.946654787234039},{"$f":"'Population 2016'!P77*'Prevalence Rates'!P77","v":3.7269813829787228},{"$f":"'Population 2016'!Q77*'Prevalence Rates'!Q77","v":3.523453723404256},{"$f":"'Population 2016'!R77*'Prevalence Rates'!R77","v":2.8420957446808512},{"$f":"'Population 2016'!S77*'Prevalence Rates'!S77","v":151.01250527334489},{"$f":"'Population 2016'!T77*'Prevalence Rates'!T77","v":57.606887234042546},{"$f":"'Population 2016'!U77*'Prevalence Rates'!U77","v":0},{"$f":"'Population 2016'!V77*'Prevalence Rates'!V77","v":21.463608510638299},{"$f":"'Population 2016'!W77*'Prevalence Rates'!W77","v":92.926069148936165},{"$f":"'Population 2016'!X77*'Prevalence Rates'!X77","v":92.926069148936165},{"$f":"'Population 2016'!Y77*'Prevalence Rates'!Y77","v":41.931611702127661},{"$f":"'Population 2016'!Z77*'Prevalence Rates'!Z77","v":426.64406382978723},{"$f":"'Population 2016'!AA77*'Prevalence Rates'!AA77","v":312.73385894014405},{"$f":"'Population 2016'!AB77*'Prevalence Rates'!AB77","v":24.734000000000002},{"$f":"'Population 2016'!AC77*'Prevalence Rates'!AC77","v":595.34218085106374},{"$f":"'Population 2016'!AD77*'Prevalence Rates'!AD77","v":29.458885106382979},{"$f":"'Population 2016'!AE77*'Prevalence Rates'!AE77","v":17.075717021276596},{"$f":"'Population 2016'!AF77*'Prevalence Rates'!AF77","v":53.788999999999994},{"$f":"'Population 2016'!AG77*'Prevalence Rates'!AG77","v":9.1226318223866798},{"$f":"'Population 2016'!AH77*'Prevalence Rates'!AH77","v":244.60854468085108},{"$f":"'Population 2016'!AI77*'Prevalence Rates'!AI77","v":102.93997872340424},{"$f":"'Population 2016'!AJ77*'Prevalence Rates'!AJ77","v":10.728},{"$f":"'Population 2016'!AK77*'Prevalence Rates'!AK77","v":1.4601999999999999},{"$f":"'Population 2016'!AL77*'Prevalence Rates'!AL77","v":65.953185638297867},{"$f":"'Population 2016'!AM77*'Prevalence Rates'!AM77","v":183.22910425531913},{"$f":"'Population 2016'!AN77*'Prevalence Rates'!AN77","v":0},{"$f":"'Population 2016'!AO77*'Prevalence Rates'!AO77","v":0},{"$f":"'Population 2016'!AP77*'Prevalence Rates'!AP77","v":6.0623978723404255},{"$f":"'Population 2016'!AQ77*'Prevalence Rates'!AQ77","v":78.052381914893616},{"$f":"'Population 2016'!AR77*'Prevalence Rates'!AR77","v":1321.481},{"$f":"'Population 2016'!AS77*'Prevalence Rates'!AS77","v":8.9827186170212769},{"$f":"'Population 2016'!AT77*'Prevalence Rates'!AT77","v":0},{"$f":"'Population 2016'!AU77*'Prevalence Rates'!AU77","v":0},{"$f":"'Population 2016'!AV77*'Prevalence Rates'!AV77","v":29.95010957446808},{"$f":"'Population 2016'!AW77*'Prevalence Rates'!AW77","v":72.430802127659575},{"$f":"'Population 2016'!AX77*'Prevalence Rates'!AX77","v":11.472999999999999},{"$f":"'Population 2016'!AY77*'Prevalence Rates'!AY77","v":98.460547234247201},{"$f":"'Population 2016'!AZ77*'Prevalence Rates'!AZ77","v":74.027955319148944},{"$f":"'Population 2016'!BA77*'Prevalence Rates'!BA77","v":64.773945744680844},{"$f":"'Population 2016'!BB77*'Prevalence Rates'!BB77","v":25.345217021276589},{"$f":"'Population 2016'!BC77*'Prevalence Rates'!BC77","v":0},75]
[null,"Female 90+",{"$f":"'Population 2016'!C78*'Prevalence Rates'!C78","v":9.374794680851064},{"$f":"'Population 2016'!D78*'Prevalence Rates'!D78","v":6.3599702091924213},{"$f":"'Population 2016'!E78*'Prevalence Rates'!E78","v":2.0186329787234043},{"$f":"'Population 2016'!F78*'Prevalence Rates'!F78","v":2.8825952127659571},{"$f":"'Population 2016'!G78*'Prevalence Rates'!G78","v":8.1950000000000003},{"$f":"'Population 2016'!H78*'Prevalence Rates'!H78","v":85.57735744680852},{"$f":"'Population 2016'!I78*'Prevalence Rates'!I78","v":3.6539872340425532},{"$f":"'Population 2016'!J78*'Prevalence Rates'!J78","v":14.899999999999999},{"$f":"'Population 2016'!K78*'Prevalence Rates'!K78","v":8.3439999999999994},{"$f":"'Population 2016'!L78*'Prevalence Rates'!L78","v":7.0885957446808501},{"$f":"'Population 2016'!M78*'Prevalence Rates'!M78","v":7.0885957446808501},{"$f":"'Population 2016'!N78*'Prevalence Rates'!N78","v":46.275357978723399},{"$f":"'Population 2016'!O78*'Prevalence Rates'!O78","v":30.874464361702127},{"$f":"'Population 2016'!P78*'Prevalence Rates'!P78","v":0.56469414893617009},{"$f":"'Population 2016'!Q78*'Prevalence Rates'!Q78","v":1.0067010638297875},{"$f":"'Population 2016'!R78*'Prevalence Rates'!R78","v":1.6794202127659574},{"$f":"'Population 2016'!S78*'Prevalence Rates'!S78","v":86.323159615521575},{"$f":"'Population 2016'!T78*'Prevalence Rates'!T78","v":30.670857446808508},{"$f":"'Population 2016'!U78*'Prevalence Rates'!U78","v":0},{"$f":"'Population 2016'!V78*'Prevalence Rates'!V78","v":10.286706382978725},{"$f":"'Population 2016'!W78*'Prevalence Rates'!W78","v":54.066076595744676},{"$f":"'Population 2016'!X78*'Prevalence Rates'!X78","v":54.066076595744676},{"$f":"'Population 2016'!Y78*'Prevalence Rates'!Y78","v":22.392797872340424},{"$f":"'Population 2016'!Z78*'Prevalence Rates'!Z78","v":229.95391914893617},{"$f":"'Population 2016'!AA78*'Prevalence Rates'!AA78","v":168.38067751160412},{"$f":"'Population 2016'!AB78*'Prevalence Rates'!AB78","v":11.972308510638298},{"$f":"'Population 2016'!AC78*'Prevalence Rates'!AC78","v":317.56021276595743},{"$f":"'Population 2016'!AD78*'Prevalence Rates'!AD78","v":17.137139893617022},{"$f":"'Population 2016'!AE78*'Prevalence Rates'!AE78","v":9.237682978723404},{"$f":"'Population 2016'!AF78*'Prevalence Rates'!AF78","v":26.968999999999998},{"$f":"'Population 2016'!AG78*'Prevalence Rates'!AG78","v":4.9351942645698426},{"$f":"'Population 2016'!AH78*'Prevalence Rates'!AH78","v":134.81266382978723},{"$f":"'Population 2016'!AI78*'Prevalence Rates'!AI78","v":59.325935106382964},{"$f":"'Population 2016'!AJ78*'Prevalence Rates'!AJ78","v":5.6619999999999999},{"$f":"'Population 2016'!AK78*'Prevalence Rates'!AK78","v":0.36504999999999999},{"$f":"'Population 2016'!AL78*'Prevalence Rates'!AL78","v":37.417149468085107},{"$f":"'Population 2016'!AM78*'Prevalence Rates'!AM78","v":95.098774468085097},{"$f":"'Population 2016'!AN78*'Prevalence Rates'!AN78","v":0},{"$f":"'Population 2016'!AO78*'Prevalence Rates'!AO78","v":0},{"$f":"'Population 2016'!AP78*'Prevalence Rates'!AP78","v":3.1477835106382979},{"$f":"'Population 2016'!AQ78*'Prevalence Rates'!AQ78","v":36.3555244680851},{"$f":"'Population 2016'!AR78*'Prevalence Rates'!AR78","v":718.92499999999995},{"$f":"'Population 2016'!AS78*'Prevalence Rates'!AS78","v":3.6539872340425532},{"$f":"'Population 2016'!AT78*'Prevalence Rates'!AT78","v":0},{"$f":"'Population 2016'!AU78*'Prevalence Rates'!AU78","v":0},{"$f":"'Population 2016'!AV78*'Prevalence Rates'!AV78","v":16.759646808510634},{"$f":"'Population 2016'!AW78*'Prevalence Rates'!AW78","v":43.965778723404256},{"$f":"'Population 2016'!AX78*'Prevalence Rates'!AX78","v":6.556},{"$f":"'Population 2016'!AY78*'Prevalence Rates'!AY78","v":55.644226435230294},{"$f":"'Population 2016'!AZ78*'Prevalence Rates'!AZ78","v":40.488213829787234},{"$f":"'Population 2016'!BA78*'Prevalence Rates'!BA78","v":42.321627127659575},{"$f":"'Population 2016'!BB78*'Prevalence Rates'!BB78","v":19.730770212765954},{"$f":"'Population 2016'!BC78*'Prevalence Rates'!BC78","v":0},76]
[null,"Male 0-4",{"$f":"'Population 2016'!C79*'Prevalence Rates'!C79","v":0},{"$f":"'Population 2016'!D79*'Prevalence Rates'!D79","v":0},{"$f":"'Population 2016'!E79*'Prevalence Rates'!E79","v":0},{"$f":"'Population 2016'!F79*'Prevalence Rates'!F79","v":0},{"$f":"'Population 2016'!G79*'Prevalence Rates'!G79","v":0},{"$f":"'Population 2016'!H79*'Prevalence Rates'!H79","v":0},{"$f":"'Population 2016'!I79*'Prevalence Rates'!I79","v":0},{"$f":"'Population 2016'!J79*'Prevalence Rates'!J79","v":0},{"$f":"'Population 2016'!K79*'Prevalence Rates'!K79","v":0},{"$f":"'Population 2016'!L79*'Prevalence Rates'!L79","v":0},{"$f":"'Population 2016'!M79*'Prevalence Rates'!M79","v":0},{"$f":"'Population 2016'!N79*'Prevalence Rates'!N79","v":0},{"$f":"'Population 2016'!O79*'Prevalence Rates'!O79","v":0},{"$f":"'Population 2016'!P79*'Prevalence Rates'!P79","v":0},{"$f":"'Population 2016'!Q79*'Prevalence Rates'!Q79","v":0},{"$f":"'Population 2016'!R79*'Prevalence Rates'!R79","v":0},{"$f":"'Population 2016'!S79*'Prevalence Rates'!S79","v":0},{"$f":"'Population 2016'!T79*'Prevalence Rates'!T79","v":0},{"$f":"'Population 2016'!U79*'Prevalence Rates'!U79","v":0},{"$f":"'Population 2016'!V79*'Prevalence Rates'!V79","v":0},{"$f":"'Population 2016'!W79*'Prevalence Rates'!W79","v":0},{"$f":"'Population 2016'!X79*'Prevalence Rates'!X79","v":0},{"$f":"'Population 2016'!Y79*'Prevalence Rates'!Y79","v":0},{"$f":"'Population 2016'!Z79*'Prevalence Rates'!Z79","v":0},{"$f":"'Population 2016'!AA79*'Prevalence Rates'!AA79","v":0},{"$f":"'Population 2016'!AB79*'Prevalence Rates'!AB79","v":0},{"$f":"'Population 2016'!AC79*'Prevalence Rates'!AC79","v":0},{"$f":"'Population 2016'!AD79*'Prevalence Rates'!AD79","v":0},{"$f":"'Population 2016'!AE79*'Prevalence Rates'!AE79","v":0},{"$f":"'Population 2016'!AF79*'Prevalence Rates'!AF79","v":0},{"$f":"'Population 2016'!AG79*'Prevalence Rates'!AG79","v":0},{"$f":"'Population 2016'!AH79*'Prevalence Rates'!AH79","v":0},{"$f":"'Population 2016'!AI79*'Prevalence Rates'!AI79","v":0},{"$f":"'Population 2016'!AJ79*'Prevalence Rates'!AJ79","v":0},{"$f":"'Population 2016'!AK79*'Prevalence Rates'!AK79","v":0},{"$f":"'Population 2016'!AL79*'Prevalence Rates'!AL79","v":0},{"$f":"'Population 2016'!AM79*'Prevalence Rates'!AM79","v":0},{"$f":"'Population 2016'!AN79*'Prevalence Rates'!AN79","v":0},{"$f":"'Population 2016'!AO79*'Prevalence Rates'!AO79","v":0},{"$f":"'Population 2016'!AP79*'Prevalence Rates'!AP79","v":0},{"$f":"'Population 2016'!AQ79*'Prevalence Rates'!AQ79","v":0},{"$f":"'Population 2016'!AR79*'Prevalence Rates'!AR79","v":0},{"$f":"'Population 2016'!AS79*'Prevalence Rates'!AS79","v":0},{"$f":"'Population 2016'!AT79*'Prevalence Rates'!AT79","v":0},{"$f":"'Population 2016'!AU79*'Prevalence Rates'!AU79","v":0},{"$f":"'Population 2016'!AV79*'Prevalence Rates'!AV79","v":0},{"$f":"'Population 2016'!AW79*'Prevalence Rates'!AW79","v":0},{"$f":"'Population 2016'!AX79*'Prevalence Rates'!AX79","v":0},{"$f":"'Population 2016'!AY79*'Prevalence Rates'!AY79","v":0},{"$f":"'Population 2016'!AZ79*'Prevalence Rates'!AZ79","v":0},{"$f":"'Population 2016'!BA79*'Prevalence Rates'!BA79","v":0},{"$f":"'Population 2016'!BB79*'Prevalence Rates'!BB79","v":0},{"$f":"'Population 2016'!BC79*'Prevalence Rates'!BC79","v":0},77]
[null,"Male 5-9",{"$f":"'Population 2016'!C80*'Prevalence Rates'!C80","v":0},{"$f":"'Population 2016'!D80*'Prevalence Rates'!D80","v":0},{"$f":"'Population 2016'!E80*'Prevalence Rates'!E80","v":0},{"$f":"'Population 2016'!F80*'Prevalence Rates'!F80","v":0},{"$f":"'Population 2016'!G80*'Prevalence Rates'!G80","v":0},{"$f":"'Population 2016'!H80*'Prevalence Rates'!H80","v":0},{"$f":"'Population 2016'!I80*'Prevalence Rates'!I80","v":0},{"$f":"'Population 2016'!J80*'Prevalence Rates'!J80","v":0},{"$f":"'Population 2016'!K80*'Prevalence Rates'!K80","v":0},{"$f":"'Population 2016'!L80*'Prevalence Rates'!L80","v":0},{"$f":"'Population 2016'!M80*'Prevalence Rates'!M80","v":0},{"$f":"'Population 2016'!N80*'Prevalence Rates'!N80","v":0},{"$f":"'Population 2016'!O80*'Prevalence Rates'!O80","v":0},{"$f":"'Population 2016'!P80*'Prevalence Rates'!P80","v":0},{"$f":"'Population 2016'!Q80*'Prevalence Rates'!Q80","v":0},{"$f":"'Population 2016'!R80*'Prevalence Rates'!R80","v":0},{"$f":"'Population 2016'!S80*'Prevalence Rates'!S80","v":0},{"$f":"'Population 2016'!T80*'Prevalence Rates'!T80","v":0},{"$f":"'Population 2016'!U80*'Prevalence Rates'!U80","v":0},{"$f":"'Population 2016'!V80*'Prevalence Rates'!V80","v":0},{"$f":"'Population 2016'!W80*'Prevalence Rates'!W80","v":0},{"$f":"'Population 2016'!X80*'Prevalence Rates'!X80","v":0},{"$f":"'Population 2016'!Y80*'Prevalence Rates'!Y80","v":0},{"$f":"'Population 2016'!Z80*'Prevalence Rates'!Z80","v":0},{"$f":"'Population 2016'!AA80*'Prevalence Rates'!AA80","v":0},{"$f":"'Population 2016'!AB80*'Prevalence Rates'!AB80","v":0},{"$f":"'Population 2016'!AC80*'Prevalence Rates'!AC80","v":0},{"$f":"'Population 2016'!AD80*'Prevalence Rates'!AD80","v":0},{"$f":"'Population 2016'!AE80*'Prevalence Rates'!AE80","v":0},{"$f":"'Population 2016'!AF80*'Prevalence Rates'!AF80","v":0},{"$f":"'Population 2016'!AG80*'Prevalence Rates'!AG80","v":0},{"$f":"'Population 2016'!AH80*'Prevalence Rates'!AH80","v":0},{"$f":"'Population 2016'!AI80*'Prevalence Rates'!AI80","v":0},{"$f":"'Population 2016'!AJ80*'Prevalence Rates'!AJ80","v":0},{"$f":"'Population 2016'!AK80*'Prevalence Rates'!AK80","v":0},{"$f":"'Population 2016'!AL80*'Prevalence Rates'!AL80","v":0},{"$f":"'Population 2016'!AM80*'Prevalence Rates'!AM80","v":0},{"$f":"'Population 2016'!AN80*'Prevalence Rates'!AN80","v":0},{"$f":"'Population 2016'!AO80*'Prevalence Rates'!AO80","v":0},{"$f":"'Population 2016'!AP80*'Prevalence Rates'!AP80","v":0},{"$f":"'Population 2016'!AQ80*'Prevalence Rates'!AQ80","v":0},{"$f":"'Population 2016'!AR80*'Prevalence Rates'!AR80","v":0},{"$f":"'Population 2016'!AS80*'Prevalence Rates'!AS80","v":0},{"$f":"'Population 2016'!AT80*'Prevalence Rates'!AT80","v":0},{"$f":"'Population 2016'!AU80*'Prevalence Rates'!AU80","v":0},{"$f":"'Population 2016'!AV80*'Prevalence Rates'!AV80","v":0},{"$f":"'Population 2016'!AW80*'Prevalence Rates'!AW80","v":0},{"$f":"'Population 2016'!AX80*'Prevalence Rates'!AX80","v":0},{"$f":"'Population 2016'!AY80*'Prevalence Rates'!AY80","v":0},{"$f":"'Population 2016'!AZ80*'Prevalence Rates'!AZ80","v":0},{"$f":"'Population 2016'!BA80*'Prevalence Rates'!BA80","v":0},{"$f":"'Population 2016'!BB80*'Prevalence Rates'!BB80","v":0},{"$f":"'Population 2016'!BC80*'Prevalence Rates'!BC80","v":0},78]
[null,"Male 10-15",{"$f":"'Population 2016'!C81*'Prevalence Rates'!C81","v":0},{"$f":"'Population 2016'!D81*'Prevalence Rates'!D81","v":0},{"$f":"'Population 2016'!E81*'Prevalence Rates'!E81","v":0},{"$f":"'Population 2016'!F81*'Prevalence Rates'!F81","v":0},{"$f":"'Population 2016'!G81*'Prevalence Rates'!G81","v":0},{"$f":"'Population 2016'!H81*'Prevalence Rates'!H81","v":0},{"$f":"'Population 2016'!I81*'Prevalence Rates'!I81","v":0},{"$f":"'Population 2016'!J81*'Prevalence Rates'!J81","v":0},{"$f":"'Population 2016'!K81*'Prevalence Rates'!K81","v":0},{"$f":"'Population 2016'!L81*'Prevalence Rates'!L81","v":0},{"$f":"'Population 2016'!M81*'Prevalence Rates'!M81","v":0},{"$f":"'Population 2016'!N81*'Prevalence Rates'!N81","v":0},{"$f":"'Population 2016'!O81*'Prevalence Rates'!O81","v":0},{"$f":"'Population 2016'!P81*'Prevalence Rates'!P81","v":0},{"$f":"'Population 2016'!Q81*'Prevalence Rates'!Q81","v":0},{"$f":"'Population 2016'!R81*'Prevalence Rates'!R81","v":0},{"$f":"'Population 2016'!S81*'Prevalence Rates'!S81","v":0},{"$f":"'Population 2016'!T81*'Prevalence Rates'!T81","v":0},{"$f":"'Population 2016'!U81*'Prevalence Rates'!U81","v":0},{"$f":"'Population 2016'!V81*'Prevalence Rates'!V81","v":0},{"$f":"'Population 2016'!W81*'Prevalence Rates'!W81","v":0},{"$f":"'Population 2016'!X81*'Prevalence Rates'!X81","v":0},{"$f":"'Population 2016'!Y81*'Prevalence Rates'!Y81","v":0},{"$f":"'Population 2016'!Z81*'Prevalence Rates'!Z81","v":0},{"$f":"'Population 2016'!AA81*'Prevalence Rates'!AA81","v":0},{"$f":"'Population 2016'!AB81*'Prevalence Rates'!AB81","v":0},{"$f":"'Population 2016'!AC81*'Prevalence Rates'!AC81","v":0},{"$f":"'Population 2016'!AD81*'Prevalence Rates'!AD81","v":0},{"$f":"'Population 2016'!AE81*'Prevalence Rates'!AE81","v":0},{"$f":"'Population 2016'!AF81*'Prevalence Rates'!AF81","v":0},{"$f":"'Population 2016'!AG81*'Prevalence Rates'!AG81","v":0},{"$f":"'Population 2016'!AH81*'Prevalence Rates'!AH81","v":0},{"$f":"'Population 2016'!AI81*'Prevalence Rates'!AI81","v":0},{"$f":"'Population 2016'!AJ81*'Prevalence Rates'!AJ81","v":0},{"$f":"'Population 2016'!AK81*'Prevalence Rates'!AK81","v":0},{"$f":"'Population 2016'!AL81*'Prevalence Rates'!AL81","v":0},{"$f":"'Population 2016'!AM81*'Prevalence Rates'!AM81","v":0},{"$f":"'Population 2016'!AN81*'Prevalence Rates'!AN81","v":0},{"$f":"'Population 2016'!AO81*'Prevalence Rates'!AO81","v":0},{"$f":"'Population 2016'!AP81*'Prevalence Rates'!AP81","v":0},{"$f":"'Population 2016'!AQ81*'Prevalence Rates'!AQ81","v":0},{"$f":"'Population 2016'!AR81*'Prevalence Rates'!AR81","v":0},{"$f":"'Population 2016'!AS81*'Prevalence Rates'!AS81","v":0},{"$f":"'Population 2016'!AT81*'Prevalence Rates'!AT81","v":0},{"$f":"'Population 2016'!AU81*'Prevalence Rates'!AU81","v":0},{"$f":"'Population 2016'!AV81*'Prevalence Rates'!AV81","v":0},{"$f":"'Population 2016'!AW81*'Prevalence Rates'!AW81","v":0},{"$f":"'Population 2016'!AX81*'Prevalence Rates'!AX81","v":0},{"$f":"'Population 2016'!AY81*'Prevalence Rates'!AY81","v":0},{"$f":"'Population 2016'!AZ81*'Prevalence Rates'!AZ81","v":0},{"$f":"'Population 2016'!BA81*'Prevalence Rates'!BA81","v":0},{"$f":"'Population 2016'!BB81*'Prevalence Rates'!BB81","v":0},{"$f":"'Population 2016'!BC81*'Prevalence Rates'!BC81","v":0},79]
[null,"Male 16-19",{"$f":"'Population 2016'!C82*'Prevalence Rates'!C82","v":141.82483786407767},{"$f":"'Population 2016'!D82*'Prevalence Rates'!D82","v":61.671556798094187},{"$f":"'Population 2016'!E82*'Prevalence Rates'!E82","v":28.438767784642543},{"$f":"'Population 2016'!F82*'Prevalence Rates'!F82","v":92.572737069726415},{"$f":"'Population 2016'!G82*'Prevalence Rates'!G82","v":59.202800000000003},{"$f":"'Population 2016'!H82*'Prevalence Rates'!H82","v":948.26769911738756},{"$f":"'Population 2016'!I82*'Prevalence Rates'!I82","v":43.360266460723743},{"$f":"'Population 2016'!J82*'Prevalence Rates'!J82","v":230.8244},{"$f":"'Population 2016'!K82*'Prevalence Rates'!K82","v":113.7492},{"$f":"'Population 2016'!L82*'Prevalence Rates'!L82","v":101.02086513680496},{"$f":"'Population 2016'!M82*'Prevalence Rates'!M82","v":101.02086513680496},{"$f":"'Population 2016'!N82*'Prevalence Rates'!N82","v":442.92852789055604},{"$f":"'Population 2016'!O82*'Prevalence Rates'!O82","v":318.16287025595761},{"$f":"'Population 2016'!P82*'Prevalence Rates'!P82","v":38.965572462488964},{"$f":"'Population 2016'!Q82*'Prevalence Rates'!Q82","v":28.015899029126217},{"$f":"'Population 2016'!R82*'Prevalence Rates'!R82","v":31.245905913503975},{"$f":"'Population 2016'!S82*'Prevalence Rates'!S82","v":882.41577213557912},{"$f":"'Population 2016'!T82*'Prevalence Rates'!T82","v":426.30850882612532},{"$f":"'Population 2016'!U82*'Prevalence Rates'!U82","v":0},{"$f":"'Population 2016'!V82*'Prevalence Rates'!V82","v":155.54436769638127},{"$f":"'Population 2016'!W82*'Prevalence Rates'!W82","v":649.65674774933814},{"$f":"'Population 2016'!X82*'Prevalence Rates'!X82","v":649.65674774933814},{"$f":"'Population 2016'!Y82*'Prevalence Rates'!Y82","v":339.68352868490729},{"$f":"'Population 2016'!Z82*'Prevalence Rates'!Z82","v":2651.7622628420122},{"$f":"'Population 2016'!AA82*'Prevalence Rates'!AA82","v":1623.6614440701414},{"$f":"'Population 2016'!AB82*'Prevalence Rates'!AB82","v":170.53661359223301},{"$f":"'Population 2016'!AC82*'Prevalence Rates'!AC82","v":3490.0490054721977},{"$f":"'Population 2016'!AD82*'Prevalence Rates'!AD82","v":207.30638022947926},{"$f":"'Population 2016'!AE82*'Prevalence Rates'!AE82","v":147.43896734333626},{"$f":"'Population 2016'!AF82*'Prevalence Rates'!AF82","v":257.43240000000003},{"$f":"'Population 2016'!AG82*'Prevalence Rates'!AG82","v":56.777738976936952},{"$f":"'Population 2016'!AH82*'Prevalence Rates'!AH82","v":1333.4048487202119},{"$f":"'Population 2016'!AI82*'Prevalence Rates'!AI82","v":747.37421676963822},{"$f":"'Population 2016'!AJ82*'Prevalence Rates'!AJ82","v":68.848200000000006},{"$f":"'Population 2016'!AK82*'Prevalence Rates'!AK82","v":8.257462842012357},{"$f":"'Population 2016'!AL82*'Prevalence Rates'!AL82","v":579.53128155339812},{"$f":"'Population 2016'!AM82*'Prevalence Rates'!AM82","v":877.1436990291262},{"$f":"'Population 2016'!AN82*'Prevalence Rates'!AN82","v":0},{"$f":"'Population 2016'!AO82*'Prevalence Rates'!AO82","v":0},{"$f":"'Population 2016'!AP82*'Prevalence Rates'!AP82","v":50.373928596646067},{"$f":"'Population 2016'!AQ82*'Prevalence Rates'!AQ82","v":372.77385278022956},{"$f":"'Population 2016'!AR82*'Prevalence Rates'!AR82","v":8434.4034000000011},{"$f":"'Population 2016'!AS82*'Prevalence Rates'!AS82","v":43.360266460723743},{"$f":"'Population 2016'!AT82*'Prevalence Rates'!AT82","v":0},{"$f":"'Population 2016'!AU82*'Prevalence Rates'!AU82","v":0},{"$f":"'Population 2016'!AV82*'Prevalence Rates'!AV82","v":113.2381173874669},{"$f":"'Population 2016'!AW82*'Prevalence Rates'!AW82","v":460.67653945278022},{"$f":"'Population 2016'!AX82*'Prevalence Rates'!AX82","v":117.0752},{"$f":"'Population 2016'!AY82*'Prevalence Rates'!AY82","v":529.73155758948462},{"$f":"'Population 2016'!AZ82*'Prevalence Rates'!AZ82","v":553.22608552515442},{"$f":"'Population 2016'!BA82*'Prevalence Rates'!BA82","v":321.41401323918802},{"$f":"'Population 2016'!BB82*'Prevalence Rates'!BB82","v":198.01706478375993},{"$f":"'Population 2016'!BC82*'Prevalence Rates'!BC82","v":0},80]
[null,"Male 20-24",{"$f":"'Population 2016'!C83*'Prevalence Rates'!C83","v":231.735013592233},{"$f":"'Population 2016'!D83*'Prevalence Rates'!D83","v":112.22635228494393},{"$f":"'Population 2016'!E83*'Prevalence Rates'!E83","v":74.132518270079444},{"$f":"'Population 2016'!F83*'Prevalence Rates'!F83","v":130.60054192409535},{"$f":"'Population 2016'!G83*'Prevalence Rates'!G83","v":92.795400000000001},{"$f":"'Population 2016'!H83*'Prevalence Rates'!H83","v":1329.1661802294793},{"$f":"'Population 2016'!I83*'Prevalence Rates'!I83","v":51.689357193292146},{"$f":"'Population 2016'!J83*'Prevalence Rates'!J83","v":295.01620000000003},{"$f":"'Population 2016'!K83*'Prevalence Rates'!K83","v":142.02020000000002},{"$f":"'Population 2016'!L83*'Prevalence Rates'!L83","v":150.84408093556931},{"$f":"'Population 2016'!M83*'Prevalence Rates'!M83","v":150.84408093556931},{"$f":"'Population 2016'!N83*'Prevalence Rates'!N83","v":731.15358190644304},{"$f":"'Population 2016'!O83*'Prevalence Rates'!O83","v":439.67400900264784},{"$f":"'Population 2016'!P83*'Prevalence Rates'!P83","v":48.420454015887024},{"$f":"'Population 2016'!Q83*'Prevalence Rates'!Q83","v":37.885136187113858},{"$f":"'Population 2016'!R83*'Prevalence Rates'!R83","v":37.18837881729921},{"$f":"'Population 2016'!S83*'Prevalence Rates'!S83","v":1207.2579014728256},{"$f":"'Population 2016'!T83*'Prevalence Rates'!T83","v":624.26788967343339},{"$f":"'Population 2016'!U83*'Prevalence Rates'!U83","v":0},{"$f":"'Population 2016'!V83*'Prevalence Rates'!V83","v":228.35896213592233},{"$f":"'Population 2016'!W83*'Prevalence Rates'!W83","v":837.19779320388363},{"$f":"'Population 2016'!X83*'Prevalence Rates'!X83","v":837.19779320388363},{"$f":"'Population 2016'!Y83*'Prevalence Rates'!Y83","v":461.24251721094436},{"$f":"'Population 2016'!Z83*'Prevalence Rates'!Z83","v":4138.5749719329215},{"$f":"'Population 2016'!AA83*'Prevalence Rates'!AA83","v":2419.9816972119484},{"$f":"'Population 2016'!AB83*'Prevalence Rates'!AB83","v":304.10619029126218},{"$f":"'Population 2016'!AC83*'Prevalence Rates'!AC83","v":5355.9062368932036},{"$f":"'Population 2016'!AD83*'Prevalence Rates'!AD83","v":297.91478111209182},{"$f":"'Population 2016'!AE83*'Prevalence Rates'!AE83","v":203.53769638128861},{"$f":"'Population 2016'!AF83*'Prevalence Rates'!AF83","v":366.52519999999998},{"$f":"'Population 2016'!AG83*'Prevalence Rates'!AG83","v":78.380976246210523},{"$f":"'Population 2016'!AH83*'Prevalence Rates'!AH83","v":1850.1865754633718},{"$f":"'Population 2016'!AI83*'Prevalence Rates'!AI83","v":1073.5387150044132},{"$f":"'Population 2016'!AJ83*'Prevalence Rates'!AJ83","v":110.09060000000001},{"$f":"'Population 2016'!AK83*'Prevalence Rates'!AK83","v":8.616482965578113},{"$f":"'Population 2016'!AL83*'Prevalence Rates'!AL83","v":791.88507961165055},{"$f":"'Population 2016'!AM83*'Prevalence Rates'!AM83","v":1203.9038242718448},{"$f":"'Population 2016'!AN83*'Prevalence Rates'!AN83","v":0},{"$f":"'Population 2016'!AO83*'Prevalence Rates'!AO83","v":0},{"$f":"'Population 2016'!AP83*'Prevalence Rates'!AP83","v":91.026572727272722},{"$f":"'Population 2016'!AQ83*'Prevalence Rates'!AQ83","v":609.42242224183587},{"$f":"'Population 2016'!AR83*'Prevalence Rates'!AR83","v":12366.068000000001},{"$f":"'Population 2016'!AS83*'Prevalence Rates'!AS83","v":51.689357193292146},{"$f":"'Population 2016'!AT83*'Prevalence Rates'!AT83","v":0},{"$f":"'Population 2016'!AU83*'Prevalence Rates'!AU83","v":0},{"$f":"'Population 2016'!AV83*'Prevalence Rates'!AV83","v":176.29414563106795},{"$f":"'Population 2016'!AW83*'Prevalence Rates'!AW83","v":652.10207696381281},{"$f":"'Population 2016'!AX83*'Prevalence Rates'!AX83","v":152.99600000000001},{"$f":"'Population 2016'!AY83*'Prevalence Rates'!AY83","v":767.92982851032809},{"$f":"'Population 2016'!AZ83*'Prevalence Rates'!AZ83","v":902.35612939099724},{"$f":"'Population 2016'!BA83*'Prevalence Rates'!BA83","v":453.963773168579},{"$f":"'Population 2016'!BB83*'Prevalence Rates'!BB83","v":266.08543080317742},{"$f":"'Population 2016'!BC83*'Prevalence Rates'!BC83","v":0},81]
[null,"Male 25-29",{"$f":"'Population 2016'!C84*'Prevalence Rates'!C84","v":479.03714174757283},{"$f":"'Population 2016'!D84*'Prevalence Rates'!D84","v":211.38622063941332},{"$f":"'Population 2016'!E84*'Prevalence Rates'!E84","v":103.49377299205649},{"$f":"'Population 2016'!F84*'Prevalence Rates'!F84","v":148.53657758164169},{"$f":"'Population 2016'!G84*'Prevalence Rates'!G84","v":92.160000000000011},{"$f":"'Population 2016'!H84*'Prevalence Rates'!H84","v":1575.9555219770521},{"$f":"'Population 2016'!I84*'Prevalence Rates'!I84","v":47.66652215357459},{"$f":"'Population 2016'!J84*'Prevalence Rates'!J84","v":354.30400000000003},{"$f":"'Population 2016'!K84*'Prevalence Rates'!K84","v":141.7216},{"$f":"'Population 2016'!L84*'Prevalence Rates'!L84","v":209.88583654015889},{"$f":"'Population 2016'!M84*'Prevalence Rates'!M84","v":209.88583654015889},{"$f":"'Population 2016'!N84*'Prevalence Rates'!N84","v":1264.6906125330979},{"$f":"'Population 2016'!O84*'Prevalence Rates'!O84","v":534.37652391879965},{"$f":"'Population 2016'!P84*'Prevalence Rates'!P84","v":57.513190467784646},{"$f":"'Population 2016'!Q84*'Prevalence Rates'!Q84","v":41.166969108561347},{"$f":"'Population 2016'!R84*'Prevalence Rates'!R84","v":46.269977758164174},{"$f":"'Population 2016'!S84*'Prevalence Rates'!S84","v":1767.7974714522538},{"$f":"'Population 2016'!T84*'Prevalence Rates'!T84","v":1166.4787996469552},{"$f":"'Population 2016'!U84*'Prevalence Rates'!U84","v":0},{"$f":"'Population 2016'!V84*'Prevalence Rates'!V84","v":317.47651332744925},{"$f":"'Population 2016'!W84*'Prevalence Rates'!W84","v":1094.6986591350399},{"$f":"'Population 2016'!X84*'Prevalence Rates'!X84","v":1094.6986591350399},{"$f":"'Population 2016'!Y84*'Prevalence Rates'!Y84","v":593.55757811120918},{"$f":"'Population 2016'!Z84*'Prevalence Rates'!Z84","v":6498.1883142100614},{"$f":"'Population 2016'!AA84*'Prevalence Rates'!AA84","v":3404.7507537790143},{"$f":"'Population 2016'!AB84*'Prevalence Rates'!AB84","v":562.19389514563102},{"$f":"'Population 2016'!AC84*'Prevalence Rates'!AC84","v":8013.5778061782876},{"$f":"'Population 2016'!AD84*'Prevalence Rates'!AD84","v":356.89861535745808},{"$f":"'Population 2016'!AE84*'Prevalence Rates'!AE84","v":264.38721977052074},{"$f":"'Population 2016'!AF84*'Prevalence Rates'!AF84","v":455.06560000000002},{"$f":"'Population 2016'!AG84*'Prevalence Rates'!AG84","v":101.81371196131855},{"$f":"'Population 2016'!AH84*'Prevalence Rates'!AH84","v":2177.6020674315978},{"$f":"'Population 2016'!AI84*'Prevalence Rates'!AI84","v":1712.1153468667258},{"$f":"'Population 2016'!AJ84*'Prevalence Rates'!AJ84","v":104.44800000000001},{"$f":"'Population 2016'!AK84*'Prevalence Rates'!AK84","v":5.3056395410414838},{"$f":"'Population 2016'!AL84*'Prevalence Rates'!AL84","v":889.25750679611667},{"$f":"'Population 2016'!AM84*'Prevalence Rates'!AM84","v":1414.1658718446602},{"$f":"'Population 2016'!AN84*'Prevalence Rates'!AN84","v":0},{"$f":"'Population 2016'!AO84*'Prevalence Rates'!AO84","v":0},{"$f":"'Population 2016'!AP84*'Prevalence Rates'!AP84","v":160.71304924977935},{"$f":"'Population 2016'!AQ84*'Prevalence Rates'!AQ84","v":887.20010732568414},{"$f":"'Population 2016'!AR84*'Prevalence Rates'!AR84","v":17448.96},{"$f":"'Population 2016'!AS84*'Prevalence Rates'!AS84","v":47.66652215357459},{"$f":"'Population 2016'!AT84*'Prevalence Rates'!AT84","v":0},{"$f":"'Population 2016'!AU84*'Prevalence Rates'!AU84","v":0},{"$f":"'Population 2016'!AV84*'Prevalence Rates'!AV84","v":229.72667255075024},{"$f":"'Population 2016'!AW84*'Prevalence Rates'!AW84","v":770.22044413062667},{"$f":"'Population 2016'!AX84*'Prevalence Rates'!AX84","v":212.58240000000001},{"$f":"'Population 2016'!AY84*'Prevalence Rates'!AY84","v":1145.666756675412},{"$f":"'Population 2016'!AZ84*'Prevalence Rates'!AZ84","v":1494.3046721977053},{"$f":"'Population 2016'!BA84*'Prevalence Rates'!BA84","v":551.9839011473963},{"$f":"'Population 2016'!BB84*'Prevalence Rates'!BB84","v":336.30130273609888},{"$f":"'Population 2016'!BC84*'Prevalence Rates'!BC84","v":0},82]
[null,"Male 30-34",{"$f":"'Population 2016'!C85*'Prevalence Rates'!C85","v":401.66847378640779},{"$f":"'Population 2016'!D85*'Prevalence Rates'!D85","v":185.79822014566784},{"$f":"'Population 2016'!E85*'Prevalence Rates'!E85","v":107.42889744042367},{"$f":"'Population 2016'!F85*'Prevalence Rates'!F85","v":122.0459777581642},{"$f":"'Population 2016'!G85*'Prevalence Rates'!G85","v":72.089600000000004},{"$f":"'Population 2016'!H85*'Prevalence Rates'!H85","v":1389.3460278905561},{"$f":"'Population 2016'!I85*'Prevalence Rates'!I85","v":52.493511738746697},{"$f":"'Population 2016'!J85*'Prevalence Rates'!J85","v":310.88640000000004},{"$f":"'Population 2016'!K85*'Prevalence Rates'!K85","v":148.6848},{"$f":"'Population 2016'!L85*'Prevalence Rates'!L85","v":146.41229726390117},{"$f":"'Population 2016'!M85*'Prevalence Rates'!M85","v":146.41229726390117},{"$f":"'Population 2016'!N85*'Prevalence Rates'!N85","v":992.18821535745815},{"$f":"'Population 2016'!O85*'Prevalence Rates'!O85","v":465.18268384819066},{"$f":"'Population 2016'!P85*'Prevalence Rates'!P85","v":47.280782347749344},{"$f":"'Population 2016'!Q85*'Prevalence Rates'!Q85","v":43.12730097087379},{"$f":"'Population 2016'!R85*'Prevalence Rates'!R85","v":43.43712197705208},{"$f":"'Population 2016'!S85*'Prevalence Rates'!S85","v":1600.9100374254301},{"$f":"'Population 2016'!T85*'Prevalence Rates'!T85","v":1007.683784642542},{"$f":"'Population 2016'!U85*'Prevalence Rates'!U85","v":0},{"$f":"'Population 2016'!V85*'Prevalence Rates'!V85","v":291.52891368049427},{"$f":"'Population 2016'!W85*'Prevalence Rates'!W85","v":1025.6353270962049},{"$f":"'Population 2016'!X85*'Prevalence Rates'!X85","v":1025.6353270962049},{"$f":"'Population 2016'!Y85*'Prevalence Rates'!Y85","v":532.69781465136805},{"$f":"'Population 2016'!Z85*'Prevalence Rates'!Z85","v":5690.0587212709615},{"$f":"'Population 2016'!AA85*'Prevalence Rates'!AA85","v":3092.5484447881836},{"$f":"'Population 2016'!AB85*'Prevalence Rates'!AB85","v":493.47653592233007},{"$f":"'Population 2016'!AC85*'Prevalence Rates'!AC85","v":7162.0609807590472},{"$f":"'Population 2016'!AD85*'Prevalence Rates'!AD85","v":345.60985136804942},{"$f":"'Population 2016'!AE85*'Prevalence Rates'!AE85","v":274.57299205648718},{"$f":"'Population 2016'!AF85*'Prevalence Rates'!AF85","v":428.44159999999999},{"$f":"'Population 2016'!AG85*'Prevalence Rates'!AG85","v":105.73618327641123},{"$f":"'Population 2016'!AH85*'Prevalence Rates'!AH85","v":2081.7672360105917},{"$f":"'Population 2016'!AI85*'Prevalence Rates'!AI85","v":1511.4597902912624},{"$f":"'Population 2016'!AJ85*'Prevalence Rates'!AJ85","v":115.0976},{"$f":"'Population 2016'!AK85*'Prevalence Rates'!AK85","v":3.9792296557811127},{"$f":"'Population 2016'!AL85*'Prevalence Rates'!AL85","v":807.46873786407775},{"$f":"'Population 2016'!AM85*'Prevalence Rates'!AM85","v":1333.4468349514564},{"$f":"'Population 2016'!AN85*'Prevalence Rates'!AN85","v":0},{"$f":"'Population 2016'!AO85*'Prevalence Rates'!AO85","v":0},{"$f":"'Population 2016'!AP85*'Prevalence Rates'!AP85","v":112.46285613415711},{"$f":"'Population 2016'!AQ85*'Prevalence Rates'!AQ85","v":834.32917069726398},{"$f":"'Population 2016'!AR85*'Prevalence Rates'!AR85","v":15567.257600000001},{"$f":"'Population 2016'!AS85*'Prevalence Rates'!AS85","v":52.493511738746697},{"$f":"'Population 2016'!AT85*'Prevalence Rates'!AT85","v":0},{"$f":"'Population 2016'!AU85*'Prevalence Rates'!AU85","v":0},{"$f":"'Population 2016'!AV85*'Prevalence Rates'!AV85","v":192.51742277140337},{"$f":"'Population 2016'!AW85*'Prevalence Rates'!AW85","v":754.37546760812006},{"$f":"'Population 2016'!AX85*'Prevalence Rates'!AX85","v":162.20160000000001},{"$f":"'Population 2016'!AY85*'Prevalence Rates'!AY85","v":965.86314595415661},{"$f":"'Population 2016'!AZ85*'Prevalence Rates'!AZ85","v":1161.1849094439542},{"$f":"'Population 2016'!BA85*'Prevalence Rates'!BA85","v":539.71759223300967},{"$f":"'Population 2016'!BB85*'Prevalence Rates'!BB85","v":293.55956081200355},{"$f":"'Population 2016'!BC85*'Prevalence Rates'!BC85","v":0},83]
[null,"Male 35-39",{"$f":"'Population 2016'!C86*'Prevalence Rates'!C86","v":442.93367864077669},{"$f":"'Population 2016'!D86*'Prevalence Rates'!D86","v":194.87091613706599},{"$f":"'Population 2016'!E86*'Prevalence Rates'!E86","v":94.284179126213601},{"$f":"'Population 2016'!F86*'Prevalence Rates'!F86","v":140.16956893203886},{"$f":"'Population 2016'!G86*'Prevalence Rates'!G86","v":71.115000000000009},{"$f":"'Population 2016'!H86*'Prevalence Rates'!H86","v":1437.0079796116506},{"$f":"'Population 2016'!I86*'Prevalence Rates'!I86","v":65.29921990291264},{"$f":"'Population 2016'!J86*'Prevalence Rates'!J86","v":311.4837},{"$f":"'Population 2016'!K86*'Prevalence Rates'!K86","v":171.6242},{"$f":"'Population 2016'!L86*'Prevalence Rates'!L86","v":145.95794077669905},{"$f":"'Population 2016'!M86*'Prevalence Rates'!M86","v":145.95794077669905},{"$f":"'Population 2016'!N86*'Prevalence Rates'!N86","v":826.54522864077671},{"$f":"'Population 2016'!O86*'Prevalence Rates'!O86","v":457.38054757281554},{"$f":"'Population 2016'!P86*'Prevalence Rates'!P86","v":55.542928155339801},{"$f":"'Population 2016'!Q86*'Prevalence Rates'!Q86","v":39.027259223300973},{"$f":"'Population 2016'!R86*'Prevalence Rates'!R86","v":45.085529126213594},{"$f":"'Population 2016'!S86*'Prevalence Rates'!S86","v":1712.7501983710258},{"$f":"'Population 2016'!T86*'Prevalence Rates'!T86","v":1060.6993689320389},{"$f":"'Population 2016'!U86*'Prevalence Rates'!U86","v":0},{"$f":"'Population 2016'!V86*'Prevalence Rates'!V86","v":318.44434999999999},{"$f":"'Population 2016'!W86*'Prevalence Rates'!W86","v":1102.0132296116506},{"$f":"'Population 2016'!X86*'Prevalence Rates'!X86","v":1102.0132296116506},{"$f":"'Population 2016'!Y86*'Prevalence Rates'!Y86","v":557.87928640776704},{"$f":"'Population 2016'!Z86*'Prevalence Rates'!Z86","v":5372.0760582524272},{"$f":"'Population 2016'!AA86*'Prevalence Rates'!AA86","v":3065.6406957961335},{"$f":"'Population 2016'!AB86*'Prevalence Rates'!AB86","v":526.44432233009707},{"$f":"'Population 2016'!AC86*'Prevalence Rates'!AC86","v":6796.9654058252427},{"$f":"'Population 2016'!AD86*'Prevalence Rates'!AD86","v":307.56327378640776},{"$f":"'Population 2016'!AE86*'Prevalence Rates'!AE86","v":236.81985436893203},{"$f":"'Population 2016'!AF86*'Prevalence Rates'!AF86","v":393.97710000000001},{"$f":"'Population 2016'!AG86*'Prevalence Rates'!AG86","v":91.197707893626003},{"$f":"'Population 2016'!AH86*'Prevalence Rates'!AH86","v":2333.0682776699032},{"$f":"'Population 2016'!AI86*'Prevalence Rates'!AI86","v":1602.2086058252428},{"$f":"'Population 2016'!AJ86*'Prevalence Rates'!AJ86","v":112.83580000000001},{"$f":"'Population 2016'!AK86*'Prevalence Rates'!AK86","v":13.305765048543691},{"$f":"'Population 2016'!AL86*'Prevalence Rates'!AL86","v":834.52646990291282},{"$f":"'Population 2016'!AM86*'Prevalence Rates'!AM86","v":1453.6596436893205},{"$f":"'Population 2016'!AN86*'Prevalence Rates'!AN86","v":0},{"$f":"'Population 2016'!AO86*'Prevalence Rates'!AO86","v":0},{"$f":"'Population 2016'!AP86*'Prevalence Rates'!AP86","v":128.07290533980583},{"$f":"'Population 2016'!AQ86*'Prevalence Rates'!AQ86","v":801.02814563106801},{"$f":"'Population 2016'!AR86*'Prevalence Rates'!AR86","v":15637.714400000001},{"$f":"'Population 2016'!AS86*'Prevalence Rates'!AS86","v":65.29921990291264},{"$f":"'Population 2016'!AT86*'Prevalence Rates'!AT86","v":0},{"$f":"'Population 2016'!AU86*'Prevalence Rates'!AU86","v":0},{"$f":"'Population 2016'!AV86*'Prevalence Rates'!AV86","v":217.96465048543686},{"$f":"'Population 2016'!AW86*'Prevalence Rates'!AW86","v":885.24512718446601},{"$f":"'Population 2016'!AX86*'Prevalence Rates'!AX86","v":139.8595},{"$f":"'Population 2016'!AY86*'Prevalence Rates'!AY86","v":945.72319531067944},{"$f":"'Population 2016'!AZ86*'Prevalence Rates'!AZ86","v":1043.148463106796},{"$f":"'Population 2016'!BA86*'Prevalence Rates'!BA86","v":522.0456116504854},{"$f":"'Population 2016'!BB86*'Prevalence Rates'!BB86","v":331.34945242718447},{"$f":"'Population 2016'!BC86*'Prevalence Rates'!BC86","v":0},84]
[null,"Male 40-44",{"$f":"'Population 2016'!C87*'Prevalence Rates'!C87","v":361.96154126213594},{"$f":"'Population 2016'!D87*'Prevalence Rates'!D87","v":167.32865693473138},{"$f":"'Population 2016'!E87*'Prevalence Rates'!E87","v":96.561574757281562},{"$f":"'Population 2016'!F87*'Prevalence Rates'!F87","v":137.43188203883497},{"$f":"'Population 2016'!G87*'Prevalence Rates'!G87","v":79.174700000000001},{"$f":"'Population 2016'!H87*'Prevalence Rates'!H87","v":1569.1693174757283},{"$f":"'Population 2016'!I87*'Prevalence Rates'!I87","v":66.346800970873801},{"$f":"'Population 2016'!J87*'Prevalence Rates'!J87","v":300.1053},{"$f":"'Population 2016'!K87*'Prevalence Rates'!K87","v":166.88320000000002},{"$f":"'Population 2016'!L87*'Prevalence Rates'!L87","v":167.01898592233013},{"$f":"'Population 2016'!M87*'Prevalence Rates'!M87","v":167.01898592233013},{"$f":"'Population 2016'!N87*'Prevalence Rates'!N87","v":698.76230679611649},{"$f":"'Population 2016'!O87*'Prevalence Rates'!O87","v":541.81261067961168},{"$f":"'Population 2016'!P87*'Prevalence Rates'!P87","v":55.542928155339801},{"$f":"'Population 2016'!Q87*'Prevalence Rates'!Q87","v":60.356110194174761},{"$f":"'Population 2016'!R87*'Prevalence Rates'!R87","v":46.17851165048544},{"$f":"'Population 2016'!S87*'Prevalence Rates'!S87","v":1665.4382036791815},{"$f":"'Population 2016'!T87*'Prevalence Rates'!T87","v":959.48759708737862},{"$f":"'Population 2016'!U87*'Prevalence Rates'!U87","v":0},{"$f":"'Population 2016'!V87*'Prevalence Rates'!V87","v":333.01947281553396},{"$f":"'Population 2016'!W87*'Prevalence Rates'!W87","v":1091.1124864077669},{"$f":"'Population 2016'!X87*'Prevalence Rates'!X87","v":1091.1124864077669},{"$f":"'Population 2016'!Y87*'Prevalence Rates'!Y87","v":561.52291019417476},{"$f":"'Population 2016'!Z87*'Prevalence Rates'!Z87","v":4827.0828349514568},{"$f":"'Population 2016'!AA87*'Prevalence Rates'!AA87","v":2873.0341305532561},{"$f":"'Population 2016'!AB87*'Prevalence Rates'!AB87","v":455.85405436893205},{"$f":"'Population 2016'!AC87*'Prevalence Rates'!AC87","v":6169.5766990291268},{"$f":"'Population 2016'!AD87*'Prevalence Rates'!AD87","v":351.78805825242722},{"$f":"'Population 2016'!AE87*'Prevalence Rates'!AE87","v":273.21424757281551},{"$f":"'Population 2016'!AF87*'Prevalence Rates'!AF87","v":404.88140000000004},{"$f":"'Population 2016'!AG87*'Prevalence Rates'!AG87","v":105.21294005909667},{"$f":"'Population 2016'!AH87*'Prevalence Rates'!AH87","v":2364.7614233009713},{"$f":"'Population 2016'!AI87*'Prevalence Rates'!AI87","v":1538.6756490291264},{"$f":"'Population 2016'!AJ87*'Prevalence Rates'!AJ87","v":126.58470000000001},{"$f":"'Population 2016'!AK87*'Prevalence Rates'!AK87","v":15.352805825242722},{"$f":"'Population 2016'!AL87*'Prevalence Rates'!AL87","v":899.04549611650498},{"$f":"'Population 2016'!AM87*'Prevalence Rates'!AM87","v":1465.5673786407767},{"$f":"'Population 2016'!AN87*'Prevalence Rates'!AN87","v":0},{"$f":"'Population 2016'!AO87*'Prevalence Rates'!AO87","v":0},{"$f":"'Population 2016'!AP87*'Prevalence Rates'!AP87","v":105.81761359223302},{"$f":"'Population 2016'!AQ87*'Prevalence Rates'!AQ87","v":700.52647766990299},{"$f":"'Population 2016'!AR87*'Prevalence Rates'!AR87","v":14992.464300000001},{"$f":"'Population 2016'!AS87*'Prevalence Rates'!AS87","v":66.346800970873801},{"$f":"'Population 2016'!AT87*'Prevalence Rates'!AT87","v":0},{"$f":"'Population 2016'!AU87*'Prevalence Rates'!AU87","v":0},{"$f":"'Population 2016'!AV87*'Prevalence Rates'!AV87","v":212.72151456310678},{"$f":"'Population 2016'!AW87*'Prevalence Rates'!AW87","v":904.9271815533981},{"$f":"'Population 2016'!AX87*'Prevalence Rates'!AX87","v":133.22210000000001},{"$f":"'Population 2016'!AY87*'Prevalence Rates'!AY87","v":874.85562838675844},{"$f":"'Population 2016'!AZ87*'Prevalence Rates'!AZ87","v":896.19106262135915},{"$f":"'Population 2016'!BA87*'Prevalence Rates'!BA87","v":479.45193203883497},{"$f":"'Population 2016'!BB87*'Prevalence Rates'!BB87","v":340.17009757281556},{"$f":"'Population 2016'!BC87*'Prevalence Rates'!BC87","v":0},85]
[null,"Male 45-49",{"$f":"'Population 2016'!C88*'Prevalence Rates'!C88","v":307.78870194174755},{"$f":"'Population 2016'!D88*'Prevalence Rates'!D88","v":140.9691233473763},{"$f":"'Population 2016'!E88*'Prevalence Rates'!E88","v":78.931429435127981},{"$f":"'Population 2016'!F88*'Prevalence Rates'!F88","v":139.0635226390115},{"$f":"'Population 2016'!G88*'Prevalence Rates'!G88","v":88.244100000000003},{"$f":"'Population 2016'!H88*'Prevalence Rates'!H88","v":1629.5740474845543},{"$f":"'Population 2016'!I88*'Prevalence Rates'!I88","v":80.683849779346886},{"$f":"'Population 2016'!J88*'Prevalence Rates'!J88","v":339.06600000000003},{"$f":"'Population 2016'!K88*'Prevalence Rates'!K88","v":184.7475},{"$f":"'Population 2016'!L88*'Prevalence Rates'!L88","v":182.32960114739632},{"$f":"'Population 2016'!M88*'Prevalence Rates'!M88","v":182.32960114739632},{"$f":"'Population 2016'!N88*'Prevalence Rates'!N88","v":803.83089558693734},{"$f":"'Population 2016'!O88*'Prevalence Rates'!O88","v":566.23799470432482},{"$f":"'Population 2016'!P88*'Prevalence Rates'!P88","v":69.275756398940871},{"$f":"'Population 2016'!Q88*'Prevalence Rates'!Q88","v":39.112640864960284},{"$f":"'Population 2016'!R88*'Prevalence Rates'!R88","v":45.848380670785531},{"$f":"'Population 2016'!S88*'Prevalence Rates'!S88","v":1699.5260533098347},{"$f":"'Population 2016'!T88*'Prevalence Rates'!T88","v":855.62139121800544},{"$f":"'Population 2016'!U88*'Prevalence Rates'!U88","v":0},{"$f":"'Population 2016'!V88*'Prevalence Rates'!V88","v":344.62559430714919},{"$f":"'Population 2016'!W88*'Prevalence Rates'!W88","v":1254.1142958958519},{"$f":"'Population 2016'!X88*'Prevalence Rates'!X88","v":1254.1142958958519},{"$f":"'Population 2016'!Y88*'Prevalence Rates'!Y88","v":605.43101478376002},{"$f":"'Population 2016'!Z88*'Prevalence Rates'!Z88","v":4830.789255251545},{"$f":"'Population 2016'!AA88*'Prevalence Rates'!AA88","v":3016.3224272149796},{"$f":"'Population 2016'!AB88*'Prevalence Rates'!AB88","v":389.2548582524272},{"$f":"'Population 2016'!AC88*'Prevalence Rates'!AC88","v":6450.4476921447476},{"$f":"'Population 2016'!AD88*'Prevalence Rates'!AD88","v":340.06277899382172},{"$f":"'Population 2016'!AE88*'Prevalence Rates'!AE88","v":251.44881950573699},{"$f":"'Population 2016'!AF88*'Prevalence Rates'!AF88","v":485.99460000000005},{"$f":"'Population 2016'!AG88*'Prevalence Rates'!AG88","v":96.831222418358351},{"$f":"'Population 2016'!AH88*'Prevalence Rates'!AH88","v":2506.5715138570172},{"$f":"'Population 2016'!AI88*'Prevalence Rates'!AI88","v":1440.5094738746691},{"$f":"'Population 2016'!AJ88*'Prevalence Rates'!AJ88","v":134.32230000000001},{"$f":"'Population 2016'!AK88*'Prevalence Rates'!AK88","v":18.299987555163288},{"$f":"'Population 2016'!AL88*'Prevalence Rates'!AL88","v":953.14938640776711},{"$f":"'Population 2016'!AM88*'Prevalence Rates'!AM88","v":1590.2697626213594},{"$f":"'Population 2016'!AN88*'Prevalence Rates'!AN88","v":0},{"$f":"'Population 2016'!AO88*'Prevalence Rates'!AO88","v":0},{"$f":"'Population 2016'!AP88*'Prevalence Rates'!AP88","v":98.948731376875543},{"$f":"'Population 2016'!AQ88*'Prevalence Rates'!AQ88","v":827.06451712268324},{"$f":"'Population 2016'!AR88*'Prevalence Rates'!AR88","v":15596.1666},{"$f":"'Population 2016'!AS88*'Prevalence Rates'!AS88","v":80.683849779346886},{"$f":"'Population 2016'!AT88*'Prevalence Rates'!AT88","v":0},{"$f":"'Population 2016'!AU88*'Prevalence Rates'!AU88","v":0},{"$f":"'Population 2016'!AV88*'Prevalence Rates'!AV88","v":206.03168578993819},{"$f":"'Population 2016'!AW88*'Prevalence Rates'!AW88","v":923.23642480141223},{"$f":"'Population 2016'!AX88*'Prevalence Rates'!AX88","v":154.3185},{"$f":"'Population 2016'!AY88*'Prevalence Rates'!AY88","v":985.98143173386063},{"$f":"'Population 2016'!AZ88*'Prevalence Rates'!AZ88","v":986.60402118270076},{"$f":"'Population 2016'!BA88*'Prevalence Rates'!BA88","v":527.22817784642552},{"$f":"'Population 2016'!BB88*'Prevalence Rates'!BB88","v":360.77759602824358},{"$f":"'Population 2016'!BC88*'Prevalence Rates'!BC88","v":0},86]
[null,"Male 50-54",{"$f":"'Population 2016'!C89*'Prevalence Rates'!C89","v":302.38027427184466},{"$f":"'Population 2016'!D89*'Prevalence Rates'!D89","v":133.53148861861902},{"$f":"'Population 2016'!E89*'Prevalence Rates'!E89","v":65.567377890556045},{"$f":"'Population 2016'!F89*'Prevalence Rates'!F89","v":146.59403830538398},{"$f":"'Population 2016'!G89*'Prevalence Rates'!G89","v":114.32610000000001},{"$f":"'Population 2016'!H89*'Prevalence Rates'!H89","v":1754.3693962930274},{"$f":"'Population 2016'!I89*'Prevalence Rates'!I89","v":83.245241835834079},{"$f":"'Population 2016'!J89*'Prevalence Rates'!J89","v":374.27670000000001},{"$f":"'Population 2016'!K89*'Prevalence Rates'!K89","v":197.35380000000001},{"$f":"'Population 2016'!L89*'Prevalence Rates'!L89","v":196.25131946160639},{"$f":"'Population 2016'!M89*'Prevalence Rates'!M89","v":196.25131946160639},{"$f":"'Population 2016'!N89*'Prevalence Rates'!N89","v":823.11097241835841},{"$f":"'Population 2016'!O89*'Prevalence Rates'!O89","v":598.53125533980585},{"$f":"'Population 2016'!P89*'Prevalence Rates'!P89","v":70.773610591350405},{"$f":"'Population 2016'!Q89*'Prevalence Rates'!Q89","v":59.501145145631071},{"$f":"'Population 2016'!R89*'Prevalence Rates'!R89","v":60.379561429832314},{"$f":"'Population 2016'!S89*'Prevalence Rates'!S89","v":1676.167516706422},{"$f":"'Population 2016'!T89*'Prevalence Rates'!T89","v":887.17359002647845},{"$f":"'Population 2016'!U89*'Prevalence Rates'!U89","v":0},{"$f":"'Population 2016'!V89*'Prevalence Rates'!V89","v":347.46035242718449},{"$f":"'Population 2016'!W89*'Prevalence Rates'!W89","v":1160.8291338481908},{"$f":"'Population 2016'!X89*'Prevalence Rates'!X89","v":1160.8291338481908},{"$f":"'Population 2016'!Y89*'Prevalence Rates'!Y89","v":638.09682060900275},{"$f":"'Population 2016'!Z89*'Prevalence Rates'!Z89","v":4947.5562744042372},{"$f":"'Population 2016'!AA89*'Prevalence Rates'!AA89","v":3111.3797087009125},{"$f":"'Population 2016'!AB89*'Prevalence Rates'!AB89","v":363.27414757281554},{"$f":"'Population 2016'!AC89*'Prevalence Rates'!AC89","v":6793.3580822594877},{"$f":"'Population 2016'!AD89*'Prevalence Rates'!AD89","v":375.54358384819062},{"$f":"'Population 2016'!AE89*'Prevalence Rates'!AE89","v":259.43878199470436},{"$f":"'Population 2016'!AF89*'Prevalence Rates'!AF89","v":558.58950000000004},{"$f":"'Population 2016'!AG89*'Prevalence Rates'!AG89","v":99.908102383053858},{"$f":"'Population 2016'!AH89*'Prevalence Rates'!AH89","v":2461.3220446601945},{"$f":"'Population 2016'!AI89*'Prevalence Rates'!AI89","v":1477.9303145189763},{"$f":"'Population 2016'!AJ89*'Prevalence Rates'!AJ89","v":132.58350000000002},{"$f":"'Population 2016'!AK89*'Prevalence Rates'!AK89","v":11.730761253309801},{"$f":"'Population 2016'!AL89*'Prevalence Rates'!AL89","v":1047.6903058252428},{"$f":"'Population 2016'!AM89*'Prevalence Rates'!AM89","v":1589.4299053398058},{"$f":"'Population 2016'!AN89*'Prevalence Rates'!AN89","v":0},{"$f":"'Population 2016'!AO89*'Prevalence Rates'!AO89","v":0},{"$f":"'Population 2016'!AP89*'Prevalence Rates'!AP89","v":114.34931213592233},{"$f":"'Population 2016'!AQ89*'Prevalence Rates'!AQ89","v":821.13410414827899},{"$f":"'Population 2016'!AR89*'Prevalence Rates'!AR89","v":16049.993400000001},{"$f":"'Population 2016'!AS89*'Prevalence Rates'!AS89","v":83.245241835834079},{"$f":"'Population 2016'!AT89*'Prevalence Rates'!AT89","v":0},{"$f":"'Population 2016'!AU89*'Prevalence Rates'!AU89","v":0},{"$f":"'Population 2016'!AV89*'Prevalence Rates'!AV89","v":217.02004236540157},{"$f":"'Population 2016'!AW89*'Prevalence Rates'!AW89","v":879.35090838481904},{"$f":"'Population 2016'!AX89*'Prevalence Rates'!AX89","v":176.9229},{"$f":"'Population 2016'!AY89*'Prevalence Rates'!AY89","v":965.00747844150328},{"$f":"'Population 2016'!AZ89*'Prevalence Rates'!AZ89","v":1029.539566548985},{"$f":"'Population 2016'!BA89*'Prevalence Rates'!BA89","v":672.42872065313338},{"$f":"'Population 2016'!BB89*'Prevalence Rates'!BB89","v":349.1736382612533},{"$f":"'Population 2016'!BC89*'Prevalence Rates'!BC89","v":0},87]
[null,"Male 55-59",{"$f":"'Population 2016'!C90*'Prevalence Rates'!C90","v":274.98660000000001},{"$f":"'Population 2016'!D90*'Prevalence Rates'!D90","v":128.06669464871985},{"$f":"'Population 2016'!E90*'Prevalence Rates'!E90","v":75.640854545454559},{"$f":"'Population 2016'!F90*'Prevalence Rates'!F90","v":115.90930909090912},{"$f":"'Population 2016'!G90*'Prevalence Rates'!G90","v":92.143800000000013},{"$f":"'Population 2016'!H90*'Prevalence Rates'!H90","v":1700.4469363636365},{"$f":"'Population 2016'!I90*'Prevalence Rates'!I90","v":62.769572727272745},{"$f":"'Population 2016'!J90*'Prevalence Rates'!J90","v":352.13640000000004},{"$f":"'Population 2016'!K90*'Prevalence Rates'!K90","v":185.15280000000001},{"$f":"'Population 2016'!L90*'Prevalence Rates'!L90","v":173.85117272727274},{"$f":"'Population 2016'!M90*'Prevalence Rates'!M90","v":173.85117272727274},{"$f":"'Population 2016'!N90*'Prevalence Rates'!N90","v":789.61622727272731},{"$f":"'Population 2016'!O90*'Prevalence Rates'!O90","v":556.45876363636376},{"$f":"'Population 2016'!P90*'Prevalence Rates'!P90","v":64.469236363636369},{"$f":"'Population 2016'!Q90*'Prevalence Rates'!Q90","v":46.37716363636364},{"$f":"'Population 2016'!R90*'Prevalence Rates'!R90","v":48.120163636363642},{"$f":"'Population 2016'!S90*'Prevalence Rates'!S90","v":1453.4944574148788},{"$f":"'Population 2016'!T90*'Prevalence Rates'!T90","v":695.96672727272733},{"$f":"'Population 2016'!U90*'Prevalence Rates'!U90","v":0},{"$f":"'Population 2016'!V90*'Prevalence Rates'!V90","v":292.98760909090913},{"$f":"'Population 2016'!W90*'Prevalence Rates'!W90","v":1142.9064818181819},{"$f":"'Population 2016'!X90*'Prevalence Rates'!X90","v":1142.9064818181819},{"$f":"'Population 2016'!Y90*'Prevalence Rates'!Y90","v":569.25940909090923},{"$f":"'Population 2016'!Z90*'Prevalence Rates'!Z90","v":4308.134727272728},{"$f":"'Population 2016'!AA90*'Prevalence Rates'!AA90","v":2759.9666230353855},{"$f":"'Population 2016'!AB90*'Prevalence Rates'!AB90","v":349.72560000000004},{"$f":"'Population 2016'!AC90*'Prevalence Rates'!AC90","v":5923.8877090909091},{"$f":"'Population 2016'!AD90*'Prevalence Rates'!AD90","v":342.54703636363638},{"$f":"'Population 2016'!AE90*'Prevalence Rates'!AE90","v":249.76636363636362},{"$f":"'Population 2016'!AF90*'Prevalence Rates'!AF90","v":486.67500000000007},{"$f":"'Population 2016'!AG90*'Prevalence Rates'!AG90","v":96.183320158102788},{"$f":"'Population 2016'!AH90*'Prevalence Rates'!AH90","v":2274.2656363636365},{"$f":"'Population 2016'!AI90*'Prevalence Rates'!AI90","v":1182.4680000000003},{"$f":"'Population 2016'!AJ90*'Prevalence Rates'!AJ90","v":116.36940000000001},{"$f":"'Population 2016'!AK90*'Prevalence Rates'!AK90","v":12.608018181818185},{"$f":"'Population 2016'!AL90*'Prevalence Rates'!AL90","v":1023.3720000000003},{"$f":"'Population 2016'!AM90*'Prevalence Rates'!AM90","v":1415.4273000000001},{"$f":"'Population 2016'!AN90*'Prevalence Rates'!AN90","v":0},{"$f":"'Population 2016'!AO90*'Prevalence Rates'!AO90","v":0},{"$f":"'Population 2016'!AP90*'Prevalence Rates'!AP90","v":89.275009090909094},{"$f":"'Population 2016'!AQ90*'Prevalence Rates'!AQ90","v":760.41954545454564},{"$f":"'Population 2016'!AR90*'Prevalence Rates'!AR90","v":14384.382600000001},{"$f":"'Population 2016'!AS90*'Prevalence Rates'!AS90","v":62.769572727272745},{"$f":"'Population 2016'!AT90*'Prevalence Rates'!AT90","v":0},{"$f":"'Population 2016'!AU90*'Prevalence Rates'!AU90","v":0},{"$f":"'Population 2016'!AV90*'Prevalence Rates'!AV90","v":223.83136363636362},{"$f":"'Population 2016'!AW90*'Prevalence Rates'!AW90","v":864.49058181818191},{"$f":"'Population 2016'!AX90*'Prevalence Rates'!AX90","v":166.98360000000002},{"$f":"'Population 2016'!AY90*'Prevalence Rates'!AY90","v":917.37254511629658},{"$f":"'Population 2016'!AZ90*'Prevalence Rates'!AZ90","v":940.927909090909},{"$f":"'Population 2016'!BA90*'Prevalence Rates'!BA90","v":549.59481818181825},{"$f":"'Population 2016'!BB90*'Prevalence Rates'!BB90","v":285.19813636363637},{"$f":"'Population 2016'!BC90*'Prevalence Rates'!BC90","v":0},88]
[null,"Male 60-64",{"$f":"'Population 2016'!C91*'Prevalence Rates'!C91","v":247.58580000000001},{"$f":"'Population 2016'!D91*'Prevalence Rates'!D91","v":104.48452103732923},{"$f":"'Population 2016'!E91*'Prevalence Rates'!E91","v":41.976518181818186},{"$f":"'Population 2016'!F91*'Prevalence Rates'!F91","v":97.923381818181852},{"$f":"'Population 2016'!G91*'Prevalence Rates'!G91","v":89.548200000000008},{"$f":"'Population 2016'!H91*'Prevalence Rates'!H91","v":1453.4119090909091},{"$f":"'Population 2016'!I91*'Prevalence Rates'!I91","v":49.068600000000011},{"$f":"'Population 2016'!J91*'Prevalence Rates'!J91","v":274.70100000000002},{"$f":"'Population 2016'!K91*'Prevalence Rates'!K91","v":144.0558},{"$f":"'Population 2016'!L91*'Prevalence Rates'!L91","v":143.90765454545456},{"$f":"'Population 2016'!M91*'Prevalence Rates'!M91","v":143.90765454545456},{"$f":"'Population 2016'!N91*'Prevalence Rates'!N91","v":636.61270909090911},{"$f":"'Population 2016'!O91*'Prevalence Rates'!O91","v":460.04700000000008},{"$f":"'Population 2016'!P91*'Prevalence Rates'!P91","v":59.62472727272727},{"$f":"'Population 2016'!Q91*'Prevalence Rates'!Q91","v":36.025118181818186},{"$f":"'Population 2016'!R91*'Prevalence Rates'!R91","v":36.401781818181824},{"$f":"'Population 2016'!S91*'Prevalence Rates'!S91","v":1216.4394738505539},{"$f":"'Population 2016'!T91*'Prevalence Rates'!T91","v":594.74863636363648},{"$f":"'Population 2016'!U91*'Prevalence Rates'!U91","v":0},{"$f":"'Population 2016'!V91*'Prevalence Rates'!V91","v":251.07466363636365},{"$f":"'Population 2016'!W91*'Prevalence Rates'!W91","v":955.8165272727274},{"$f":"'Population 2016'!X91*'Prevalence Rates'!X91","v":955.8165272727274},{"$f":"'Population 2016'!Y91*'Prevalence Rates'!Y91","v":464.71663636363644},{"$f":"'Population 2016'!Z91*'Prevalence Rates'!Z91","v":3471.8796000000002},{"$f":"'Population 2016'!AA91*'Prevalence Rates'!AA91","v":2241.0372875391354},{"$f":"'Population 2016'!AB91*'Prevalence Rates'!AB91","v":284.40720000000005},{"$f":"'Population 2016'!AC91*'Prevalence Rates'!AC91","v":4778.0177454545455},{"$f":"'Population 2016'!AD91*'Prevalence Rates'!AD91","v":295.77354545454546},{"$f":"'Population 2016'!AE91*'Prevalence Rates'!AE91","v":204.86454545454544},{"$f":"'Population 2016'!AF91*'Prevalence Rates'!AF91","v":417.02640000000002},{"$f":"'Population 2016'!AG91*'Prevalence Rates'!AG91","v":78.891936758893294},{"$f":"'Population 2016'!AH91*'Prevalence Rates'!AH91","v":1875.1846909090912},{"$f":"'Population 2016'!AI91*'Prevalence Rates'!AI91","v":994.34809090909107},{"$f":"'Population 2016'!AJ91*'Prevalence Rates'!AJ91","v":105.55440000000002},{"$f":"'Population 2016'!AK91*'Prevalence Rates'!AK91","v":9.3392727272727285},{"$f":"'Population 2016'!AL91*'Prevalence Rates'!AL91","v":866.56500000000017},{"$f":"'Population 2016'!AM91*'Prevalence Rates'!AM91","v":1137.5238000000002},{"$f":"'Population 2016'!AN91*'Prevalence Rates'!AN91","v":0},{"$f":"'Population 2016'!AO91*'Prevalence Rates'!AO91","v":0},{"$f":"'Population 2016'!AP91*'Prevalence Rates'!AP91","v":74.331981818181816},{"$f":"'Population 2016'!AQ91*'Prevalence Rates'!AQ91","v":542.9622545454547},{"$f":"'Population 2016'!AR91*'Prevalence Rates'!AR91","v":11835.070800000001},{"$f":"'Population 2016'!AS91*'Prevalence Rates'!AS91","v":49.068600000000011},{"$f":"'Population 2016'!AT91*'Prevalence Rates'!AT91","v":0},{"$f":"'Population 2016'!AU91*'Prevalence Rates'!AU91","v":0},{"$f":"'Population 2016'!AV91*'Prevalence Rates'!AV91","v":208.45363636363635},{"$f":"'Population 2016'!AW91*'Prevalence Rates'!AW91","v":741.63332727272734},{"$f":"'Population 2016'!AX91*'Prevalence Rates'!AX91","v":130.64520000000002},{"$f":"'Population 2016'!AY91*'Prevalence Rates'!AY91","v":757.55368325240465},{"$f":"'Population 2016'!AZ91*'Prevalence Rates'!AZ91","v":765.4698545454545},{"$f":"'Population 2016'!BA91*'Prevalence Rates'!BA91","v":489.80209090909096},{"$f":"'Population 2016'!BB91*'Prevalence Rates'!BB91","v":227.1087},{"$f":"'Population 2016'!BC91*'Prevalence Rates'!BC91","v":0},89]
[null,"Male 65-69",{"$f":"'Population 2016'!C92*'Prevalence Rates'!C92","v":152.27850728155337},{"$f":"'Population 2016'!D92*'Prevalence Rates'!D92","v":68.225569277764876},{"$f":"'Population 2016'!E92*'Prevalence Rates'!E92","v":35.383935789938221},{"$f":"'Population 2016'!F92*'Prevalence Rates'!F92","v":73.275422550750235},{"$f":"'Population 2016'!G92*'Prevalence Rates'!G92","v":52.924500000000002},{"$f":"'Population 2016'!H92*'Prevalence Rates'!H92","v":999.26814474845548},{"$f":"'Population 2016'!I92*'Prevalence Rates'!I92","v":45.591835834068853},{"$f":"'Population 2016'!J92*'Prevalence Rates'!J92","v":191.89},{"$f":"'Population 2016'!K92*'Prevalence Rates'!K92","v":104.3015},{"$f":"'Population 2016'!L92*'Prevalence Rates'!L92","v":118.62495785525155},{"$f":"'Population 2016'!M92*'Prevalence Rates'!M92","v":118.62495785525155},{"$f":"'Population 2016'!N92*'Prevalence Rates'!N92","v":432.93258826125333},{"$f":"'Population 2016'!O92*'Prevalence Rates'!O92","v":342.9951116504854},{"$f":"'Population 2016'!P92*'Prevalence Rates'!P92","v":33.859791703442191},{"$f":"'Population 2016'!Q92*'Prevalence Rates'!Q92","v":29.921383715798765},{"$f":"'Population 2016'!R92*'Prevalence Rates'!R92","v":24.259555163283324},{"$f":"'Population 2016'!S92*'Prevalence Rates'!S92","v":814.36750121816112},{"$f":"'Population 2016'!T92*'Prevalence Rates'!T92","v":347.27784863195058},{"$f":"'Population 2016'!U92*'Prevalence Rates'!U92","v":0},{"$f":"'Population 2016'!V92*'Prevalence Rates'!V92","v":185.68415622241835},{"$f":"'Population 2016'!W92*'Prevalence Rates'!W92","v":660.44909774933808},{"$f":"'Population 2016'!X92*'Prevalence Rates'!X92","v":660.44909774933808},{"$f":"'Population 2016'!Y92*'Prevalence Rates'!Y92","v":334.06331862312447},{"$f":"'Population 2016'!Z92*'Prevalence Rates'!Z92","v":2213.098188879082},{"$f":"'Population 2016'!AA92*'Prevalence Rates'!AA92","v":1473.1618191191581},{"$f":"'Population 2016'!AB92*'Prevalence Rates'!AB92","v":185.95240776699029},{"$f":"'Population 2016'!AC92*'Prevalence Rates'!AC92","v":3065.62454368932},{"$f":"'Population 2016'!AD92*'Prevalence Rates'!AD92","v":189.29954236540158},{"$f":"'Population 2016'!AE92*'Prevalence Rates'!AE92","v":135.86039276257722},{"$f":"'Population 2016'!AF92*'Prevalence Rates'!AF92","v":302.69099999999997},{"$f":"'Population 2016'!AG92*'Prevalence Rates'!AG92","v":52.318909014160177},{"$f":"'Population 2016'!AH92*'Prevalence Rates'!AH92","v":1299.6142656663726},{"$f":"'Population 2016'!AI92*'Prevalence Rates'!AI92","v":633.66601125330988},{"$f":"'Population 2016'!AJ92*'Prevalence Rates'!AJ92","v":62.828499999999998},{"$f":"'Population 2016'!AK92*'Prevalence Rates'!AK92","v":6.3476182700794359},{"$f":"'Population 2016'!AL92*'Prevalence Rates'!AL92","v":586.51752427184465},{"$f":"'Population 2016'!AM92*'Prevalence Rates'!AM92","v":797.38768689320386},{"$f":"'Population 2016'!AN92*'Prevalence Rates'!AN92","v":0},{"$f":"'Population 2016'!AO92*'Prevalence Rates'!AO92","v":0},{"$f":"'Population 2016'!AP92*'Prevalence Rates'!AP92","v":44.134071712268316},{"$f":"'Population 2016'!AQ92*'Prevalence Rates'!AQ92","v":349.15724845542809},{"$f":"'Population 2016'!AR92*'Prevalence Rates'!AR92","v":7912.9865},{"$f":"'Population 2016'!AS92*'Prevalence Rates'!AS92","v":45.591835834068853},{"$f":"'Population 2016'!AT92*'Prevalence Rates'!AT92","v":0},{"$f":"'Population 2016'!AU92*'Prevalence Rates'!AU92","v":0},{"$f":"'Population 2016'!AV92*'Prevalence Rates'!AV92","v":128.35508605472197},{"$f":"'Population 2016'!AW92*'Prevalence Rates'!AW92","v":505.18977493380407},{"$f":"'Population 2016'!AX92*'Prevalence Rates'!AX92","v":87.588499999999996},{"$f":"'Population 2016'!AY92*'Prevalence Rates'!AY92","v":519.00002341992604},{"$f":"'Population 2016'!AZ92*'Prevalence Rates'!AZ92","v":519.03068049426292},{"$f":"'Population 2016'!BA92*'Prevalence Rates'!BA92","v":291.24824139452778},{"$f":"'Population 2016'!BB92*'Prevalence Rates'!BB92","v":172.49735282436012},{"$f":"'Population 2016'!BC92*'Prevalence Rates'!BC92","v":0},90]
[null,"Male 70-74",{"$f":"'Population 2016'!C93*'Prevalence Rates'!C93","v":88.566580097087368},{"$f":"'Population 2016'!D93*'Prevalence Rates'!D93","v":39.408271062968879},{"$f":"'Population 2016'!E93*'Prevalence Rates'!E93","v":19.922047881729924},{"$f":"'Population 2016'!F93*'Prevalence Rates'!F93","v":48.254546557811125},{"$f":"'Population 2016'!G93*'Prevalence Rates'!G93","v":48.281999999999996},{"$f":"'Population 2016'!H93*'Prevalence Rates'!H93","v":741.08095013239199},{"$f":"'Population 2016'!I93*'Prevalence Rates'!I93","v":31.686325904677851},{"$f":"'Population 2016'!J93*'Prevalence Rates'!J93","v":137.72749999999999},{"$f":"'Population 2016'!K93*'Prevalence Rates'!K93","v":75.827500000000001},{"$f":"'Population 2016'!L93*'Prevalence Rates'!L93","v":72.262103706972638},{"$f":"'Population 2016'!M93*'Prevalence Rates'!M93","v":72.262103706972638},{"$f":"'Population 2016'!N93*'Prevalence Rates'!N93","v":307.98049977934687},{"$f":"'Population 2016'!O93*'Prevalence Rates'!O93","v":235.27763857016768},{"$f":"'Population 2016'!P93*'Prevalence Rates'!P93","v":23.461902912621362},{"$f":"'Population 2016'!Q93*'Prevalence Rates'!Q93","v":18.960084730803178},{"$f":"'Population 2016'!R93*'Prevalence Rates'!R93","v":15.518980141218007},{"$f":"'Population 2016'!S93*'Prevalence Rates'!S93","v":598.89638722888549},{"$f":"'Population 2016'!T93*'Prevalence Rates'!T93","v":236.27579655781113},{"$f":"'Population 2016'!U93*'Prevalence Rates'!U93","v":0},{"$f":"'Population 2016'!V93*'Prevalence Rates'!V93","v":117.06175066195939},{"$f":"'Population 2016'!W93*'Prevalence Rates'!W93","v":504.90977714033545},{"$f":"'Population 2016'!X93*'Prevalence Rates'!X93","v":504.90977714033545},{"$f":"'Population 2016'!Y93*'Prevalence Rates'!Y93","v":224.91130075022065},{"$f":"'Population 2016'!Z93*'Prevalence Rates'!Z93","v":1603.5522802294793},{"$f":"'Population 2016'!AA93*'Prevalence Rates'!AA93","v":1061.5716939623524},{"$f":"'Population 2016'!AB93*'Prevalence Rates'!AB93","v":108.71563106796117},{"$f":"'Population 2016'!AC93*'Prevalence Rates'!AC93","v":2203.6356293027357},{"$f":"'Population 2016'!AD93*'Prevalence Rates'!AD93","v":137.46361915269196},{"$f":"'Population 2016'!AE93*'Prevalence Rates'!AE93","v":88.008086937334497},{"$f":"'Population 2016'!AF93*'Prevalence Rates'!AF93","v":208.60300000000001},{"$f":"'Population 2016'!AG93*'Prevalence Rates'!AG93","v":33.891312982079128},{"$f":"'Population 2016'!AH93*'Prevalence Rates'!AH93","v":941.38536187113857},{"$f":"'Population 2016'!AI93*'Prevalence Rates'!AI93","v":452.65781818181824},{"$f":"'Population 2016'!AJ93*'Prevalence Rates'!AJ93","v":47.043999999999997},{"$f":"'Population 2016'!AK93*'Prevalence Rates'!AK93","v":5.0112775816416599},{"$f":"'Population 2016'!AL93*'Prevalence Rates'!AL93","v":449.92585922330096},{"$f":"'Population 2016'!AM93*'Prevalence Rates'!AM93","v":561.78907524271847},{"$f":"'Population 2016'!AN93*'Prevalence Rates'!AN93","v":0},{"$f":"'Population 2016'!AO93*'Prevalence Rates'!AO93","v":0},{"$f":"'Population 2016'!AP93*'Prevalence Rates'!AP93","v":32.620835613415707},{"$f":"'Population 2016'!AQ93*'Prevalence Rates'!AQ93","v":250.09402912621363},{"$f":"'Population 2016'!AR93*'Prevalence Rates'!AR93","v":5681.8010000000004},{"$f":"'Population 2016'!AS93*'Prevalence Rates'!AS93","v":31.686325904677851},{"$f":"'Population 2016'!AT93*'Prevalence Rates'!AT93","v":0},{"$f":"'Population 2016'!AU93*'Prevalence Rates'!AU93","v":0},{"$f":"'Population 2016'!AV93*'Prevalence Rates'!AV93","v":100.72818181818181},{"$f":"'Population 2016'!AW93*'Prevalence Rates'!AW93","v":381.37447749338043},{"$f":"'Population 2016'!AX93*'Prevalence Rates'!AX93","v":61.9},{"$f":"'Population 2016'!AY93*'Prevalence Rates'!AY93","v":383.43048274662522},{"$f":"'Population 2016'!AZ93*'Prevalence Rates'!AZ93","v":367.15892122683135},{"$f":"'Population 2016'!BA93*'Prevalence Rates'!BA93","v":213.17802736098849},{"$f":"'Population 2016'!BB93*'Prevalence Rates'!BB93","v":134.69314342453663},{"$f":"'Population 2016'!BC93*'Prevalence Rates'!BC93","v":0},91]
[null,"Male 75-79",{"$f":"'Population 2016'!C94*'Prevalence Rates'!C94","v":32.205463592233009},{"$f":"'Population 2016'!D94*'Prevalence Rates'!D94","v":15.264537546982469},{"$f":"'Population 2016'!E94*'Prevalence Rates'!E94","v":9.5005970873786421},{"$f":"'Population 2016'!F94*'Prevalence Rates'!F94","v":24.023043689320396},{"$f":"'Population 2016'!G94*'Prevalence Rates'!G94","v":15.345000000000001},{"$f":"'Population 2016'!H94*'Prevalence Rates'!H94","v":318.33802184466026},{"$f":"'Population 2016'!I94*'Prevalence Rates'!I94","v":9.1673470873786425},{"$f":"'Population 2016'!J94*'Prevalence Rates'!J94","v":60.698000000000008},{"$f":"'Population 2016'!K94*'Prevalence Rates'!K94","v":31.031000000000002},{"$f":"'Population 2016'!L94*'Prevalence Rates'!L94","v":32.234206310679618},{"$f":"'Population 2016'!M94*'Prevalence Rates'!M94","v":32.234206310679618},{"$f":"'Population 2016'!N94*'Prevalence Rates'!N94","v":128.74992233009709},{"$f":"'Population 2016'!O94*'Prevalence Rates'!O94","v":110.17866504854369},{"$f":"'Population 2016'!P94*'Prevalence Rates'!P94","v":9.8405436893203877},{"$f":"'Population 2016'!Q94*'Prevalence Rates'!Q94","v":9.9552888349514568},{"$f":"'Population 2016'!R94*'Prevalence Rates'!R94","v":9.9249660194174769},{"$f":"'Population 2016'!S94*'Prevalence Rates'!S94","v":239.91810595083768},{"$f":"'Population 2016'!T94*'Prevalence Rates'!T94","v":105.55612864077671},{"$f":"'Population 2016'!U94*'Prevalence Rates'!U94","v":0},{"$f":"'Population 2016'!V94*'Prevalence Rates'!V94","v":55.59308252427185},{"$f":"'Population 2016'!W94*'Prevalence Rates'!W94","v":186.67718446601944},{"$f":"'Population 2016'!X94*'Prevalence Rates'!X94","v":186.67718446601944},{"$f":"'Population 2016'!Y94*'Prevalence Rates'!Y94","v":102.78983009708739},{"$f":"'Population 2016'!Z94*'Prevalence Rates'!Z94","v":662.58391747572819},{"$f":"'Population 2016'!AA94*'Prevalence Rates'!AA94","v":443.8320354181181},{"$f":"'Population 2016'!AB94*'Prevalence Rates'!AB94","v":41.476194174757282},{"$f":"'Population 2016'!AC94*'Prevalence Rates'!AC94","v":927.02881553398061},{"$f":"'Population 2016'!AD94*'Prevalence Rates'!AD94","v":50.785975728155343},{"$f":"'Population 2016'!AE94*'Prevalence Rates'!AE94","v":35.209830097087377},{"$f":"'Population 2016'!AF94*'Prevalence Rates'!AF94","v":86.27300000000001},{"$f":"'Population 2016'!AG94*'Prevalence Rates'!AG94","v":13.559065006331787},{"$f":"'Population 2016'!AH94*'Prevalence Rates'!AH94","v":388.50102912621361},{"$f":"'Population 2016'!AI94*'Prevalence Rates'!AI94","v":198.22016990291266},{"$f":"'Population 2016'!AJ94*'Prevalence Rates'!AJ94","v":19.778000000000002},{"$f":"'Population 2016'!AK94*'Prevalence Rates'!AK94","v":1.2883058252427189},{"$f":"'Population 2016'!AL94*'Prevalence Rates'!AL94","v":184.75578640776703},{"$f":"'Population 2016'!AM94*'Prevalence Rates'!AM94","v":243.43592718446604},{"$f":"'Population 2016'!AN94*'Prevalence Rates'!AN94","v":0},{"$f":"'Population 2016'!AO94*'Prevalence Rates'!AO94","v":0},{"$f":"'Population 2016'!AP94*'Prevalence Rates'!AP94","v":14.497165048543689},{"$f":"'Population 2016'!AQ94*'Prevalence Rates'!AQ94","v":121.4915582524272},{"$f":"'Population 2016'!AR94*'Prevalence Rates'!AR94","v":2372.337},{"$f":"'Population 2016'!AS94*'Prevalence Rates'!AS94","v":9.1673470873786425},{"$f":"'Population 2016'!AT94*'Prevalence Rates'!AT94","v":0},{"$f":"'Population 2016'!AU94*'Prevalence Rates'!AU94","v":0},{"$f":"'Population 2016'!AV94*'Prevalence Rates'!AV94","v":41.482815533980578},{"$f":"'Population 2016'!AW94*'Prevalence Rates'!AW94","v":146.06899029126214},{"$f":"'Population 2016'!AX94*'Prevalence Rates'!AX94","v":29.667000000000002},{"$f":"'Population 2016'!AY94*'Prevalence Rates'!AY94","v":151.78696839391014},{"$f":"'Population 2016'!AZ94*'Prevalence Rates'!AZ94","v":158.01286893203883},{"$f":"'Population 2016'!BA94*'Prevalence Rates'!BA94","v":78.553398058252426},{"$f":"'Population 2016'!BB94*'Prevalence Rates'!BB94","v":56.271320388349523},{"$f":"'Population 2016'!BC94*'Prevalence Rates'!BC94","v":0},92]
[null,"Male 80-84",{"$f":"'Population 2016'!C95*'Prevalence Rates'!C95","v":23.141650485436895},{"$f":"'Population 2016'!D95*'Prevalence Rates'!D95","v":10.990467033827379},{"$f":"'Population 2016'!E95*'Prevalence Rates'!E95","v":6.8797427184466029},{"$f":"'Population 2016'!F95*'Prevalence Rates'!F95","v":13.586803398058256},{"$f":"'Population 2016'!G95*'Prevalence Rates'!G95","v":11.764500000000002},{"$f":"'Population 2016'!H95*'Prevalence Rates'!H95","v":213.52589320388353},{"$f":"'Population 2016'!I95*'Prevalence Rates'!I95","v":7.0324854368932055},{"$f":"'Population 2016'!J95*'Prevalence Rates'!J95","v":28.985000000000003},{"$f":"'Population 2016'!K95*'Prevalence Rates'!K95","v":13.810500000000001},{"$f":"'Population 2016'!L95*'Prevalence Rates'!L95","v":20.432611650485438},{"$f":"'Population 2016'!M95*'Prevalence Rates'!M95","v":20.432611650485438},{"$f":"'Population 2016'!N95*'Prevalence Rates'!N95","v":81.826004854368946},{"$f":"'Population 2016'!O95*'Prevalence Rates'!O95","v":73.221097087378638},{"$f":"'Population 2016'!P95*'Prevalence Rates'!P95","v":6.3155728155339803},{"$f":"'Population 2016'!Q95*'Prevalence Rates'!Q95","v":6.3648567961165048},{"$f":"'Population 2016'!R95*'Prevalence Rates'!R95","v":4.7168155339805828},{"$f":"'Population 2016'!S95*'Prevalence Rates'!S95","v":165.71766781161512},{"$f":"'Population 2016'!T95*'Prevalence Rates'!T95","v":72.214951456310686},{"$f":"'Population 2016'!U95*'Prevalence Rates'!U95","v":0},{"$f":"'Population 2016'!V95*'Prevalence Rates'!V95","v":40.662368932038838},{"$f":"'Population 2016'!W95*'Prevalence Rates'!W95","v":135.3409587378641},{"$f":"'Population 2016'!X95*'Prevalence Rates'!X95","v":135.3409587378641},{"$f":"'Population 2016'!Y95*'Prevalence Rates'!Y95","v":62.023325242718457},{"$f":"'Population 2016'!Z95*'Prevalence Rates'!Z95","v":452.78900970873786},{"$f":"'Population 2016'!AA95*'Prevalence Rates'!AA95","v":293.5056723752665},{"$f":"'Population 2016'!AB95*'Prevalence Rates'!AB95","v":29.498155339805827},{"$f":"'Population 2016'!AC95*'Prevalence Rates'!AC95","v":616.86027184466025},{"$f":"'Population 2016'!AD95*'Prevalence Rates'!AD95","v":35.423669902912621},{"$f":"'Population 2016'!AE95*'Prevalence Rates'!AE95","v":23.411771844660194},{"$f":"'Population 2016'!AF95*'Prevalence Rates'!AF95","v":55.412500000000001},{"$f":"'Population 2016'!AG95*'Prevalence Rates'!AG95","v":9.0157133811734926},{"$f":"'Population 2016'!AH95*'Prevalence Rates'!AH95","v":253.51890291262137},{"$f":"'Population 2016'!AI95*'Prevalence Rates'!AI95","v":130.88583737864082},{"$f":"'Population 2016'!AJ95*'Prevalence Rates'!AJ95","v":12.617000000000001},{"$f":"'Population 2016'!AK95*'Prevalence Rates'!AK95","v":0.55213106796116518},{"$f":"'Population 2016'!AL95*'Prevalence Rates'!AL95","v":120.35148058252429},{"$f":"'Population 2016'!AM95*'Prevalence Rates'!AM95","v":159.76512135922331},{"$f":"'Population 2016'!AN95*'Prevalence Rates'!AN95","v":0},{"$f":"'Population 2016'!AO95*'Prevalence Rates'!AO95","v":0},{"$f":"'Population 2016'!AP95*'Prevalence Rates'!AP95","v":9.664776699029126},{"$f":"'Population 2016'!AQ95*'Prevalence Rates'!AQ95","v":76.044053398058253},{"$f":"'Population 2016'!AR95*'Prevalence Rates'!AR95","v":1574.7380000000001},{"$f":"'Population 2016'!AS95*'Prevalence Rates'!AS95","v":7.0324854368932055},{"$f":"'Population 2016'!AT95*'Prevalence Rates'!AT95","v":0},{"$f":"'Population 2016'!AU95*'Prevalence Rates'!AU95","v":0},{"$f":"'Population 2016'!AV95*'Prevalence Rates'!AV95","v":30.573373786407767},{"$f":"'Population 2016'!AW95*'Prevalence Rates'!AW95","v":94.430063106796112},{"$f":"'Population 2016'!AX95*'Prevalence Rates'!AX95","v":15.174500000000002},{"$f":"'Population 2016'!AY95*'Prevalence Rates'!AY95","v":103.23449497566683},{"$f":"'Population 2016'!AZ95*'Prevalence Rates'!AZ95","v":99.42986650485436},{"$f":"'Population 2016'!BA95*'Prevalence Rates'!BA95","v":52.23800970873787},{"$f":"'Population 2016'!BB95*'Prevalence Rates'!BB95","v":35.307495145631073},{"$f":"'Population 2016'!BC95*'Prevalence Rates'!BC95","v":0},93]
[null,"Male 85-89",{"$f":"'Population 2016'!C96*'Prevalence Rates'!C96","v":11.956519417475729},{"$f":"'Population 2016'!D96*'Prevalence Rates'!D96","v":5.6309182951090886},{"$f":"'Population 2016'!E96*'Prevalence Rates'!E96","v":3.4398713592233015},{"$f":"'Population 2016'!F96*'Prevalence Rates'!F96","v":7.2856771844660209},{"$f":"'Population 2016'!G96*'Prevalence Rates'!G96","v":6.6495000000000006},{"$f":"'Population 2016'!H96*'Prevalence Rates'!H96","v":100.20110436893205},{"$f":"'Population 2016'!I96*'Prevalence Rates'!I96","v":4.7720436893203892},{"$f":"'Population 2016'!J96*'Prevalence Rates'!J96","v":17.732000000000003},{"$f":"'Population 2016'!K96*'Prevalence Rates'!K96","v":9.3775000000000013},{"$f":"'Population 2016'!L96*'Prevalence Rates'!L96","v":11.801594660194176},{"$f":"'Population 2016'!M96*'Prevalence Rates'!M96","v":11.801594660194176},{"$f":"'Population 2016'!N96*'Prevalence Rates'!N96","v":43.43370873786408},{"$f":"'Population 2016'!O96*'Prevalence Rates'!O96","v":36.09001941747573},{"$f":"'Population 2016'!P96*'Prevalence Rates'!P96","v":3.3780970873786407},{"$f":"'Population 2016'!Q96*'Prevalence Rates'!Q96","v":1.6320145631067962},{"$f":"'Population 2016'!R96*'Prevalence Rates'!R96","v":2.3584077669902914},{"$f":"'Population 2016'!S96*'Prevalence Rates'!S96","v":79.435747207390236},{"$f":"'Population 2016'!T96*'Prevalence Rates'!T96","v":34.0691504854369},{"$f":"'Population 2016'!U96*'Prevalence Rates'!U96","v":0},{"$f":"'Population 2016'!V96*'Prevalence Rates'!V96","v":16.519087378640776},{"$f":"'Population 2016'!W96*'Prevalence Rates'!W96","v":64.776983009708744},{"$f":"'Population 2016'!X96*'Prevalence Rates'!X96","v":64.776983009708744},{"$f":"'Population 2016'!Y96*'Prevalence Rates'!Y96","v":30.283689320388355},{"$f":"'Population 2016'!Z96*'Prevalence Rates'!Z96","v":216.59474271844661},{"$f":"'Population 2016'!AA96*'Prevalence Rates'!AA96","v":139.12931222983414},{"$f":"'Population 2016'!AB96*'Prevalence Rates'!AB96","v":15.553572815533981},{"$f":"'Population 2016'!AC96*'Prevalence Rates'!AC96","v":295.89530097087379},{"$f":"'Population 2016'!AD96*'Prevalence Rates'!AD96","v":18.79623300970874},{"$f":"'Population 2016'!AE96*'Prevalence Rates'!AE96","v":11.982402912621358},{"$f":"'Population 2016'!AF96*'Prevalence Rates'!AF96","v":24.040500000000002},{"$f":"'Population 2016'!AG96*'Prevalence Rates'!AG96","v":4.6143414943013941},{"$f":"'Population 2016'!AH96*'Prevalence Rates'!AH96","v":117.07134951456312},{"$f":"'Population 2016'!AI96*'Prevalence Rates'!AI96","v":61.13049514563108},{"$f":"'Population 2016'!AJ96*'Prevalence Rates'!AJ96","v":9.548},{"$f":"'Population 2016'!AK96*'Prevalence Rates'!AK96","v":0.73617475728155357},{"$f":"'Population 2016'!AL96*'Prevalence Rates'!AL96","v":54.429228155339814},{"$f":"'Population 2016'!AM96*'Prevalence Rates'!AM96","v":69.011944174757289},{"$f":"'Population 2016'!AN96*'Prevalence Rates'!AN96","v":0},{"$f":"'Population 2016'!AO96*'Prevalence Rates'!AO96","v":0},{"$f":"'Population 2016'!AP96*'Prevalence Rates'!AP96","v":4.832388349514563},{"$f":"'Population 2016'!AQ96*'Prevalence Rates'!AQ96","v":40.437543689320393},{"$f":"'Population 2016'!AR96*'Prevalence Rates'!AR96","v":758.55450000000008},{"$f":"'Population 2016'!AS96*'Prevalence Rates'!AS96","v":4.7720436893203892},{"$f":"'Population 2016'!AT96*'Prevalence Rates'!AT96","v":0},{"$f":"'Population 2016'!AU96*'Prevalence Rates'!AU96","v":0},{"$f":"'Population 2016'!AV96*'Prevalence Rates'!AV96","v":14.276553398058251},{"$f":"'Population 2016'!AW96*'Prevalence Rates'!AW96","v":48.260679611650488},{"$f":"'Population 2016'!AX96*'Prevalence Rates'!AX96","v":8.3544999999999998},{"$f":"'Population 2016'!AY96*'Prevalence Rates'!AY96","v":51.617247487833417},{"$f":"'Population 2016'!AZ96*'Prevalence Rates'!AZ96","v":52.491803398058252},{"$f":"'Population 2016'!BA96*'Prevalence Rates'!BA96","v":23.566019417475729},{"$f":"'Population 2016'!BB96*'Prevalence Rates'!BB96","v":14.343669902912623},{"$f":"'Population 2016'!BC96*'Prevalence Rates'!BC96","v":0},94]
[null,"Male 90+",{"$f":"'Population 2016'!C97*'Prevalence Rates'!C97","v":4.8211771844660198},{"$f":"'Population 2016'!D97*'Prevalence Rates'!D97","v":2.7136955639079945},{"$f":"'Population 2016'!E97*'Prevalence Rates'!E97","v":2.4570509708737869},{"$f":"'Population 2016'!F97*'Prevalence Rates'!F97","v":2.1660121359223306},{"$f":"'Population 2016'!G97*'Prevalence Rates'!G97","v":2.0460000000000003},{"$f":"'Population 2016'!H97*'Prevalence Rates'!H97","v":38.12962378640777},{"$f":"'Population 2016'!I97*'Prevalence Rates'!I97","v":1.7581213592233014},{"$f":"'Population 2016'!J97*'Prevalence Rates'!J97","v":7.6725000000000003},{"$f":"'Population 2016'!K97*'Prevalence Rates'!K97","v":4.9445000000000006},{"$f":"'Population 2016'!L97*'Prevalence Rates'!L97","v":4.5797233009708744},{"$f":"'Population 2016'!M97*'Prevalence Rates'!M97","v":4.5797233009708744},{"$f":"'Population 2016'!N97*'Prevalence Rates'!N97","v":17.644944174757285},{"$f":"'Population 2016'!O97*'Prevalence Rates'!O97","v":14.054286407766991},{"$f":"'Population 2016'!P97*'Prevalence Rates'!P97","v":1.3218640776699029},{"$f":"'Population 2016'!Q97*'Prevalence Rates'!Q97","v":1.1424101941747573},{"$f":"'Population 2016'!R97*'Prevalence Rates'!R97","v":1.0809368932038836},{"$f":"'Population 2016'!S97*'Prevalence Rates'!S97","v":37.351916620965497},{"$f":"'Population 2016'!T97*'Prevalence Rates'!T97","v":16.015412621359225},{"$f":"'Population 2016'!U97*'Prevalence Rates'!U97","v":0},{"$f":"'Population 2016'!V97*'Prevalence Rates'!V97","v":8.2595436893203882},{"$f":"'Population 2016'!W97*'Prevalence Rates'!W97","v":29.121640776699032},{"$f":"'Population 2016'!X97*'Prevalence Rates'!X97","v":29.121640776699032},{"$f":"'Population 2016'!Y97*'Prevalence Rates'!Y97","v":14.122682038834952},{"$f":"'Population 2016'!Z97*'Prevalence Rates'!Z97","v":92.797747572815538},{"$f":"'Population 2016'!AA97*'Prevalence Rates'!AA97","v":60.809515319632126},{"$f":"'Population 2016'!AB97*'Prevalence Rates'!AB97","v":7.5086213592233007},{"$f":"'Population 2016'!AC97*'Prevalence Rates'!AC97","v":130.47207766990292},{"$f":"'Population 2016'!AD97*'Prevalence Rates'!AD97","v":5.9641893203883498},{"$f":"'Population 2016'!AE97*'Prevalence Rates'!AE97","v":3.8712378640776697},{"$f":"'Population 2016'!AF97*'Prevalence Rates'!AF97","v":10.7415},{"$f":"'Population 2016'!AG97*'Prevalence Rates'!AG97","v":1.4907872520050656},{"$f":"'Population 2016'!AH97*'Prevalence Rates'!AH97","v":50.150174757281555},{"$f":"'Population 2016'!AI97*'Prevalence Rates'!AI97","v":30.413934466019423},{"$f":"'Population 2016'!AJ97*'Prevalence Rates'!AJ97","v":5.1150000000000002},{"$f":"'Population 2016'!AK97*'Prevalence Rates'!AK97","v":0.36808737864077679},{"$f":"'Population 2016'!AL97*'Prevalence Rates'!AL97","v":19.950155339805828},{"$f":"'Population 2016'!AM97*'Prevalence Rates'!AM97","v":30.964786407766994},{"$f":"'Population 2016'!AN97*'Prevalence Rates'!AN97","v":0},{"$f":"'Population 2016'!AO97*'Prevalence Rates'!AO97","v":0},{"$f":"'Population 2016'!AP97*'Prevalence Rates'!AP97","v":1.3591092233009707},{"$f":"'Population 2016'!AQ97*'Prevalence Rates'!AQ97","v":16.819155339805828},{"$f":"'Population 2016'!AR97*'Prevalence Rates'!AR97","v":326.678},{"$f":"'Population 2016'!AS97*'Prevalence Rates'!AS97","v":1.7581213592233014},{"$f":"'Population 2016'!AT97*'Prevalence Rates'!AT97","v":0},{"$f":"'Population 2016'!AU97*'Prevalence Rates'!AU97","v":0},{"$f":"'Population 2016'!AV97*'Prevalence Rates'!AV97","v":5.6567475728155339},{"$f":"'Population 2016'!AW97*'Prevalence Rates'!AW97","v":19.304271844660196},{"$f":"'Population 2016'!AX97*'Prevalence Rates'!AX97","v":2.7280000000000002},{"$f":"'Population 2016'!AY97*'Prevalence Rates'!AY97","v":21.534070436330502},{"$f":"'Population 2016'!AZ97*'Prevalence Rates'!AZ97","v":19.885973300970871},{"$f":"'Population 2016'!BA97*'Prevalence Rates'!BA97","v":14.139611650485438},{"$f":"'Population 2016'!BB97*'Prevalence Rates'!BB97","v":7.447674757281554},{"$f":"'Population 2016'!BC97*'Prevalence Rates'!BC97","v":0},95]
["SIMD Q2","Female 0-4",{"$f":"'Population 2016'!C98*'Prevalence Rates'!C98","v":0},{"$f":"'Population 2016'!D98*'Prevalence Rates'!D98","v":0},{"$f":"'Population 2016'!E98*'Prevalence Rates'!E98","v":0},{"$f":"'Population 2016'!F98*'Prevalence Rates'!F98","v":0},{"$f":"'Population 2016'!G98*'Prevalence Rates'!G98","v":0},{"$f":"'Population 2016'!H98*'Prevalence Rates'!H98","v":0},{"$f":"'Population 2016'!I98*'Prevalence Rates'!I98","v":0},{"$f":"'Population 2016'!J98*'Prevalence Rates'!J98","v":0},{"$f":"'Population 2016'!K98*'Prevalence Rates'!K98","v":0},{"$f":"'Population 2016'!L98*'Prevalence Rates'!L98","v":0},{"$f":"'Population 2016'!M98*'Prevalence Rates'!M98","v":0},{"$f":"'Population 2016'!N98*'Prevalence Rates'!N98","v":0},{"$f":"'Population 2016'!O98*'Prevalence Rates'!O98","v":0},{"$f":"'Population 2016'!P98*'Prevalence Rates'!P98","v":0},{"$f":"'Population 2016'!Q98*'Prevalence Rates'!Q98","v":0},{"$f":"'Population 2016'!R98*'Prevalence Rates'!R98","v":0},{"$f":"'Population 2016'!S98*'Prevalence Rates'!S98","v":0},{"$f":"'Population 2016'!T98*'Prevalence Rates'!T98","v":0},{"$f":"'Population 2016'!U98*'Prevalence Rates'!U98","v":0},{"$f":"'Population 2016'!V98*'Prevalence Rates'!V98","v":0},{"$f":"'Population 2016'!W98*'Prevalence Rates'!W98","v":0},{"$f":"'Population 2016'!X98*'Prevalence Rates'!X98","v":0},{"$f":"'Population 2016'!Y98*'Prevalence Rates'!Y98","v":0},{"$f":"'Population 2016'!Z98*'Prevalence Rates'!Z98","v":0},{"$f":"'Population 2016'!AA98*'Prevalence Rates'!AA98","v":0},{"$f":"'Population 2016'!AB98*'Prevalence Rates'!AB98","v":0},{"$f":"'Population 2016'!AC98*'Prevalence Rates'!AC98","v":0},{"$f":"'Population 2016'!AD98*'Prevalence Rates'!AD98","v":0},{"$f":"'Population 2016'!AE98*'Prevalence Rates'!AE98","v":0},{"$f":"'Population 2016'!AF98*'Prevalence Rates'!AF98","v":0},{"$f":"'Population 2016'!AG98*'Prevalence Rates'!AG98","v":0},{"$f":"'Population 2016'!AH98*'Prevalence Rates'!AH98","v":0},{"$f":"'Population 2016'!AI98*'Prevalence Rates'!AI98","v":0},{"$f":"'Population 2016'!AJ98*'Prevalence Rates'!AJ98","v":0},{"$f":"'Population 2016'!AK98*'Prevalence Rates'!AK98","v":0},{"$f":"'Population 2016'!AL98*'Prevalence Rates'!AL98","v":0},{"$f":"'Population 2016'!AM98*'Prevalence Rates'!AM98","v":0},{"$f":"'Population 2016'!AN98*'Prevalence Rates'!AN98","v":0},{"$f":"'Population 2016'!AO98*'Prevalence Rates'!AO98","v":0},{"$f":"'Population 2016'!AP98*'Prevalence Rates'!AP98","v":0},{"$f":"'Population 2016'!AQ98*'Prevalence Rates'!AQ98","v":0},{"$f":"'Population 2016'!AR98*'Prevalence Rates'!AR98","v":0},{"$f":"'Population 2016'!AS98*'Prevalence Rates'!AS98","v":0},{"$f":"'Population 2016'!AT98*'Prevalence Rates'!AT98","v":0},{"$f":"'Population 2016'!AU98*'Prevalence Rates'!AU98","v":0},{"$f":"'Population 2016'!AV98*'Prevalence Rates'!AV98","v":0},{"$f":"'Population 2016'!AW98*'Prevalence Rates'!AW98","v":0},{"$f":"'Population 2016'!AX98*'Prevalence Rates'!AX98","v":0},{"$f":"'Population 2016'!AY98*'Prevalence Rates'!AY98","v":0},{"$f":"'Population 2016'!AZ98*'Prevalence Rates'!AZ98","v":0},{"$f":"'Population 2016'!BA98*'Prevalence Rates'!BA98","v":0},{"$f":"'Population 2016'!BB98*'Prevalence Rates'!BB98","v":0},{"$f":"'Population 2016'!BC98*'Prevalence Rates'!BC98","v":0},96]
[null,"Female 5-9",{"$f":"'Population 2016'!C99*'Prevalence Rates'!C99","v":0},{"$f":"'Population 2016'!D99*'Prevalence Rates'!D99","v":0},{"$f":"'Population 2016'!E99*'Prevalence Rates'!E99","v":0},{"$f":"'Population 2016'!F99*'Prevalence Rates'!F99","v":0},{"$f":"'Population 2016'!G99*'Prevalence Rates'!G99","v":0},{"$f":"'Population 2016'!H99*'Prevalence Rates'!H99","v":0},{"$f":"'Population 2016'!I99*'Prevalence Rates'!I99","v":0},{"$f":"'Population 2016'!J99*'Prevalence Rates'!J99","v":0},{"$f":"'Population 2016'!K99*'Prevalence Rates'!K99","v":0},{"$f":"'Population 2016'!L99*'Prevalence Rates'!L99","v":0},{"$f":"'Population 2016'!M99*'Prevalence Rates'!M99","v":0},{"$f":"'Population 2016'!N99*'Prevalence Rates'!N99","v":0},{"$f":"'Population 2016'!O99*'Prevalence Rates'!O99","v":0},{"$f":"'Population 2016'!P99*'Prevalence Rates'!P99","v":0},{"$f":"'Population 2016'!Q99*'Prevalence Rates'!Q99","v":0},{"$f":"'Population 2016'!R99*'Prevalence Rates'!R99","v":0},{"$f":"'Population 2016'!S99*'Prevalence Rates'!S99","v":0},{"$f":"'Population 2016'!T99*'Prevalence Rates'!T99","v":0},{"$f":"'Population 2016'!U99*'Prevalence Rates'!U99","v":0},{"$f":"'Population 2016'!V99*'Prevalence Rates'!V99","v":0},{"$f":"'Population 2016'!W99*'Prevalence Rates'!W99","v":0},{"$f":"'Population 2016'!X99*'Prevalence Rates'!X99","v":0},{"$f":"'Population 2016'!Y99*'Prevalence Rates'!Y99","v":0},{"$f":"'Population 2016'!Z99*'Prevalence Rates'!Z99","v":0},{"$f":"'Population 2016'!AA99*'Prevalence Rates'!AA99","v":0},{"$f":"'Population 2016'!AB99*'Prevalence Rates'!AB99","v":0},{"$f":"'Population 2016'!AC99*'Prevalence Rates'!AC99","v":0},{"$f":"'Population 2016'!AD99*'Prevalence Rates'!AD99","v":0},{"$f":"'Population 2016'!AE99*'Prevalence Rates'!AE99","v":0},{"$f":"'Population 2016'!AF99*'Prevalence Rates'!AF99","v":0},{"$f":"'Population 2016'!AG99*'Prevalence Rates'!AG99","v":0},{"$f":"'Population 2016'!AH99*'Prevalence Rates'!AH99","v":0},{"$f":"'Population 2016'!AI99*'Prevalence Rates'!AI99","v":0},{"$f":"'Population 2016'!AJ99*'Prevalence Rates'!AJ99","v":0},{"$f":"'Population 2016'!AK99*'Prevalence Rates'!AK99","v":0},{"$f":"'Population 2016'!AL99*'Prevalence Rates'!AL99","v":0},{"$f":"'Population 2016'!AM99*'Prevalence Rates'!AM99","v":0},{"$f":"'Population 2016'!AN99*'Prevalence Rates'!AN99","v":0},{"$f":"'Population 2016'!AO99*'Prevalence Rates'!AO99","v":0},{"$f":"'Population 2016'!AP99*'Prevalence Rates'!AP99","v":0},{"$f":"'Population 2016'!AQ99*'Prevalence Rates'!AQ99","v":0},{"$f":"'Population 2016'!AR99*'Prevalence Rates'!AR99","v":0},{"$f":"'Population 2016'!AS99*'Prevalence Rates'!AS99","v":0},{"$f":"'Population 2016'!AT99*'Prevalence Rates'!AT99","v":0},{"$f":"'Population 2016'!AU99*'Prevalence Rates'!AU99","v":0},{"$f":"'Population 2016'!AV99*'Prevalence Rates'!AV99","v":0},{"$f":"'Population 2016'!AW99*'Prevalence Rates'!AW99","v":0},{"$f":"'Population 2016'!AX99*'Prevalence Rates'!AX99","v":0},{"$f":"'Population 2016'!AY99*'Prevalence Rates'!AY99","v":0},{"$f":"'Population 2016'!AZ99*'Prevalence Rates'!AZ99","v":0},{"$f":"'Population 2016'!BA99*'Prevalence Rates'!BA99","v":0},{"$f":"'Population 2016'!BB99*'Prevalence Rates'!BB99","v":0},{"$f":"'Population 2016'!BC99*'Prevalence Rates'!BC99","v":0},97]
[null,"Female 10-15",{"$f":"'Population 2016'!C100*'Prevalence Rates'!C100","v":0},{"$f":"'Population 2016'!D100*'Prevalence Rates'!D100","v":0},{"$f":"'Population 2016'!E100*'Prevalence Rates'!E100","v":0},{"$f":"'Population 2016'!F100*'Prevalence Rates'!F100","v":0},{"$f":"'Population 2016'!G100*'Prevalence Rates'!G100","v":0},{"$f":"'Population 2016'!H100*'Prevalence Rates'!H100","v":0},{"$f":"'Population 2016'!I100*'Prevalence Rates'!I100","v":0},{"$f":"'Population 2016'!J100*'Prevalence Rates'!J100","v":0},{"$f":"'Population 2016'!K100*'Prevalence Rates'!K100","v":0},{"$f":"'Population 2016'!L100*'Prevalence Rates'!L100","v":0},{"$f":"'Population 2016'!M100*'Prevalence Rates'!M100","v":0},{"$f":"'Population 2016'!N100*'Prevalence Rates'!N100","v":0},{"$f":"'Population 2016'!O100*'Prevalence Rates'!O100","v":0},{"$f":"'Population 2016'!P100*'Prevalence Rates'!P100","v":0},{"$f":"'Population 2016'!Q100*'Prevalence Rates'!Q100","v":0},{"$f":"'Population 2016'!R100*'Prevalence Rates'!R100","v":0},{"$f":"'Population 2016'!S100*'Prevalence Rates'!S100","v":0},{"$f":"'Population 2016'!T100*'Prevalence Rates'!T100","v":0},{"$f":"'Population 2016'!U100*'Prevalence Rates'!U100","v":0},{"$f":"'Population 2016'!V100*'Prevalence Rates'!V100","v":0},{"$f":"'Population 2016'!W100*'Prevalence Rates'!W100","v":0},{"$f":"'Population 2016'!X100*'Prevalence Rates'!X100","v":0},{"$f":"'Population 2016'!Y100*'Prevalence Rates'!Y100","v":0},{"$f":"'Population 2016'!Z100*'Prevalence Rates'!Z100","v":0},{"$f":"'Population 2016'!AA100*'Prevalence Rates'!AA100","v":0},{"$f":"'Population 2016'!AB100*'Prevalence Rates'!AB100","v":0},{"$f":"'Population 2016'!AC100*'Prevalence Rates'!AC100","v":0},{"$f":"'Population 2016'!AD100*'Prevalence Rates'!AD100","v":0},{"$f":"'Population 2016'!AE100*'Prevalence Rates'!AE100","v":0},{"$f":"'Population 2016'!AF100*'Prevalence Rates'!AF100","v":0},{"$f":"'Population 2016'!AG100*'Prevalence Rates'!AG100","v":0},{"$f":"'Population 2016'!AH100*'Prevalence Rates'!AH100","v":0},{"$f":"'Population 2016'!AI100*'Prevalence Rates'!AI100","v":0},{"$f":"'Population 2016'!AJ100*'Prevalence Rates'!AJ100","v":0},{"$f":"'Population 2016'!AK100*'Prevalence Rates'!AK100","v":0},{"$f":"'Population 2016'!AL100*'Prevalence Rates'!AL100","v":0},{"$f":"'Population 2016'!AM100*'Prevalence Rates'!AM100","v":0},{"$f":"'Population 2016'!AN100*'Prevalence Rates'!AN100","v":0},{"$f":"'Population 2016'!AO100*'Prevalence Rates'!AO100","v":0},{"$f":"'Population 2016'!AP100*'Prevalence Rates'!AP100","v":0},{"$f":"'Population 2016'!AQ100*'Prevalence Rates'!AQ100","v":0},{"$f":"'Population 2016'!AR100*'Prevalence Rates'!AR100","v":0},{"$f":"'Population 2016'!AS100*'Prevalence Rates'!AS100","v":0},{"$f":"'Population 2016'!AT100*'Prevalence Rates'!AT100","v":0},{"$f":"'Population 2016'!AU100*'Prevalence Rates'!AU100","v":0},{"$f":"'Population 2016'!AV100*'Prevalence Rates'!AV100","v":0},{"$f":"'Population 2016'!AW100*'Prevalence Rates'!AW100","v":0},{"$f":"'Population 2016'!AX100*'Prevalence Rates'!AX100","v":0},{"$f":"'Population 2016'!AY100*'Prevalence Rates'!AY100","v":0},{"$f":"'Population 2016'!AZ100*'Prevalence Rates'!AZ100","v":0},{"$f":"'Population 2016'!BA100*'Prevalence Rates'!BA100","v":0},{"$f":"'Population 2016'!BB100*'Prevalence Rates'!BB100","v":0},{"$f":"'Population 2016'!BC100*'Prevalence Rates'!BC100","v":0},98]
[null,"Female 16-19",{"$f":"'Population 2016'!C101*'Prevalence Rates'!C101","v":224.10207861702128},{"$f":"'Population 2016'!D101*'Prevalence Rates'!D101","v":169.72329397995202},{"$f":"'Population 2016'!E101*'Prevalence Rates'!E101","v":76.01643430851064},{"$f":"'Population 2016'!F101*'Prevalence Rates'!F101","v":53.360115797872339},{"$f":"'Population 2016'!G101*'Prevalence Rates'!G101","v":74.099699999999999},{"$f":"'Population 2016'!H101*'Prevalence Rates'!H101","v":492.49439569148944},{"$f":"'Population 2016'!I101*'Prevalence Rates'!I101","v":97.541227340425536},{"$f":"'Population 2016'!J101*'Prevalence Rates'!J101","v":170.3502},{"$f":"'Population 2016'!K101*'Prevalence Rates'!K101","v":86.757300000000001},{"$f":"'Population 2016'!L101*'Prevalence Rates'!L101","v":277.25305787234038},{"$f":"'Population 2016'!M101*'Prevalence Rates'!M101","v":277.25305787234038},{"$f":"'Population 2016'!N101*'Prevalence Rates'!N101","v":228.90338234042548},{"$f":"'Population 2016'!O101*'Prevalence Rates'!O101","v":185.7275569148936},{"$f":"'Population 2016'!P101*'Prevalence Rates'!P101","v":71.756557180851047},{"$f":"'Population 2016'!Q101*'Prevalence Rates'!Q101","v":163.9125536170213},{"$f":"'Population 2016'!R101*'Prevalence Rates'!R101","v":24.578102393617023},{"$f":"'Population 2016'!S101*'Prevalence Rates'!S101","v":1109.7743008104389},{"$f":"'Population 2016'!T101*'Prevalence Rates'!T101","v":321.68145829787227},{"$f":"'Population 2016'!U101*'Prevalence Rates'!U101","v":31.116599999999998},{"$f":"'Population 2016'!V101*'Prevalence Rates'!V101","v":162.62322893617022},{"$f":"'Population 2016'!W101*'Prevalence Rates'!W101","v":423.24775755319143},{"$f":"'Population 2016'!X101*'Prevalence Rates'!X101","v":423.24775755319143},{"$f":"'Population 2016'!Y101*'Prevalence Rates'!Y101","v":305.97265292553192},{"$f":"'Population 2016'!Z101*'Prevalence Rates'!Z101","v":768.19190409574469},{"$f":"'Population 2016'!AA101*'Prevalence Rates'!AA101","v":938.188945617066},{"$f":"'Population 2016'!AB101*'Prevalence Rates'!AB101","v":376.27184680851065},{"$f":"'Population 2016'!AC101*'Prevalence Rates'!AC101","v":1336.7065212765956},{"$f":"'Population 2016'!AD101*'Prevalence Rates'!AD101","v":310.31121925531914},{"$f":"'Population 2016'!AE101*'Prevalence Rates'!AE101","v":237.05816457446807},{"$f":"'Population 2016'!AF101*'Prevalence Rates'!AF101","v":60.914699999999996},{"$f":"'Population 2016'!AG101*'Prevalence Rates'!AG101","v":126.64735268270121},{"$f":"'Population 2016'!AH101*'Prevalence Rates'!AH101","v":1202.7951727659574},{"$f":"'Population 2016'!AI101*'Prevalence Rates'!AI101","v":957.41979797872341},{"$f":"'Population 2016'!AJ101*'Prevalence Rates'!AJ101","v":200.41200000000001},{"$f":"'Population 2016'!AK101*'Prevalence Rates'!AK101","v":88.510904999999994},{"$f":"'Population 2016'!AL101*'Prevalence Rates'!AL101","v":144.55206430851064},{"$f":"'Population 2016'!AM101*'Prevalence Rates'!AM101","v":796.55017404255307},{"$f":"'Population 2016'!AN101*'Prevalence Rates'!AN101","v":12.921299999999999},{"$f":"'Population 2016'!AO101*'Prevalence Rates'!AO101","v":12.921299999999999},{"$f":"'Population 2016'!AP101*'Prevalence Rates'!AP101","v":74.691902872340421},{"$f":"'Population 2016'!AQ101*'Prevalence Rates'!AQ101","v":230.22833457446802},{"$f":"'Population 2016'!AR101*'Prevalence Rates'!AR101","v":6097.0077000000001},{"$f":"'Population 2016'!AS101*'Prevalence Rates'!AS101","v":97.541227340425536},{"$f":"'Population 2016'!AT101*'Prevalence Rates'!AT101","v":3.6917999999999997},{"$f":"'Population 2016'!AU101*'Prevalence Rates'!AU101","v":3.6917999999999997},{"$f":"'Population 2016'!AV101*'Prevalence Rates'!AV101","v":163.68588382978717},{"$f":"'Population 2016'!AW101*'Prevalence Rates'!AW101","v":427.95816893617024},{"$f":"'Population 2016'!AX101*'Prevalence Rates'!AX101","v":83.5929},{"$f":"'Population 2016'!AY101*'Prevalence Rates'!AY101","v":447.14011565782528},{"$f":"'Population 2016'!AZ101*'Prevalence Rates'!AZ101","v":335.1040688297872},{"$f":"'Population 2016'!BA101*'Prevalence Rates'!BA101","v":202.90017781914892},{"$f":"'Population 2016'!BB101*'Prevalence Rates'!BB101","v":305.47456851063828},{"$f":"'Population 2016'!BC101*'Prevalence Rates'!BC101","v":31.116599999999998},99]
[null,"Female 20-24",{"$f":"'Population 2016'!C102*'Prevalence Rates'!C102","v":512.46700563829791},{"$f":"'Population 2016'!D102*'Prevalence Rates'!D102","v":352.59951089128629},{"$f":"'Population 2016'!E102*'Prevalence Rates'!E102","v":118.09341622340426},{"$f":"'Population 2016'!F102*'Prevalence Rates'!F102","v":103.82472143617021},{"$f":"'Population 2016'!G102*'Prevalence Rates'!G102","v":96.250500000000002},{"$f":"'Population 2016'!H102*'Prevalence Rates'!H102","v":667.14725393617039},{"$f":"'Population 2016'!I102*'Prevalence Rates'!I102","v":149.00635005319148},{"$f":"'Population 2016'!J102*'Prevalence Rates'!J102","v":272.13839999999999},{"$f":"'Population 2016'!K102*'Prevalence Rates'!K102","v":99.151200000000003},{"$f":"'Population 2016'!L102*'Prevalence Rates'!L102","v":346.56632234042547},{"$f":"'Population 2016'!M102*'Prevalence Rates'!M102","v":346.56632234042547},{"$f":"'Population 2016'!N102*'Prevalence Rates'!N102","v":555.46763888297858},{"$f":"'Population 2016'!O102*'Prevalence Rates'!O102","v":240.63831287234041},{"$f":"'Population 2016'!P102*'Prevalence Rates'!P102","v":102.73780053191487},{"$f":"'Population 2016'!Q102*'Prevalence Rates'!Q102","v":275.86007664893623},{"$f":"'Population 2016'!R102*'Prevalence Rates'!R102","v":31.208474202127661},{"$f":"'Population 2016'!S102*'Prevalence Rates'!S102","v":1891.8526893572171},{"$f":"'Population 2016'!T102*'Prevalence Rates'!T102","v":822.03032680851049},{"$f":"'Population 2016'!U102*'Prevalence Rates'!U102","v":37.972799999999999},{"$f":"'Population 2016'!V102*'Prevalence Rates'!V102","v":228.092645106383},{"$f":"'Population 2016'!W102*'Prevalence Rates'!W102","v":572.48540617021274},{"$f":"'Population 2016'!X102*'Prevalence Rates'!X102","v":572.48540617021274},{"$f":"'Population 2016'!Y102*'Prevalence Rates'!Y102","v":453.61659973404255},{"$f":"'Population 2016'!Z102*'Prevalence Rates'!Z102","v":1461.5162923404255},{"$f":"'Population 2016'!AA102*'Prevalence Rates'!AA102","v":1413.6120302481045},{"$f":"'Population 2016'!AB102*'Prevalence Rates'!AB102","v":778.62194042553188},{"$f":"'Population 2016'!AC102*'Prevalence Rates'!AC102","v":2175.6091595744679},{"$f":"'Population 2016'!AD102*'Prevalence Rates'!AD102","v":399.29383867021278},{"$f":"'Population 2016'!AE102*'Prevalence Rates'!AE102","v":304.18748808510639},{"$f":"'Population 2016'!AF102*'Prevalence Rates'!AF102","v":76.209299999999999},{"$f":"'Population 2016'!AG102*'Prevalence Rates'!AG102","v":162.51091859389456},{"$f":"'Population 2016'!AH102*'Prevalence Rates'!AH102","v":1643.6970842553192},{"$f":"'Population 2016'!AI102*'Prevalence Rates'!AI102","v":1778.9214623936168},{"$f":"'Population 2016'!AJ102*'Prevalence Rates'!AJ102","v":251.30609999999999},{"$f":"'Population 2016'!AK102*'Prevalence Rates'!AK102","v":179.60606999999999},{"$f":"'Population 2016'!AL102*'Prevalence Rates'!AL102","v":196.34344563829788},{"$f":"'Population 2016'!AM102*'Prevalence Rates'!AM102","v":1016.0004724468084},{"$f":"'Population 2016'!AN102*'Prevalence Rates'!AN102","v":23.2056},{"$f":"'Population 2016'!AO102*'Prevalence Rates'!AO102","v":23.2056},{"$f":"'Population 2016'!AP102*'Prevalence Rates'!AP102","v":118.84678468085106},{"$f":"'Population 2016'!AQ102*'Prevalence Rates'!AQ102","v":292.7406638297872},{"$f":"'Population 2016'!AR102*'Prevalence Rates'!AR102","v":9730.2662999999993},{"$f":"'Population 2016'!AS102*'Prevalence Rates'!AS102","v":149.00635005319148},{"$f":"'Population 2016'!AT102*'Prevalence Rates'!AT102","v":6.8561999999999994},{"$f":"'Population 2016'!AU102*'Prevalence Rates'!AU102","v":6.8561999999999994},{"$f":"'Population 2016'!AV102*'Prevalence Rates'!AV102","v":232.34606999999994},{"$f":"'Population 2016'!AW102*'Prevalence Rates'!AW102","v":634.70486010638297},{"$f":"'Population 2016'!AX102*'Prevalence Rates'!AX102","v":172.9872},{"$f":"'Population 2016'!AY102*'Prevalence Rates'!AY102","v":760.16826656555634},{"$f":"'Population 2016'!AZ102*'Prevalence Rates'!AZ102","v":697.64079255319143},{"$f":"'Population 2016'!BA102*'Prevalence Rates'!BA102","v":274.98776265957446},{"$f":"'Population 2016'!BB102*'Prevalence Rates'!BB102","v":407.39405744680846},{"$f":"'Population 2016'!BC102*'Prevalence Rates'!BC102","v":37.972799999999999},100]
[null,"Female 25-29",{"$f":"'Population 2016'!C103*'Prevalence Rates'!C103","v":619.79604265957448},{"$f":"'Population 2016'!D103*'Prevalence Rates'!D103","v":424.76994547852718},{"$f":"'Population 2016'!E103*'Prevalence Rates'!E103","v":140.19526462765961},{"$f":"'Population 2016'!F103*'Prevalence Rates'!F103","v":113.65027702127659},{"$f":"'Population 2016'!G103*'Prevalence Rates'!G103","v":119.8828},{"$f":"'Population 2016'!H103*'Prevalence Rates'!H103","v":761.6021802659576},{"$f":"'Population 2016'!I103*'Prevalence Rates'!I103","v":160.27679574468087},{"$f":"'Population 2016'!J103*'Prevalence Rates'!J103","v":285.42189999999999},{"$f":"'Population 2016'!K103*'Prevalence Rates'!K103","v":121.5634},{"$f":"'Population 2016'!L103*'Prevalence Rates'!L103","v":357.12630808510642},{"$f":"'Population 2016'!M103*'Prevalence Rates'!M103","v":357.12630808510642},{"$f":"'Population 2016'!N103*'Prevalence Rates'!N103","v":544.87957292553187},{"$f":"'Population 2016'!O103*'Prevalence Rates'!O103","v":290.48515446808511},{"$f":"'Population 2016'!P103*'Prevalence Rates'!P103","v":123.98894680851062},{"$f":"'Population 2016'!Q103*'Prevalence Rates'!Q103","v":292.38551377659581},{"$f":"'Population 2016'!R103*'Prevalence Rates'!R103","v":30.842287765957451},{"$f":"'Population 2016'!S103*'Prevalence Rates'!S103","v":2224.4165656274931},{"$f":"'Population 2016'!T103*'Prevalence Rates'!T103","v":987.82986191489363},{"$f":"'Population 2016'!U103*'Prevalence Rates'!U103","v":43.975700000000003},{"$f":"'Population 2016'!V103*'Prevalence Rates'!V103","v":262.91735489361707},{"$f":"'Population 2016'!W103*'Prevalence Rates'!W103","v":690.95812946808519},{"$f":"'Population 2016'!X103*'Prevalence Rates'!X103","v":690.95812946808519},{"$f":"'Population 2016'!Y103*'Prevalence Rates'!Y103","v":502.05019707446814},{"$f":"'Population 2016'!Z103*'Prevalence Rates'!Z103","v":2020.0370991489362},{"$f":"'Population 2016'!AA103*'Prevalence Rates'!AA103","v":1731.1434307467412},{"$f":"'Population 2016'!AB103*'Prevalence Rates'!AB103","v":904.45779893617021},{"$f":"'Population 2016'!AC103*'Prevalence Rates'!AC103","v":2836.5488617021274},{"$f":"'Population 2016'!AD103*'Prevalence Rates'!AD103","v":459.80336962765955},{"$f":"'Population 2016'!AE103*'Prevalence Rates'!AE103","v":341.78666138297871},{"$f":"'Population 2016'!AF103*'Prevalence Rates'!AF103","v":99.995699999999999},{"$f":"'Population 2016'!AG103*'Prevalence Rates'!AG103","v":182.59812280296023},{"$f":"'Population 2016'!AH103*'Prevalence Rates'!AH103","v":1833.1198136170217},{"$f":"'Population 2016'!AI103*'Prevalence Rates'!AI103","v":2089.1802311170209},{"$f":"'Population 2016'!AJ103*'Prevalence Rates'!AJ103","v":280.38010000000003},{"$f":"'Population 2016'!AK103*'Prevalence Rates'!AK103","v":169.84563750000004},{"$f":"'Population 2016'!AL103*'Prevalence Rates'!AL103","v":208.82810803191492},{"$f":"'Population 2016'!AM103*'Prevalence Rates'!AM103","v":1168.5739222340426},{"$f":"'Population 2016'!AN103*'Prevalence Rates'!AN103","v":28.01},{"$f":"'Population 2016'!AO103*'Prevalence Rates'!AO103","v":28.01},{"$f":"'Population 2016'!AP103*'Prevalence Rates'!AP103","v":140.70287138297874},{"$f":"'Population 2016'!AQ103*'Prevalence Rates'!AQ103","v":347.87168489361704},{"$f":"'Population 2016'!AR103*'Prevalence Rates'!AR103","v":11374.861000000001},{"$f":"'Population 2016'!AS103*'Prevalence Rates'!AS103","v":160.27679574468087},{"$f":"'Population 2016'!AT103*'Prevalence Rates'!AT103","v":6.4423000000000004},{"$f":"'Population 2016'!AU103*'Prevalence Rates'!AU103","v":6.4423000000000004},{"$f":"'Population 2016'!AV103*'Prevalence Rates'!AV103","v":265.46626489361699},{"$f":"'Population 2016'!AW103*'Prevalence Rates'!AW103","v":683.44995957446815},{"$f":"'Population 2016'!AX103*'Prevalence Rates'!AX103","v":163.85850000000002},{"$f":"'Population 2016'!AY103*'Prevalence Rates'!AY103","v":847.68903173818853},{"$f":"'Population 2016'!AZ103*'Prevalence Rates'!AZ103","v":732.23652606382984},{"$f":"'Population 2016'!BA103*'Prevalence Rates'!BA103","v":318.60942930851064},{"$f":"'Population 2016'!BB103*'Prevalence Rates'!BB103","v":492.74000085106383},{"$f":"'Population 2016'!BC103*'Prevalence Rates'!BC103","v":43.975700000000003},101]
[null,"Female 30-34",{"$f":"'Population 2016'!C104*'Prevalence Rates'!C104","v":527.95602031914893},{"$f":"'Population 2016'!D104*'Prevalence Rates'!D104","v":368.75189764027738},{"$f":"'Population 2016'!E104*'Prevalence Rates'!E104","v":130.28672712765959},{"$f":"'Population 2016'!F104*'Prevalence Rates'!F104","v":103.3983190425532},{"$f":"'Population 2016'!G104*'Prevalence Rates'!G104","v":99.715600000000009},{"$f":"'Population 2016'!H104*'Prevalence Rates'!H104","v":723.93275297872356},{"$f":"'Population 2016'!I104*'Prevalence Rates'!I104","v":135.66285925531918},{"$f":"'Population 2016'!J104*'Prevalence Rates'!J104","v":236.96460000000002},{"$f":"'Population 2016'!K104*'Prevalence Rates'!K104","v":112.88030000000001},{"$f":"'Population 2016'!L104*'Prevalence Rates'!L104","v":363.45597212765961},{"$f":"'Population 2016'!M104*'Prevalence Rates'!M104","v":363.45597212765961},{"$f":"'Population 2016'!N104*'Prevalence Rates'!N104","v":402.56299776595745},{"$f":"'Population 2016'!O104*'Prevalence Rates'!O104","v":276.18962521276597},{"$f":"'Population 2016'!P104*'Prevalence Rates'!P104","v":109.55187765957446},{"$f":"'Population 2016'!Q104*'Prevalence Rates'!Q104","v":300.58618622340435},{"$f":"'Population 2016'!R104*'Prevalence Rates'!R104","v":29.870877127659579},{"$f":"'Population 2016'!S104*'Prevalence Rates'!S104","v":2083.4717267765668},{"$f":"'Population 2016'!T104*'Prevalence Rates'!T104","v":828.9005259574468},{"$f":"'Population 2016'!U104*'Prevalence Rates'!U104","v":42.015000000000001},{"$f":"'Population 2016'!V104*'Prevalence Rates'!V104","v":279.83777872340431},{"$f":"'Population 2016'!W104*'Prevalence Rates'!W104","v":684.60581904255321},{"$f":"'Population 2016'!X104*'Prevalence Rates'!X104","v":684.60581904255321},{"$f":"'Population 2016'!Y104*'Prevalence Rates'!Y104","v":485.12947526595747},{"$f":"'Population 2016'!Z104*'Prevalence Rates'!Z104","v":1678.1532967021278},{"$f":"'Population 2016'!AA104*'Prevalence Rates'!AA104","v":1642.2216958340739},{"$f":"'Population 2016'!AB104*'Prevalence Rates'!AB104","v":810.22798723404253},{"$f":"'Population 2016'!AC104*'Prevalence Rates'!AC104","v":2501.1440106382975},{"$f":"'Population 2016'!AD104*'Prevalence Rates'!AD104","v":457.40717372340424},{"$f":"'Population 2016'!AE104*'Prevalence Rates'!AE104","v":358.36291978723403},{"$f":"'Population 2016'!AF104*'Prevalence Rates'!AF104","v":106.15790000000001},{"$f":"'Population 2016'!AG104*'Prevalence Rates'!AG104","v":191.45392090656802},{"$f":"'Population 2016'!AH104*'Prevalence Rates'!AH104","v":1936.97374212766},{"$f":"'Population 2016'!AI104*'Prevalence Rates'!AI104","v":1936.6611624468082},{"$f":"'Population 2016'!AJ104*'Prevalence Rates'!AJ104","v":296.90600000000001},{"$f":"'Population 2016'!AK104*'Prevalence Rates'!AK104","v":182.19804750000003},{"$f":"'Population 2016'!AL104*'Prevalence Rates'!AL104","v":215.12305755319153},{"$f":"'Population 2016'!AM104*'Prevalence Rates'!AM104","v":1233.6873389361701},{"$f":"'Population 2016'!AN104*'Prevalence Rates'!AN104","v":17.366199999999999},{"$f":"'Population 2016'!AO104*'Prevalence Rates'!AO104","v":17.366199999999999},{"$f":"'Population 2016'!AP104*'Prevalence Rates'!AP104","v":152.09936563829788},{"$f":"'Population 2016'!AQ104*'Prevalence Rates'!AQ104","v":333.9438613829787},{"$f":"'Population 2016'!AR104*'Prevalence Rates'!AR104","v":10672.370200000001},{"$f":"'Population 2016'!AS104*'Prevalence Rates'!AS104","v":135.66285925531918},{"$f":"'Population 2016'!AT104*'Prevalence Rates'!AT104","v":4.4816000000000003},{"$f":"'Population 2016'!AU104*'Prevalence Rates'!AU104","v":4.4816000000000003},{"$f":"'Population 2016'!AV104*'Prevalence Rates'!AV104","v":234.54382085106383},{"$f":"'Population 2016'!AW104*'Prevalence Rates'!AW104","v":722.92051925531916},{"$f":"'Population 2016'!AX104*'Prevalence Rates'!AX104","v":124.08430000000001},{"$f":"'Population 2016'!AY104*'Prevalence Rates'!AY104","v":778.85821548363697},{"$f":"'Population 2016'!AZ104*'Prevalence Rates'!AZ104","v":629.49733595744692},{"$f":"'Population 2016'!BA104*'Prevalence Rates'!BA104","v":330.18843553191488},{"$f":"'Population 2016'!BB104*'Prevalence Rates'!BB104","v":511.73793234042552},{"$f":"'Population 2016'!BC104*'Prevalence Rates'!BC104","v":42.015000000000001},102]
[null,"Female 35-39",{"$f":"'Population 2016'!C105*'Prevalence Rates'!C105","v":426.93022340425529},{"$f":"'Population 2016'!D105*'Prevalence Rates'!D105","v":320.71831975426926},{"$f":"'Population 2016'!E105*'Prevalence Rates'!E105","v":140.71046010638298},{"$f":"'Population 2016'!F105*'Prevalence Rates'!F105","v":89.671560638297862},{"$f":"'Population 2016'!G105*'Prevalence Rates'!G105","v":113.01899999999999},{"$f":"'Population 2016'!H105*'Prevalence Rates'!H105","v":788.6338946808512},{"$f":"'Population 2016'!I105*'Prevalence Rates'!I105","v":140.87163031914895},{"$f":"'Population 2016'!J105*'Prevalence Rates'!J105","v":256.94400000000002},{"$f":"'Population 2016'!K105*'Prevalence Rates'!K105","v":123.321},{"$f":"'Population 2016'!L105*'Prevalence Rates'!L105","v":383.80107446808506},{"$f":"'Population 2016'!M105*'Prevalence Rates'!M105","v":383.80107446808506},{"$f":"'Population 2016'!N105*'Prevalence Rates'!N105","v":339.4028712765957},{"$f":"'Population 2016'!O105*'Prevalence Rates'!O105","v":296.91421276595742},{"$f":"'Population 2016'!P105*'Prevalence Rates'!P105","v":132.74784574468083},{"$f":"'Population 2016'!Q105*'Prevalence Rates'!Q105","v":306.73640904255325},{"$f":"'Population 2016'!R105*'Prevalence Rates'!R105","v":35.334151595744686},{"$f":"'Population 2016'!S105*'Prevalence Rates'!S105","v":1877.0600459404254},{"$f":"'Population 2016'!T105*'Prevalence Rates'!T105","v":605.75759999999991},{"$f":"'Population 2016'!U105*'Prevalence Rates'!U105","v":46.359000000000002},{"$f":"'Population 2016'!V105*'Prevalence Rates'!V105","v":295.07300425531918},{"$f":"'Population 2016'!W105*'Prevalence Rates'!W105","v":698.09749468085101},{"$f":"'Population 2016'!X105*'Prevalence Rates'!X105","v":698.09749468085101},{"$f":"'Population 2016'!Y105*'Prevalence Rates'!Y105","v":516.75602393617021},{"$f":"'Population 2016'!Z105*'Prevalence Rates'!Z105","v":1355.4490643617021},{"$f":"'Population 2016'!AA105*'Prevalence Rates'!AA105","v":1514.4446531028927},{"$f":"'Population 2016'!AB105*'Prevalence Rates'!AB105","v":707.91759574468074},{"$f":"'Population 2016'!AC105*'Prevalence Rates'!AC105","v":2215.2039893617016},{"$f":"'Population 2016'!AD105*'Prevalence Rates'!AD105","v":468.01815159574465},{"$f":"'Population 2016'!AE105*'Prevalence Rates'!AE105","v":356.35249787234045},{"$f":"'Population 2016'!AF105*'Prevalence Rates'!AF105","v":75.143999999999991},{"$f":"'Population 2016'!AG105*'Prevalence Rates'!AG105","v":190.37986123959297},{"$f":"'Population 2016'!AH105*'Prevalence Rates'!AH105","v":1881.5964765957449},{"$f":"'Population 2016'!AI105*'Prevalence Rates'!AI105","v":1656.4955202127658},{"$f":"'Population 2016'!AJ105*'Prevalence Rates'!AJ105","v":310.57499999999999},{"$f":"'Population 2016'!AK105*'Prevalence Rates'!AK105","v":162.94582500000001},{"$f":"'Population 2016'!AL105*'Prevalence Rates'!AL105","v":227.97365425531916},{"$f":"'Population 2016'!AM105*'Prevalence Rates'!AM105","v":1227.4352712765956},{"$f":"'Population 2016'!AN105*'Prevalence Rates'!AN105","v":21.512999999999998},{"$f":"'Population 2016'!AO105*'Prevalence Rates'!AO105","v":21.512999999999998},{"$f":"'Population 2016'!AP105*'Prevalence Rates'!AP105","v":125.17897021276595},{"$f":"'Population 2016'!AQ105*'Prevalence Rates'!AQ105","v":334.96714468085099},{"$f":"'Population 2016'!AR105*'Prevalence Rates'!AR105","v":10003.242},{"$f":"'Population 2016'!AS105*'Prevalence Rates'!AS105","v":140.87163031914895},{"$f":"'Population 2016'!AT105*'Prevalence Rates'!AT105","v":10.302},{"$f":"'Population 2016'!AU105*'Prevalence Rates'!AU105","v":10.302},{"$f":"'Population 2016'!AV105*'Prevalence Rates'!AV105","v":266.34215744680847},{"$f":"'Population 2016'!AW105*'Prevalence Rates'!AW105","v":682.30087978723407},{"$f":"'Population 2016'!AX105*'Prevalence Rates'!AX105","v":133.62299999999999},{"$f":"'Population 2016'!AY105*'Prevalence Rates'!AY105","v":724.02377945576313},{"$f":"'Population 2016'!AZ105*'Prevalence Rates'!AZ105","v":531.50970638297872},{"$f":"'Population 2016'!BA105*'Prevalence Rates'!BA105","v":326.07135478723399},{"$f":"'Population 2016'!BB105*'Prevalence Rates'!BB105","v":475.61200851063819},{"$f":"'Population 2016'!BC105*'Prevalence Rates'!BC105","v":46.359000000000002},103]
[null,"Female 40-44",{"$f":"'Population 2016'!C106*'Prevalence Rates'!C106","v":384.77422021276595},{"$f":"'Population 2016'!D106*'Prevalence Rates'!D106","v":297.0313754316839},{"$f":"'Population 2016'!E106*'Prevalence Rates'!E106","v":139.34212500000001},{"$f":"'Population 2016'!F106*'Prevalence Rates'!F106","v":99.177379787234031},{"$f":"'Population 2016'!G106*'Prevalence Rates'!G106","v":133.017},{"$f":"'Population 2016'!H106*'Prevalence Rates'!H106","v":862.77896170212773},{"$f":"'Population 2016'!I106*'Prevalence Rates'!I106","v":152.94634148936171},{"$f":"'Population 2016'!J106*'Prevalence Rates'!J106","v":274.21499999999997},{"$f":"'Population 2016'!K106*'Prevalence Rates'!K106","v":139.98599999999999},{"$f":"'Population 2016'!L106*'Prevalence Rates'!L106","v":431.37078510638293},{"$f":"'Population 2016'!M106*'Prevalence Rates'!M106","v":431.37078510638293},{"$f":"'Population 2016'!N106*'Prevalence Rates'!N106","v":301.99768244680848},{"$f":"'Population 2016'!O106*'Prevalence Rates'!O106","v":317.01777925531911},{"$f":"'Population 2016'!P106*'Prevalence Rates'!P106","v":126.31715425531912},{"$f":"'Population 2016'!Q106*'Prevalence Rates'!Q106","v":297.86527819148938},{"$f":"'Population 2016'!R106*'Prevalence Rates'!R106","v":34.94009042553192},{"$f":"'Population 2016'!S106*'Prevalence Rates'!S106","v":1866.9242667401495},{"$f":"'Population 2016'!T106*'Prevalence Rates'!T106","v":533.95046808510631},{"$f":"'Population 2016'!U106*'Prevalence Rates'!U106","v":60.6},{"$f":"'Population 2016'!V106*'Prevalence Rates'!V106","v":308.75055319148942},{"$f":"'Population 2016'!W106*'Prevalence Rates'!W106","v":746.51141489361692},{"$f":"'Population 2016'!X106*'Prevalence Rates'!X106","v":746.51141489361692},{"$f":"'Population 2016'!Y106*'Prevalence Rates'!Y106","v":544.65861702127654},{"$f":"'Population 2016'!Z106*'Prevalence Rates'!Z106","v":1188.9130117021275},{"$f":"'Population 2016'!AA106*'Prevalence Rates'!AA106","v":1512.1483003309399},{"$f":"'Population 2016'!AB106*'Prevalence Rates'!AB106","v":669.12392553191489},{"$f":"'Population 2016'!AC106*'Prevalence Rates'!AC106","v":2128.558882978723},{"$f":"'Population 2016'!AD106*'Prevalence Rates'!AD106","v":520.14817340425532},{"$f":"'Population 2016'!AE106*'Prevalence Rates'!AE106","v":389.08455638297875},{"$f":"'Population 2016'!AF106*'Prevalence Rates'!AF106","v":88.173000000000002},{"$f":"'Population 2016'!AG106*'Prevalence Rates'!AG106","v":207.86682932469935},{"$f":"'Population 2016'!AH106*'Prevalence Rates'!AH106","v":1965.678331914894},{"$f":"'Population 2016'!AI106*'Prevalence Rates'!AI106","v":1590.1145058510638},{"$f":"'Population 2016'!AJ106*'Prevalence Rates'!AJ106","v":294.21299999999997},{"$f":"'Population 2016'!AK106*'Prevalence Rates'!AK106","v":169.62697500000002},{"$f":"'Population 2016'!AL106*'Prevalence Rates'!AL106","v":271.19982765957445},{"$f":"'Population 2016'!AM106*'Prevalence Rates'!AM106","v":1277.8663978723403},{"$f":"'Population 2016'!AN106*'Prevalence Rates'!AN106","v":31.814999999999998},{"$f":"'Population 2016'!AO106*'Prevalence Rates'!AO106","v":31.814999999999998},{"$f":"'Population 2016'!AP106*'Prevalence Rates'!AP106","v":109.05743617021275},{"$f":"'Population 2016'!AQ106*'Prevalence Rates'!AQ106","v":389.62705531914889},{"$f":"'Population 2016'!AR106*'Prevalence Rates'!AR106","v":10132.925999999999},{"$f":"'Population 2016'!AS106*'Prevalence Rates'!AS106","v":152.94634148936171},{"$f":"'Population 2016'!AT106*'Prevalence Rates'!AT106","v":4.242},{"$f":"'Population 2016'!AU106*'Prevalence Rates'!AU106","v":4.242},{"$f":"'Population 2016'!AV106*'Prevalence Rates'!AV106","v":276.12486702127654},{"$f":"'Population 2016'!AW106*'Prevalence Rates'!AW106","v":715.82847446808523},{"$f":"'Population 2016'!AX106*'Prevalence Rates'!AX106","v":134.22899999999998},{"$f":"'Population 2016'!AY106*'Prevalence Rates'!AY106","v":733.00713343612574},{"$f":"'Population 2016'!AZ106*'Prevalence Rates'!AZ106","v":503.52120957446806},{"$f":"'Population 2016'!BA106*'Prevalence Rates'!BA106","v":337.78891276595743},{"$f":"'Population 2016'!BB106*'Prevalence Rates'!BB106","v":524.86949361702113},{"$f":"'Population 2016'!BC106*'Prevalence Rates'!BC106","v":60.6},104]
[null,"Female 45-49",{"$f":"'Population 2016'!C107*'Prevalence Rates'!C107","v":415.23667574468089},{"$f":"'Population 2016'!D107*'Prevalence Rates'!D107","v":327.64095620653728},{"$f":"'Population 2016'!E107*'Prevalence Rates'!E107","v":161.5062936170213},{"$f":"'Population 2016'!F107*'Prevalence Rates'!F107","v":108.76372127659575},{"$f":"'Population 2016'!G107*'Prevalence Rates'!G107","v":162.65600000000001},{"$f":"'Population 2016'!H107*'Prevalence Rates'!H107","v":1134.5467306382982},{"$f":"'Population 2016'!I107*'Prevalence Rates'!I107","v":212.22881021276598},{"$f":"'Population 2016'!J107*'Prevalence Rates'!J107","v":325.31200000000001},{"$f":"'Population 2016'!K107*'Prevalence Rates'!K107","v":170.476},{"$f":"'Population 2016'!L107*'Prevalence Rates'!L107","v":582.60264510638297},{"$f":"'Population 2016'!M107*'Prevalence Rates'!M107","v":582.60264510638297},{"$f":"'Population 2016'!N107*'Prevalence Rates'!N107","v":324.77242000000001},{"$f":"'Population 2016'!O107*'Prevalence Rates'!O107","v":424.01570723404262},{"$f":"'Population 2016'!P107*'Prevalence Rates'!P107","v":178.77019148936168},{"$f":"'Population 2016'!Q107*'Prevalence Rates'!Q107","v":385.3426459574469},{"$f":"'Population 2016'!R107*'Prevalence Rates'!R107","v":52.206819148936169},{"$f":"'Population 2016'!S107*'Prevalence Rates'!S107","v":2163.516909593277},{"$f":"'Population 2016'!T107*'Prevalence Rates'!T107","v":515.58091914893612},{"$f":"'Population 2016'!U107*'Prevalence Rates'!U107","v":72.882400000000004},{"$f":"'Population 2016'!V107*'Prevalence Rates'!V107","v":365.04159319148943},{"$f":"'Population 2016'!W107*'Prevalence Rates'!W107","v":881.90133191489372},{"$f":"'Population 2016'!X107*'Prevalence Rates'!X107","v":881.90133191489372},{"$f":"'Population 2016'!Y107*'Prevalence Rates'!Y107","v":644.77231063829788},{"$f":"'Population 2016'!Z107*'Prevalence Rates'!Z107","v":1383.3488489361703},{"$f":"'Population 2016'!AA107*'Prevalence Rates'!AA107","v":1877.666105561427},{"$f":"'Population 2016'!AB107*'Prevalence Rates'!AB107","v":749.04285957446814},{"$f":"'Population 2016'!AC107*'Prevalence Rates'!AC107","v":2614.5920425531913},{"$f":"'Population 2016'!AD107*'Prevalence Rates'!AD107","v":634.49450127659577},{"$f":"'Population 2016'!AE107*'Prevalence Rates'!AE107","v":474.24539744680851},{"$f":"'Population 2016'!AF107*'Prevalence Rates'!AF107","v":125.12},{"$f":"'Population 2016'!AG107*'Prevalence Rates'!AG107","v":253.3636595744681},{"$f":"'Population 2016'!AH107*'Prevalence Rates'!AH107","v":2470.5556289361707},{"$f":"'Population 2016'!AI107*'Prevalence Rates'!AI107","v":1796.7982387234042},{"$f":"'Population 2016'!AJ107*'Prevalence Rates'!AJ107","v":380.3648},{"$f":"'Population 2016'!AK107*'Prevalence Rates'!AK107","v":202.31904000000003},{"$f":"'Population 2016'!AL107*'Prevalence Rates'!AL107","v":348.43590638297871},{"$f":"'Population 2016'!AM107*'Prevalence Rates'!AM107","v":1552.401109787234},{"$f":"'Population 2016'!AN107*'Prevalence Rates'!AN107","v":29.716000000000001},{"$f":"'Population 2016'!AO107*'Prevalence Rates'!AO107","v":29.716000000000001},{"$f":"'Population 2016'!AP107*'Prevalence Rates'!AP107","v":142.68887787234044},{"$f":"'Population 2016'!AQ107*'Prevalence Rates'!AQ107","v":458.29492680851064},{"$f":"'Population 2016'!AR107*'Prevalence Rates'!AR107","v":12252.376},{"$f":"'Population 2016'!AS107*'Prevalence Rates'!AS107","v":212.22881021276598},{"$f":"'Population 2016'!AT107*'Prevalence Rates'!AT107","v":7.1944000000000008},{"$f":"'Population 2016'!AU107*'Prevalence Rates'!AU107","v":7.1944000000000008},{"$f":"'Population 2016'!AV107*'Prevalence Rates'!AV107","v":364.54543914893611},{"$f":"'Population 2016'!AW107*'Prevalence Rates'!AW107","v":936.59441191489384},{"$f":"'Population 2016'!AX107*'Prevalence Rates'!AX107","v":154.83600000000001},{"$f":"'Population 2016'!AY107*'Prevalence Rates'!AY107","v":852.84254404827368},{"$f":"'Population 2016'!AZ107*'Prevalence Rates'!AZ107","v":574.22792425531918},{"$f":"'Population 2016'!BA107*'Prevalence Rates'!BA107","v":430.4700357446809},{"$f":"'Population 2016'!BB107*'Prevalence Rates'!BB107","v":619.30007489361697},{"$f":"'Population 2016'!BC107*'Prevalence Rates'!BC107","v":72.882400000000004},105]
[null,"Female 50-54",{"$f":"'Population 2016'!C108*'Prevalence Rates'!C108","v":432.97709446808517},{"$f":"'Population 2016'!D108*'Prevalence Rates'!D108","v":344.29303777197941},{"$f":"'Population 2016'!E108*'Prevalence Rates'!E108","v":172.57159361702131},{"$f":"'Population 2016'!F108*'Prevalence Rates'!F108","v":101.40377021276595},{"$f":"'Population 2016'!G108*'Prevalence Rates'!G108","v":180.48560000000001},{"$f":"'Population 2016'!H108*'Prevalence Rates'!H108","v":1172.1857217021281},{"$f":"'Population 2016'!I108*'Prevalence Rates'!I108","v":227.89027361702131},{"$f":"'Population 2016'!J108*'Prevalence Rates'!J108","v":340.952},{"$f":"'Population 2016'!K108*'Prevalence Rates'!K108","v":175.79360000000003},{"$f":"'Population 2016'!L108*'Prevalence Rates'!L108","v":630.59481702127653},{"$f":"'Population 2016'!M108*'Prevalence Rates'!M108","v":630.59481702127653},{"$f":"'Population 2016'!N108*'Prevalence Rates'!N108","v":387.36935702127658},{"$f":"'Population 2016'!O108*'Prevalence Rates'!O108","v":400.38832595744685},{"$f":"'Population 2016'!P108*'Prevalence Rates'!P108","v":175.45085106382976},{"$f":"'Population 2016'!Q108*'Prevalence Rates'!Q108","v":391.68283574468097},{"$f":"'Population 2016'!R108*'Prevalence Rates'!R108","v":49.223572340425534},{"$f":"'Population 2016'!S108*'Prevalence Rates'!S108","v":2181.9951873763848},{"$f":"'Population 2016'!T108*'Prevalence Rates'!T108","v":489.44548085106379},{"$f":"'Population 2016'!U108*'Prevalence Rates'!U108","v":84.456000000000003},{"$f":"'Population 2016'!V108*'Prevalence Rates'!V108","v":363.79571744680857},{"$f":"'Population 2016'!W108*'Prevalence Rates'!W108","v":950.26077702127668},{"$f":"'Population 2016'!X108*'Prevalence Rates'!X108","v":950.26077702127668},{"$f":"'Population 2016'!Y108*'Prevalence Rates'!Y108","v":654.9116893617022},{"$f":"'Population 2016'!Z108*'Prevalence Rates'!Z108","v":1417.5056106382981},{"$f":"'Population 2016'!AA108*'Prevalence Rates'!AA108","v":1947.5995208699153},{"$f":"'Population 2016'!AB108*'Prevalence Rates'!AB108","v":775.55765106382978},{"$f":"'Population 2016'!AC108*'Prevalence Rates'!AC108","v":2699.4972765957446},{"$f":"'Population 2016'!AD108*'Prevalence Rates'!AD108","v":693.06779872340428},{"$f":"'Population 2016'!AE108*'Prevalence Rates'!AE108","v":515.38192510638294},{"$f":"'Population 2016'!AF108*'Prevalence Rates'!AF108","v":150.14400000000001},{"$f":"'Population 2016'!AG108*'Prevalence Rates'!AG108","v":275.34068085106384},{"$f":"'Population 2016'!AH108*'Prevalence Rates'!AH108","v":2575.5925378723409},{"$f":"'Population 2016'!AI108*'Prevalence Rates'!AI108","v":1746.1842038297871},{"$f":"'Population 2016'!AJ108*'Prevalence Rates'!AJ108","v":377.54960000000005},{"$f":"'Population 2016'!AK108*'Prevalence Rates'!AK108","v":196.57134000000005},{"$f":"'Population 2016'!AL108*'Prevalence Rates'!AL108","v":363.41253744680853},{"$f":"'Population 2016'!AM108*'Prevalence Rates'!AM108","v":1601.8817438297872},{"$f":"'Population 2016'!AN108*'Prevalence Rates'!AN108","v":38.1616},{"$f":"'Population 2016'!AO108*'Prevalence Rates'!AO108","v":38.1616},{"$f":"'Population 2016'!AP108*'Prevalence Rates'!AP108","v":137.54914127659575},{"$f":"'Population 2016'!AQ108*'Prevalence Rates'!AQ108","v":475.65732340425529},{"$f":"'Population 2016'!AR108*'Prevalence Rates'!AR108","v":12674.030400000001},{"$f":"'Population 2016'!AS108*'Prevalence Rates'!AS108","v":227.89027361702131},{"$f":"'Population 2016'!AT108*'Prevalence Rates'!AT108","v":6.2560000000000002},{"$f":"'Population 2016'!AU108*'Prevalence Rates'!AU108","v":6.2560000000000002},{"$f":"'Population 2016'!AV108*'Prevalence Rates'!AV108","v":411.45745276595738},{"$f":"'Population 2016'!AW108*'Prevalence Rates'!AW108","v":987.77281787234062},{"$f":"'Population 2016'!AX108*'Prevalence Rates'!AX108","v":165.1584},{"$f":"'Population 2016'!AY108*'Prevalence Rates'!AY108","v":906.34584041265714},{"$f":"'Population 2016'!AZ108*'Prevalence Rates'!AZ108","v":598.91383404255328},{"$f":"'Population 2016'!BA108*'Prevalence Rates'!BA108","v":455.91448553191492},{"$f":"'Population 2016'!BB108*'Prevalence Rates'!BB108","v":593.36962042553193},{"$f":"'Population 2016'!BC108*'Prevalence Rates'!BC108","v":84.456000000000003},106]
[null,"Female 55-59",{"$f":"'Population 2016'!C109*'Prevalence Rates'!C109","v":360.91054255319153},{"$f":"'Population 2016'!D109*'Prevalence Rates'!D109","v":287.22835974086934},{"$f":"'Population 2016'!E109*'Prevalence Rates'!E109","v":144.22613297872343},{"$f":"'Population 2016'!F109*'Prevalence Rates'!F109","v":102.79827074468086},{"$f":"'Population 2016'!G109*'Prevalence Rates'!G109","v":171.99100000000001},{"$f":"'Population 2016'!H109*'Prevalence Rates'!H109","v":1032.2146872340429},{"$f":"'Population 2016'!I109*'Prevalence Rates'!I109","v":207.47719627659578},{"$f":"'Population 2016'!J109*'Prevalence Rates'!J109","v":274.24800000000005},{"$f":"'Population 2016'!K109*'Prevalence Rates'!K109","v":138.00300000000001},{"$f":"'Population 2016'!L109*'Prevalence Rates'!L109","v":551.30007234042557},{"$f":"'Population 2016'!M109*'Prevalence Rates'!M109","v":551.30007234042557},{"$f":"'Population 2016'!N109*'Prevalence Rates'!N109","v":342.66973404255322},{"$f":"'Population 2016'!O109*'Prevalence Rates'!O109","v":355.30489148936175},{"$f":"'Population 2016'!P109*'Prevalence Rates'!P109","v":155.46143617021278},{"$f":"'Population 2016'!Q109*'Prevalence Rates'!Q109","v":347.42334734042566},{"$f":"'Population 2016'!R109*'Prevalence Rates'!R109","v":36.581361702127666},{"$f":"'Population 2016'!S109*'Prevalence Rates'!S109","v":1893.1039146808664},{"$f":"'Population 2016'!T109*'Prevalence Rates'!T109","v":416.40100212765958},{"$f":"'Population 2016'!U109*'Prevalence Rates'!U109","v":67.683000000000007},{"$f":"'Population 2016'!V109*'Prevalence Rates'!V109","v":297.58825531914897},{"$f":"'Population 2016'!W109*'Prevalence Rates'!W109","v":803.42470212765966},{"$f":"'Population 2016'!X109*'Prevalence Rates'!X109","v":803.42470212765966},{"$f":"'Population 2016'!Y109*'Prevalence Rates'!Y109","v":532.29528191489374},{"$f":"'Population 2016'!Z109*'Prevalence Rates'!Z109","v":1188.4240526595747},{"$f":"'Population 2016'!AA109*'Prevalence Rates'!AA109","v":1655.4316188343735},{"$f":"'Population 2016'!AB109*'Prevalence Rates'!AB109","v":660.49369148936182},{"$f":"'Population 2016'!AC109*'Prevalence Rates'!AC109","v":2270.7188297872344},{"$f":"'Population 2016'!AD109*'Prevalence Rates'!AD109","v":629.14471755319153},{"$f":"'Population 2016'!AE109*'Prevalence Rates'!AE109","v":460.18954042553196},{"$f":"'Population 2016'!AF109*'Prevalence Rates'!AF109","v":128.334},{"$f":"'Population 2016'!AG109*'Prevalence Rates'!AG109","v":245.85437557816843},{"$f":"'Population 2016'!AH109*'Prevalence Rates'!AH109","v":2214.0750723404262},{"$f":"'Population 2016'!AI109*'Prevalence Rates'!AI109","v":1524.8507047872342},{"$f":"'Population 2016'!AJ109*'Prevalence Rates'!AJ109","v":346.61900000000003},{"$f":"'Population 2016'!AK109*'Prevalence Rates'!AK109","v":182.69282500000003},{"$f":"'Population 2016'!AL109*'Prevalence Rates'!AL109","v":303.47630851063838},{"$f":"'Population 2016'!AM109*'Prevalence Rates'!AM109","v":1357.8109372340425},{"$f":"'Population 2016'!AN109*'Prevalence Rates'!AN109","v":31.937000000000005},{"$f":"'Population 2016'!AO109*'Prevalence Rates'!AO109","v":31.937000000000005},{"$f":"'Population 2016'!AP109*'Prevalence Rates'!AP109","v":116.69176968085108},{"$f":"'Population 2016'!AQ109*'Prevalence Rates'!AQ109","v":392.69262659574468},{"$f":"'Population 2016'!AR109*'Prevalence Rates'!AR109","v":10921.575000000001},{"$f":"'Population 2016'!AS109*'Prevalence Rates'!AS109","v":207.47719627659578},{"$f":"'Population 2016'!AT109*'Prevalence Rates'!AT109","v":4.1020000000000003},{"$f":"'Population 2016'!AU109*'Prevalence Rates'!AU109","v":4.1020000000000003},{"$f":"'Population 2016'!AV109*'Prevalence Rates'!AV109","v":377.17328936170207},{"$f":"'Population 2016'!AW109*'Prevalence Rates'!AW109","v":862.34513191489373},{"$f":"'Population 2016'!AX109*'Prevalence Rates'!AX109","v":136.245},{"$f":"'Population 2016'!AY109*'Prevalence Rates'!AY109","v":791.84194433912137},{"$f":"'Population 2016'!AZ109*'Prevalence Rates'!AZ109","v":546.55097872340434},{"$f":"'Population 2016'!BA109*'Prevalence Rates'!BA109","v":394.62580319148941},{"$f":"'Population 2016'!BB109*'Prevalence Rates'!BB109","v":510.38605106382983},{"$f":"'Population 2016'!BC109*'Prevalence Rates'!BC109","v":67.683000000000007},107]
[null,"Female 60-64",{"$f":"'Population 2016'!C110*'Prevalence Rates'!C110","v":322.48265744680856},{"$f":"'Population 2016'!D110*'Prevalence Rates'!D110","v":260.24800500982877},{"$f":"'Population 2016'!E110*'Prevalence Rates'!E110","v":134.52284574468089},{"$f":"'Population 2016'!F110*'Prevalence Rates'!F110","v":86.252498404255334},{"$f":"'Population 2016'!G110*'Prevalence Rates'!G110","v":154.11800000000002},{"$f":"'Population 2016'!H110*'Prevalence Rates'!H110","v":908.37262659574503},{"$f":"'Population 2016'!I110*'Prevalence Rates'!I110","v":188.31624308510644},{"$f":"'Population 2016'!J110*'Prevalence Rates'!J110","v":233.22800000000004},{"$f":"'Population 2016'!K110*'Prevalence Rates'!K110","v":122.47400000000002},{"$f":"'Population 2016'!L110*'Prevalence Rates'!L110","v":542.23951489361707},{"$f":"'Population 2016'!M110*'Prevalence Rates'!M110","v":542.23951489361707},{"$f":"'Population 2016'!N110*'Prevalence Rates'!N110","v":295.07671542553197},{"$f":"'Population 2016'!O110*'Prevalence Rates'!O110","v":311.04131914893622},{"$f":"'Population 2016'!P110*'Prevalence Rates'!P110","v":117.26234042553192},{"$f":"'Population 2016'!Q110*'Prevalence Rates'!Q110","v":291.00417127659586},{"$f":"'Population 2016'!R110*'Prevalence Rates'!R110","v":31.881672872340431},{"$f":"'Population 2016'!S110*'Prevalence Rates'!S110","v":1627.0099958515225},{"$f":"'Population 2016'!T110*'Prevalence Rates'!T110","v":341.84497021276593},{"$f":"'Population 2016'!U110*'Prevalence Rates'!U110","v":72.664000000000016},{"$f":"'Population 2016'!V110*'Prevalence Rates'!V110","v":277.36003404255325},{"$f":"'Population 2016'!W110*'Prevalence Rates'!W110","v":732.44545212765968},{"$f":"'Population 2016'!X110*'Prevalence Rates'!X110","v":732.44545212765968},{"$f":"'Population 2016'!Y110*'Prevalence Rates'!Y110","v":479.62697340425541},{"$f":"'Population 2016'!Z110*'Prevalence Rates'!Z110","v":934.95520744680869},{"$f":"'Population 2016'!AA110*'Prevalence Rates'!AA110","v":1406.2348180261588},{"$f":"'Population 2016'!AB110*'Prevalence Rates'!AB110","v":605.38787234042559},{"$f":"'Population 2016'!AC110*'Prevalence Rates'!AC110","v":1810.8802659574469},{"$f":"'Population 2016'!AD110*'Prevalence Rates'!AD110","v":568.43044202127658},{"$f":"'Population 2016'!AE110*'Prevalence Rates'!AE110","v":416.9779627659575},{"$f":"'Population 2016'!AF110*'Prevalence Rates'!AF110","v":93.174000000000007},{"$f":"'Population 2016'!AG110*'Prevalence Rates'!AG110","v":222.76876734505095},{"$f":"'Population 2016'!AH110*'Prevalence Rates'!AH110","v":2003.9753702127664},{"$f":"'Population 2016'!AI110*'Prevalence Rates'!AI110","v":1264.6272744680853},{"$f":"'Population 2016'!AJ110*'Prevalence Rates'!AJ110","v":283.91700000000003},{"$f":"'Population 2016'!AK110*'Prevalence Rates'!AK110","v":175.15540000000001},{"$f":"'Population 2016'!AL110*'Prevalence Rates'!AL110","v":264.25342712765962},{"$f":"'Population 2016'!AM110*'Prevalence Rates'!AM110","v":1232.8713734042553},{"$f":"'Population 2016'!AN110*'Prevalence Rates'!AN110","v":30.472000000000005},{"$f":"'Population 2016'!AO110*'Prevalence Rates'!AO110","v":30.472000000000005},{"$f":"'Population 2016'!AP110*'Prevalence Rates'!AP110","v":114.16994361702129},{"$f":"'Population 2016'!AQ110*'Prevalence Rates'!AQ110","v":318.82982021276598},{"$f":"'Population 2016'!AR110*'Prevalence Rates'!AR110","v":9564.6920000000009},{"$f":"'Population 2016'!AS110*'Prevalence Rates'!AS110","v":188.31624308510644},{"$f":"'Population 2016'!AT110*'Prevalence Rates'!AT110","v":8.7900000000000009},{"$f":"'Population 2016'!AU110*'Prevalence Rates'!AU110","v":8.7900000000000009},{"$f":"'Population 2016'!AV110*'Prevalence Rates'!AV110","v":336.58749042553188},{"$f":"'Population 2016'!AW110*'Prevalence Rates'!AW110","v":777.82865851063843},{"$f":"'Population 2016'!AX110*'Prevalence Rates'!AX110","v":110.75400000000002},{"$f":"'Population 2016'!AY110*'Prevalence Rates'!AY110","v":711.82247359261521},{"$f":"'Population 2016'!AZ110*'Prevalence Rates'!AZ110","v":482.43634468085116},{"$f":"'Population 2016'!BA110*'Prevalence Rates'!BA110","v":337.97160372340431},{"$f":"'Population 2016'!BB110*'Prevalence Rates'!BB110","v":429.31731489361704},{"$f":"'Population 2016'!BC110*'Prevalence Rates'!BC110","v":72.664000000000016},108]
[null,"Female 65-69",{"$f":"'Population 2016'!C111*'Prevalence Rates'!C111","v":219.70375000000001},{"$f":"'Population 2016'!D111*'Prevalence Rates'!D111","v":186.80691925961116},{"$f":"'Population 2016'!E111*'Prevalence Rates'!E111","v":106.56229521276599},{"$f":"'Population 2016'!F111*'Prevalence Rates'!F111","v":66.305964361702138},{"$f":"'Population 2016'!G111*'Prevalence Rates'!G111","v":121.74700000000001},{"$f":"'Population 2016'!H111*'Prevalence Rates'!H111","v":673.3544234042555},{"$f":"'Population 2016'!I111*'Prevalence Rates'!I111","v":147.47149148936171},{"$f":"'Population 2016'!J111*'Prevalence Rates'!J111","v":174.07500000000002},{"$f":"'Population 2016'!K111*'Prevalence Rates'!K111","v":96.849000000000004},{"$f":"'Population 2016'!L111*'Prevalence Rates'!L111","v":386.22023617021273},{"$f":"'Population 2016'!M111*'Prevalence Rates'!M111","v":386.22023617021273},{"$f":"'Population 2016'!N111*'Prevalence Rates'!N111","v":219.07602500000002},{"$f":"'Population 2016'!O111*'Prevalence Rates'!O111","v":225.49985265957449},{"$f":"'Population 2016'!P111*'Prevalence Rates'!P111","v":83.645226063829782},{"$f":"'Population 2016'!Q111*'Prevalence Rates'!Q111","v":203.86034361702133},{"$f":"'Population 2016'!R111*'Prevalence Rates'!R111","v":22.593273936170217},{"$f":"'Population 2016'!S111*'Prevalence Rates'!S111","v":1205.4588037475889},{"$f":"'Population 2016'!T111*'Prevalence Rates'!T111","v":241.5272106382979},{"$f":"'Population 2016'!U111*'Prevalence Rates'!U111","v":49.796000000000006},{"$f":"'Population 2016'!V111*'Prevalence Rates'!V111","v":199.03674893617023},{"$f":"'Population 2016'!W111*'Prevalence Rates'!W111","v":543.33891702127664},{"$f":"'Population 2016'!X111*'Prevalence Rates'!X111","v":543.33891702127664},{"$f":"'Population 2016'!Y111*'Prevalence Rates'!Y111","v":349.12755851063832},{"$f":"'Population 2016'!Z111*'Prevalence Rates'!Z111","v":585.99739308510652},{"$f":"'Population 2016'!AA111*'Prevalence Rates'!AA111","v":973.32516402048304},{"$f":"'Population 2016'!AB111*'Prevalence Rates'!AB111","v":428.32326595744689},{"$f":"'Population 2016'!AC111*'Prevalence Rates'!AC111","v":1254.5857978723404},{"$f":"'Population 2016'!AD111*'Prevalence Rates'!AD111","v":424.59024946808518},{"$f":"'Population 2016'!AE111*'Prevalence Rates'!AE111","v":305.23619148936172},{"$f":"'Population 2016'!AF111*'Prevalence Rates'!AF111","v":75.960000000000008},{"$f":"'Population 2016'!AG111*'Prevalence Rates'!AG111","v":163.07118408880669},{"$f":"'Population 2016'!AH111*'Prevalence Rates'!AH111","v":1385.8138808510641},{"$f":"'Population 2016'!AI111*'Prevalence Rates'!AI111","v":929.30965691489371},{"$f":"'Population 2016'!AJ111*'Prevalence Rates'!AJ111","v":219.65100000000001},{"$f":"'Population 2016'!AK111*'Prevalence Rates'!AK111","v":117.08917500000003},{"$f":"'Population 2016'!AL111*'Prevalence Rates'!AL111","v":201.22576170212767},{"$f":"'Population 2016'!AM111*'Prevalence Rates'!AM111","v":852.13651914893615},{"$f":"'Population 2016'!AN111*'Prevalence Rates'!AN111","v":25.109000000000002},{"$f":"'Population 2016'!AO111*'Prevalence Rates'!AO111","v":25.109000000000002},{"$f":"'Population 2016'!AP111*'Prevalence Rates'!AP111","v":75.944287234042562},{"$f":"'Population 2016'!AQ111*'Prevalence Rates'!AQ111","v":257.66062978723403},{"$f":"'Population 2016'!AR111*'Prevalence Rates'!AR111","v":6874.380000000001},{"$f":"'Population 2016'!AS111*'Prevalence Rates'!AS111","v":147.47149148936171},{"$f":"'Population 2016'!AT111*'Prevalence Rates'!AT111","v":5.2750000000000004},{"$f":"'Population 2016'!AU111*'Prevalence Rates'!AU111","v":5.2750000000000004},{"$f":"'Population 2016'!AV111*'Prevalence Rates'!AV111","v":248.98157127659573},{"$f":"'Population 2016'!AW111*'Prevalence Rates'!AW111","v":538.19208829787249},{"$f":"'Population 2016'!AX111*'Prevalence Rates'!AX111","v":77.226000000000013},{"$f":"'Population 2016'!AY111*'Prevalence Rates'!AY111","v":524.2787098498776},{"$f":"'Population 2016'!AZ111*'Prevalence Rates'!AZ111","v":351.96146808510645},{"$f":"'Population 2016'!BA111*'Prevalence Rates'!BA111","v":238.60239148936174},{"$f":"'Population 2016'!BB111*'Prevalence Rates'!BB111","v":326.88568936170213},{"$f":"'Population 2016'!BC111*'Prevalence Rates'!BC111","v":49.796000000000006},109]
[null,"Female 70-74",{"$f":"'Population 2016'!C112*'Prevalence Rates'!C112","v":151.4553510638298},{"$f":"'Population 2016'!D112*'Prevalence Rates'!D112","v":134.89362046211357},{"$f":"'Population 2016'!E112*'Prevalence Rates'!E112","v":83.058242021276612},{"$f":"'Population 2016'!F112*'Prevalence Rates'!F112","v":53.508140957446813},{"$f":"'Population 2016'!G112*'Prevalence Rates'!G112","v":100.43600000000001},{"$f":"'Population 2016'!H112*'Prevalence Rates'!H112","v":542.35327765957459},{"$f":"'Population 2016'!I112*'Prevalence Rates'!I112","v":117.93407287234044},{"$f":"'Population 2016'!J112*'Prevalence Rates'!J112","v":141.792},{"$f":"'Population 2016'!K112*'Prevalence Rates'!K112","v":74.483000000000004},{"$f":"'Population 2016'!L112*'Prevalence Rates'!L112","v":314.19605957446805},{"$f":"'Population 2016'!M112*'Prevalence Rates'!M112","v":314.19605957446805},{"$f":"'Population 2016'!N112*'Prevalence Rates'!N112","v":176.02854574468086},{"$f":"'Population 2016'!O112*'Prevalence Rates'!O112","v":183.93206702127659},{"$f":"'Population 2016'!P112*'Prevalence Rates'!P112","v":74.848882978723395},{"$f":"'Population 2016'!Q112*'Prevalence Rates'!Q112","v":164.89403085106389},{"$f":"'Population 2016'!R112*'Prevalence Rates'!R112","v":13.354728723404257},{"$f":"'Population 2016'!S112*'Prevalence Rates'!S112","v":939.19762783573208},{"$f":"'Population 2016'!T112*'Prevalence Rates'!T112","v":182.06696170212768},{"$f":"'Population 2016'!U112*'Prevalence Rates'!U112","v":36.503},{"$f":"'Population 2016'!V112*'Prevalence Rates'!V112","v":162.47897872340428},{"$f":"'Population 2016'!W112*'Prevalence Rates'!W112","v":418.05340212765958},{"$f":"'Population 2016'!X112*'Prevalence Rates'!X112","v":418.05340212765958},{"$f":"'Population 2016'!Y112*'Prevalence Rates'!Y112","v":284.77368085106389},{"$f":"'Population 2016'!Z112*'Prevalence Rates'!Z112","v":447.49822765957458},{"$f":"'Population 2016'!AA112*'Prevalence Rates'!AA112","v":782.14263819243627},{"$f":"'Population 2016'!AB112*'Prevalence Rates'!AB112","v":314.30245744680855},{"$f":"'Population 2016'!AC112*'Prevalence Rates'!AC112","v":972.69877659574468},{"$f":"'Population 2016'!AD112*'Prevalence Rates'!AD112","v":321.30069893617025},{"$f":"'Population 2016'!AE112*'Prevalence Rates'!AE112","v":223.17918936170216},{"$f":"'Population 2016'!AF112*'Prevalence Rates'!AF112","v":57.814000000000007},{"$f":"'Population 2016'!AG112*'Prevalence Rates'!AG112","v":119.23256706753008},{"$f":"'Population 2016'!AH112*'Prevalence Rates'!AH112","v":1150.6216085106387},{"$f":"'Population 2016'!AI112*'Prevalence Rates'!AI112","v":725.99319946808521},{"$f":"'Population 2016'!AJ112*'Prevalence Rates'!AJ112","v":159.51600000000002},{"$f":"'Population 2016'!AK112*'Prevalence Rates'!AK112","v":91.500150000000019},{"$f":"'Population 2016'!AL112*'Prevalence Rates'!AL112","v":154.01193031914895},{"$f":"'Population 2016'!AM112*'Prevalence Rates'!AM112","v":721.52976382978727},{"$f":"'Population 2016'!AN112*'Prevalence Rates'!AN112","v":21.733000000000001},{"$f":"'Population 2016'!AO112*'Prevalence Rates'!AO112","v":21.733000000000001},{"$f":"'Population 2016'!AP112*'Prevalence Rates'!AP112","v":60.92052606382979},{"$f":"'Population 2016'!AQ112*'Prevalence Rates'!AQ112","v":208.61727127659574},{"$f":"'Population 2016'!AR112*'Prevalence Rates'!AR112","v":5436.2040000000006},{"$f":"'Population 2016'!AS112*'Prevalence Rates'!AS112","v":117.93407287234044},{"$f":"'Population 2016'!AT112*'Prevalence Rates'!AT112","v":4.0090000000000003},{"$f":"'Population 2016'!AU112*'Prevalence Rates'!AU112","v":4.0090000000000003},{"$f":"'Population 2016'!AV112*'Prevalence Rates'!AV112","v":206.78875425531913},{"$f":"'Population 2016'!AW112*'Prevalence Rates'!AW112","v":437.21871170212773},{"$f":"'Population 2016'!AX112*'Prevalence Rates'!AX112","v":67.309000000000012},{"$f":"'Population 2016'!AY112*'Prevalence Rates'!AY112","v":411.19427036871997},{"$f":"'Population 2016'!AZ112*'Prevalence Rates'!AZ112","v":283.0829872340426},{"$f":"'Population 2016'!BA112*'Prevalence Rates'!BA112","v":178.95179361702131},{"$f":"'Population 2016'!BB112*'Prevalence Rates'!BB112","v":272.3668808510638},{"$f":"'Population 2016'!BC112*'Prevalence Rates'!BC112","v":36.503},110]
[null,"Female 75-79",{"$f":"'Population 2016'!C113*'Prevalence Rates'!C113","v":68.754402127659574},{"$f":"'Population 2016'!D113*'Prevalence Rates'!D113","v":56.833511027050776},{"$f":"'Population 2016'!E113*'Prevalence Rates'!E113","v":30.795819148936172},{"$f":"'Population 2016'!F113*'Prevalence Rates'!F113","v":21.545216223404253},{"$f":"'Population 2016'!G113*'Prevalence Rates'!G113","v":42.46},{"$f":"'Population 2016'!H113*'Prevalence Rates'!H113","v":201.5959941489362},{"$f":"'Population 2016'!I113*'Prevalence Rates'!I113","v":43.58319840425532},{"$f":"'Population 2016'!J113*'Prevalence Rates'!J113","v":51.530999999999999},{"$f":"'Population 2016'!K113*'Prevalence Rates'!K113","v":23.16},{"$f":"'Population 2016'!L113*'Prevalence Rates'!L113","v":112.59270957446807},{"$f":"'Population 2016'!M113*'Prevalence Rates'!M113","v":112.59270957446807},{"$f":"'Population 2016'!N113*'Prevalence Rates'!N113","v":77.370979521276595},{"$f":"'Population 2016'!O113*'Prevalence Rates'!O113","v":71.906359042553191},{"$f":"'Population 2016'!P113*'Prevalence Rates'!P113","v":27.795079787234041},{"$f":"'Population 2016'!Q113*'Prevalence Rates'!Q113","v":66.611742819148958},{"$f":"'Population 2016'!R113*'Prevalence Rates'!R113","v":6.609736702127659},{"$f":"'Population 2016'!S113*'Prevalence Rates'!S113","v":359.89453763158684},{"$f":"'Population 2016'!T113*'Prevalence Rates'!T113","v":79.749242553191479},{"$f":"'Population 2016'!U113*'Prevalence Rates'!U113","v":16.019000000000002},{"$f":"'Population 2016'!V113*'Prevalence Rates'!V113","v":61.625310638297883},{"$f":"'Population 2016'!W113*'Prevalence Rates'!W113","v":156.97490744680852},{"$f":"'Population 2016'!X113*'Prevalence Rates'!X113","v":156.97490744680852},{"$f":"'Population 2016'!Y113*'Prevalence Rates'!Y113","v":106.35326595744681},{"$f":"'Population 2016'!Z113*'Prevalence Rates'!Z113","v":200.79776462765957},{"$f":"'Population 2016'!AA113*'Prevalence Rates'!AA113","v":317.36382653397965},{"$f":"'Population 2016'!AB113*'Prevalence Rates'!AB113","v":130.87863829787233},{"$f":"'Population 2016'!AC113*'Prevalence Rates'!AC113","v":416.9415957446808},{"$f":"'Population 2016'!AD113*'Prevalence Rates'!AD113","v":135.0211574468085},{"$f":"'Population 2016'!AE113*'Prevalence Rates'!AE113","v":93.549153191489367},{"$f":"'Population 2016'!AF113*'Prevalence Rates'!AF113","v":19.493000000000002},{"$f":"'Population 2016'!AG113*'Prevalence Rates'!AG113","v":49.978251618871418},{"$f":"'Population 2016'!AH113*'Prevalence Rates'!AH113","v":443.64622553191492},{"$f":"'Population 2016'!AI113*'Prevalence Rates'!AI113","v":282.46679255319145},{"$f":"'Population 2016'!AJ113*'Prevalence Rates'!AJ113","v":57.996500000000005},{"$f":"'Population 2016'!AK113*'Prevalence Rates'!AK113","v":36.409450000000007},{"$f":"'Population 2016'!AL113*'Prevalence Rates'!AL113","v":53.558321276595748},{"$f":"'Population 2016'!AM113*'Prevalence Rates'!AM113","v":274.76937765957445},{"$f":"'Population 2016'!AN113*'Prevalence Rates'!AN113","v":6.0795000000000003},{"$f":"'Population 2016'!AO113*'Prevalence Rates'!AO113","v":6.0795000000000003},{"$f":"'Population 2016'!AP113*'Prevalence Rates'!AP113","v":21.292725000000001},{"$f":"'Population 2016'!AQ113*'Prevalence Rates'!AQ113","v":89.830720744680846},{"$f":"'Population 2016'!AR113*'Prevalence Rates'!AR113","v":2139.1154999999999},{"$f":"'Population 2016'!AS113*'Prevalence Rates'!AS113","v":43.58319840425532},{"$f":"'Population 2016'!AT113*'Prevalence Rates'!AT113","v":0.96500000000000008},{"$f":"'Population 2016'!AU113*'Prevalence Rates'!AU113","v":0.96500000000000008},{"$f":"'Population 2016'!AV113*'Prevalence Rates'!AV113","v":77.186859574468073},{"$f":"'Population 2016'!AW113*'Prevalence Rates'!AW113","v":170.9381494680851},{"$f":"'Population 2016'!AX113*'Prevalence Rates'!AX113","v":28.371000000000002},{"$f":"'Population 2016'!AY113*'Prevalence Rates'!AY113","v":159.77781074136172},{"$f":"'Population 2016'!AZ113*'Prevalence Rates'!AZ113","v":114.75472021276597},{"$f":"'Population 2016'!BA113*'Prevalence Rates'!BA113","v":78.239736170212765},{"$f":"'Population 2016'!BB113*'Prevalence Rates'!BB113","v":95.372387234042549},{"$f":"'Population 2016'!BC113*'Prevalence Rates'!BC113","v":16.019000000000002},111]
[null,"Female 80-84",{"$f":"'Population 2016'!C114*'Prevalence Rates'!C114","v":60.972498404255319},{"$f":"'Population 2016'!D114*'Prevalence Rates'!D114","v":48.641710170545899},{"$f":"'Population 2016'!E114*'Prevalence Rates'!E114","v":24.549497340425532},{"$f":"'Population 2016'!F114*'Prevalence Rates'!F114","v":16.650869680851063},{"$f":"'Population 2016'!G114*'Prevalence Rates'!G114","v":32.231000000000002},{"$f":"'Population 2016'!H114*'Prevalence Rates'!H114","v":158.07623936170216},{"$f":"'Population 2016'!I114*'Prevalence Rates'!I114","v":34.511582446808511},{"$f":"'Population 2016'!J114*'Prevalence Rates'!J114","v":34.450499999999998},{"$f":"'Population 2016'!K114*'Prevalence Rates'!K114","v":15.5365},{"$f":"'Population 2016'!L114*'Prevalence Rates'!L114","v":93.769871276595737},{"$f":"'Population 2016'!M114*'Prevalence Rates'!M114","v":93.769871276595737},{"$f":"'Population 2016'!N114*'Prevalence Rates'!N114","v":62.95013244680851},{"$f":"'Population 2016'!O114*'Prevalence Rates'!O114","v":53.289507180851061},{"$f":"'Population 2016'!P114*'Prevalence Rates'!P114","v":25.600731382978722},{"$f":"'Population 2016'!Q114*'Prevalence Rates'!Q114","v":52.485272074468099},{"$f":"'Population 2016'!R114*'Prevalence Rates'!R114","v":6.3169002659574467},{"$f":"'Population 2016'!S114*'Prevalence Rates'!S114","v":276.85780175437532},{"$f":"'Population 2016'!T114*'Prevalence Rates'!T114","v":59.738632978723395},{"$f":"'Population 2016'!U114*'Prevalence Rates'!U114","v":14.7645},{"$f":"'Population 2016'!V114*'Prevalence Rates'!V114","v":44.39328510638299},{"$f":"'Population 2016'!W114*'Prevalence Rates'!W114","v":125.04274946808511},{"$f":"'Population 2016'!X114*'Prevalence Rates'!X114","v":125.04274946808511},{"$f":"'Population 2016'!Y114*'Prevalence Rates'!Y114","v":74.64634308510638},{"$f":"'Population 2016'!Z114*'Prevalence Rates'!Z114","v":180.8936130319149},{"$f":"'Population 2016'!AA114*'Prevalence Rates'!AA114","v":256.21511843851948},{"$f":"'Population 2016'!AB114*'Prevalence Rates'!AB114","v":108.38387234042554},{"$f":"'Population 2016'!AC114*'Prevalence Rates'!AC114","v":356.25438829787231},{"$f":"'Population 2016'!AD114*'Prevalence Rates'!AD114","v":98.880983510638288},{"$f":"'Population 2016'!AE114*'Prevalence Rates'!AE114","v":67.442412765957457},{"$f":"'Population 2016'!AF114*'Prevalence Rates'!AF114","v":15.054},{"$f":"'Population 2016'!AG114*'Prevalence Rates'!AG114","v":36.030832562442185},{"$f":"'Population 2016'!AH114*'Prevalence Rates'!AH114","v":337.65719574468091},{"$f":"'Population 2016'!AI114*'Prevalence Rates'!AI114","v":212.6395978723404},{"$f":"'Population 2016'!AJ114*'Prevalence Rates'!AJ114","v":45.644500000000001},{"$f":"'Population 2016'!AK114*'Prevalence Rates'!AK114","v":26.124962500000002},{"$f":"'Population 2016'!AL114*'Prevalence Rates'!AL114","v":45.071967553191499},{"$f":"'Population 2016'!AM114*'Prevalence Rates'!AM114","v":202.95767074468083},{"$f":"'Population 2016'!AN114*'Prevalence Rates'!AN114","v":5.79},{"$f":"'Population 2016'!AO114*'Prevalence Rates'!AO114","v":5.79},{"$f":"'Population 2016'!AP114*'Prevalence Rates'!AP114","v":17.819443617021278},{"$f":"'Population 2016'!AQ114*'Prevalence Rates'!AQ114","v":74.877532446808502},{"$f":"'Population 2016'!AR114*'Prevalence Rates'!AR114","v":1685.855},{"$f":"'Population 2016'!AS114*'Prevalence Rates'!AS114","v":34.511582446808511},{"$f":"'Population 2016'!AT114*'Prevalence Rates'!AT114","v":1.4475},{"$f":"'Population 2016'!AU114*'Prevalence Rates'!AU114","v":1.4475},{"$f":"'Population 2016'!AV114*'Prevalence Rates'!AV114","v":60.402737765957433},{"$f":"'Population 2016'!AW114*'Prevalence Rates'!AW114","v":134.34114042553193},{"$f":"'Population 2016'!AX114*'Prevalence Rates'!AX114","v":18.914000000000001},{"$f":"'Population 2016'!AY114*'Prevalence Rates'!AY114","v":127.92128442619354},{"$f":"'Population 2016'!AZ114*'Prevalence Rates'!AZ114","v":92.426878723404272},{"$f":"'Population 2016'!BA114*'Prevalence Rates'!BA114","v":55.591391489361698},{"$f":"'Population 2016'!BB114*'Prevalence Rates'!BB114","v":67.841142553191489},{"$f":"'Population 2016'!BC114*'Prevalence Rates'!BC114","v":14.7645},112]
[null,"Female 85-89",{"$f":"'Population 2016'!C115*'Prevalence Rates'!C115","v":34.291685638297871},{"$f":"'Population 2016'!D115*'Prevalence Rates'!D115","v":27.16715877270261},{"$f":"'Population 2016'!E115*'Prevalence Rates'!E115","v":13.50948670212766},{"$f":"'Population 2016'!F115*'Prevalence Rates'!F115","v":12.362009308510638},{"$f":"'Population 2016'!G115*'Prevalence Rates'!G115","v":18.045500000000001},{"$f":"'Population 2016'!H115*'Prevalence Rates'!H115","v":86.844353723404268},{"$f":"'Population 2016'!I115*'Prevalence Rates'!I115","v":21.002763031914895},{"$f":"'Population 2016'!J115*'Prevalence Rates'!J115","v":20.071999999999999},{"$f":"'Population 2016'!K115*'Prevalence Rates'!K115","v":9.843},{"$f":"'Population 2016'!L115*'Prevalence Rates'!L115","v":52.221898936170206},{"$f":"'Population 2016'!M115*'Prevalence Rates'!M115","v":52.221898936170206},{"$f":"'Population 2016'!N115*'Prevalence Rates'!N115","v":34.484634308510643},{"$f":"'Population 2016'!O115*'Prevalence Rates'!O115","v":28.467038031914893},{"$f":"'Population 2016'!P115*'Prevalence Rates'!P115","v":14.848424202127658},{"$f":"'Population 2016'!Q115*'Prevalence Rates'!Q115","v":29.556923404255325},{"$f":"'Population 2016'!R115*'Prevalence Rates'!R115","v":2.8028630319148933},{"$f":"'Population 2016'!S115*'Prevalence Rates'!S115","v":173.55982759446945},{"$f":"'Population 2016'!T115*'Prevalence Rates'!T115","v":40.754208510638293},{"$f":"'Population 2016'!U115*'Prevalence Rates'!U115","v":6.0795000000000003},{"$f":"'Population 2016'!V115*'Prevalence Rates'!V115","v":27.737795744680856},{"$f":"'Population 2016'!W115*'Prevalence Rates'!W115","v":80.476996276595742},{"$f":"'Population 2016'!X115*'Prevalence Rates'!X115","v":80.476996276595742},{"$f":"'Population 2016'!Y115*'Prevalence Rates'!Y115","v":45.569815159574468},{"$f":"'Population 2016'!Z115*'Prevalence Rates'!Z115","v":112.39991489361702},{"$f":"'Population 2016'!AA115*'Prevalence Rates'!AA115","v":149.23535204958486},{"$f":"'Population 2016'!AB115*'Prevalence Rates'!AB115","v":62.031021276595744},{"$f":"'Population 2016'!AC115*'Prevalence Rates'!AC115","v":206.96170212765955},{"$f":"'Population 2016'!AD115*'Prevalence Rates'!AD115","v":62.006998936170206},{"$f":"'Population 2016'!AE115*'Prevalence Rates'!AE115","v":44.327069680851068},{"$f":"'Population 2016'!AF115*'Prevalence Rates'!AF115","v":7.7200000000000006},{"$f":"'Population 2016'!AG115*'Prevalence Rates'!AG115","v":23.681555272895469},{"$f":"'Population 2016'!AH115*'Prevalence Rates'!AH115","v":197.2386085106383},{"$f":"'Population 2016'!AI115*'Prevalence Rates'!AI115","v":132.02252260638295},{"$f":"'Population 2016'!AJ115*'Prevalence Rates'!AJ115","v":29.625500000000002},{"$f":"'Population 2016'!AK115*'Prevalence Rates'!AK115","v":16.667962500000002},{"$f":"'Population 2016'!AL115*'Prevalence Rates'!AL115","v":23.007447872340428},{"$f":"'Population 2016'!AM115*'Prevalence Rates'!AM115","v":111.76609468085105},{"$f":"'Population 2016'!AN115*'Prevalence Rates'!AN115","v":2.7985000000000002},{"$f":"'Population 2016'!AO115*'Prevalence Rates'!AO115","v":2.7985000000000002},{"$f":"'Population 2016'!AP115*'Prevalence Rates'!AP115","v":15.403247872340428},{"$f":"'Population 2016'!AQ115*'Prevalence Rates'!AQ115","v":39.3916079787234},{"$f":"'Population 2016'!AR115*'Prevalence Rates'!AR115","v":1004.6615},{"$f":"'Population 2016'!AS115*'Prevalence Rates'!AS115","v":21.002763031914895},{"$f":"'Population 2016'!AT115*'Prevalence Rates'!AT115","v":0.48250000000000004},{"$f":"'Population 2016'!AU115*'Prevalence Rates'!AU115","v":0.48250000000000004},{"$f":"'Population 2016'!AV115*'Prevalence Rates'!AV115","v":35.879829255319144},{"$f":"'Population 2016'!AW115*'Prevalence Rates'!AW115","v":83.141833510638307},{"$f":"'Population 2016'!AX115*'Prevalence Rates'!AX115","v":10.229000000000001},{"$f":"'Population 2016'!AY115*'Prevalence Rates'!AY115","v":84.345517860367607},{"$f":"'Population 2016'!AZ115*'Prevalence Rates'!AZ115","v":62.656423404255328},{"$f":"'Population 2016'!BA115*'Prevalence Rates'!BA115","v":33.07173058510638},{"$f":"'Population 2016'!BB115*'Prevalence Rates'!BB115","v":38.439851063829785},{"$f":"'Population 2016'!BC115*'Prevalence Rates'!BC115","v":6.0795000000000003},113]
[null,"Female 90+",{"$f":"'Population 2016'!C116*'Prevalence Rates'!C116","v":16.675507978723402},{"$f":"'Population 2016'!D116*'Prevalence Rates'!D116","v":14.300940478305122},{"$f":"'Population 2016'!E116*'Prevalence Rates'!E116","v":8.280007978723404},{"$f":"'Population 2016'!F116*'Prevalence Rates'!F116","v":8.1236061170212768},{"$f":"'Population 2016'!G116*'Prevalence Rates'!G116","v":10.036},{"$f":"'Population 2016'!H116*'Prevalence Rates'!H116","v":60.498313829787243},{"$f":"'Population 2016'!I116*'Prevalence Rates'!I116","v":14.494864627659576},{"$f":"'Population 2016'!J116*'Prevalence Rates'!J116","v":12.159000000000001},{"$f":"'Population 2016'!K116*'Prevalence Rates'!K116","v":5.8864999999999998},{"$f":"'Population 2016'!L116*'Prevalence Rates'!L116","v":31.677459574468081},{"$f":"'Population 2016'!M116*'Prevalence Rates'!M116","v":31.677459574468081},{"$f":"'Population 2016'!N116*'Prevalence Rates'!N116","v":20.690780585106385},{"$f":"'Population 2016'!O116*'Prevalence Rates'!O116","v":18.124342553191489},{"$f":"'Population 2016'!P116*'Prevalence Rates'!P116","v":10.167147606382978},{"$f":"'Population 2016'!Q116*'Prevalence Rates'!Q116","v":15.973778457446812},{"$f":"'Population 2016'!R116*'Prevalence Rates'!R116","v":1.4641821808510638},{"$f":"'Population 2016'!S116*'Prevalence Rates'!S116","v":100.00123030373864},{"$f":"'Population 2016'!T116*'Prevalence Rates'!T116","v":24.628442553191487},{"$f":"'Population 2016'!U116*'Prevalence Rates'!U116","v":5.5004999999999997},{"$f":"'Population 2016'!V116*'Prevalence Rates'!V116","v":17.680442553191494},{"$f":"'Population 2016'!W116*'Prevalence Rates'!W116","v":47.947975531914892},{"$f":"'Population 2016'!X116*'Prevalence Rates'!X116","v":47.947975531914892},{"$f":"'Population 2016'!Y116*'Prevalence Rates'!Y116","v":28.578885638297873},{"$f":"'Population 2016'!Z116*'Prevalence Rates'!Z116","v":65.917866755319153},{"$f":"'Population 2016'!AA116*'Prevalence Rates'!AA116","v":77.075813459859091},{"$f":"'Population 2016'!AB116*'Prevalence Rates'!AB116","v":31.782377659574468},{"$f":"'Population 2016'!AC116*'Prevalence Rates'!AC116","v":111.34970744680849},{"$f":"'Population 2016'!AD116*'Prevalence Rates'!AD116","v":34.489100000000001},{"$f":"'Population 2016'!AE116*'Prevalence Rates'!AE116","v":24.656365957446809},{"$f":"'Population 2016'!AF116*'Prevalence Rates'!AF116","v":2.5089999999999999},{"$f":"'Population 2016'!AG116*'Prevalence Rates'!AG116","v":13.172562442183166},{"$f":"'Population 2016'!AH116*'Prevalence Rates'!AH116","v":97.212868085106393},{"$f":"'Population 2016'!AI116*'Prevalence Rates'!AI116","v":72.54659547872339},{"$f":"'Population 2016'!AJ116*'Prevalence Rates'!AJ116","v":13.413500000000001},{"$f":"'Population 2016'!AK116*'Prevalence Rates'!AK116","v":7.5656000000000008},{"$f":"'Population 2016'!AL116*'Prevalence Rates'!AL116","v":14.521094148936172},{"$f":"'Population 2016'!AM116*'Prevalence Rates'!AM116","v":47.785978723404249},{"$f":"'Population 2016'!AN116*'Prevalence Rates'!AN116","v":1.1579999999999999},{"$f":"'Population 2016'!AO116*'Prevalence Rates'!AO116","v":1.1579999999999999},{"$f":"'Population 2016'!AP116*'Prevalence Rates'!AP116","v":7.2485872340425539},{"$f":"'Population 2016'!AQ116*'Prevalence Rates'!AQ116","v":18.747280851063827},{"$f":"'Population 2016'!AR116*'Prevalence Rates'!AR116","v":568.57799999999997},{"$f":"'Population 2016'!AS116*'Prevalence Rates'!AS116","v":14.494864627659576},{"$f":"'Population 2016'!AT116*'Prevalence Rates'!AT116","v":9.6500000000000002E-2},{"$f":"'Population 2016'!AU116*'Prevalence Rates'!AU116","v":9.6500000000000002E-2},{"$f":"'Population 2016'!AV116*'Prevalence Rates'!AV116","v":28.342049999999993},{"$f":"'Population 2016'!AW116*'Prevalence Rates'!AW116","v":45.997238297872343},{"$f":"'Population 2016'!AX116*'Prevalence Rates'!AX116","v":6.2725},{"$f":"'Population 2016'!AY116*'Prevalence Rates'!AY116","v":49.73799618119525},{"$f":"'Population 2016'!AZ116*'Prevalence Rates'!AZ116","v":36.520732978723409},{"$f":"'Population 2016'!BA116*'Prevalence Rates'!BA116","v":13.125745212765956},{"$f":"'Population 2016'!BB116*'Prevalence Rates'!BB116","v":21.297755319148933},{"$f":"'Population 2016'!BC116*'Prevalence Rates'!BC116","v":5.5004999999999997},114]
[null,"Male 0-4",{"$f":"'Population 2016'!C117*'Prevalence Rates'!C117","v":0},{"$f":"'Population 2016'!D117*'Prevalence Rates'!D117","v":0},{"$f":"'Population 2016'!E117*'Prevalence Rates'!E117","v":0},{"$f":"'Population 2016'!F117*'Prevalence Rates'!F117","v":0},{"$f":"'Population 2016'!G117*'Prevalence Rates'!G117","v":0},{"$f":"'Population 2016'!H117*'Prevalence Rates'!H117","v":0},{"$f":"'Population 2016'!I117*'Prevalence Rates'!I117","v":0},{"$f":"'Population 2016'!J117*'Prevalence Rates'!J117","v":0},{"$f":"'Population 2016'!K117*'Prevalence Rates'!K117","v":0},{"$f":"'Population 2016'!L117*'Prevalence Rates'!L117","v":0},{"$f":"'Population 2016'!M117*'Prevalence Rates'!M117","v":0},{"$f":"'Population 2016'!N117*'Prevalence Rates'!N117","v":0},{"$f":"'Population 2016'!O117*'Prevalence Rates'!O117","v":0},{"$f":"'Population 2016'!P117*'Prevalence Rates'!P117","v":0},{"$f":"'Population 2016'!Q117*'Prevalence Rates'!Q117","v":0},{"$f":"'Population 2016'!R117*'Prevalence Rates'!R117","v":0},{"$f":"'Population 2016'!S117*'Prevalence Rates'!S117","v":0},{"$f":"'Population 2016'!T117*'Prevalence Rates'!T117","v":0},{"$f":"'Population 2016'!U117*'Prevalence Rates'!U117","v":0},{"$f":"'Population 2016'!V117*'Prevalence Rates'!V117","v":0},{"$f":"'Population 2016'!W117*'Prevalence Rates'!W117","v":0},{"$f":"'Population 2016'!X117*'Prevalence Rates'!X117","v":0},{"$f":"'Population 2016'!Y117*'Prevalence Rates'!Y117","v":0},{"$f":"'Population 2016'!Z117*'Prevalence Rates'!Z117","v":0},{"$f":"'Population 2016'!AA117*'Prevalence Rates'!AA117","v":0},{"$f":"'Population 2016'!AB117*'Prevalence Rates'!AB117","v":0},{"$f":"'Population 2016'!AC117*'Prevalence Rates'!AC117","v":0},{"$f":"'Population 2016'!AD117*'Prevalence Rates'!AD117","v":0},{"$f":"'Population 2016'!AE117*'Prevalence Rates'!AE117","v":0},{"$f":"'Population 2016'!AF117*'Prevalence Rates'!AF117","v":0},{"$f":"'Population 2016'!AG117*'Prevalence Rates'!AG117","v":0},{"$f":"'Population 2016'!AH117*'Prevalence Rates'!AH117","v":0},{"$f":"'Population 2016'!AI117*'Prevalence Rates'!AI117","v":0},{"$f":"'Population 2016'!AJ117*'Prevalence Rates'!AJ117","v":0},{"$f":"'Population 2016'!AK117*'Prevalence Rates'!AK117","v":0},{"$f":"'Population 2016'!AL117*'Prevalence Rates'!AL117","v":0},{"$f":"'Population 2016'!AM117*'Prevalence Rates'!AM117","v":0},{"$f":"'Population 2016'!AN117*'Prevalence Rates'!AN117","v":0},{"$f":"'Population 2016'!AO117*'Prevalence Rates'!AO117","v":0},{"$f":"'Population 2016'!AP117*'Prevalence Rates'!AP117","v":0},{"$f":"'Population 2016'!AQ117*'Prevalence Rates'!AQ117","v":0},{"$f":"'Population 2016'!AR117*'Prevalence Rates'!AR117","v":0},{"$f":"'Population 2016'!AS117*'Prevalence Rates'!AS117","v":0},{"$f":"'Population 2016'!AT117*'Prevalence Rates'!AT117","v":0},{"$f":"'Population 2016'!AU117*'Prevalence Rates'!AU117","v":0},{"$f":"'Population 2016'!AV117*'Prevalence Rates'!AV117","v":0},{"$f":"'Population 2016'!AW117*'Prevalence Rates'!AW117","v":0},{"$f":"'Population 2016'!AX117*'Prevalence Rates'!AX117","v":0},{"$f":"'Population 2016'!AY117*'Prevalence Rates'!AY117","v":0},{"$f":"'Population 2016'!AZ117*'Prevalence Rates'!AZ117","v":0},{"$f":"'Population 2016'!BA117*'Prevalence Rates'!BA117","v":0},{"$f":"'Population 2016'!BB117*'Prevalence Rates'!BB117","v":0},{"$f":"'Population 2016'!BC117*'Prevalence Rates'!BC117","v":0},115]
[null,"Male 5-9",{"$f":"'Population 2016'!C118*'Prevalence Rates'!C118","v":0},{"$f":"'Population 2016'!D118*'Prevalence Rates'!D118","v":0},{"$f":"'Population 2016'!E118*'Prevalence Rates'!E118","v":0},{"$f":"'Population 2016'!F118*'Prevalence Rates'!F118","v":0},{"$f":"'Population 2016'!G118*'Prevalence Rates'!G118","v":0},{"$f":"'Population 2016'!H118*'Prevalence Rates'!H118","v":0},{"$f":"'Population 2016'!I118*'Prevalence Rates'!I118","v":0},{"$f":"'Population 2016'!J118*'Prevalence Rates'!J118","v":0},{"$f":"'Population 2016'!K118*'Prevalence Rates'!K118","v":0},{"$f":"'Population 2016'!L118*'Prevalence Rates'!L118","v":0},{"$f":"'Population 2016'!M118*'Prevalence Rates'!M118","v":0},{"$f":"'Population 2016'!N118*'Prevalence Rates'!N118","v":0},{"$f":"'Population 2016'!O118*'Prevalence Rates'!O118","v":0},{"$f":"'Population 2016'!P118*'Prevalence Rates'!P118","v":0},{"$f":"'Population 2016'!Q118*'Prevalence Rates'!Q118","v":0},{"$f":"'Population 2016'!R118*'Prevalence Rates'!R118","v":0},{"$f":"'Population 2016'!S118*'Prevalence Rates'!S118","v":0},{"$f":"'Population 2016'!T118*'Prevalence Rates'!T118","v":0},{"$f":"'Population 2016'!U118*'Prevalence Rates'!U118","v":0},{"$f":"'Population 2016'!V118*'Prevalence Rates'!V118","v":0},{"$f":"'Population 2016'!W118*'Prevalence Rates'!W118","v":0},{"$f":"'Population 2016'!X118*'Prevalence Rates'!X118","v":0},{"$f":"'Population 2016'!Y118*'Prevalence Rates'!Y118","v":0},{"$f":"'Population 2016'!Z118*'Prevalence Rates'!Z118","v":0},{"$f":"'Population 2016'!AA118*'Prevalence Rates'!AA118","v":0},{"$f":"'Population 2016'!AB118*'Prevalence Rates'!AB118","v":0},{"$f":"'Population 2016'!AC118*'Prevalence Rates'!AC118","v":0},{"$f":"'Population 2016'!AD118*'Prevalence Rates'!AD118","v":0},{"$f":"'Population 2016'!AE118*'Prevalence Rates'!AE118","v":0},{"$f":"'Population 2016'!AF118*'Prevalence Rates'!AF118","v":0},{"$f":"'Population 2016'!AG118*'Prevalence Rates'!AG118","v":0},{"$f":"'Population 2016'!AH118*'Prevalence Rates'!AH118","v":0},{"$f":"'Population 2016'!AI118*'Prevalence Rates'!AI118","v":0},{"$f":"'Population 2016'!AJ118*'Prevalence Rates'!AJ118","v":0},{"$f":"'Population 2016'!AK118*'Prevalence Rates'!AK118","v":0},{"$f":"'Population 2016'!AL118*'Prevalence Rates'!AL118","v":0},{"$f":"'Population 2016'!AM118*'Prevalence Rates'!AM118","v":0},{"$f":"'Population 2016'!AN118*'Prevalence Rates'!AN118","v":0},{"$f":"'Population 2016'!AO118*'Prevalence Rates'!AO118","v":0},{"$f":"'Population 2016'!AP118*'Prevalence Rates'!AP118","v":0},{"$f":"'Population 2016'!AQ118*'Prevalence Rates'!AQ118","v":0},{"$f":"'Population 2016'!AR118*'Prevalence Rates'!AR118","v":0},{"$f":"'Population 2016'!AS118*'Prevalence Rates'!AS118","v":0},{"$f":"'Population 2016'!AT118*'Prevalence Rates'!AT118","v":0},{"$f":"'Population 2016'!AU118*'Prevalence Rates'!AU118","v":0},{"$f":"'Population 2016'!AV118*'Prevalence Rates'!AV118","v":0},{"$f":"'Population 2016'!AW118*'Prevalence Rates'!AW118","v":0},{"$f":"'Population 2016'!AX118*'Prevalence Rates'!AX118","v":0},{"$f":"'Population 2016'!AY118*'Prevalence Rates'!AY118","v":0},{"$f":"'Population 2016'!AZ118*'Prevalence Rates'!AZ118","v":0},{"$f":"'Population 2016'!BA118*'Prevalence Rates'!BA118","v":0},{"$f":"'Population 2016'!BB118*'Prevalence Rates'!BB118","v":0},{"$f":"'Population 2016'!BC118*'Prevalence Rates'!BC118","v":0},116]
[null,"Male 10-15",{"$f":"'Population 2016'!C119*'Prevalence Rates'!C119","v":0},{"$f":"'Population 2016'!D119*'Prevalence Rates'!D119","v":0},{"$f":"'Population 2016'!E119*'Prevalence Rates'!E119","v":0},{"$f":"'Population 2016'!F119*'Prevalence Rates'!F119","v":0},{"$f":"'Population 2016'!G119*'Prevalence Rates'!G119","v":0},{"$f":"'Population 2016'!H119*'Prevalence Rates'!H119","v":0},{"$f":"'Population 2016'!I119*'Prevalence Rates'!I119","v":0},{"$f":"'Population 2016'!J119*'Prevalence Rates'!J119","v":0},{"$f":"'Population 2016'!K119*'Prevalence Rates'!K119","v":0},{"$f":"'Population 2016'!L119*'Prevalence Rates'!L119","v":0},{"$f":"'Population 2016'!M119*'Prevalence Rates'!M119","v":0},{"$f":"'Population 2016'!N119*'Prevalence Rates'!N119","v":0},{"$f":"'Population 2016'!O119*'Prevalence Rates'!O119","v":0},{"$f":"'Population 2016'!P119*'Prevalence Rates'!P119","v":0},{"$f":"'Population 2016'!Q119*'Prevalence Rates'!Q119","v":0},{"$f":"'Population 2016'!R119*'Prevalence Rates'!R119","v":0},{"$f":"'Population 2016'!S119*'Prevalence Rates'!S119","v":0},{"$f":"'Population 2016'!T119*'Prevalence Rates'!T119","v":0},{"$f":"'Population 2016'!U119*'Prevalence Rates'!U119","v":0},{"$f":"'Population 2016'!V119*'Prevalence Rates'!V119","v":0},{"$f":"'Population 2016'!W119*'Prevalence Rates'!W119","v":0},{"$f":"'Population 2016'!X119*'Prevalence Rates'!X119","v":0},{"$f":"'Population 2016'!Y119*'Prevalence Rates'!Y119","v":0},{"$f":"'Population 2016'!Z119*'Prevalence Rates'!Z119","v":0},{"$f":"'Population 2016'!AA119*'Prevalence Rates'!AA119","v":0},{"$f":"'Population 2016'!AB119*'Prevalence Rates'!AB119","v":0},{"$f":"'Population 2016'!AC119*'Prevalence Rates'!AC119","v":0},{"$f":"'Population 2016'!AD119*'Prevalence Rates'!AD119","v":0},{"$f":"'Population 2016'!AE119*'Prevalence Rates'!AE119","v":0},{"$f":"'Population 2016'!AF119*'Prevalence Rates'!AF119","v":0},{"$f":"'Population 2016'!AG119*'Prevalence Rates'!AG119","v":0},{"$f":"'Population 2016'!AH119*'Prevalence Rates'!AH119","v":0},{"$f":"'Population 2016'!AI119*'Prevalence Rates'!AI119","v":0},{"$f":"'Population 2016'!AJ119*'Prevalence Rates'!AJ119","v":0},{"$f":"'Population 2016'!AK119*'Prevalence Rates'!AK119","v":0},{"$f":"'Population 2016'!AL119*'Prevalence Rates'!AL119","v":0},{"$f":"'Population 2016'!AM119*'Prevalence Rates'!AM119","v":0},{"$f":"'Population 2016'!AN119*'Prevalence Rates'!AN119","v":0},{"$f":"'Population 2016'!AO119*'Prevalence Rates'!AO119","v":0},{"$f":"'Population 2016'!AP119*'Prevalence Rates'!AP119","v":0},{"$f":"'Population 2016'!AQ119*'Prevalence Rates'!AQ119","v":0},{"$f":"'Population 2016'!AR119*'Prevalence Rates'!AR119","v":0},{"$f":"'Population 2016'!AS119*'Prevalence Rates'!AS119","v":0},{"$f":"'Population 2016'!AT119*'Prevalence Rates'!AT119","v":0},{"$f":"'Population 2016'!AU119*'Prevalence Rates'!AU119","v":0},{"$f":"'Population 2016'!AV119*'Prevalence Rates'!AV119","v":0},{"$f":"'Population 2016'!AW119*'Prevalence Rates'!AW119","v":0},{"$f":"'Population 2016'!AX119*'Prevalence Rates'!AX119","v":0},{"$f":"'Population 2016'!AY119*'Prevalence Rates'!AY119","v":0},{"$f":"'Population 2016'!AZ119*'Prevalence Rates'!AZ119","v":0},{"$f":"'Population 2016'!BA119*'Prevalence Rates'!BA119","v":0},{"$f":"'Population 2016'!BB119*'Prevalence Rates'!BB119","v":0},{"$f":"'Population 2016'!BC119*'Prevalence Rates'!BC119","v":0},117]
[null,"Male 16-19",{"$f":"'Population 2016'!C120*'Prevalence Rates'!C120","v":299.01478155339805},{"$f":"'Population 2016'!D120*'Prevalence Rates'!D120","v":153.52275064847822},{"$f":"'Population 2016'!E120*'Prevalence Rates'!E120","v":116.69430935569287},{"$f":"'Population 2016'!F120*'Prevalence Rates'!F120","v":128.72729655781114},{"$f":"'Population 2016'!G120*'Prevalence Rates'!G120","v":86.883200000000002},{"$f":"'Population 2016'!H120*'Prevalence Rates'!H120","v":604.06768720211824},{"$f":"'Population 2016'!I120*'Prevalence Rates'!I120","v":76.833659752868499},{"$f":"'Population 2016'!J120*'Prevalence Rates'!J120","v":177.48179999999999},{"$f":"'Population 2016'!K120*'Prevalence Rates'!K120","v":87.454800000000006},{"$f":"'Population 2016'!L120*'Prevalence Rates'!L120","v":266.9144974404237},{"$f":"'Population 2016'!M120*'Prevalence Rates'!M120","v":266.9144974404237},{"$f":"'Population 2016'!N120*'Prevalence Rates'!N120","v":183.31408755516327},{"$f":"'Population 2016'!O120*'Prevalence Rates'!O120","v":211.44432462488967},{"$f":"'Population 2016'!P120*'Prevalence Rates'!P120","v":103.1563947043248},{"$f":"'Population 2016'!Q120*'Prevalence Rates'!Q120","v":166.32803248014122},{"$f":"'Population 2016'!R120*'Prevalence Rates'!R120","v":35.908890732568409},{"$f":"'Population 2016'!S120*'Prevalence Rates'!S120","v":1001.101161689547},{"$f":"'Population 2016'!T120*'Prevalence Rates'!T120","v":370.2276659311562},{"$f":"'Population 2016'!U120*'Prevalence Rates'!U120","v":40.012},{"$f":"'Population 2016'!V120*'Prevalence Rates'!V120","v":291.2781276257723},{"$f":"'Population 2016'!W120*'Prevalence Rates'!W120","v":511.61920697263901},{"$f":"'Population 2016'!X120*'Prevalence Rates'!X120","v":511.61920697263901},{"$f":"'Population 2016'!Y120*'Prevalence Rates'!Y120","v":418.55006398940861},{"$f":"'Population 2016'!Z120*'Prevalence Rates'!Z120","v":780.77659117387464},{"$f":"'Population 2016'!AA120*'Prevalence Rates'!AA120","v":853.2913534914295},{"$f":"'Population 2016'!AB120*'Prevalence Rates'!AB120","v":508.2467417475728},{"$f":"'Population 2016'!AC120*'Prevalence Rates'!AC120","v":1376.3280437775816},{"$f":"'Population 2016'!AD120*'Prevalence Rates'!AD120","v":399.29211332744921},{"$f":"'Population 2016'!AE120*'Prevalence Rates'!AE120","v":313.33315975286848},{"$f":"'Population 2016'!AF120*'Prevalence Rates'!AF120","v":60.875399999999999},{"$f":"'Population 2016'!AG120*'Prevalence Rates'!AG120","v":120.66245903526614},{"$f":"'Population 2016'!AH120*'Prevalence Rates'!AH120","v":1108.1169779346867},{"$f":"'Population 2016'!AI120*'Prevalence Rates'!AI120","v":997.30477563989416},{"$f":"'Population 2016'!AJ120*'Prevalence Rates'!AJ120","v":204.9186},{"$f":"'Population 2016'!AK120*'Prevalence Rates'!AK120","v":106.74188561341573},{"$f":"'Population 2016'!AL120*'Prevalence Rates'!AL120","v":240.9959941747573},{"$f":"'Population 2016'!AM120*'Prevalence Rates'!AM120","v":610.43134077669902},{"$f":"'Population 2016'!AN120*'Prevalence Rates'!AN120","v":19.148599999999998},{"$f":"'Population 2016'!AO120*'Prevalence Rates'!AO120","v":19.148599999999998},{"$f":"'Population 2016'!AP120*'Prevalence Rates'!AP120","v":96.190744924977921},{"$f":"'Population 2016'!AQ120*'Prevalence Rates'!AQ120","v":217.44637687555166},{"$f":"'Population 2016'!AR120*'Prevalence Rates'!AR120","v":6771.4593999999997},{"$f":"'Population 2016'!AS120*'Prevalence Rates'!AS120","v":76.833659752868499},{"$f":"'Population 2016'!AT120*'Prevalence Rates'!AT120","v":2.2864},{"$f":"'Population 2016'!AU120*'Prevalence Rates'!AU120","v":2.2864},{"$f":"'Population 2016'!AV120*'Prevalence Rates'!AV120","v":144.94070785525153},{"$f":"'Population 2016'!AW120*'Prevalence Rates'!AW120","v":498.59386566637249},{"$f":"'Population 2016'!AX120*'Prevalence Rates'!AX120","v":90.027000000000001},{"$f":"'Population 2016'!AY120*'Prevalence Rates'!AY120","v":401.38663404303202},{"$f":"'Population 2016'!AZ120*'Prevalence Rates'!AZ120","v":400.60608702559574},{"$f":"'Population 2016'!BA120*'Prevalence Rates'!BA120","v":191.91608737864078},{"$f":"'Population 2016'!BB120*'Prevalence Rates'!BB120","v":251.99462753751104},{"$f":"'Population 2016'!BC120*'Prevalence Rates'!BC120","v":40.012},118]
[null,"Male 20-24",{"$f":"'Population 2016'!C121*'Prevalence Rates'!C121","v":719.89829029126201},{"$f":"'Population 2016'!D121*'Prevalence Rates'!D121","v":322.85265858594795},{"$f":"'Population 2016'!E121*'Prevalence Rates'!E121","v":168.03980547219774},{"$f":"'Population 2016'!F121*'Prevalence Rates'!F121","v":200.68255463371585},{"$f":"'Population 2016'!G121*'Prevalence Rates'!G121","v":113.7484},{"$f":"'Population 2016'!H121*'Prevalence Rates'!H121","v":775.59674995586931},{"$f":"'Population 2016'!I121*'Prevalence Rates'!I121","v":113.67171579876435},{"$f":"'Population 2016'!J121*'Prevalence Rates'!J121","v":294.94560000000001},{"$f":"'Population 2016'!K121*'Prevalence Rates'!K121","v":116.0348},{"$f":"'Population 2016'!L121*'Prevalence Rates'!L121","v":360.21646778464259},{"$f":"'Population 2016'!M121*'Prevalence Rates'!M121","v":360.21646778464259},{"$f":"'Population 2016'!N121*'Prevalence Rates'!N121","v":545.71693795233887},{"$f":"'Population 2016'!O121*'Prevalence Rates'!O121","v":284.44642294792584},{"$f":"'Population 2016'!P121*'Prevalence Rates'!P121","v":151.6571339805825},{"$f":"'Population 2016'!Q121*'Prevalence Rates'!Q121","v":233.35166398940865},{"$f":"'Population 2016'!R121*'Prevalence Rates'!R121","v":48.592306266548988},{"$f":"'Population 2016'!S121*'Prevalence Rates'!S121","v":1480.2188619654444},{"$f":"'Population 2016'!T121*'Prevalence Rates'!T121","v":714.82981774051188},{"$f":"'Population 2016'!U121*'Prevalence Rates'!U121","v":44.584800000000001},{"$f":"'Population 2016'!V121*'Prevalence Rates'!V121","v":350.11950441306271},{"$f":"'Population 2016'!W121*'Prevalence Rates'!W121","v":635.22140070608998},{"$f":"'Population 2016'!X121*'Prevalence Rates'!X121","v":635.22140070608998},{"$f":"'Population 2016'!Y121*'Prevalence Rates'!Y121","v":572.79125375110323},{"$f":"'Population 2016'!Z121*'Prevalence Rates'!Z121","v":1472.04380070609},{"$f":"'Population 2016'!AA121*'Prevalence Rates'!AA121","v":1272.0001327757464},{"$f":"'Population 2016'!AB121*'Prevalence Rates'!AB121","v":996.41533980582517},{"$f":"'Population 2016'!AC121*'Prevalence Rates'!AC121","v":2280.5881447484553},{"$f":"'Population 2016'!AD121*'Prevalence Rates'!AD121","v":516.83789479258598},{"$f":"'Population 2016'!AE121*'Prevalence Rates'!AE121","v":404.18123565754627},{"$f":"'Population 2016'!AF121*'Prevalence Rates'!AF121","v":92.027599999999993},{"$f":"'Population 2016'!AG121*'Prevalence Rates'!AG121","v":155.64743236501786},{"$f":"'Population 2016'!AH121*'Prevalence Rates'!AH121","v":1448.1942573698147},{"$f":"'Population 2016'!AI121*'Prevalence Rates'!AI121","v":1572.8094897616947},{"$f":"'Population 2016'!AJ121*'Prevalence Rates'!AJ121","v":253.21879999999999},{"$f":"'Population 2016'!AK121*'Prevalence Rates'!AK121","v":149.93224395410417},{"$f":"'Population 2016'!AL121*'Prevalence Rates'!AL121","v":302.42634563106799},{"$f":"'Population 2016'!AM121*'Prevalence Rates'!AM121","v":781.88220582524275},{"$f":"'Population 2016'!AN121*'Prevalence Rates'!AN121","v":26.0078},{"$f":"'Population 2016'!AO121*'Prevalence Rates'!AO121","v":26.0078},{"$f":"'Population 2016'!AP121*'Prevalence Rates'!AP121","v":169.34633777581641},{"$f":"'Population 2016'!AQ121*'Prevalence Rates'!AQ121","v":292.72781218005298},{"$f":"'Population 2016'!AR121*'Prevalence Rates'!AR121","v":10278.511200000001},{"$f":"'Population 2016'!AS121*'Prevalence Rates'!AS121","v":113.67171579876435},{"$f":"'Population 2016'!AT121*'Prevalence Rates'!AT121","v":12.0036},{"$f":"'Population 2016'!AU121*'Prevalence Rates'!AU121","v":12.0036},{"$f":"'Population 2016'!AV121*'Prevalence Rates'!AV121","v":180.3857096204766},{"$f":"'Population 2016'!AW121*'Prevalence Rates'!AW121","v":667.1288391879965},{"$f":"'Population 2016'!AX121*'Prevalence Rates'!AX121","v":178.91079999999999},{"$f":"'Population 2016'!AY121*'Prevalence Rates'!AY121","v":674.06997552662767},{"$f":"'Population 2016'!AZ121*'Prevalence Rates'!AZ121","v":887.69984501323916},{"$f":"'Population 2016'!BA121*'Prevalence Rates'!BA121","v":274.87124007060902},{"$f":"'Population 2016'!BB121*'Prevalence Rates'!BB121","v":354.41079267431599},{"$f":"'Population 2016'!BC121*'Prevalence Rates'!BC121","v":44.584800000000001},119]
[null,"Male 25-29",{"$f":"'Population 2016'!C122*'Prevalence Rates'!C122","v":961.80160485436897},{"$f":"'Population 2016'!D122*'Prevalence Rates'!D122","v":429.84794487375513},{"$f":"'Population 2016'!E122*'Prevalence Rates'!E122","v":220.90516654898502},{"$f":"'Population 2016'!F122*'Prevalence Rates'!F122","v":262.5982800529568},{"$f":"'Population 2016'!G122*'Prevalence Rates'!G122","v":116.40720000000002},{"$f":"'Population 2016'!H122*'Prevalence Rates'!H122","v":848.57179991173882},{"$f":"'Population 2016'!I122*'Prevalence Rates'!I122","v":133.78986831421008},{"$f":"'Population 2016'!J122*'Prevalence Rates'!J122","v":332.91180000000003},{"$f":"'Population 2016'!K122*'Prevalence Rates'!K122","v":123.76260000000001},{"$f":"'Population 2016'!L122*'Prevalence Rates'!L122","v":328.07203768755522},{"$f":"'Population 2016'!M122*'Prevalence Rates'!M122","v":328.07203768755522},{"$f":"'Population 2016'!N122*'Prevalence Rates'!N122","v":565.5400498676081},{"$f":"'Population 2016'!O122*'Prevalence Rates'!O122","v":305.918478375993},{"$f":"'Population 2016'!P122*'Prevalence Rates'!P122","v":159.78145101500442},{"$f":"'Population 2016'!Q122*'Prevalence Rates'!Q122","v":260.193852603707},{"$f":"'Population 2016'!R122*'Prevalence Rates'!R122","v":47.553384995586939},{"$f":"'Population 2016'!S122*'Prevalence Rates'!S122","v":1947.8804116399976},{"$f":"'Population 2016'!T122*'Prevalence Rates'!T122","v":1175.6354655781113},{"$f":"'Population 2016'!U122*'Prevalence Rates'!U122","v":56.604600000000005},{"$f":"'Population 2016'!V122*'Prevalence Rates'!V122","v":397.13387793468672},{"$f":"'Population 2016'!W122*'Prevalence Rates'!W122","v":755.25822444836729},{"$f":"'Population 2016'!X122*'Prevalence Rates'!X122","v":755.25822444836729},{"$f":"'Population 2016'!Y122*'Prevalence Rates'!Y122","v":648.30629390997353},{"$f":"'Population 2016'!Z122*'Prevalence Rates'!Z122","v":2265.3669495145632},{"$f":"'Population 2016'!AA122*'Prevalence Rates'!AA122","v":1615.9142614117807},{"$f":"'Population 2016'!AB122*'Prevalence Rates'!AB122","v":1311.1179029126215},{"$f":"'Population 2016'!AC122*'Prevalence Rates'!AC122","v":3108.6118072374225},{"$f":"'Population 2016'!AD122*'Prevalence Rates'!AD122","v":561.03448278905569},{"$f":"'Population 2016'!AE122*'Prevalence Rates'!AE122","v":446.38632391879963},{"$f":"'Population 2016'!AF122*'Prevalence Rates'!AF122","v":102.33600000000001},{"$f":"'Population 2016'!AG122*'Prevalence Rates'!AG122","v":171.90032349668061},{"$f":"'Population 2016'!AH122*'Prevalence Rates'!AH122","v":1651.628975110327},{"$f":"'Population 2016'!AI122*'Prevalence Rates'!AI122","v":2154.1324368932042},{"$f":"'Population 2016'!AJ122*'Prevalence Rates'!AJ122","v":298.05360000000002},{"$f":"'Population 2016'!AK122*'Prevalence Rates'!AK122","v":183.64818428949695},{"$f":"'Population 2016'!AL122*'Prevalence Rates'!AL122","v":315.62707572815538},{"$f":"'Population 2016'!AM122*'Prevalence Rates'!AM122","v":894.66999611650488},{"$f":"'Population 2016'!AN122*'Prevalence Rates'!AN122","v":33.2592},{"$f":"'Population 2016'!AO122*'Prevalence Rates'!AO122","v":33.2592},{"$f":"'Population 2016'!AP122*'Prevalence Rates'!AP122","v":213.85178420123566},{"$f":"'Population 2016'!AQ122*'Prevalence Rates'!AQ122","v":340.97623583406892},{"$f":"'Population 2016'!AR122*'Prevalence Rates'!AR122","v":12667.597800000001},{"$f":"'Population 2016'!AS122*'Prevalence Rates'!AS122","v":133.78986831421008},{"$f":"'Population 2016'!AT122*'Prevalence Rates'!AT122","v":14.710800000000001},{"$f":"'Population 2016'!AU122*'Prevalence Rates'!AU122","v":14.710800000000001},{"$f":"'Population 2016'!AV122*'Prevalence Rates'!AV122","v":210.93957193292147},{"$f":"'Population 2016'!AW122*'Prevalence Rates'!AW122","v":757.95930661959414},{"$f":"'Population 2016'!AX122*'Prevalence Rates'!AX122","v":209.14920000000001},{"$f":"'Population 2016'!AY122*'Prevalence Rates'!AY122","v":783.30516473553928},{"$f":"'Population 2016'!AZ122*'Prevalence Rates'!AZ122","v":1015.1463900264783},{"$f":"'Population 2016'!BA122*'Prevalence Rates'!BA122","v":310.88624536628419},{"$f":"'Population 2016'!BB122*'Prevalence Rates'!BB122","v":388.81230370697261},{"$f":"'Population 2016'!BC122*'Prevalence Rates'!BC122","v":56.604600000000005},120]
[null,"Male 30-34",{"$f":"'Population 2016'!C123*'Prevalence Rates'!C123","v":764.30492330097093},{"$f":"'Population 2016'!D123*'Prevalence Rates'!D123","v":350.31716762505857},{"$f":"'Population 2016'!E123*'Prevalence Rates'!E123","v":196.6332497793469},{"$f":"'Population 2016'!F123*'Prevalence Rates'!F123","v":265.55297237422781},{"$f":"'Population 2016'!G123*'Prevalence Rates'!G123","v":123.76260000000001},{"$f":"'Population 2016'!H123*'Prevalence Rates'!H123","v":807.98937749338052},{"$f":"'Population 2016'!I123*'Prevalence Rates'!I123","v":113.76849717563991},{"$f":"'Population 2016'!J123*'Prevalence Rates'!J123","v":263.83500000000004},{"$f":"'Population 2016'!K123*'Prevalence Rates'!K123","v":117.36660000000001},{"$f":"'Population 2016'!L123*'Prevalence Rates'!L123","v":329.39357661076798},{"$f":"'Population 2016'!M123*'Prevalence Rates'!M123","v":329.39357661076798},{"$f":"'Population 2016'!N123*'Prevalence Rates'!N123","v":434.97485507502211},{"$f":"'Population 2016'!O123*'Prevalence Rates'!O123","v":312.75282736098859},{"$f":"'Population 2016'!P123*'Prevalence Rates'!P123","v":139.94651226831419},{"$f":"'Population 2016'!Q123*'Prevalence Rates'!Q123","v":254.37775472197708},{"$f":"'Population 2016'!R123*'Prevalence Rates'!R123","v":40.549398058252429},{"$f":"'Population 2016'!S123*'Prevalence Rates'!S123","v":1855.7266897902334},{"$f":"'Population 2016'!T123*'Prevalence Rates'!T123","v":1062.0316668137689},{"$f":"'Population 2016'!U123*'Prevalence Rates'!U123","v":46.690800000000003},{"$f":"'Population 2016'!V123*'Prevalence Rates'!V123","v":397.72972771403357},{"$f":"'Population 2016'!W123*'Prevalence Rates'!W123","v":737.75107969991188},{"$f":"'Population 2016'!X123*'Prevalence Rates'!X123","v":737.75107969991188},{"$f":"'Population 2016'!Y123*'Prevalence Rates'!Y123","v":589.86587819947044},{"$f":"'Population 2016'!Z123*'Prevalence Rates'!Z123","v":2101.8133827007941},{"$f":"'Population 2016'!AA123*'Prevalence Rates'!AA123","v":1557.26545482753},{"$f":"'Population 2016'!AB123*'Prevalence Rates'!AB123","v":1089.1332349514564},{"$f":"'Population 2016'!AC123*'Prevalence Rates'!AC123","v":2938.3709486319503},{"$f":"'Population 2016'!AD123*'Prevalence Rates'!AD123","v":554.9325971756399},{"$f":"'Population 2016'!AE123*'Prevalence Rates'!AE123","v":432.20984112974406},{"$f":"'Population 2016'!AF123*'Prevalence Rates'!AF123","v":102.01620000000001},{"$f":"'Population 2016'!AG123*'Prevalence Rates'!AG123","v":166.44105683257226},{"$f":"'Population 2016'!AH123*'Prevalence Rates'!AH123","v":1642.7722368932043},{"$f":"'Population 2016'!AI123*'Prevalence Rates'!AI123","v":2053.9468308031778},{"$f":"'Population 2016'!AJ123*'Prevalence Rates'!AJ123","v":288.45960000000002},{"$f":"'Population 2016'!AK123*'Prevalence Rates'!AK123","v":170.8756601941748},{"$f":"'Population 2016'!AL123*'Prevalence Rates'!AL123","v":286.34208932038837},{"$f":"'Population 2016'!AM123*'Prevalence Rates'!AM123","v":915.36850776699032},{"$f":"'Population 2016'!AN123*'Prevalence Rates'!AN123","v":22.705800000000004},{"$f":"'Population 2016'!AO123*'Prevalence Rates'!AO123","v":22.705800000000004},{"$f":"'Population 2016'!AP123*'Prevalence Rates'!AP123","v":213.00204201235658},{"$f":"'Population 2016'!AQ123*'Prevalence Rates'!AQ123","v":366.48233221535753},{"$f":"'Population 2016'!AR123*'Prevalence Rates'!AR123","v":11879.290800000001},{"$f":"'Population 2016'!AS123*'Prevalence Rates'!AS123","v":113.76849717563991},{"$f":"'Population 2016'!AT123*'Prevalence Rates'!AT123","v":7.6752000000000002},{"$f":"'Population 2016'!AU123*'Prevalence Rates'!AU123","v":7.6752000000000002},{"$f":"'Population 2016'!AV123*'Prevalence Rates'!AV123","v":193.00339276257725},{"$f":"'Population 2016'!AW123*'Prevalence Rates'!AW123","v":728.99270891438664},{"$f":"'Population 2016'!AX123*'Prevalence Rates'!AX123","v":146.4684},{"$f":"'Population 2016'!AY123*'Prevalence Rates'!AY123","v":722.18981391414923},{"$f":"'Population 2016'!AZ123*'Prevalence Rates'!AZ123","v":896.19179814651363},{"$f":"'Population 2016'!BA123*'Prevalence Rates'!BA123","v":301.67752956751985},{"$f":"'Population 2016'!BB123*'Prevalence Rates'!BB123","v":417.78567563989407},{"$f":"'Population 2016'!BC123*'Prevalence Rates'!BC123","v":46.690800000000003},121]
[null,"Male 35-39",{"$f":"'Population 2016'!C124*'Prevalence Rates'!C124","v":633.12411359223313},{"$f":"'Population 2016'!D124*'Prevalence Rates'!D124","v":307.23589767926296},{"$f":"'Population 2016'!E124*'Prevalence Rates'!E124","v":204.03918089143869},{"$f":"'Population 2016'!F124*'Prevalence Rates'!F124","v":241.73480767872911},{"$f":"'Population 2016'!G124*'Prevalence Rates'!G124","v":128.51930000000002},{"$f":"'Population 2016'!H124*'Prevalence Rates'!H124","v":762.72343172992066},{"$f":"'Population 2016'!I124*'Prevalence Rates'!I124","v":118.5128469549868},{"$f":"'Population 2016'!J124*'Prevalence Rates'!J124","v":248.51610000000002},{"$f":"'Population 2016'!K124*'Prevalence Rates'!K124","v":130.90560000000002},{"$f":"'Population 2016'!L124*'Prevalence Rates'!L124","v":331.0521120917918},{"$f":"'Population 2016'!M124*'Prevalence Rates'!M124","v":331.0521120917918},{"$f":"'Population 2016'!N124*'Prevalence Rates'!N124","v":316.74048018534864},{"$f":"'Population 2016'!O124*'Prevalence Rates'!O124","v":294.18616910856139},{"$f":"'Population 2016'!P124*'Prevalence Rates'!P124","v":129.79835198587821},{"$f":"'Population 2016'!Q124*'Prevalence Rates'!Q124","v":260.39314024713156},{"$f":"'Population 2016'!R124*'Prevalence Rates'!R124","v":39.098792850838493},{"$f":"'Population 2016'!S124*'Prevalence Rates'!S124","v":1734.1908143954392},{"$f":"'Population 2016'!T124*'Prevalence Rates'!T124","v":867.78080825242728},{"$f":"'Population 2016'!U124*'Prevalence Rates'!U124","v":48.407800000000002},{"$f":"'Population 2016'!V124*'Prevalence Rates'!V124","v":423.97143270079437},{"$f":"'Population 2016'!W124*'Prevalence Rates'!W124","v":770.75067894969118},{"$f":"'Population 2016'!X124*'Prevalence Rates'!X124","v":770.75067894969118},{"$f":"'Population 2016'!Y124*'Prevalence Rates'!Y124","v":600.838506619594},{"$f":"'Population 2016'!Z124*'Prevalence Rates'!Z124","v":1751.443705207414},{"$f":"'Population 2016'!AA124*'Prevalence Rates'!AA124","v":1420.2985280612206},{"$f":"'Population 2016'!AB124*'Prevalence Rates'!AB124","v":976.19197281553409},{"$f":"'Population 2016'!AC124*'Prevalence Rates'!AC124","v":2560.7469246248897},{"$f":"'Population 2016'!AD124*'Prevalence Rates'!AD124","v":562.63754748455426},{"$f":"'Population 2016'!AE124*'Prevalence Rates'!AE124","v":434.92581641659314},{"$f":"'Population 2016'!AF124*'Prevalence Rates'!AF124","v":104.65630000000002},{"$f":"'Population 2016'!AG124*'Prevalence Rates'!AG124","v":167.48696035918496},{"$f":"'Population 2016'!AH124*'Prevalence Rates'!AH124","v":1604.334974757282},{"$f":"'Population 2016'!AI124*'Prevalence Rates'!AI124","v":1838.8227238305385},{"$f":"'Population 2016'!AJ124*'Prevalence Rates'!AJ124","v":302.03740000000005},{"$f":"'Population 2016'!AK124*'Prevalence Rates'!AK124","v":171.47841676963819},{"$f":"'Population 2016'!AL124*'Prevalence Rates'!AL124","v":261.44382233009713},{"$f":"'Population 2016'!AM124*'Prevalence Rates'!AM124","v":873.01676747572833},{"$f":"'Population 2016'!AN124*'Prevalence Rates'!AN124","v":24.544800000000002},{"$f":"'Population 2016'!AO124*'Prevalence Rates'!AO124","v":24.544800000000002},{"$f":"'Population 2016'!AP124*'Prevalence Rates'!AP124","v":204.71240573698148},{"$f":"'Population 2016'!AQ124*'Prevalence Rates'!AQ124","v":309.81100317740515},{"$f":"'Population 2016'!AR124*'Prevalence Rates'!AR124","v":11025.046900000001},{"$f":"'Population 2016'!AS124*'Prevalence Rates'!AS124","v":118.5128469549868},{"$f":"'Population 2016'!AT124*'Prevalence Rates'!AT124","v":11.249700000000001},{"$f":"'Population 2016'!AU124*'Prevalence Rates'!AU124","v":11.249700000000001},{"$f":"'Population 2016'!AV124*'Prevalence Rates'!AV124","v":188.50295675198589},{"$f":"'Population 2016'!AW124*'Prevalence Rates'!AW124","v":732.3822786407768},{"$f":"'Population 2016'!AX124*'Prevalence Rates'!AX124","v":117.61050000000002},{"$f":"'Population 2016'!AY124*'Prevalence Rates'!AY124","v":673.08502837927472},{"$f":"'Population 2016'!AZ124*'Prevalence Rates'!AZ124","v":755.44538221535743},{"$f":"'Population 2016'!BA124*'Prevalence Rates'!BA124","v":316.08470653133276},{"$f":"'Population 2016'!BB124*'Prevalence Rates'!BB124","v":389.6473460282437},{"$f":"'Population 2016'!BC124*'Prevalence Rates'!BC124","v":48.407800000000002},122]
[null,"Male 40-44",{"$f":"'Population 2016'!C125*'Prevalence Rates'!C125","v":550.99534611650495},{"$f":"'Population 2016'!D125*'Prevalence Rates'!D125","v":273.18900570685901},{"$f":"'Population 2016'!E125*'Prevalence Rates'!E125","v":191.59377338923215},{"$f":"'Population 2016'!F125*'Prevalence Rates'!F125","v":228.3488411297441},{"$f":"'Population 2016'!G125*'Prevalence Rates'!G125","v":122.72400000000002},{"$f":"'Population 2016'!H125*'Prevalence Rates'!H125","v":889.66670860547231},{"$f":"'Population 2016'!I125*'Prevalence Rates'!I125","v":129.05848164165934},{"$f":"'Population 2016'!J125*'Prevalence Rates'!J125","v":267.60650000000004},{"$f":"'Population 2016'!K125*'Prevalence Rates'!K125","v":142.15530000000001},{"$f":"'Population 2016'!L125*'Prevalence Rates'!L125","v":395.14943592233021},{"$f":"'Population 2016'!M125*'Prevalence Rates'!M125","v":395.14943592233021},{"$f":"'Population 2016'!N125*'Prevalence Rates'!N125","v":297.35611787290384},{"$f":"'Population 2016'!O125*'Prevalence Rates'!O125","v":327.49026372462492},{"$f":"'Population 2016'!P125*'Prevalence Rates'!P125","v":145.65606919682261},{"$f":"'Population 2016'!Q125*'Prevalence Rates'!Q125","v":268.22451288614303},{"$f":"'Population 2016'!R125*'Prevalence Rates'!R125","v":52.066231685789944},{"$f":"'Population 2016'!S125*'Prevalence Rates'!S125","v":1723.7232668216072},{"$f":"'Population 2016'!T125*'Prevalence Rates'!T125","v":742.89722330097095},{"$f":"'Population 2016'!U125*'Prevalence Rates'!U125","v":67.839100000000002},{"$f":"'Population 2016'!V125*'Prevalence Rates'!V125","v":459.22299002647839},{"$f":"'Population 2016'!W125*'Prevalence Rates'!W125","v":845.39965511915273},{"$f":"'Population 2016'!X125*'Prevalence Rates'!X125","v":845.39965511915273},{"$f":"'Population 2016'!Y125*'Prevalence Rates'!Y125","v":649.45286253309803},{"$f":"'Population 2016'!Z125*'Prevalence Rates'!Z125","v":1351.1708401588703},{"$f":"'Population 2016'!AA125*'Prevalence Rates'!AA125","v":1364.6869398492152},{"$f":"'Population 2016'!AB125*'Prevalence Rates'!AB125","v":863.95313009708752},{"$f":"'Population 2016'!AC125*'Prevalence Rates'!AC125","v":2221.5824155339806},{"$f":"'Population 2016'!AD125*'Prevalence Rates'!AD125","v":552.88082700794348},{"$f":"'Population 2016'!AE125*'Prevalence Rates'!AE125","v":431.24000441306271},{"$f":"'Population 2016'!AF125*'Prevalence Rates'!AF125","v":88.974900000000005},{"$f":"'Population 2016'!AG125*'Prevalence Rates'!AG125","v":166.06757933919187},{"$f":"'Population 2016'!AH125*'Prevalence Rates'!AH125","v":1754.0902686672555},{"$f":"'Population 2016'!AI125*'Prevalence Rates'!AI125","v":1749.8767085613417},{"$f":"'Population 2016'!AJ125*'Prevalence Rates'!AJ125","v":301.0147},{"$f":"'Population 2016'!AK125*'Prevalence Rates'!AK125","v":148.29571235657551},{"$f":"'Population 2016'!AL125*'Prevalence Rates'!AL125","v":322.14388058252433},{"$f":"'Population 2016'!AM125*'Prevalence Rates'!AM125","v":965.55456893203905},{"$f":"'Population 2016'!AN125*'Prevalence Rates'!AN125","v":34.771800000000006},{"$f":"'Population 2016'!AO125*'Prevalence Rates'!AO125","v":34.771800000000006},{"$f":"'Population 2016'!AP125*'Prevalence Rates'!AP125","v":152.47752934686673},{"$f":"'Population 2016'!AQ125*'Prevalence Rates'!AQ125","v":328.41397334510151},{"$f":"'Population 2016'!AR125*'Prevalence Rates'!AR125","v":10913.572600000001},{"$f":"'Population 2016'!AS125*'Prevalence Rates'!AS125","v":129.05848164165934},{"$f":"'Population 2016'!AT125*'Prevalence Rates'!AT125","v":9.8861000000000008},{"$f":"'Population 2016'!AU125*'Prevalence Rates'!AU125","v":9.8861000000000008},{"$f":"'Population 2016'!AV125*'Prevalence Rates'!AV125","v":221.35632921447487},{"$f":"'Population 2016'!AW125*'Prevalence Rates'!AW125","v":789.95646743159762},{"$f":"'Population 2016'!AX125*'Prevalence Rates'!AX125","v":125.45120000000001},{"$f":"'Population 2016'!AY125*'Prevalence Rates'!AY125","v":663.89340245267704},{"$f":"'Population 2016'!AZ125*'Prevalence Rates'!AZ125","v":663.38778940864961},{"$f":"'Population 2016'!BA125*'Prevalence Rates'!BA125","v":295.66681244483675},{"$f":"'Population 2016'!BB125*'Prevalence Rates'!BB125","v":421.08386226831431},{"$f":"'Population 2016'!BC125*'Prevalence Rates'!BC125","v":67.839100000000002},123]
[null,"Male 45-49",{"$f":"'Population 2016'!C126*'Prevalence Rates'!C126","v":629.70964563106793},{"$f":"'Population 2016'!D126*'Prevalence Rates'!D126","v":312.50472463080069},{"$f":"'Population 2016'!E126*'Prevalence Rates'!E126","v":219.66083715798766},{"$f":"'Population 2016'!F126*'Prevalence Rates'!F126","v":282.28260105913506},{"$f":"'Population 2016'!G126*'Prevalence Rates'!G126","v":182.76599999999999},{"$f":"'Population 2016'!H126*'Prevalence Rates'!H126","v":1229.5790816416593},{"$f":"'Population 2016'!I126*'Prevalence Rates'!I126","v":165.429865842895},{"$f":"'Population 2016'!J126*'Prevalence Rates'!J126","v":354.88900000000001},{"$f":"'Population 2016'!K126*'Prevalence Rates'!K126","v":195.61099999999999},{"$f":"'Population 2016'!L126*'Prevalence Rates'!L126","v":512.22753618711386},{"$f":"'Population 2016'!M126*'Prevalence Rates'!M126","v":512.22753618711386},{"$f":"'Population 2016'!N126*'Prevalence Rates'!N126","v":380.64086849073254},{"$f":"'Population 2016'!O126*'Prevalence Rates'!O126","v":440.3310052956752},{"$f":"'Population 2016'!P126*'Prevalence Rates'!P126","v":178.93792762577229},{"$f":"'Population 2016'!Q126*'Prevalence Rates'!Q126","v":328.80738217122683},{"$f":"'Population 2016'!R126*'Prevalence Rates'!R126","v":60.071389232127096},{"$f":"'Population 2016'!S126*'Prevalence Rates'!S126","v":1990.0557686087327},{"$f":"'Population 2016'!T126*'Prevalence Rates'!T126","v":733.64935789938215},{"$f":"'Population 2016'!U126*'Prevalence Rates'!U126","v":86.245000000000005},{"$f":"'Population 2016'!V126*'Prevalence Rates'!V126","v":584.64266107678725},{"$f":"'Population 2016'!W126*'Prevalence Rates'!W126","v":1042.7261981465138},{"$f":"'Population 2016'!X126*'Prevalence Rates'!X126","v":1042.7261981465138},{"$f":"'Population 2016'!Y126*'Prevalence Rates'!Y126","v":838.9488812886143},{"$f":"'Population 2016'!Z126*'Prevalence Rates'!Z126","v":1536.8424624889672},{"$f":"'Population 2016'!AA126*'Prevalence Rates'!AA126","v":1682.4946907501451},{"$f":"'Population 2016'!AB126*'Prevalence Rates'!AB126","v":1024.3789514563107},{"$f":"'Population 2016'!AC126*'Prevalence Rates'!AC126","v":2649.6661465136799},{"$f":"'Population 2016'!AD126*'Prevalence Rates'!AD126","v":750.0430503089143},{"$f":"'Population 2016'!AE126*'Prevalence Rates'!AE126","v":567.4247572815533},{"$f":"'Population 2016'!AF126*'Prevalence Rates'!AF126","v":117.07299999999999},{"$f":"'Population 2016'!AG126*'Prevalence Rates'!AG126","v":218.51139721401438},{"$f":"'Population 2016'!AH126*'Prevalence Rates'!AH126","v":2242.02146337158},{"$f":"'Population 2016'!AI126*'Prevalence Rates'!AI126","v":1946.3853097969993},{"$f":"'Population 2016'!AJ126*'Prevalence Rates'!AJ126","v":376.17500000000001},{"$f":"'Population 2016'!AK126*'Prevalence Rates'!AK126","v":206.79170520741397},{"$f":"'Population 2016'!AL126*'Prevalence Rates'!AL126","v":463.03285436893208},{"$f":"'Population 2016'!AM126*'Prevalence Rates'!AM126","v":1175.6185825242719},{"$f":"'Population 2016'!AN126*'Prevalence Rates'!AN126","v":38.534999999999997},{"$f":"'Population 2016'!AO126*'Prevalence Rates'!AO126","v":38.534999999999997},{"$f":"'Population 2016'!AP126*'Prevalence Rates'!AP126","v":198.60708693733451},{"$f":"'Population 2016'!AQ126*'Prevalence Rates'!AQ126","v":408.63295939982351},{"$f":"'Population 2016'!AR126*'Prevalence Rates'!AR126","v":13464.495999999999},{"$f":"'Population 2016'!AS126*'Prevalence Rates'!AS126","v":165.429865842895},{"$f":"'Population 2016'!AT126*'Prevalence Rates'!AT126","v":4.7709999999999999},{"$f":"'Population 2016'!AU126*'Prevalence Rates'!AU126","v":4.7709999999999999},{"$f":"'Population 2016'!AV126*'Prevalence Rates'!AV126","v":304.40269196822589},{"$f":"'Population 2016'!AW126*'Prevalence Rates'!AW126","v":1066.8553954104148},{"$f":"'Population 2016'!AX126*'Prevalence Rates'!AX126","v":159.27799999999999},{"$f":"'Population 2016'!AY126*'Prevalence Rates'!AY126","v":830.51545727015002},{"$f":"'Population 2016'!AZ126*'Prevalence Rates'!AZ126","v":844.13384951456305},{"$f":"'Population 2016'!BA126*'Prevalence Rates'!BA126","v":391.85590909090905},{"$f":"'Population 2016'!BB126*'Prevalence Rates'!BB126","v":496.96302471315096},{"$f":"'Population 2016'!BC126*'Prevalence Rates'!BC126","v":86.245000000000005},124]
[null,"Male 50-54",{"$f":"'Population 2016'!C127*'Prevalence Rates'!C127","v":584.4635339805825},{"$f":"'Population 2016'!D127*'Prevalence Rates'!D127","v":301.55245624420724},{"$f":"'Population 2016'!E127*'Prevalence Rates'!E127","v":231.64874801412182},{"$f":"'Population 2016'!F127*'Prevalence Rates'!F127","v":282.70644880847311},{"$f":"'Population 2016'!G127*'Prevalence Rates'!G127","v":187.904},{"$f":"'Population 2016'!H127*'Prevalence Rates'!H127","v":1300.2006681376874},{"$f":"'Population 2016'!I127*'Prevalence Rates'!I127","v":187.32499514563111},{"$f":"'Population 2016'!J127*'Prevalence Rates'!J127","v":358.55899999999997},{"$f":"'Population 2016'!K127*'Prevalence Rates'!K127","v":182.76599999999999},{"$f":"'Population 2016'!L127*'Prevalence Rates'!L127","v":599.81048278905564},{"$f":"'Population 2016'!M127*'Prevalence Rates'!M127","v":599.81048278905564},{"$f":"'Population 2016'!N127*'Prevalence Rates'!N127","v":353.92922859664606},{"$f":"'Population 2016'!O127*'Prevalence Rates'!O127","v":460.87231597528682},{"$f":"'Population 2016'!P127*'Prevalence Rates'!P127","v":229.52108737864077},{"$f":"'Population 2016'!Q127*'Prevalence Rates'!Q127","v":355.50541747572817},{"$f":"'Population 2016'!R127*'Prevalence Rates'!R127","v":72.339489849955868},{"$f":"'Population 2016'!S127*'Prevalence Rates'!S127","v":2045.317036276731},{"$f":"'Population 2016'!T127*'Prevalence Rates'!T127","v":706.38430273609879},{"$f":"'Population 2016'!U127*'Prevalence Rates'!U127","v":95.052999999999997},{"$f":"'Population 2016'!V127*'Prevalence Rates'!V127","v":568.23163901147393},{"$f":"'Population 2016'!W127*'Prevalence Rates'!W127","v":1087.328359223301},{"$f":"'Population 2016'!X127*'Prevalence Rates'!X127","v":1087.328359223301},{"$f":"'Population 2016'!Y127*'Prevalence Rates'!Y127","v":827.04000661959401},{"$f":"'Population 2016'!Z127*'Prevalence Rates'!Z127","v":1485.6143804060016},{"$f":"'Population 2016'!AA127*'Prevalence Rates'!AA127","v":1734.2874258204788},{"$f":"'Population 2016'!AB127*'Prevalence Rates'!AB127","v":988.97592233009698},{"$f":"'Population 2016'!AC127*'Prevalence Rates'!AC127","v":2770.5889214474842},{"$f":"'Population 2016'!AD127*'Prevalence Rates'!AD127","v":826.68126654898492},{"$f":"'Population 2016'!AE127*'Prevalence Rates'!AE127","v":640.03925419240943},{"$f":"'Population 2016'!AF127*'Prevalence Rates'!AF127","v":153.773},{"$f":"'Population 2016'!AG127*'Prevalence Rates'!AG127","v":246.47474385049313},{"$f":"'Population 2016'!AH127*'Prevalence Rates'!AH127","v":2276.0180370697262},{"$f":"'Population 2016'!AI127*'Prevalence Rates'!AI127","v":1966.9044320388352},{"$f":"'Population 2016'!AJ127*'Prevalence Rates'!AJ127","v":408.10399999999998},{"$f":"'Population 2016'!AK127*'Prevalence Rates'!AK127","v":200.05710944395412},{"$f":"'Population 2016'!AL127*'Prevalence Rates'!AL127","v":469.56759223300975},{"$f":"'Population 2016'!AM127*'Prevalence Rates'!AM127","v":1197.5993883495146},{"$f":"'Population 2016'!AN127*'Prevalence Rates'!AN127","v":43.673000000000002},{"$f":"'Population 2016'!AO127*'Prevalence Rates'!AO127","v":43.673000000000002},{"$f":"'Population 2016'!AP127*'Prevalence Rates'!AP127","v":195.68161429832304},{"$f":"'Population 2016'!AQ127*'Prevalence Rates'!AQ127","v":431.356187113857},{"$f":"'Population 2016'!AR127*'Prevalence Rates'!AR127","v":13879.573},{"$f":"'Population 2016'!AS127*'Prevalence Rates'!AS127","v":187.32499514563111},{"$f":"'Population 2016'!AT127*'Prevalence Rates'!AT127","v":13.212},{"$f":"'Population 2016'!AU127*'Prevalence Rates'!AU127","v":13.212},{"$f":"'Population 2016'!AV127*'Prevalence Rates'!AV127","v":338.03194174757277},{"$f":"'Population 2016'!AW127*'Prevalence Rates'!AW127","v":1078.9748172992056},{"$f":"'Population 2016'!AX127*'Prevalence Rates'!AX127","v":175.79300000000001},{"$f":"'Population 2016'!AY127*'Prevalence Rates'!AY127","v":837.28596371528715},{"$f":"'Population 2016'!AZ127*'Prevalence Rates'!AZ127","v":816.36882568402461},{"$f":"'Population 2016'!BA127*'Prevalence Rates'!BA127","v":412.56889673433358},{"$f":"'Population 2016'!BB127*'Prevalence Rates'!BB127","v":493.10369417475732},{"$f":"'Population 2016'!BC127*'Prevalence Rates'!BC127","v":95.052999999999997},125]
[null,"Male 55-59",{"$f":"'Population 2016'!C128*'Prevalence Rates'!C128","v":444.58096601941742},{"$f":"'Population 2016'!D128*'Prevalence Rates'!D128","v":229.46309379873378},{"$f":"'Population 2016'!E128*'Prevalence Rates'!E128","v":176.40674854368933},{"$f":"'Population 2016'!F128*'Prevalence Rates'!F128","v":184.52898932038838},{"$f":"'Population 2016'!G128*'Prevalence Rates'!G128","v":153.81960000000001},{"$f":"'Population 2016'!H128*'Prevalence Rates'!H128","v":929.87082524271841},{"$f":"'Population 2016'!I128*'Prevalence Rates'!I128","v":140.25919514563108},{"$f":"'Population 2016'!J128*'Prevalence Rates'!J128","v":258.54180000000002},{"$f":"'Population 2016'!K128*'Prevalence Rates'!K128","v":127.14239999999999},{"$f":"'Population 2016'!L128*'Prevalence Rates'!L128","v":448.5856019417476},{"$f":"'Population 2016'!M128*'Prevalence Rates'!M128","v":448.5856019417476},{"$f":"'Population 2016'!N128*'Prevalence Rates'!N128","v":254.32738252427185},{"$f":"'Population 2016'!O128*'Prevalence Rates'!O128","v":328.08782912621359},{"$f":"'Population 2016'!P128*'Prevalence Rates'!P128","v":152.06269514563107},{"$f":"'Population 2016'!Q128*'Prevalence Rates'!Q128","v":258.0688834951456},{"$f":"'Population 2016'!R128*'Prevalence Rates'!R128","v":46.125891262135923},{"$f":"'Population 2016'!S128*'Prevalence Rates'!S128","v":1444.2204138663769},{"$f":"'Population 2016'!T128*'Prevalence Rates'!T128","v":469.42160679611646},{"$f":"'Population 2016'!U128*'Prevalence Rates'!U128","v":72.936599999999999},{"$f":"'Population 2016'!V128*'Prevalence Rates'!V128","v":401.07565339805825},{"$f":"'Population 2016'!W128*'Prevalence Rates'!W128","v":783.65395922330106},{"$f":"'Population 2016'!X128*'Prevalence Rates'!X128","v":783.65395922330106},{"$f":"'Population 2016'!Y128*'Prevalence Rates'!Y128","v":588.41283495145626},{"$f":"'Population 2016'!Z128*'Prevalence Rates'!Z128","v":1031.6420563106794},{"$f":"'Population 2016'!AA128*'Prevalence Rates'!AA128","v":1235.3405678346178},{"$f":"'Population 2016'!AB128*'Prevalence Rates'!AB128","v":743.64417087378638},{"$f":"'Population 2016'!AC128*'Prevalence Rates'!AC128","v":1946.6365514563104},{"$f":"'Population 2016'!AD128*'Prevalence Rates'!AD128","v":629.0418233009708},{"$f":"'Population 2016'!AE128*'Prevalence Rates'!AE128","v":475.30237864077662},{"$f":"'Population 2016'!AF128*'Prevalence Rates'!AF128","v":108.12779999999999},{"$f":"'Population 2016'!AG128*'Prevalence Rates'!AG128","v":183.03569860700716},{"$f":"'Population 2016'!AH128*'Prevalence Rates'!AH128","v":1645.1232233009712},{"$f":"'Population 2016'!AI128*'Prevalence Rates'!AI128","v":1366.357354368932},{"$f":"'Population 2016'!AJ128*'Prevalence Rates'!AJ128","v":297.70620000000002},{"$f":"'Population 2016'!AK128*'Prevalence Rates'!AK128","v":143.0625029126214},{"$f":"'Population 2016'!AL128*'Prevalence Rates'!AL128","v":329.90785631067962},{"$f":"'Population 2016'!AM128*'Prevalence Rates'!AM128","v":833.98349708737862},{"$f":"'Population 2016'!AN128*'Prevalence Rates'!AN128","v":31.218},{"$f":"'Population 2016'!AO128*'Prevalence Rates'!AO128","v":31.218},{"$f":"'Population 2016'!AP128*'Prevalence Rates'!AP128","v":129.45149999999998},{"$f":"'Population 2016'!AQ128*'Prevalence Rates'!AQ128","v":314.20767961165046},{"$f":"'Population 2016'!AR128*'Prevalence Rates'!AR128","v":9943.2168000000001},{"$f":"'Population 2016'!AS128*'Prevalence Rates'!AS128","v":140.25919514563108},{"$f":"'Population 2016'!AT128*'Prevalence Rates'!AT128","v":7.3788},{"$f":"'Population 2016'!AU128*'Prevalence Rates'!AU128","v":7.3788},{"$f":"'Population 2016'!AV128*'Prevalence Rates'!AV128","v":246.60291262135922},{"$f":"'Population 2016'!AW128*'Prevalence Rates'!AW128","v":810.80432621359228},{"$f":"'Population 2016'!AX128*'Prevalence Rates'!AX128","v":131.39939999999999},{"$f":"'Population 2016'!AY128*'Prevalence Rates'!AY128","v":589.07351159240068},{"$f":"'Population 2016'!AZ128*'Prevalence Rates'!AZ128","v":556.44663495145619},{"$f":"'Population 2016'!BA128*'Prevalence Rates'!BA128","v":311.19308737864077},{"$f":"'Population 2016'!BB128*'Prevalence Rates'!BB128","v":341.82958543689318},{"$f":"'Population 2016'!BC128*'Prevalence Rates'!BC128","v":72.936599999999999},126]
[null,"Male 60-64",{"$f":"'Population 2016'!C129*'Prevalence Rates'!C129","v":363.68969999999996},{"$f":"'Population 2016'!D129*'Prevalence Rates'!D129","v":189.3748072344865},{"$f":"'Population 2016'!E129*'Prevalence Rates'!E129","v":148.32344854368932},{"$f":"'Population 2016'!F129*'Prevalence Rates'!F129","v":183.54570873786409},{"$f":"'Population 2016'!G129*'Prevalence Rates'!G129","v":143.31899999999999},{"$f":"'Population 2016'!H129*'Prevalence Rates'!H129","v":816.51514368932033},{"$f":"'Population 2016'!I129*'Prevalence Rates'!I129","v":134.19732233009711},{"$f":"'Population 2016'!J129*'Prevalence Rates'!J129","v":217.39079999999998},{"$f":"'Population 2016'!K129*'Prevalence Rates'!K129","v":116.9256},{"$f":"'Population 2016'!L129*'Prevalence Rates'!L129","v":405.77939417475733},{"$f":"'Population 2016'!M129*'Prevalence Rates'!M129","v":405.77939417475733},{"$f":"'Population 2016'!N129*'Prevalence Rates'!N129","v":211.40156796116506},{"$f":"'Population 2016'!O129*'Prevalence Rates'!O129","v":275.2356524271845},{"$f":"'Population 2016'!P129*'Prevalence Rates'!P129","v":120.28110291262135},{"$f":"'Population 2016'!Q129*'Prevalence Rates'!Q129","v":203.46694077669903},{"$f":"'Population 2016'!R129*'Prevalence Rates'!R129","v":42.036716504854375},{"$f":"'Population 2016'!S129*'Prevalence Rates'!S129","v":1229.3804776193713},{"$f":"'Population 2016'!T129*'Prevalence Rates'!T129","v":371.75670873786407},{"$f":"'Population 2016'!U129*'Prevalence Rates'!U129","v":73.504199999999997},{"$f":"'Population 2016'!V129*'Prevalence Rates'!V129","v":330.21983592233011},{"$f":"'Population 2016'!W129*'Prevalence Rates'!W129","v":705.35070873786412},{"$f":"'Population 2016'!X129*'Prevalence Rates'!X129","v":705.35070873786412},{"$f":"'Population 2016'!Y129*'Prevalence Rates'!Y129","v":488.32449029126212},{"$f":"'Population 2016'!Z129*'Prevalence Rates'!Z129","v":821.2523242718446},{"$f":"'Population 2016'!AA129*'Prevalence Rates'!AA129","v":1038.2571035175308},{"$f":"'Population 2016'!AB129*'Prevalence Rates'!AB129","v":610.3298097087378},{"$f":"'Population 2016'!AC129*'Prevalence Rates'!AC129","v":1585.087875728155},{"$f":"'Population 2016'!AD129*'Prevalence Rates'!AD129","v":565.26522524271843},{"$f":"'Population 2016'!AE129*'Prevalence Rates'!AE129","v":421.60456310679609},{"$f":"'Population 2016'!AF129*'Prevalence Rates'!AF129","v":81.450599999999994},{"$f":"'Population 2016'!AG129*'Prevalence Rates'!AG129","v":162.35703672435625},{"$f":"'Population 2016'!AH129*'Prevalence Rates'!AH129","v":1428.0320038834952},{"$f":"'Population 2016'!AI129*'Prevalence Rates'!AI129","v":1114.2423844660195},{"$f":"'Population 2016'!AJ129*'Prevalence Rates'!AJ129","v":261.37979999999999},{"$f":"'Population 2016'!AK129*'Prevalence Rates'!AK129","v":114.57253980582527},{"$f":"'Population 2016'!AL129*'Prevalence Rates'!AL129","v":305.72423883495145},{"$f":"'Population 2016'!AM129*'Prevalence Rates'!AM129","v":747.8984155339806},{"$f":"'Population 2016'!AN129*'Prevalence Rates'!AN129","v":30.934200000000001},{"$f":"'Population 2016'!AO129*'Prevalence Rates'!AO129","v":30.934200000000001},{"$f":"'Population 2016'!AP129*'Prevalence Rates'!AP129","v":118.6429281553398},{"$f":"'Population 2016'!AQ129*'Prevalence Rates'!AQ129","v":274.89449126213594},{"$f":"'Population 2016'!AR129*'Prevalence Rates'!AR129","v":8508.3240000000005},{"$f":"'Population 2016'!AS129*'Prevalence Rates'!AS129","v":134.19732233009711},{"$f":"'Population 2016'!AT129*'Prevalence Rates'!AT129","v":5.9597999999999995},{"$f":"'Population 2016'!AU129*'Prevalence Rates'!AU129","v":5.9597999999999995},{"$f":"'Population 2016'!AV129*'Prevalence Rates'!AV129","v":216.56219417475728},{"$f":"'Population 2016'!AW129*'Prevalence Rates'!AW129","v":680.40085631067961},{"$f":"'Population 2016'!AX129*'Prevalence Rates'!AX129","v":100.4652},{"$f":"'Population 2016'!AY129*'Prevalence Rates'!AY129","v":531.21328290135125},{"$f":"'Population 2016'!AZ129*'Prevalence Rates'!AZ129","v":503.06831359223293},{"$f":"'Population 2016'!BA129*'Prevalence Rates'!BA129","v":254.31535922330093},{"$f":"'Population 2016'!BB129*'Prevalence Rates'!BB129","v":280.07528155339804},{"$f":"'Population 2016'!BC129*'Prevalence Rates'!BC129","v":73.504199999999997},127]
[null,"Male 65-69",{"$f":"'Population 2016'!C130*'Prevalence Rates'!C130","v":255.42410097087381},{"$f":"'Population 2016'!D130*'Prevalence Rates'!D130","v":145.12621050337759},{"$f":"'Population 2016'!E130*'Prevalence Rates'!E130","v":133.44683353927627},{"$f":"'Population 2016'!F130*'Prevalence Rates'!F130","v":150.83343971756403},{"$f":"'Population 2016'!G130*'Prevalence Rates'!G130","v":119.46480000000001},{"$f":"'Population 2016'!H130*'Prevalence Rates'!H130","v":670.15355692850846},{"$f":"'Population 2016'!I130*'Prevalence Rates'!I130","v":106.32870503089144},{"$f":"'Population 2016'!J130*'Prevalence Rates'!J130","v":174.72},{"$f":"'Population 2016'!K130*'Prevalence Rates'!K130","v":88.23360000000001},{"$f":"'Population 2016'!L130*'Prevalence Rates'!L130","v":346.79115304501329},{"$f":"'Population 2016'!M130*'Prevalence Rates'!M130","v":346.79115304501329},{"$f":"'Population 2016'!N130*'Prevalence Rates'!N130","v":180.81669479258605},{"$f":"'Population 2016'!O130*'Prevalence Rates'!O130","v":213.14278623124451},{"$f":"'Population 2016'!P130*'Prevalence Rates'!P130","v":83.344369991173878},{"$f":"'Population 2016'!Q130*'Prevalence Rates'!Q130","v":159.92402647837602},{"$f":"'Population 2016'!R130*'Prevalence Rates'!R130","v":25.42654051191527},{"$f":"'Population 2016'!S130*'Prevalence Rates'!S130","v":948.52746290186224},{"$f":"'Population 2016'!T130*'Prevalence Rates'!T130","v":264.45387113857021},{"$f":"'Population 2016'!U130*'Prevalence Rates'!U130","v":55.692},{"$f":"'Population 2016'!V130*'Prevalence Rates'!V130","v":284.43833857016773},{"$f":"'Population 2016'!W130*'Prevalence Rates'!W130","v":562.17576804942632},{"$f":"'Population 2016'!X130*'Prevalence Rates'!X130","v":562.17576804942632},{"$f":"'Population 2016'!Y130*'Prevalence Rates'!Y130","v":409.92215004413066},{"$f":"'Population 2016'!Z130*'Prevalence Rates'!Z130","v":524.65964060017654},{"$f":"'Population 2016'!AA130*'Prevalence Rates'!AA130","v":722.5532971179673},{"$f":"'Population 2016'!AB130*'Prevalence Rates'!AB130","v":470.36998834951459},{"$f":"'Population 2016'!AC130*'Prevalence Rates'!AC130","v":1056.9064162400707},{"$f":"'Population 2016'!AD130*'Prevalence Rates'!AD130","v":463.71023406884376},{"$f":"'Population 2016'!AE130*'Prevalence Rates'!AE130","v":343.81133274492498},{"$f":"'Population 2016'!AF130*'Prevalence Rates'!AF130","v":59.186400000000006},{"$f":"'Population 2016'!AG130*'Prevalence Rates'!AG130","v":132.39939521854254},{"$f":"'Population 2016'!AH130*'Prevalence Rates'!AH130","v":1034.9199166813769},{"$f":"'Population 2016'!AI130*'Prevalence Rates'!AI130","v":841.77229620476612},{"$f":"'Population 2016'!AJ130*'Prevalence Rates'!AJ130","v":192.41040000000001},{"$f":"'Population 2016'!AK130*'Prevalence Rates'!AK130","v":90.527474669020322},{"$f":"'Population 2016'!AL130*'Prevalence Rates'!AL130","v":245.27168155339808},{"$f":"'Population 2016'!AM130*'Prevalence Rates'!AM130","v":540.31629902912618},{"$f":"'Population 2016'!AN130*'Prevalence Rates'!AN130","v":26.426400000000001},{"$f":"'Population 2016'!AO130*'Prevalence Rates'!AO130","v":26.426400000000001},{"$f":"'Population 2016'!AP130*'Prevalence Rates'!AP130","v":83.951764872021187},{"$f":"'Population 2016'!AQ130*'Prevalence Rates'!AQ130","v":192.9819410414828},{"$f":"'Population 2016'!AR130*'Prevalence Rates'!AR130","v":6492.3768},{"$f":"'Population 2016'!AS130*'Prevalence Rates'!AS130","v":106.32870503089144},{"$f":"'Population 2016'!AT130*'Prevalence Rates'!AT130","v":5.0232000000000001},{"$f":"'Population 2016'!AU130*'Prevalence Rates'!AU130","v":5.0232000000000001},{"$f":"'Population 2016'!AV130*'Prevalence Rates'!AV130","v":191.15493733451015},{"$f":"'Population 2016'!AW130*'Prevalence Rates'!AW130","v":494.75773133274498},{"$f":"'Population 2016'!AX130*'Prevalence Rates'!AX130","v":86.486400000000003},{"$f":"'Population 2016'!AY130*'Prevalence Rates'!AY130","v":424.70815034705203},{"$f":"'Population 2016'!AZ130*'Prevalence Rates'!AZ130","v":403.89157281553395},{"$f":"'Population 2016'!BA130*'Prevalence Rates'!BA130","v":176.84327978817299},{"$f":"'Population 2016'!BB130*'Prevalence Rates'!BB130","v":225.9569676963813},{"$f":"'Population 2016'!BC130*'Prevalence Rates'!BC130","v":55.692},128]
[null,"Male 70-74",{"$f":"'Population 2016'!C131*'Prevalence Rates'!C131","v":166.00096310679612},{"$f":"'Population 2016'!D131*'Prevalence Rates'!D131","v":95.852820470194899},{"$f":"'Population 2016'!E131*'Prevalence Rates'!E131","v":90.433310150044136},{"$f":"'Population 2016'!F131*'Prevalence Rates'!F131","v":102.40531191526922},{"$f":"'Population 2016'!G131*'Prevalence Rates'!G131","v":94.5672},{"$f":"'Population 2016'!H131*'Prevalence Rates'!H131","v":495.0049493380406},{"$f":"'Population 2016'!I131*'Prevalence Rates'!I131","v":76.24781571050309},{"$f":"'Population 2016'!J131*'Prevalence Rates'!J131","v":115.97040000000001},{"$f":"'Population 2016'!K131*'Prevalence Rates'!K131","v":62.680800000000005},{"$f":"'Population 2016'!L131*'Prevalence Rates'!L131","v":261.95480070609005},{"$f":"'Population 2016'!M131*'Prevalence Rates'!M131","v":261.95480070609005},{"$f":"'Population 2016'!N131*'Prevalence Rates'!N131","v":123.69054121800529},{"$f":"'Population 2016'!O131*'Prevalence Rates'!O131","v":160.46829161518096},{"$f":"'Population 2016'!P131*'Prevalence Rates'!P131","v":60.01547184466019},{"$f":"'Population 2016'!Q131*'Prevalence Rates'!Q131","v":114.14185419240954},{"$f":"'Population 2016'!R131*'Prevalence Rates'!R131","v":15.230749514563108},{"$f":"'Population 2016'!S131*'Prevalence Rates'!S131","v":698.85388463156926},{"$f":"'Population 2016'!T131*'Prevalence Rates'!T131","v":192.27922506619595},{"$f":"'Population 2016'!U131*'Prevalence Rates'!U131","v":35.599200000000003},{"$f":"'Population 2016'!V131*'Prevalence Rates'!V131","v":199.39168225948811},{"$f":"'Population 2016'!W131*'Prevalence Rates'!W131","v":404.59438517210947},{"$f":"'Population 2016'!X131*'Prevalence Rates'!X131","v":404.59438517210947},{"$f":"'Population 2016'!Y131*'Prevalence Rates'!Y131","v":281.79816593115623},{"$f":"'Population 2016'!Z131*'Prevalence Rates'!Z131","v":388.3711011473963},{"$f":"'Population 2016'!AA131*'Prevalence Rates'!AA131","v":564.02032790551493},{"$f":"'Population 2016'!AB131*'Prevalence Rates'!AB131","v":320.83172038834954},{"$f":"'Population 2016'!AC131*'Prevalence Rates'!AC131","v":812.42795269196824},{"$f":"'Population 2016'!AD131*'Prevalence Rates'!AD131","v":349.11384571932922},{"$f":"'Population 2016'!AE131*'Prevalence Rates'!AE131","v":253.8442188879082},{"$f":"'Population 2016'!AF131*'Prevalence Rates'!AF131","v":47.174400000000006},{"$f":"'Population 2016'!AG131*'Prevalence Rates'!AG131","v":97.753674354349755},{"$f":"'Population 2016'!AH131*'Prevalence Rates'!AH131","v":819.05088932038836},{"$f":"'Population 2016'!AI131*'Prevalence Rates'!AI131","v":630.50547537511034},{"$f":"'Population 2016'!AJ131*'Prevalence Rates'!AJ131","v":148.512},{"$f":"'Population 2016'!AK131*'Prevalence Rates'!AK131","v":70.253092321270969},{"$f":"'Population 2016'!AL131*'Prevalence Rates'!AL131","v":169.44023300970875},{"$f":"'Population 2016'!AM131*'Prevalence Rates'!AM131","v":423.01217475728157},{"$f":"'Population 2016'!AN131*'Prevalence Rates'!AN131","v":21.403200000000002},{"$f":"'Population 2016'!AO131*'Prevalence Rates'!AO131","v":21.403200000000002},{"$f":"'Population 2016'!AP131*'Prevalence Rates'!AP131","v":56.290238658428954},{"$f":"'Population 2016'!AQ131*'Prevalence Rates'!AQ131","v":161.35307184466021},{"$f":"'Population 2016'!AR131*'Prevalence Rates'!AR131","v":4816.1568000000007},{"$f":"'Population 2016'!AS131*'Prevalence Rates'!AS131","v":76.24781571050309},{"$f":"'Population 2016'!AT131*'Prevalence Rates'!AT131","v":5.2416},{"$f":"'Population 2016'!AU131*'Prevalence Rates'!AU131","v":5.2416},{"$f":"'Population 2016'!AV131*'Prevalence Rates'!AV131","v":146.12656310679611},{"$f":"'Population 2016'!AW131*'Prevalence Rates'!AW131","v":396.05346090026484},{"$f":"'Population 2016'!AX131*'Prevalence Rates'!AX131","v":53.2896},{"$f":"'Population 2016'!AY131*'Prevalence Rates'!AY131","v":298.25648991776677},{"$f":"'Population 2016'!AZ131*'Prevalence Rates'!AZ131","v":274.23319858781991},{"$f":"'Population 2016'!BA131*'Prevalence Rates'!BA131","v":148.41754633715797},{"$f":"'Population 2016'!BB131*'Prevalence Rates'!BB131","v":175.9602344218888},{"$f":"'Population 2016'!BC131*'Prevalence Rates'!BC131","v":35.599200000000003},129]
[null,"Male 75-79",{"$f":"'Population 2016'!C132*'Prevalence Rates'!C132","v":63.429160194174756},{"$f":"'Population 2016'!D132*'Prevalence Rates'!D132","v":35.350460599518193},{"$f":"'Population 2016'!E132*'Prevalence Rates'!E132","v":31.476191968225955},{"$f":"'Population 2016'!F132*'Prevalence Rates'!F132","v":35.168391659311567},{"$f":"'Population 2016'!G132*'Prevalence Rates'!G132","v":32.2605},{"$f":"'Population 2016'!H132*'Prevalence Rates'!H132","v":174.88867188879084},{"$f":"'Population 2016'!I132*'Prevalence Rates'!I132","v":25.907800088261258},{"$f":"'Population 2016'!J132*'Prevalence Rates'!J132","v":42.511500000000005},{"$f":"'Population 2016'!K132*'Prevalence Rates'!K132","v":21.507000000000001},{"$f":"'Population 2016'!L132*'Prevalence Rates'!L132","v":95.416411959399838},{"$f":"'Population 2016'!M132*'Prevalence Rates'!M132","v":95.416411959399838},{"$f":"'Population 2016'!N132*'Prevalence Rates'!N132","v":50.974788614298326},{"$f":"'Population 2016'!O132*'Prevalence Rates'!O132","v":58.807579435127984},{"$f":"'Population 2016'!P132*'Prevalence Rates'!P132","v":24.413782877316859},{"$f":"'Population 2016'!Q132*'Prevalence Rates'!Q132","v":44.539639673433363},{"$f":"'Population 2016'!R132*'Prevalence Rates'!R132","v":5.6764315975286852},{"$f":"'Population 2016'!S132*'Prevalence Rates'!S132","v":239.15843697765951},{"$f":"'Population 2016'!T132*'Prevalence Rates'!T132","v":64.364794792586054},{"$f":"'Population 2016'!U132*'Prevalence Rates'!U132","v":14.572500000000002},{"$f":"'Population 2016'!V132*'Prevalence Rates'!V132","v":67.878524933804059},{"$f":"'Population 2016'!W132*'Prevalence Rates'!W132","v":140.40533009708739},{"$f":"'Population 2016'!X132*'Prevalence Rates'!X132","v":140.40533009708739},{"$f":"'Population 2016'!Y132*'Prevalence Rates'!Y132","v":98.521045895851728},{"$f":"'Population 2016'!Z132*'Prevalence Rates'!Z132","v":133.32872859664607},{"$f":"'Population 2016'!AA132*'Prevalence Rates'!AA132","v":194.98147599855412},{"$f":"'Population 2016'!AB132*'Prevalence Rates'!AB132","v":114.96809708737865},{"$f":"'Population 2016'!AC132*'Prevalence Rates'!AC132","v":289.17885966460722},{"$f":"'Population 2016'!AD132*'Prevalence Rates'!AD132","v":113.56287113857017},{"$f":"'Population 2016'!AE132*'Prevalence Rates'!AE132","v":80.952173433362745},{"$f":"'Population 2016'!AF132*'Prevalence Rates'!AF132","v":15.276000000000002},{"$f":"'Population 2016'!AG132*'Prevalence Rates'!AG132","v":31.174128899804295},{"$f":"'Population 2016'!AH132*'Prevalence Rates'!AH132","v":275.7395348631951},{"$f":"'Population 2016'!AI132*'Prevalence Rates'!AI132","v":214.41377846425422},{"$f":"'Population 2016'!AJ132*'Prevalence Rates'!AJ132","v":47.436},{"$f":"'Population 2016'!AK132*'Prevalence Rates'!AK132","v":22.456028684907331},{"$f":"'Population 2016'!AL132*'Prevalence Rates'!AL132","v":59.819941747572827},{"$f":"'Population 2016'!AM132*'Prevalence Rates'!AM132","v":144.55949271844662},{"$f":"'Population 2016'!AN132*'Prevalence Rates'!AN132","v":8.1405000000000012},{"$f":"'Population 2016'!AO132*'Prevalence Rates'!AO132","v":8.1405000000000012},{"$f":"'Population 2016'!AP132*'Prevalence Rates'!AP132","v":20.562007281553399},{"$f":"'Population 2016'!AQ132*'Prevalence Rates'!AQ132","v":62.120265225066206},{"$f":"'Population 2016'!AR132*'Prevalence Rates'!AR132","v":1677.8475000000001},{"$f":"'Population 2016'!AS132*'Prevalence Rates'!AS132","v":25.907800088261258},{"$f":"'Population 2016'!AT132*'Prevalence Rates'!AT132","v":0.80400000000000005},{"$f":"'Population 2016'!AU132*'Prevalence Rates'!AU132","v":0.80400000000000005},{"$f":"'Population 2016'!AV132*'Prevalence Rates'!AV132","v":50.014938217122683},{"$f":"'Population 2016'!AW132*'Prevalence Rates'!AW132","v":131.23508208296559},{"$f":"'Population 2016'!AX132*'Prevalence Rates'!AX132","v":21.0045},{"$f":"'Population 2016'!AY132*'Prevalence Rates'!AY132","v":107.24959025312953},{"$f":"'Population 2016'!AZ132*'Prevalence Rates'!AZ132","v":103.48838923212709},{"$f":"'Population 2016'!BA132*'Prevalence Rates'!BA132","v":49.659684466019421},{"$f":"'Population 2016'!BB132*'Prevalence Rates'!BB132","v":58.451749117387472},{"$f":"'Population 2016'!BC132*'Prevalence Rates'!BC132","v":14.572500000000002},130]
[null,"Male 80-84",{"$f":"'Population 2016'!C133*'Prevalence Rates'!C133","v":51.266220873786409},{"$f":"'Population 2016'!D133*'Prevalence Rates'!D133","v":28.752241143725769},{"$f":"'Population 2016'!E133*'Prevalence Rates'!E133","v":25.876133274492503},{"$f":"'Population 2016'!F133*'Prevalence Rates'!F133","v":26.347276919682265},{"$f":"'Population 2016'!G133*'Prevalence Rates'!G133","v":21.205500000000001},{"$f":"'Population 2016'!H133*'Prevalence Rates'!H133","v":108.61286915269197},{"$f":"'Population 2016'!I133*'Prevalence Rates'!I133","v":16.358925198587823},{"$f":"'Population 2016'!J133*'Prevalence Rates'!J133","v":27.235500000000002},{"$f":"'Population 2016'!K133*'Prevalence Rates'!K133","v":12.763500000000001},{"$f":"'Population 2016'!L133*'Prevalence Rates'!L133","v":60.530759708737868},{"$f":"'Population 2016'!M133*'Prevalence Rates'!M133","v":60.530759708737868},{"$f":"'Population 2016'!N133*'Prevalence Rates'!N133","v":33.945094660194172},{"$f":"'Population 2016'!O133*'Prevalence Rates'!O133","v":36.51183627537511},{"$f":"'Population 2016'!P133*'Prevalence Rates'!P133","v":17.487887025595764},{"$f":"'Population 2016'!Q133*'Prevalence Rates'!Q133","v":31.168127978817299},{"$f":"'Population 2016'!R133*'Prevalence Rates'!R133","v":4.7496672550750221},{"$f":"'Population 2016'!S133*'Prevalence Rates'!S133","v":162.60399933468662},{"$f":"'Population 2016'!T133*'Prevalence Rates'!T133","v":46.85757060900265},{"$f":"'Population 2016'!U133*'Prevalence Rates'!U133","v":8.9444999999999997},{"$f":"'Population 2016'!V133*'Prevalence Rates'!V133","v":49.153414607237423},{"$f":"'Population 2016'!W133*'Prevalence Rates'!W133","v":96.611191085613427},{"$f":"'Population 2016'!X133*'Prevalence Rates'!X133","v":96.611191085613427},{"$f":"'Population 2016'!Y133*'Prevalence Rates'!Y133","v":68.312502206531335},{"$f":"'Population 2016'!Z133*'Prevalence Rates'!Z133","v":94.30856134157105},{"$f":"'Population 2016'!AA133*'Prevalence Rates'!AA133","v":133.65042836271076},{"$f":"'Population 2016'!AB133*'Prevalence Rates'!AB133","v":91.363281553398068},{"$f":"'Population 2016'!AC133*'Prevalence Rates'!AC133","v":201.59466195939982},{"$f":"'Population 2016'!AD133*'Prevalence Rates'!AD133","v":74.252646513680503},{"$f":"'Population 2016'!AE133*'Prevalence Rates'!AE133","v":52.809068843777581},{"$f":"'Population 2016'!AF133*'Prevalence Rates'!AF133","v":10.753500000000001},{"$f":"'Population 2016'!AG133*'Prevalence Rates'!AG133","v":20.336411604436091},{"$f":"'Population 2016'!AH133*'Prevalence Rates'!AH133","v":186.00181641659313},{"$f":"'Population 2016'!AI133*'Prevalence Rates'!AI133","v":146.36148521624008},{"$f":"'Population 2016'!AJ133*'Prevalence Rates'!AJ133","v":29.547000000000001},{"$f":"'Population 2016'!AK133*'Prevalence Rates'!AK133","v":16.05551809355693},{"$f":"'Population 2016'!AL133*'Prevalence Rates'!AL133","v":37.323553398058259},{"$f":"'Population 2016'!AM133*'Prevalence Rates'!AM133","v":97.279121359223311},{"$f":"'Population 2016'!AN133*'Prevalence Rates'!AN133","v":3.5175000000000001},{"$f":"'Population 2016'!AO133*'Prevalence Rates'!AO133","v":3.5175000000000001},{"$f":"'Population 2016'!AP133*'Prevalence Rates'!AP133","v":13.35195278022948},{"$f":"'Population 2016'!AQ133*'Prevalence Rates'!AQ133","v":43.558012797881737},{"$f":"'Population 2016'!AR133*'Prevalence Rates'!AR133","v":1138.9665},{"$f":"'Population 2016'!AS133*'Prevalence Rates'!AS133","v":16.358925198587823},{"$f":"'Population 2016'!AT133*'Prevalence Rates'!AT133","v":0.60299999999999998},{"$f":"'Population 2016'!AU133*'Prevalence Rates'!AU133","v":0.60299999999999998},{"$f":"'Population 2016'!AV133*'Prevalence Rates'!AV133","v":30.961628420123567},{"$f":"'Population 2016'!AW133*'Prevalence Rates'!AW133","v":88.754361871138585},{"$f":"'Population 2016'!AX133*'Prevalence Rates'!AX133","v":14.472000000000001},{"$f":"'Population 2016'!AY133*'Prevalence Rates'!AY133","v":73.781633011018187},{"$f":"'Population 2016'!AZ133*'Prevalence Rates'!AZ133","v":71.174667696381292},{"$f":"'Population 2016'!BA133*'Prevalence Rates'!BA133","v":30.675562665489849},{"$f":"'Population 2016'!BB133*'Prevalence Rates'!BB133","v":38.77814232127097},{"$f":"'Population 2016'!BC133*'Prevalence Rates'!BC133","v":8.9444999999999997},131]
[null,"Male 85-89",{"$f":"'Population 2016'!C134*'Prevalence Rates'!C134","v":26.258308252427184},{"$f":"'Population 2016'!D134*'Prevalence Rates'!D134","v":13.356395746876784},{"$f":"'Population 2016'!E134*'Prevalence Rates'!E134","v":9.9449318181818196},{"$f":"'Population 2016'!F134*'Prevalence Rates'!F134","v":14.160210503089147},{"$f":"'Population 2016'!G134*'Prevalence Rates'!G134","v":10.452},{"$f":"'Population 2016'!H134*'Prevalence Rates'!H134","v":57.494781553398063},{"$f":"'Population 2016'!I134*'Prevalence Rates'!I134","v":11.177365180935572},{"$f":"'Population 2016'!J134*'Prevalence Rates'!J134","v":12.763500000000001},{"$f":"'Population 2016'!K134*'Prevalence Rates'!K134","v":6.2310000000000008},{"$f":"'Population 2016'!L134*'Prevalence Rates'!L134","v":29.486682259488088},{"$f":"'Population 2016'!M134*'Prevalence Rates'!M134","v":29.486682259488088},{"$f":"'Population 2016'!N134*'Prevalence Rates'!N134","v":16.572520962047662},{"$f":"'Population 2016'!O134*'Prevalence Rates'!O134","v":19.534343777581643},{"$f":"'Population 2016'!P134*'Prevalence Rates'!P134","v":9.955975286849073},{"$f":"'Population 2016'!Q134*'Prevalence Rates'!Q134","v":14.429688879082082},{"$f":"'Population 2016'!R134*'Prevalence Rates'!R134","v":1.8535286849073258},{"$f":"'Population 2016'!S134*'Prevalence Rates'!S134","v":81.242655142038672},{"$f":"'Population 2016'!T134*'Prevalence Rates'!T134","v":23.342965578111212},{"$f":"'Population 2016'!U134*'Prevalence Rates'!U134","v":4.9245000000000001},{"$f":"'Population 2016'!V134*'Prevalence Rates'!V134","v":23.687264563106798},{"$f":"'Population 2016'!W134*'Prevalence Rates'!W134","v":47.315275816416602},{"$f":"'Population 2016'!X134*'Prevalence Rates'!X134","v":47.315275816416602},{"$f":"'Population 2016'!Y134*'Prevalence Rates'!Y134","v":32.6114960282436},{"$f":"'Population 2016'!Z134*'Prevalence Rates'!Z134","v":46.682737864077673},{"$f":"'Population 2016'!AA134*'Prevalence Rates'!AA134","v":63.226798392761246},{"$f":"'Population 2016'!AB134*'Prevalence Rates'!AB134","v":42.783728155339809},{"$f":"'Population 2016'!AC134*'Prevalence Rates'!AC134","v":96.428907325684023},{"$f":"'Population 2016'!AD134*'Prevalence Rates'!AD134","v":38.77756575463372},{"$f":"'Population 2016'!AE134*'Prevalence Rates'!AE134","v":28.251765225066194},{"$f":"'Population 2016'!AF134*'Prevalence Rates'!AF134","v":4.9245000000000001},{"$f":"'Population 2016'!AG134*'Prevalence Rates'!AG134","v":10.87956176369009},{"$f":"'Population 2016'!AH134*'Prevalence Rates'!AH134","v":87.050385701676973},{"$f":"'Population 2016'!AI134*'Prevalence Rates'!AI134","v":70.282053839364536},{"$f":"'Population 2016'!AJ134*'Prevalence Rates'!AJ134","v":15.778500000000001},{"$f":"'Population 2016'!AK134*'Prevalence Rates'!AK134","v":7.8107925860547232},{"$f":"'Population 2016'!AL134*'Prevalence Rates'!AL134","v":17.383572815533984},{"$f":"'Population 2016'!AM134*'Prevalence Rates'!AM134","v":43.396973300970878},{"$f":"'Population 2016'!AN134*'Prevalence Rates'!AN134","v":1.6080000000000001},{"$f":"'Population 2016'!AO134*'Prevalence Rates'!AO134","v":1.6080000000000001},{"$f":"'Population 2016'!AP134*'Prevalence Rates'!AP134","v":7.2100545013239188},{"$f":"'Population 2016'!AQ134*'Prevalence Rates'!AQ134","v":18.351317740511917},{"$f":"'Population 2016'!AR134*'Prevalence Rates'!AR134","v":559.58400000000006},{"$f":"'Population 2016'!AS134*'Prevalence Rates'!AS134","v":11.177365180935572},{"$f":"'Population 2016'!AT134*'Prevalence Rates'!AT134","v":0.10050000000000001},{"$f":"'Population 2016'!AU134*'Prevalence Rates'!AU134","v":0.10050000000000001},{"$f":"'Population 2016'!AV134*'Prevalence Rates'!AV134","v":17.703700353045011},{"$f":"'Population 2016'!AW134*'Prevalence Rates'!AW134","v":43.618596646072376},{"$f":"'Population 2016'!AX134*'Prevalence Rates'!AX134","v":6.5325000000000006},{"$f":"'Population 2016'!AY134*'Prevalence Rates'!AY134","v":36.985895929492358},{"$f":"'Population 2016'!AZ134*'Prevalence Rates'!AZ134","v":36.748938217122685},{"$f":"'Population 2016'!BA134*'Prevalence Rates'!BA134","v":14.816875551632833},{"$f":"'Population 2016'!BB134*'Prevalence Rates'!BB134","v":16.990842233009712},{"$f":"'Population 2016'!BC134*'Prevalence Rates'!BC134","v":4.9245000000000001},132]
[null,"Male 90+",{"$f":"'Population 2016'!C135*'Prevalence Rates'!C135","v":10.571526699029127},{"$f":"'Population 2016'!D135*'Prevalence Rates'!D135","v":5.9583921146246723},{"$f":"'Population 2016'!E135*'Prevalence Rates'!E135","v":5.4069532215357468},{"$f":"'Population 2016'!F135*'Prevalence Rates'!F135","v":7.8925763459841152},{"$f":"'Population 2016'!G135*'Prevalence Rates'!G135","v":3.5175000000000001},{"$f":"'Population 2016'!H135*'Prevalence Rates'!H135","v":22.37069682259488},{"$f":"'Population 2016'!I135*'Prevalence Rates'!I135","v":4.1452480141218011},{"$f":"'Population 2016'!J135*'Prevalence Rates'!J135","v":3.7185000000000001},{"$f":"'Population 2016'!K135*'Prevalence Rates'!K135","v":2.0100000000000002},{"$f":"'Population 2016'!L135*'Prevalence Rates'!L135","v":12.87446690203001},{"$f":"'Population 2016'!M135*'Prevalence Rates'!M135","v":12.87446690203001},{"$f":"'Population 2016'!N135*'Prevalence Rates'!N135","v":7.6576476169461607},{"$f":"'Population 2016'!O135*'Prevalence Rates'!O135","v":7.1591835834068851},{"$f":"'Population 2016'!P135*'Prevalence Rates'!P135","v":5.5407166813768756},{"$f":"'Population 2016'!Q135*'Prevalence Rates'!Q135","v":6.4452610326566635},{"$f":"'Population 2016'!R135*'Prevalence Rates'!R135","v":0.98468711385701679},{"$f":"'Population 2016'!S135*'Prevalence Rates'!S135","v":35.488026132168827},{"$f":"'Population 2016'!T135*'Prevalence Rates'!T135","v":12.443860326566638},{"$f":"'Population 2016'!U135*'Prevalence Rates'!U135","v":0.90450000000000008},{"$f":"'Population 2016'!V135*'Prevalence Rates'!V135","v":8.7071763018534867},{"$f":"'Population 2016'!W135*'Prevalence Rates'!W135","v":21.126820829655784},{"$f":"'Population 2016'!X135*'Prevalence Rates'!X135","v":21.126820829655784},{"$f":"'Population 2016'!Y135*'Prevalence Rates'!Y135","v":11.156564430714917},{"$f":"'Population 2016'!Z135*'Prevalence Rates'!Z135","v":19.333255075022066},{"$f":"'Population 2016'!AA135*'Prevalence Rates'!AA135","v":24.083055911956809},{"$f":"'Population 2016'!AB135*'Prevalence Rates'!AB135","v":18.968155339805826},{"$f":"'Population 2016'!AC135*'Prevalence Rates'!AC135","v":40.34050485436893},{"$f":"'Population 2016'!AD135*'Prevalence Rates'!AD135","v":18.216933362753753},{"$f":"'Population 2016'!AE135*'Prevalence Rates'!AE135","v":14.77784642541924},{"$f":"'Population 2016'!AF135*'Prevalence Rates'!AF135","v":1.8090000000000002},{"$f":"'Population 2016'!AG135*'Prevalence Rates'!AG135","v":5.6908476917763542},{"$f":"'Population 2016'!AH135*'Prevalence Rates'!AH135","v":29.944564872021186},{"$f":"'Population 2016'!AI135*'Prevalence Rates'!AI135","v":31.216648278905566},{"$f":"'Population 2016'!AJ135*'Prevalence Rates'!AJ135","v":6.4320000000000004},{"$f":"'Population 2016'!AK135*'Prevalence Rates'!AK135","v":3.362980141218006},{"$f":"'Population 2016'!AL135*'Prevalence Rates'!AL135","v":7.1579417475728171},{"$f":"'Population 2016'!AM135*'Prevalence Rates'!AM135","v":14.368572815533982},{"$f":"'Population 2016'!AN135*'Prevalence Rates'!AN135","v":0.90450000000000008},{"$f":"'Population 2016'!AO135*'Prevalence Rates'!AO135","v":0.90450000000000008},{"$f":"'Population 2016'!AP135*'Prevalence Rates'!AP135","v":2.6703905560458958},{"$f":"'Population 2016'!AQ135*'Prevalence Rates'!AQ135","v":7.6991160635481037},{"$f":"'Population 2016'!AR135*'Prevalence Rates'!AR135","v":229.74300000000002},{"$f":"'Population 2016'!AS135*'Prevalence Rates'!AS135","v":4.1452480141218011},{"$f":"'Population 2016'!AT135*'Prevalence Rates'!AT135","v":0},{"$f":"'Population 2016'!AU135*'Prevalence Rates'!AU135","v":0},{"$f":"'Population 2016'!AV135*'Prevalence Rates'!AV135","v":6.9862135922330095},{"$f":"'Population 2016'!AW135*'Prevalence Rates'!AW135","v":15.550977934686674},{"$f":"'Population 2016'!AX135*'Prevalence Rates'!AX135","v":1.7085000000000001},{"$f":"'Population 2016'!AY135*'Prevalence Rates'!AY135","v":16.971677181013845},{"$f":"'Population 2016'!AZ135*'Prevalence Rates'!AZ135","v":17.424065533980581},{"$f":"'Population 2016'!BA135*'Prevalence Rates'!BA135","v":4.3987599293909971},{"$f":"'Population 2016'!BB135*'Prevalence Rates'!BB135","v":6.0158962930273621},{"$f":"'Population 2016'!BC135*'Prevalence Rates'!BC135","v":0.90450000000000008},133]
["SIMD Q3","Female 0-4",{"$f":"'Population 2016'!C136*'Prevalence Rates'!C136","v":0},{"$f":"'Population 2016'!D136*'Prevalence Rates'!D136","v":0},{"$f":"'Population 2016'!E136*'Prevalence Rates'!E136","v":0},{"$f":"'Population 2016'!F136*'Prevalence Rates'!F136","v":0},{"$f":"'Population 2016'!G136*'Prevalence Rates'!G136","v":0},{"$f":"'Population 2016'!H136*'Prevalence Rates'!H136","v":0},{"$f":"'Population 2016'!I136*'Prevalence Rates'!I136","v":0},{"$f":"'Population 2016'!J136*'Prevalence Rates'!J136","v":0},{"$f":"'Population 2016'!K136*'Prevalence Rates'!K136","v":0},{"$f":"'Population 2016'!L136*'Prevalence Rates'!L136","v":0},{"$f":"'Population 2016'!M136*'Prevalence Rates'!M136","v":0},{"$f":"'Population 2016'!N136*'Prevalence Rates'!N136","v":0},{"$f":"'Population 2016'!O136*'Prevalence Rates'!O136","v":0},{"$f":"'Population 2016'!P136*'Prevalence Rates'!P136","v":0},{"$f":"'Population 2016'!Q136*'Prevalence Rates'!Q136","v":0},{"$f":"'Population 2016'!R136*'Prevalence Rates'!R136","v":0},{"$f":"'Population 2016'!S136*'Prevalence Rates'!S136","v":0},{"$f":"'Population 2016'!T136*'Prevalence Rates'!T136","v":0},{"$f":"'Population 2016'!U136*'Prevalence Rates'!U136","v":0},{"$f":"'Population 2016'!V136*'Prevalence Rates'!V136","v":0},{"$f":"'Population 2016'!W136*'Prevalence Rates'!W136","v":0},{"$f":"'Population 2016'!X136*'Prevalence Rates'!X136","v":0},{"$f":"'Population 2016'!Y136*'Prevalence Rates'!Y136","v":0},{"$f":"'Population 2016'!Z136*'Prevalence Rates'!Z136","v":0},{"$f":"'Population 2016'!AA136*'Prevalence Rates'!AA136","v":0},{"$f":"'Population 2016'!AB136*'Prevalence Rates'!AB136","v":0},{"$f":"'Population 2016'!AC136*'Prevalence Rates'!AC136","v":0},{"$f":"'Population 2016'!AD136*'Prevalence Rates'!AD136","v":0},{"$f":"'Population 2016'!AE136*'Prevalence Rates'!AE136","v":0},{"$f":"'Population 2016'!AF136*'Prevalence Rates'!AF136","v":0},{"$f":"'Population 2016'!AG136*'Prevalence Rates'!AG136","v":0},{"$f":"'Population 2016'!AH136*'Prevalence Rates'!AH136","v":0},{"$f":"'Population 2016'!AI136*'Prevalence Rates'!AI136","v":0},{"$f":"'Population 2016'!AJ136*'Prevalence Rates'!AJ136","v":0},{"$f":"'Population 2016'!AK136*'Prevalence Rates'!AK136","v":0},{"$f":"'Population 2016'!AL136*'Prevalence Rates'!AL136","v":0},{"$f":"'Population 2016'!AM136*'Prevalence Rates'!AM136","v":0},{"$f":"'Population 2016'!AN136*'Prevalence Rates'!AN136","v":0},{"$f":"'Population 2016'!AO136*'Prevalence Rates'!AO136","v":0},{"$f":"'Population 2016'!AP136*'Prevalence Rates'!AP136","v":0},{"$f":"'Population 2016'!AQ136*'Prevalence Rates'!AQ136","v":0},{"$f":"'Population 2016'!AR136*'Prevalence Rates'!AR136","v":0},{"$f":"'Population 2016'!AS136*'Prevalence Rates'!AS136","v":0},{"$f":"'Population 2016'!AT136*'Prevalence Rates'!AT136","v":0},{"$f":"'Population 2016'!AU136*'Prevalence Rates'!AU136","v":0},{"$f":"'Population 2016'!AV136*'Prevalence Rates'!AV136","v":0},{"$f":"'Population 2016'!AW136*'Prevalence Rates'!AW136","v":0},{"$f":"'Population 2016'!AX136*'Prevalence Rates'!AX136","v":0},{"$f":"'Population 2016'!AY136*'Prevalence Rates'!AY136","v":0},{"$f":"'Population 2016'!AZ136*'Prevalence Rates'!AZ136","v":0},{"$f":"'Population 2016'!BA136*'Prevalence Rates'!BA136","v":0},{"$f":"'Population 2016'!BB136*'Prevalence Rates'!BB136","v":0},{"$f":"'Population 2016'!BC136*'Prevalence Rates'!BC136","v":0},134]
[null,"Female 5-9",{"$f":"'Population 2016'!C137*'Prevalence Rates'!C137","v":0},{"$f":"'Population 2016'!D137*'Prevalence Rates'!D137","v":0},{"$f":"'Population 2016'!E137*'Prevalence Rates'!E137","v":0},{"$f":"'Population 2016'!F137*'Prevalence Rates'!F137","v":0},{"$f":"'Population 2016'!G137*'Prevalence Rates'!G137","v":0},{"$f":"'Population 2016'!H137*'Prevalence Rates'!H137","v":0},{"$f":"'Population 2016'!I137*'Prevalence Rates'!I137","v":0},{"$f":"'Population 2016'!J137*'Prevalence Rates'!J137","v":0},{"$f":"'Population 2016'!K137*'Prevalence Rates'!K137","v":0},{"$f":"'Population 2016'!L137*'Prevalence Rates'!L137","v":0},{"$f":"'Population 2016'!M137*'Prevalence Rates'!M137","v":0},{"$f":"'Population 2016'!N137*'Prevalence Rates'!N137","v":0},{"$f":"'Population 2016'!O137*'Prevalence Rates'!O137","v":0},{"$f":"'Population 2016'!P137*'Prevalence Rates'!P137","v":0},{"$f":"'Population 2016'!Q137*'Prevalence Rates'!Q137","v":0},{"$f":"'Population 2016'!R137*'Prevalence Rates'!R137","v":0},{"$f":"'Population 2016'!S137*'Prevalence Rates'!S137","v":0},{"$f":"'Population 2016'!T137*'Prevalence Rates'!T137","v":0},{"$f":"'Population 2016'!U137*'Prevalence Rates'!U137","v":0},{"$f":"'Population 2016'!V137*'Prevalence Rates'!V137","v":0},{"$f":"'Population 2016'!W137*'Prevalence Rates'!W137","v":0},{"$f":"'Population 2016'!X137*'Prevalence Rates'!X137","v":0},{"$f":"'Population 2016'!Y137*'Prevalence Rates'!Y137","v":0},{"$f":"'Population 2016'!Z137*'Prevalence Rates'!Z137","v":0},{"$f":"'Population 2016'!AA137*'Prevalence Rates'!AA137","v":0},{"$f":"'Population 2016'!AB137*'Prevalence Rates'!AB137","v":0},{"$f":"'Population 2016'!AC137*'Prevalence Rates'!AC137","v":0},{"$f":"'Population 2016'!AD137*'Prevalence Rates'!AD137","v":0},{"$f":"'Population 2016'!AE137*'Prevalence Rates'!AE137","v":0},{"$f":"'Population 2016'!AF137*'Prevalence Rates'!AF137","v":0},{"$f":"'Population 2016'!AG137*'Prevalence Rates'!AG137","v":0},{"$f":"'Population 2016'!AH137*'Prevalence Rates'!AH137","v":0},{"$f":"'Population 2016'!AI137*'Prevalence Rates'!AI137","v":0},{"$f":"'Population 2016'!AJ137*'Prevalence Rates'!AJ137","v":0},{"$f":"'Population 2016'!AK137*'Prevalence Rates'!AK137","v":0},{"$f":"'Population 2016'!AL137*'Prevalence Rates'!AL137","v":0},{"$f":"'Population 2016'!AM137*'Prevalence Rates'!AM137","v":0},{"$f":"'Population 2016'!AN137*'Prevalence Rates'!AN137","v":0},{"$f":"'Population 2016'!AO137*'Prevalence Rates'!AO137","v":0},{"$f":"'Population 2016'!AP137*'Prevalence Rates'!AP137","v":0},{"$f":"'Population 2016'!AQ137*'Prevalence Rates'!AQ137","v":0},{"$f":"'Population 2016'!AR137*'Prevalence Rates'!AR137","v":0},{"$f":"'Population 2016'!AS137*'Prevalence Rates'!AS137","v":0},{"$f":"'Population 2016'!AT137*'Prevalence Rates'!AT137","v":0},{"$f":"'Population 2016'!AU137*'Prevalence Rates'!AU137","v":0},{"$f":"'Population 2016'!AV137*'Prevalence Rates'!AV137","v":0},{"$f":"'Population 2016'!AW137*'Prevalence Rates'!AW137","v":0},{"$f":"'Population 2016'!AX137*'Prevalence Rates'!AX137","v":0},{"$f":"'Population 2016'!AY137*'Prevalence Rates'!AY137","v":0},{"$f":"'Population 2016'!AZ137*'Prevalence Rates'!AZ137","v":0},{"$f":"'Population 2016'!BA137*'Prevalence Rates'!BA137","v":0},{"$f":"'Population 2016'!BB137*'Prevalence Rates'!BB137","v":0},{"$f":"'Population 2016'!BC137*'Prevalence Rates'!BC137","v":0},135]
[null,"Female 10-15",{"$f":"'Population 2016'!C138*'Prevalence Rates'!C138","v":0},{"$f":"'Population 2016'!D138*'Prevalence Rates'!D138","v":0},{"$f":"'Population 2016'!E138*'Prevalence Rates'!E138","v":0},{"$f":"'Population 2016'!F138*'Prevalence Rates'!F138","v":0},{"$f":"'Population 2016'!G138*'Prevalence Rates'!G138","v":0},{"$f":"'Population 2016'!H138*'Prevalence Rates'!H138","v":0},{"$f":"'Population 2016'!I138*'Prevalence Rates'!I138","v":0},{"$f":"'Population 2016'!J138*'Prevalence Rates'!J138","v":0},{"$f":"'Population 2016'!K138*'Prevalence Rates'!K138","v":0},{"$f":"'Population 2016'!L138*'Prevalence Rates'!L138","v":0},{"$f":"'Population 2016'!M138*'Prevalence Rates'!M138","v":0},{"$f":"'Population 2016'!N138*'Prevalence Rates'!N138","v":0},{"$f":"'Population 2016'!O138*'Prevalence Rates'!O138","v":0},{"$f":"'Population 2016'!P138*'Prevalence Rates'!P138","v":0},{"$f":"'Population 2016'!Q138*'Prevalence Rates'!Q138","v":0},{"$f":"'Population 2016'!R138*'Prevalence Rates'!R138","v":0},{"$f":"'Population 2016'!S138*'Prevalence Rates'!S138","v":0},{"$f":"'Population 2016'!T138*'Prevalence Rates'!T138","v":0},{"$f":"'Population 2016'!U138*'Prevalence Rates'!U138","v":0},{"$f":"'Population 2016'!V138*'Prevalence Rates'!V138","v":0},{"$f":"'Population 2016'!W138*'Prevalence Rates'!W138","v":0},{"$f":"'Population 2016'!X138*'Prevalence Rates'!X138","v":0},{"$f":"'Population 2016'!Y138*'Prevalence Rates'!Y138","v":0},{"$f":"'Population 2016'!Z138*'Prevalence Rates'!Z138","v":0},{"$f":"'Population 2016'!AA138*'Prevalence Rates'!AA138","v":0},{"$f":"'Population 2016'!AB138*'Prevalence Rates'!AB138","v":0},{"$f":"'Population 2016'!AC138*'Prevalence Rates'!AC138","v":0},{"$f":"'Population 2016'!AD138*'Prevalence Rates'!AD138","v":0},{"$f":"'Population 2016'!AE138*'Prevalence Rates'!AE138","v":0},{"$f":"'Population 2016'!AF138*'Prevalence Rates'!AF138","v":0},{"$f":"'Population 2016'!AG138*'Prevalence Rates'!AG138","v":0},{"$f":"'Population 2016'!AH138*'Prevalence Rates'!AH138","v":0},{"$f":"'Population 2016'!AI138*'Prevalence Rates'!AI138","v":0},{"$f":"'Population 2016'!AJ138*'Prevalence Rates'!AJ138","v":0},{"$f":"'Population 2016'!AK138*'Prevalence Rates'!AK138","v":0},{"$f":"'Population 2016'!AL138*'Prevalence Rates'!AL138","v":0},{"$f":"'Population 2016'!AM138*'Prevalence Rates'!AM138","v":0},{"$f":"'Population 2016'!AN138*'Prevalence Rates'!AN138","v":0},{"$f":"'Population 2016'!AO138*'Prevalence Rates'!AO138","v":0},{"$f":"'Population 2016'!AP138*'Prevalence Rates'!AP138","v":0},{"$f":"'Population 2016'!AQ138*'Prevalence Rates'!AQ138","v":0},{"$f":"'Population 2016'!AR138*'Prevalence Rates'!AR138","v":0},{"$f":"'Population 2016'!AS138*'Prevalence Rates'!AS138","v":0},{"$f":"'Population 2016'!AT138*'Prevalence Rates'!AT138","v":0},{"$f":"'Population 2016'!AU138*'Prevalence Rates'!AU138","v":0},{"$f":"'Population 2016'!AV138*'Prevalence Rates'!AV138","v":0},{"$f":"'Population 2016'!AW138*'Prevalence Rates'!AW138","v":0},{"$f":"'Population 2016'!AX138*'Prevalence Rates'!AX138","v":0},{"$f":"'Population 2016'!AY138*'Prevalence Rates'!AY138","v":0},{"$f":"'Population 2016'!AZ138*'Prevalence Rates'!AZ138","v":0},{"$f":"'Population 2016'!BA138*'Prevalence Rates'!BA138","v":0},{"$f":"'Population 2016'!BB138*'Prevalence Rates'!BB138","v":0},{"$f":"'Population 2016'!BC138*'Prevalence Rates'!BC138","v":0},136]
[null,"Female 16-19",{"$f":"'Population 2016'!C139*'Prevalence Rates'!C139","v":120.73147531914894},{"$f":"'Population 2016'!D139*'Prevalence Rates'!D139","v":165.63710544346765},{"$f":"'Population 2016'!E139*'Prevalence Rates'!E139","v":157.4005356382979},{"$f":"'Population 2016'!F139*'Prevalence Rates'!F139","v":81.308635851063812},{"$f":"'Population 2016'!G139*'Prevalence Rates'!G139","v":151.13460000000001},{"$f":"'Population 2016'!H139*'Prevalence Rates'!H139","v":269.69911691489369},{"$f":"'Population 2016'!I139*'Prevalence Rates'!I139","v":157.88045042553193},{"$f":"'Population 2016'!J139*'Prevalence Rates'!J139","v":103.4706},{"$f":"'Population 2016'!K139*'Prevalence Rates'!K139","v":34.755000000000003},{"$f":"'Population 2016'!L139*'Prevalence Rates'!L139","v":252.2693259574468},{"$f":"'Population 2016'!M139*'Prevalence Rates'!M139","v":252.2693259574468},{"$f":"'Population 2016'!N139*'Prevalence Rates'!N139","v":122.84339617021277},{"$f":"'Population 2016'!O139*'Prevalence Rates'!O139","v":84.534195638297874},{"$f":"'Population 2016'!P139*'Prevalence Rates'!P139","v":24.687670212765951},{"$f":"'Population 2016'!Q139*'Prevalence Rates'!Q139","v":101.5308695744681},{"$f":"'Population 2016'!R139*'Prevalence Rates'!R139","v":19.887994148936169},{"$f":"'Population 2016'!S139*'Prevalence Rates'!S139","v":793.25635730417525},{"$f":"'Population 2016'!T139*'Prevalence Rates'!T139","v":216.62273872340424},{"$f":"'Population 2016'!U139*'Prevalence Rates'!U139","v":71.297399999999996},{"$f":"'Population 2016'!V139*'Prevalence Rates'!V139","v":78.838284255319167},{"$f":"'Population 2016'!W139*'Prevalence Rates'!W139","v":330.22468531914893},{"$f":"'Population 2016'!X139*'Prevalence Rates'!X139","v":330.22468531914893},{"$f":"'Population 2016'!Y139*'Prevalence Rates'!Y139","v":163.71981861702128},{"$f":"'Population 2016'!Z139*'Prevalence Rates'!Z139","v":570.11362531914892},{"$f":"'Population 2016'!AA139*'Prevalence Rates'!AA139","v":556.73241431508336},{"$f":"'Population 2016'!AB139*'Prevalence Rates'!AB139","v":404.90525744680855},{"$f":"'Population 2016'!AC139*'Prevalence Rates'!AC139","v":875.60415957446799},{"$f":"'Population 2016'!AD139*'Prevalence Rates'!AD139","v":416.06150680851061},{"$f":"'Population 2016'!AE139*'Prevalence Rates'!AE139","v":269.20208872340424},{"$f":"'Population 2016'!AF139*'Prevalence Rates'!AF139","v":54.813600000000001},{"$f":"'Population 2016'!AG139*'Prevalence Rates'!AG139","v":143.8201123959297},{"$f":"'Population 2016'!AH139*'Prevalence Rates'!AH139","v":627.75685276595755},{"$f":"'Population 2016'!AI139*'Prevalence Rates'!AI139","v":581.50597627659567},{"$f":"'Population 2016'!AJ139*'Prevalence Rates'!AJ139","v":94.930800000000005},{"$f":"'Population 2016'!AK139*'Prevalence Rates'!AK139","v":138.67245000000003},{"$f":"'Population 2016'!AL139*'Prevalence Rates'!AL139","v":78.981424148936171},{"$f":"'Population 2016'!AM139*'Prevalence Rates'!AM139","v":382.72607425531913},{"$f":"'Population 2016'!AN139*'Prevalence Rates'!AN139","v":24.427800000000001},{"$f":"'Population 2016'!AO139*'Prevalence Rates'!AO139","v":24.427800000000001},{"$f":"'Population 2016'!AP139*'Prevalence Rates'!AP139","v":102.71539180851065},{"$f":"'Population 2016'!AQ139*'Prevalence Rates'!AQ139","v":152.03337063829787},{"$f":"'Population 2016'!AR139*'Prevalence Rates'!AR139","v":4540.7903999999999},{"$f":"'Population 2016'!AS139*'Prevalence Rates'!AS139","v":157.88045042553193},{"$f":"'Population 2016'!AT139*'Prevalence Rates'!AT139","v":29.5914},{"$f":"'Population 2016'!AU139*'Prevalence Rates'!AU139","v":29.5914},{"$f":"'Population 2016'!AV139*'Prevalence Rates'!AV139","v":107.34984957446807},{"$f":"'Population 2016'!AW139*'Prevalence Rates'!AW139","v":246.05061063829788},{"$f":"'Population 2016'!AX139*'Prevalence Rates'!AX139","v":68.715599999999995},{"$f":"'Population 2016'!AY139*'Prevalence Rates'!AY139","v":400.05105718878826},{"$f":"'Population 2016'!AZ139*'Prevalence Rates'!AZ139","v":341.96384680851065},{"$f":"'Population 2016'!BA139*'Prevalence Rates'!BA139","v":65.679132765957448},{"$f":"'Population 2016'!BB139*'Prevalence Rates'!BB139","v":182.3815634042553},{"$f":"'Population 2016'!BC139*'Prevalence Rates'!BC139","v":71.297399999999996},137]
[null,"Female 20-24",{"$f":"'Population 2016'!C140*'Prevalence Rates'!C140","v":360.25849851063828},{"$f":"'Population 2016'!D140*'Prevalence Rates'!D140","v":320.60638120915013},{"$f":"'Population 2016'!E140*'Prevalence Rates'!E140","v":197.16173457446811},{"$f":"'Population 2016'!F140*'Prevalence Rates'!F140","v":92.627462553191478},{"$f":"'Population 2016'!G140*'Prevalence Rates'!G140","v":134.8494},{"$f":"'Population 2016'!H140*'Prevalence Rates'!H140","v":308.45706893617029},{"$f":"'Population 2016'!I140*'Prevalence Rates'!I140","v":191.56702468085106},{"$f":"'Population 2016'!J140*'Prevalence Rates'!J140","v":180.3288},{"$f":"'Population 2016'!K140*'Prevalence Rates'!K140","v":50.8416},{"$f":"'Population 2016'!L140*'Prevalence Rates'!L140","v":297.1487004255319},{"$f":"'Population 2016'!M140*'Prevalence Rates'!M140","v":297.1487004255319},{"$f":"'Population 2016'!N140*'Prevalence Rates'!N140","v":220.91165361702127},{"$f":"'Population 2016'!O140*'Prevalence Rates'!O140","v":100.54906723404255},{"$f":"'Population 2016'!P140*'Prevalence Rates'!P140","v":32.515468085106377},{"$f":"'Population 2016'!Q140*'Prevalence Rates'!Q140","v":140.21994542553193},{"$f":"'Population 2016'!R140*'Prevalence Rates'!R140","v":22.212564893617021},{"$f":"'Population 2016'!S140*'Prevalence Rates'!S140","v":1410.5319297110414},{"$f":"'Population 2016'!T140*'Prevalence Rates'!T140","v":690.44726680851056},{"$f":"'Population 2016'!U140*'Prevalence Rates'!U140","v":72.489000000000004},{"$f":"'Population 2016'!V140*'Prevalence Rates'!V140","v":102.83254468085109},{"$f":"'Population 2016'!W140*'Prevalence Rates'!W140","v":460.43107085106379},{"$f":"'Population 2016'!X140*'Prevalence Rates'!X140","v":460.43107085106379},{"$f":"'Population 2016'!Y140*'Prevalence Rates'!Y140","v":246.96966382978724},{"$f":"'Population 2016'!Z140*'Prevalence Rates'!Z140","v":1272.5148162765956},{"$f":"'Population 2016'!AA140*'Prevalence Rates'!AA140","v":895.97293772696275},{"$f":"'Population 2016'!AB140*'Prevalence Rates'!AB140","v":711.25843404255318},{"$f":"'Population 2016'!AC140*'Prevalence Rates'!AC140","v":1628.3087234042553},{"$f":"'Population 2016'!AD140*'Prevalence Rates'!AD140","v":439.65846159574465},{"$f":"'Population 2016'!AE140*'Prevalence Rates'!AE140","v":307.81943617021278},{"$f":"'Population 2016'!AF140*'Prevalence Rates'!AF140","v":63.353400000000001},{"$f":"'Population 2016'!AG140*'Prevalence Rates'!AG140","v":164.45127197039778},{"$f":"'Population 2016'!AH140*'Prevalence Rates'!AH140","v":781.51212765957462},{"$f":"'Population 2016'!AI140*'Prevalence Rates'!AI140","v":1225.1162853191488},{"$f":"'Population 2016'!AJ140*'Prevalence Rates'!AJ140","v":102.4776},{"$f":"'Population 2016'!AK140*'Prevalence Rates'!AK140","v":167.86665000000002},{"$f":"'Population 2016'!AL140*'Prevalence Rates'!AL140","v":92.177337765957446},{"$f":"'Population 2016'!AM140*'Prevalence Rates'!AM140","v":467.41207212765954},{"$f":"'Population 2016'!AN140*'Prevalence Rates'!AN140","v":33.563400000000001},{"$f":"'Population 2016'!AO140*'Prevalence Rates'!AO140","v":33.563400000000001},{"$f":"'Population 2016'!AP140*'Prevalence Rates'!AP140","v":138.92217893617021},{"$f":"'Population 2016'!AQ140*'Prevalence Rates'!AQ140","v":200.26147914893616},{"$f":"'Population 2016'!AR140*'Prevalence Rates'!AR140","v":6933.1260000000002},{"$f":"'Population 2016'!AS140*'Prevalence Rates'!AS140","v":191.56702468085106},{"$f":"'Population 2016'!AT140*'Prevalence Rates'!AT140","v":34.357799999999997},{"$f":"'Population 2016'!AU140*'Prevalence Rates'!AU140","v":34.357799999999997},{"$f":"'Population 2016'!AV140*'Prevalence Rates'!AV140","v":116.86447978723402},{"$f":"'Population 2016'!AW140*'Prevalence Rates'!AW140","v":312.54062297872343},{"$f":"'Population 2016'!AX140*'Prevalence Rates'!AX140","v":129.4872},{"$f":"'Population 2016'!AY140*'Prevalence Rates'!AY140","v":553.82103614785262},{"$f":"'Population 2016'!AZ140*'Prevalence Rates'!AZ140","v":470.55650170212766},{"$f":"'Population 2016'!BA140*'Prevalence Rates'!BA140","v":104.34507382978724},{"$f":"'Population 2016'!BB140*'Prevalence Rates'!BB140","v":227.92350127659572},{"$f":"'Population 2016'!BC140*'Prevalence Rates'!BC140","v":72.489000000000004},138]
[null,"Female 25-29",{"$f":"'Population 2016'!C141*'Prevalence Rates'!C141","v":409.96998893617024},{"$f":"'Population 2016'!D141*'Prevalence Rates'!D141","v":379.11043354022468},{"$f":"'Population 2016'!E141*'Prevalence Rates'!E141","v":246.75311914893621},{"$f":"'Population 2016'!F141*'Prevalence Rates'!F141","v":98.040237021276596},{"$f":"'Population 2016'!G141*'Prevalence Rates'!G141","v":168.31360000000001},{"$f":"'Population 2016'!H141*'Prevalence Rates'!H141","v":366.80482595744689},{"$f":"'Population 2016'!I141*'Prevalence Rates'!I141","v":181.67019617021279},{"$f":"'Population 2016'!J141*'Prevalence Rates'!J141","v":194.9016},{"$f":"'Population 2016'!K141*'Prevalence Rates'!K141","v":61.268000000000008},{"$f":"'Population 2016'!L141*'Prevalence Rates'!L141","v":359.94937702127658},{"$f":"'Population 2016'!M141*'Prevalence Rates'!M141","v":359.94937702127658},{"$f":"'Population 2016'!N141*'Prevalence Rates'!N141","v":287.51822936170214},{"$f":"'Population 2016'!O141*'Prevalence Rates'!O141","v":126.25795106382979},{"$f":"'Population 2016'!P141*'Prevalence Rates'!P141","v":35.048936170212762},{"$f":"'Population 2016'!Q141*'Prevalence Rates'!Q141","v":153.86446085106388},{"$f":"'Population 2016'!R141*'Prevalence Rates'!R141","v":26.660557446808514},{"$f":"'Population 2016'!S141*'Prevalence Rates'!S141","v":1837.2286614053344},{"$f":"'Population 2016'!T141*'Prevalence Rates'!T141","v":989.40711829787233},{"$f":"'Population 2016'!U141*'Prevalence Rates'!U141","v":95.485600000000005},{"$f":"'Population 2016'!V141*'Prevalence Rates'!V141","v":121.09370553191492},{"$f":"'Population 2016'!W141*'Prevalence Rates'!W141","v":591.78025787234048},{"$f":"'Population 2016'!X141*'Prevalence Rates'!X141","v":591.78025787234048},{"$f":"'Population 2016'!Y141*'Prevalence Rates'!Y141","v":277.97126808510643},{"$f":"'Population 2016'!Z141*'Prevalence Rates'!Z141","v":1396.1205076595745},{"$f":"'Population 2016'!AA141*'Prevalence Rates'!AA141","v":1031.4620458813245},{"$f":"'Population 2016'!AB141*'Prevalence Rates'!AB141","v":846.99628085106394},{"$f":"'Population 2016'!AC141*'Prevalence Rates'!AC141","v":1811.9193191489362},{"$f":"'Population 2016'!AD141*'Prevalence Rates'!AD141","v":551.38531361702121},{"$f":"'Population 2016'!AE141*'Prevalence Rates'!AE141","v":386.79833787234048},{"$f":"'Population 2016'!AF141*'Prevalence Rates'!AF141","v":70.978400000000008},{"$f":"'Population 2016'!AG141*'Prevalence Rates'!AG141","v":206.64542645698432},{"$f":"'Population 2016'!AH141*'Prevalence Rates'!AH141","v":965.05831489361719},{"$f":"'Population 2016'!AI141*'Prevalence Rates'!AI141","v":1663.0802608510637},{"$f":"'Population 2016'!AJ141*'Prevalence Rates'!AJ141","v":134.3272},{"$f":"'Population 2016'!AK141*'Prevalence Rates'!AK141","v":206.75060000000002},{"$f":"'Population 2016'!AL141*'Prevalence Rates'!AL141","v":97.142123404255329},{"$f":"'Population 2016'!AM141*'Prevalence Rates'!AM141","v":599.79133787234036},{"$f":"'Population 2016'!AN141*'Prevalence Rates'!AN141","v":42.540800000000004},{"$f":"'Population 2016'!AO141*'Prevalence Rates'!AO141","v":42.540800000000004},{"$f":"'Population 2016'!AP141*'Prevalence Rates'!AP141","v":167.87677957446809},{"$f":"'Population 2016'!AQ141*'Prevalence Rates'!AQ141","v":236.07512255319148},{"$f":"'Population 2016'!AR141*'Prevalence Rates'!AR141","v":8423.0784000000003},{"$f":"'Population 2016'!AS141*'Prevalence Rates'!AS141","v":181.67019617021279},{"$f":"'Population 2016'!AT141*'Prevalence Rates'!AT141","v":48.552000000000007},{"$f":"'Population 2016'!AU141*'Prevalence Rates'!AU141","v":48.552000000000007},{"$f":"'Population 2016'!AV141*'Prevalence Rates'!AV141","v":145.43857361702126},{"$f":"'Population 2016'!AW141*'Prevalence Rates'!AW141","v":370.40355234042556},{"$f":"'Population 2016'!AX141*'Prevalence Rates'!AX141","v":133.6336},{"$f":"'Population 2016'!AY141*'Prevalence Rates'!AY141","v":682.69430750861159},{"$f":"'Population 2016'!AZ141*'Prevalence Rates'!AZ141","v":558.99437617021283},{"$f":"'Population 2016'!BA141*'Prevalence Rates'!BA141","v":118.08183361702127},{"$f":"'Population 2016'!BB141*'Prevalence Rates'!BB141","v":275.54219234042552},{"$f":"'Population 2016'!BC141*'Prevalence Rates'!BC141","v":95.485600000000005},139]
[null,"Female 30-34",{"$f":"'Population 2016'!C142*'Prevalence Rates'!C142","v":323.71443404255319},{"$f":"'Population 2016'!D142*'Prevalence Rates'!D142","v":346.17805601420923},{"$f":"'Population 2016'!E142*'Prevalence Rates'!E142","v":268.33096595744684},{"$f":"'Population 2016'!F142*'Prevalence Rates'!F142","v":121.00897319148936},{"$f":"'Population 2016'!G142*'Prevalence Rates'!G142","v":190.74},{"$f":"'Population 2016'!H142*'Prevalence Rates'!H142","v":393.68981957446817},{"$f":"'Population 2016'!I142*'Prevalence Rates'!I142","v":223.95753702127664},{"$f":"'Population 2016'!J142*'Prevalence Rates'!J142","v":159.52800000000002},{"$f":"'Population 2016'!K142*'Prevalence Rates'!K142","v":63.348800000000004},{"$f":"'Population 2016'!L142*'Prevalence Rates'!L142","v":344.82545361702125},{"$f":"'Population 2016'!M142*'Prevalence Rates'!M142","v":344.82545361702125},{"$f":"'Population 2016'!N142*'Prevalence Rates'!N142","v":185.06920510638301},{"$f":"'Population 2016'!O142*'Prevalence Rates'!O142","v":130.9778744680851},{"$f":"'Population 2016'!P142*'Prevalence Rates'!P142","v":28.214393617021276},{"$f":"'Population 2016'!Q142*'Prevalence Rates'!Q142","v":158.02999617021283},{"$f":"'Population 2016'!R142*'Prevalence Rates'!R142","v":28.163972340425534},{"$f":"'Population 2016'!S142*'Prevalence Rates'!S142","v":1660.3347240107321},{"$f":"'Population 2016'!T142*'Prevalence Rates'!T142","v":758.12398468085109},{"$f":"'Population 2016'!U142*'Prevalence Rates'!U142","v":104.73360000000001},{"$f":"'Population 2016'!V142*'Prevalence Rates'!V142","v":140.8922961702128},{"$f":"'Population 2016'!W142*'Prevalence Rates'!W142","v":565.32532085106391},{"$f":"'Population 2016'!X142*'Prevalence Rates'!X142","v":565.32532085106391},{"$f":"'Population 2016'!Y142*'Prevalence Rates'!Y142","v":273.88345531914899},{"$f":"'Population 2016'!Z142*'Prevalence Rates'!Z142","v":1108.5931778723404},{"$f":"'Population 2016'!AA142*'Prevalence Rates'!AA142","v":972.76332809475991},{"$f":"'Population 2016'!AB142*'Prevalence Rates'!AB142","v":810.04609361702137},{"$f":"'Population 2016'!AC142*'Prevalence Rates'!AC142","v":1554.6970212765957},{"$f":"'Population 2016'!AD142*'Prevalence Rates'!AD142","v":603.02961361702125},{"$f":"'Population 2016'!AE142*'Prevalence Rates'!AE142","v":416.7692365957447},{"$f":"'Population 2016'!AF142*'Prevalence Rates'!AF142","v":62.192800000000005},{"$f":"'Population 2016'!AG142*'Prevalence Rates'!AG142","v":222.65725624421836},{"$f":"'Population 2016'!AH142*'Prevalence Rates'!AH142","v":1070.9990740425533},{"$f":"'Population 2016'!AI142*'Prevalence Rates'!AI142","v":1422.8552212765958},{"$f":"'Population 2016'!AJ142*'Prevalence Rates'!AJ142","v":142.18800000000002},{"$f":"'Population 2016'!AK142*'Prevalence Rates'!AK142","v":239.60412000000002},{"$f":"'Population 2016'!AL142*'Prevalence Rates'!AL142","v":105.04904042553191},{"$f":"'Population 2016'!AM142*'Prevalence Rates'!AM142","v":684.70347319148937},{"$f":"'Population 2016'!AN142*'Prevalence Rates'!AN142","v":46.933600000000006},{"$f":"'Population 2016'!AO142*'Prevalence Rates'!AO142","v":46.933600000000006},{"$f":"'Population 2016'!AP142*'Prevalence Rates'!AP142","v":179.63539021276597},{"$f":"'Population 2016'!AQ142*'Prevalence Rates'!AQ142","v":260.13713957446805},{"$f":"'Population 2016'!AR142*'Prevalence Rates'!AR142","v":8044.6040000000003},{"$f":"'Population 2016'!AS142*'Prevalence Rates'!AS142","v":223.95753702127664},{"$f":"'Population 2016'!AT142*'Prevalence Rates'!AT142","v":43.465600000000002},{"$f":"'Population 2016'!AU142*'Prevalence Rates'!AU142","v":43.465600000000002},{"$f":"'Population 2016'!AV142*'Prevalence Rates'!AV142","v":159.88611404255317},{"$f":"'Population 2016'!AW142*'Prevalence Rates'!AW142","v":397.95422978723411},{"$f":"'Population 2016'!AX142*'Prevalence Rates'!AX142","v":96.179200000000009},{"$f":"'Population 2016'!AY142*'Prevalence Rates'!AY142","v":656.72582351957965},{"$f":"'Population 2016'!AZ142*'Prevalence Rates'!AZ142","v":541.16295319148946},{"$f":"'Population 2016'!BA142*'Prevalence Rates'!BA142","v":118.39014127659576},{"$f":"'Population 2016'!BB142*'Prevalence Rates'!BB142","v":306.40690042553189},{"$f":"'Population 2016'!BC142*'Prevalence Rates'!BC142","v":104.73360000000001},140]
[null,"Female 35-39",{"$f":"'Population 2016'!C143*'Prevalence Rates'!C143","v":194.15032297872338},{"$f":"'Population 2016'!D143*'Prevalence Rates'!D143","v":265.03220279466984},{"$f":"'Population 2016'!E143*'Prevalence Rates'!E143","v":251.02867712765959},{"$f":"'Population 2016'!F143*'Prevalence Rates'!F143","v":124.77971936170213},{"$f":"'Population 2016'!G143*'Prevalence Rates'!G143","v":187.5368},{"$f":"'Population 2016'!H143*'Prevalence Rates'!H143","v":384.65562042553199},{"$f":"'Population 2016'!I143*'Prevalence Rates'!I143","v":204.56831180851066},{"$f":"'Population 2016'!J143*'Prevalence Rates'!J143","v":155.54},{"$f":"'Population 2016'!K143*'Prevalence Rates'!K143","v":52.6614},{"$f":"'Population 2016'!L143*'Prevalence Rates'!L143","v":325.8525178723404},{"$f":"'Population 2016'!M143*'Prevalence Rates'!M143","v":325.8525178723404},{"$f":"'Population 2016'!N143*'Prevalence Rates'!N143","v":138.88480989361702},{"$f":"'Population 2016'!O143*'Prevalence Rates'!O143","v":123.611160106383},{"$f":"'Population 2016'!P143*'Prevalence Rates'!P143","v":32.84246010638298},{"$f":"'Population 2016'!Q143*'Prevalence Rates'!Q143","v":154.88084606382984},{"$f":"'Population 2016'!R143*'Prevalence Rates'!R143","v":28.416188829787238},{"$f":"'Population 2016'!S143*'Prevalence Rates'!S143","v":1379.5154916369611},{"$f":"'Population 2016'!T143*'Prevalence Rates'!T143","v":497.55591319148931},{"$f":"'Population 2016'!U143*'Prevalence Rates'!U143","v":121.54340000000001},{"$f":"'Population 2016'!V143*'Prevalence Rates'!V143","v":137.76778212765961},{"$f":"'Population 2016'!W143*'Prevalence Rates'!W143","v":560.26879021276591},{"$f":"'Population 2016'!X143*'Prevalence Rates'!X143","v":560.26879021276591},{"$f":"'Population 2016'!Y143*'Prevalence Rates'!Y143","v":267.47797765957444},{"$f":"'Population 2016'!Z143*'Prevalence Rates'!Z143","v":807.70598255319157},{"$f":"'Population 2016'!AA143*'Prevalence Rates'!AA143","v":861.73614521123307},{"$f":"'Population 2016'!AB143*'Prevalence Rates'!AB143","v":627.04840000000002},{"$f":"'Population 2016'!AC143*'Prevalence Rates'!AC143","v":1281.7157872340424},{"$f":"'Population 2016'!AD143*'Prevalence Rates'!AD143","v":612.29254712765965},{"$f":"'Population 2016'!AE143*'Prevalence Rates'!AE143","v":428.93227978723405},{"$f":"'Population 2016'!AF143*'Prevalence Rates'!AF143","v":82.880600000000001},{"$f":"'Population 2016'!AG143*'Prevalence Rates'!AG143","v":229.15531221091584},{"$f":"'Population 2016'!AH143*'Prevalence Rates'!AH143","v":1048.4795387234044},{"$f":"'Population 2016'!AI143*'Prevalence Rates'!AI143","v":1085.8942365957446},{"$f":"'Population 2016'!AJ143*'Prevalence Rates'!AJ143","v":137.54179999999999},{"$f":"'Population 2016'!AK143*'Prevalence Rates'!AK143","v":192.98625500000003},{"$f":"'Population 2016'!AL143*'Prevalence Rates'!AL143","v":108.34176521276596},{"$f":"'Population 2016'!AM143*'Prevalence Rates'!AM143","v":677.91659872340426},{"$f":"'Population 2016'!AN143*'Prevalence Rates'!AN143","v":31.552400000000002},{"$f":"'Population 2016'!AO143*'Prevalence Rates'!AO143","v":31.552400000000002},{"$f":"'Population 2016'!AP143*'Prevalence Rates'!AP143","v":159.08160797872341},{"$f":"'Population 2016'!AQ143*'Prevalence Rates'!AQ143","v":238.96191702127658},{"$f":"'Population 2016'!AR143*'Prevalence Rates'!AR143","v":7100.8454000000002},{"$f":"'Population 2016'!AS143*'Prevalence Rates'!AS143","v":204.56831180851066},{"$f":"'Population 2016'!AT143*'Prevalence Rates'!AT143","v":42.218000000000004},{"$f":"'Population 2016'!AU143*'Prevalence Rates'!AU143","v":42.218000000000004},{"$f":"'Population 2016'!AV143*'Prevalence Rates'!AV143","v":154.5878493617021},{"$f":"'Population 2016'!AW143*'Prevalence Rates'!AW143","v":384.3542321276596},{"$f":"'Population 2016'!AX143*'Prevalence Rates'!AX143","v":102.87860000000001},{"$f":"'Population 2016'!AY143*'Prevalence Rates'!AY143","v":622.79980748985679},{"$f":"'Population 2016'!AZ143*'Prevalence Rates'!AZ143","v":492.19900212765958},{"$f":"'Population 2016'!BA143*'Prevalence Rates'!BA143","v":111.11477393617022},{"$f":"'Population 2016'!BB143*'Prevalence Rates'!BB143","v":284.67129361702126},{"$f":"'Population 2016'!BC143*'Prevalence Rates'!BC143","v":121.54340000000001},141]
[null,"Female 40-44",{"$f":"'Population 2016'!C144*'Prevalence Rates'!C144","v":171.11220148936169},{"$f":"'Population 2016'!D144*'Prevalence Rates'!D144","v":265.35190388368636},{"$f":"'Population 2016'!E144*'Prevalence Rates'!E144","v":271.09759202127663},{"$f":"'Population 2016'!F144*'Prevalence Rates'!F144","v":144.9954280851064},{"$f":"'Population 2016'!G144*'Prevalence Rates'!G144","v":232.8656},{"$f":"'Population 2016'!H144*'Prevalence Rates'!H144","v":447.34190436170218},{"$f":"'Population 2016'!I144*'Prevalence Rates'!I144","v":272.68206712765959},{"$f":"'Population 2016'!J144*'Prevalence Rates'!J144","v":171.76060000000001},{"$f":"'Population 2016'!K144*'Prevalence Rates'!K144","v":65.104600000000005},{"$f":"'Population 2016'!L144*'Prevalence Rates'!L144","v":414.38503489361699},{"$f":"'Population 2016'!M144*'Prevalence Rates'!M144","v":414.38503489361699},{"$f":"'Population 2016'!N144*'Prevalence Rates'!N144","v":121.84904319148936},{"$f":"'Population 2016'!O144*'Prevalence Rates'!O144","v":149.24063000000001},{"$f":"'Population 2016'!P144*'Prevalence Rates'!P144","v":35.874071808510635},{"$f":"'Population 2016'!Q144*'Prevalence Rates'!Q144","v":170.89437457446815},{"$f":"'Population 2016'!R144*'Prevalence Rates'!R144","v":29.957405851063832},{"$f":"'Population 2016'!S144*'Prevalence Rates'!S144","v":1364.3333883242078},{"$f":"'Population 2016'!T144*'Prevalence Rates'!T144","v":396.12066765957439},{"$f":"'Population 2016'!U144*'Prevalence Rates'!U144","v":127.5428},{"$f":"'Population 2016'!V144*'Prevalence Rates'!V144","v":147.50297872340428},{"$f":"'Population 2016'!W144*'Prevalence Rates'!W144","v":557.52012893617018},{"$f":"'Population 2016'!X144*'Prevalence Rates'!X144","v":557.52012893617018},{"$f":"'Population 2016'!Y144*'Prevalence Rates'!Y144","v":290.23161223404253},{"$f":"'Population 2016'!Z144*'Prevalence Rates'!Z144","v":676.1437263829788},{"$f":"'Population 2016'!AA144*'Prevalence Rates'!AA144","v":848.91909473962971},{"$f":"'Population 2016'!AB144*'Prevalence Rates'!AB144","v":655.10469574468084},{"$f":"'Population 2016'!AC144*'Prevalence Rates'!AC144","v":1210.7299787234042},{"$f":"'Population 2016'!AD144*'Prevalence Rates'!AD144","v":686.42662234042552},{"$f":"'Population 2016'!AE144*'Prevalence Rates'!AE144","v":459.61502680851066},{"$f":"'Population 2016'!AF144*'Prevalence Rates'!AF144","v":92.213000000000008},{"$f":"'Population 2016'!AG144*'Prevalence Rates'!AG144","v":245.54744403330253},{"$f":"'Population 2016'!AH144*'Prevalence Rates'!AH144","v":1087.0818246808512},{"$f":"'Population 2016'!AI144*'Prevalence Rates'!AI144","v":1008.3303625531914},{"$f":"'Population 2016'!AJ144*'Prevalence Rates'!AJ144","v":146.4298},{"$f":"'Population 2016'!AK144*'Prevalence Rates'!AK144","v":231.09355500000001},{"$f":"'Population 2016'!AL144*'Prevalence Rates'!AL144","v":127.23101085106384},{"$f":"'Population 2016'!AM144*'Prevalence Rates'!AM144","v":700.53419489361704},{"$f":"'Population 2016'!AN144*'Prevalence Rates'!AN144","v":42.884599999999999},{"$f":"'Population 2016'!AO144*'Prevalence Rates'!AO144","v":42.884599999999999},{"$f":"'Population 2016'!AP144*'Prevalence Rates'!AP144","v":179.77091000000001},{"$f":"'Population 2016'!AQ144*'Prevalence Rates'!AQ144","v":263.88590191489362},{"$f":"'Population 2016'!AR144*'Prevalence Rates'!AR144","v":7397.2602000000006},{"$f":"'Population 2016'!AS144*'Prevalence Rates'!AS144","v":272.68206712765959},{"$f":"'Population 2016'!AT144*'Prevalence Rates'!AT144","v":43.995600000000003},{"$f":"'Population 2016'!AU144*'Prevalence Rates'!AU144","v":43.995600000000003},{"$f":"'Population 2016'!AV144*'Prevalence Rates'!AV144","v":172.86994531914891},{"$f":"'Population 2016'!AW144*'Prevalence Rates'!AW144","v":400.11506723404256},{"$f":"'Population 2016'!AX144*'Prevalence Rates'!AX144","v":106.65600000000001},{"$f":"'Population 2016'!AY144*'Prevalence Rates'!AY144","v":650.9246157206843},{"$f":"'Population 2016'!AZ144*'Prevalence Rates'!AZ144","v":538.82838127659579},{"$f":"'Population 2016'!BA144*'Prevalence Rates'!BA144","v":119.70764978723405},{"$f":"'Population 2016'!BB144*'Prevalence Rates'!BB144","v":311.70310553191484},{"$f":"'Population 2016'!BC144*'Prevalence Rates'!BC144","v":127.5428},142]
[null,"Female 45-49",{"$f":"'Population 2016'!C145*'Prevalence Rates'!C145","v":183.36988510638298},{"$f":"'Population 2016'!D145*'Prevalence Rates'!D145","v":330.21084266826239},{"$f":"'Population 2016'!E145*'Prevalence Rates'!E145","v":362.47302340425534},{"$f":"'Population 2016'!F145*'Prevalence Rates'!F145","v":171.05664042553192},{"$f":"'Population 2016'!G145*'Prevalence Rates'!G145","v":299.1728},{"$f":"'Population 2016'!H145*'Prevalence Rates'!H145","v":594.74281531914903},{"$f":"'Population 2016'!I145*'Prevalence Rates'!I145","v":366.17529787234048},{"$f":"'Population 2016'!J145*'Prevalence Rates'!J145","v":217.328},{"$f":"'Population 2016'!K145*'Prevalence Rates'!K145","v":90.86160000000001},{"$f":"'Population 2016'!L145*'Prevalence Rates'!L145","v":594.50767999999994},{"$f":"'Population 2016'!M145*'Prevalence Rates'!M145","v":594.50767999999994},{"$f":"'Population 2016'!N145*'Prevalence Rates'!N145","v":161.03424340425534},{"$f":"'Population 2016'!O145*'Prevalence Rates'!O145","v":204.84467574468087},{"$f":"'Population 2016'!P145*'Prevalence Rates'!P145","v":54.325851063829781},{"$f":"'Population 2016'!Q145*'Prevalence Rates'!Q145","v":245.24589191489372},{"$f":"'Population 2016'!R145*'Prevalence Rates'!R145","v":35.781274468085108},{"$f":"'Population 2016'!S145*'Prevalence Rates'!S145","v":1663.4612215088694},{"$f":"'Population 2016'!T145*'Prevalence Rates'!T145","v":367.73491404255316},{"$f":"'Population 2016'!U145*'Prevalence Rates'!U145","v":163.92080000000001},{"$f":"'Population 2016'!V145*'Prevalence Rates'!V145","v":173.27603744680854},{"$f":"'Population 2016'!W145*'Prevalence Rates'!W145","v":721.67161531914894},{"$f":"'Population 2016'!X145*'Prevalence Rates'!X145","v":721.67161531914894},{"$f":"'Population 2016'!Y145*'Prevalence Rates'!Y145","v":352.40352553191491},{"$f":"'Population 2016'!Z145*'Prevalence Rates'!Z145","v":766.92655574468085},{"$f":"'Population 2016'!AA145*'Prevalence Rates'!AA145","v":1058.7184985848703},{"$f":"'Population 2016'!AB145*'Prevalence Rates'!AB145","v":812.08754042553198},{"$f":"'Population 2016'!AC145*'Prevalence Rates'!AC145","v":1510.0188510638297},{"$f":"'Population 2016'!AD145*'Prevalence Rates'!AD145","v":918.82901404255313},{"$f":"'Population 2016'!AE145*'Prevalence Rates'!AE145","v":626.99988851063836},{"$f":"'Population 2016'!AF145*'Prevalence Rates'!AF145","v":113.05680000000001},{"$f":"'Population 2016'!AG145*'Prevalence Rates'!AG145","v":334.9721202590195},{"$f":"'Population 2016'!AH145*'Prevalence Rates'!AH145","v":1355.6643200000001},{"$f":"'Population 2016'!AI145*'Prevalence Rates'!AI145","v":1162.4538004255319},{"$f":"'Population 2016'!AJ145*'Prevalence Rates'!AJ145","v":200.9128},{"$f":"'Population 2016'!AK145*'Prevalence Rates'!AK145","v":283.22000000000003},{"$f":"'Population 2016'!AL145*'Prevalence Rates'!AL145","v":168.07846468085108},{"$f":"'Population 2016'!AM145*'Prevalence Rates'!AM145","v":795.69349276595744},{"$f":"'Population 2016'!AN145*'Prevalence Rates'!AN145","v":60.112000000000002},{"$f":"'Population 2016'!AO145*'Prevalence Rates'!AO145","v":60.112000000000002},{"$f":"'Population 2016'!AP145*'Prevalence Rates'!AP145","v":247.65443021276596},{"$f":"'Population 2016'!AQ145*'Prevalence Rates'!AQ145","v":368.14886042553189},{"$f":"'Population 2016'!AR145*'Prevalence Rates'!AR145","v":9360.8256000000001},{"$f":"'Population 2016'!AS145*'Prevalence Rates'!AS145","v":366.17529787234048},{"$f":"'Population 2016'!AT145*'Prevalence Rates'!AT145","v":64.736000000000004},{"$f":"'Population 2016'!AU145*'Prevalence Rates'!AU145","v":64.736000000000004},{"$f":"'Population 2016'!AV145*'Prevalence Rates'!AV145","v":224.41846127659571},{"$f":"'Population 2016'!AW145*'Prevalence Rates'!AW145","v":552.5441421276596},{"$f":"'Population 2016'!AX145*'Prevalence Rates'!AX145","v":126.46640000000001},{"$f":"'Population 2016'!AY145*'Prevalence Rates'!AY145","v":836.79155513895853},{"$f":"'Population 2016'!AZ145*'Prevalence Rates'!AZ145","v":688.37586382978736},{"$f":"'Population 2016'!BA145*'Prevalence Rates'!BA145","v":178.81844255319149},{"$f":"'Population 2016'!BB145*'Prevalence Rates'!BB145","v":404.72593021276595},{"$f":"'Population 2016'!BC145*'Prevalence Rates'!BC145","v":163.92080000000001},143]
[null,"Female 50-54",{"$f":"'Population 2016'!C146*'Prevalence Rates'!C146","v":204.06302297872341},{"$f":"'Population 2016'!D146*'Prevalence Rates'!D146","v":340.85565156556032},{"$f":"'Population 2016'!E146*'Prevalence Rates'!E146","v":361.60294893617026},{"$f":"'Population 2016'!F146*'Prevalence Rates'!F146","v":191.97027914893616},{"$f":"'Population 2016'!G146*'Prevalence Rates'!G146","v":372.69440000000003},{"$f":"'Population 2016'!H146*'Prevalence Rates'!H146","v":660.43571276595753},{"$f":"'Population 2016'!I146*'Prevalence Rates'!I146","v":376.33370936170218},{"$f":"'Population 2016'!J146*'Prevalence Rates'!J146","v":230.50640000000001},{"$f":"'Population 2016'!K146*'Prevalence Rates'!K146","v":93.63600000000001},{"$f":"'Population 2016'!L146*'Prevalence Rates'!L146","v":643.45419574468076},{"$f":"'Population 2016'!M146*'Prevalence Rates'!M146","v":643.45419574468076},{"$f":"'Population 2016'!N146*'Prevalence Rates'!N146","v":198.28843404255321},{"$f":"'Population 2016'!O146*'Prevalence Rates'!O146","v":218.5324536170213},{"$f":"'Population 2016'!P146*'Prevalence Rates'!P146","v":46.615085106382978},{"$f":"'Population 2016'!Q146*'Prevalence Rates'!Q146","v":221.0337178723405},{"$f":"'Population 2016'!R146*'Prevalence Rates'!R146","v":40.491974468085111},{"$f":"'Population 2016'!S146*'Prevalence Rates'!S146","v":1690.4478314927901},{"$f":"'Population 2016'!T146*'Prevalence Rates'!T146","v":363.52018723404257},{"$f":"'Population 2016'!U146*'Prevalence Rates'!U146","v":166.23280000000003},{"$f":"'Population 2016'!V146*'Prevalence Rates'!V146","v":183.55902638297874},{"$f":"'Population 2016'!W146*'Prevalence Rates'!W146","v":779.58647744680854},{"$f":"'Population 2016'!X146*'Prevalence Rates'!X146","v":779.58647744680854},{"$f":"'Population 2016'!Y146*'Prevalence Rates'!Y146","v":373.52389148936174},{"$f":"'Population 2016'!Z146*'Prevalence Rates'!Z146","v":802.5518931914894},{"$f":"'Population 2016'!AA146*'Prevalence Rates'!AA146","v":1067.7715346614052},{"$f":"'Population 2016'!AB146*'Prevalence Rates'!AB146","v":850.8750297872341},{"$f":"'Population 2016'!AC146*'Prevalence Rates'!AC146","v":1543.5920425531915},{"$f":"'Population 2016'!AD146*'Prevalence Rates'!AD146","v":1041.4567561702127},{"$f":"'Population 2016'!AE146*'Prevalence Rates'!AE146","v":679.12319063829796},{"$f":"'Population 2016'!AF146*'Prevalence Rates'!AF146","v":126.23520000000001},{"$f":"'Population 2016'!AG146*'Prevalence Rates'!AG146","v":362.81878075855695},{"$f":"'Population 2016'!AH146*'Prevalence Rates'!AH146","v":1345.6902536170214},{"$f":"'Population 2016'!AI146*'Prevalence Rates'!AI146","v":1136.8129825531914},{"$f":"'Population 2016'!AJ146*'Prevalence Rates'!AJ146","v":202.3},{"$f":"'Population 2016'!AK146*'Prevalence Rates'!AK146","v":309.84268000000003},{"$f":"'Population 2016'!AL146*'Prevalence Rates'!AL146","v":180.27770808510638},{"$f":"'Population 2016'!AM146*'Prevalence Rates'!AM146","v":772.1597923404255},{"$f":"'Population 2016'!AN146*'Prevalence Rates'!AN146","v":65.660800000000009},{"$f":"'Population 2016'!AO146*'Prevalence Rates'!AO146","v":65.660800000000009},{"$f":"'Population 2016'!AP146*'Prevalence Rates'!AP146","v":270.80984808510641},{"$f":"'Population 2016'!AQ146*'Prevalence Rates'!AQ146","v":355.31578468085104},{"$f":"'Population 2016'!AR146*'Prevalence Rates'!AR146","v":9834.5544000000009},{"$f":"'Population 2016'!AS146*'Prevalence Rates'!AS146","v":376.33370936170218},{"$f":"'Population 2016'!AT146*'Prevalence Rates'!AT146","v":65.198400000000007},{"$f":"'Population 2016'!AU146*'Prevalence Rates'!AU146","v":65.198400000000007},{"$f":"'Population 2016'!AV146*'Prevalence Rates'!AV146","v":265.11236680851061},{"$f":"'Population 2016'!AW146*'Prevalence Rates'!AW146","v":560.63442042553197},{"$f":"'Population 2016'!AX146*'Prevalence Rates'!AX146","v":136.87040000000002},{"$f":"'Population 2016'!AY146*'Prevalence Rates'!AY146","v":924.8471252134425},{"$f":"'Population 2016'!AZ146*'Prevalence Rates'!AZ146","v":776.49626808510652},{"$f":"'Population 2016'!BA146*'Prevalence Rates'!BA146","v":176.04367361702128},{"$f":"'Population 2016'!BB146*'Prevalence Rates'!BB146","v":401.98793191489358},{"$f":"'Population 2016'!BC146*'Prevalence Rates'!BC146","v":166.23280000000003},144]
[null,"Female 55-59",{"$f":"'Population 2016'!C147*'Prevalence Rates'!C147","v":147.80840617021278},{"$f":"'Population 2016'!D147*'Prevalence Rates'!D147","v":244.3985813240416},{"$f":"'Population 2016'!E147*'Prevalence Rates'!E147","v":258.0073367021277},{"$f":"'Population 2016'!F147*'Prevalence Rates'!F147","v":148.43415031914896},{"$f":"'Population 2016'!G147*'Prevalence Rates'!G147","v":273.75670000000002},{"$f":"'Population 2016'!H147*'Prevalence Rates'!H147","v":465.39109042553207},{"$f":"'Population 2016'!I147*'Prevalence Rates'!I147","v":295.34046648936175},{"$f":"'Population 2016'!J147*'Prevalence Rates'!J147","v":165.32180000000002},{"$f":"'Population 2016'!K147*'Prevalence Rates'!K147","v":71.062600000000003},{"$f":"'Population 2016'!L147*'Prevalence Rates'!L147","v":475.80331638297872},{"$f":"'Population 2016'!M147*'Prevalence Rates'!M147","v":475.80331638297872},{"$f":"'Population 2016'!N147*'Prevalence Rates'!N147","v":152.63006351063831},{"$f":"'Population 2016'!O147*'Prevalence Rates'!O147","v":151.83862936170215},{"$f":"'Population 2016'!P147*'Prevalence Rates'!P147","v":38.932743351063827},{"$f":"'Population 2016'!Q147*'Prevalence Rates'!Q147","v":173.30978148936177},{"$f":"'Population 2016'!R147*'Prevalence Rates'!R147","v":31.52467686170213},{"$f":"'Population 2016'!S147*'Prevalence Rates'!S147","v":1225.5227498461447},{"$f":"'Population 2016'!T147*'Prevalence Rates'!T147","v":254.64437808510638},{"$f":"'Population 2016'!U147*'Prevalence Rates'!U147","v":125.7403},{"$f":"'Population 2016'!V147*'Prevalence Rates'!V147","v":130.76583829787236},{"$f":"'Population 2016'!W147*'Prevalence Rates'!W147","v":566.87190670212772},{"$f":"'Population 2016'!X147*'Prevalence Rates'!X147","v":566.87190670212772},{"$f":"'Population 2016'!Y147*'Prevalence Rates'!Y147","v":266.91366382978725},{"$f":"'Population 2016'!Z147*'Prevalence Rates'!Z147","v":570.70559335106384},{"$f":"'Population 2016'!AA147*'Prevalence Rates'!AA147","v":789.62986819570108},{"$f":"'Population 2016'!AB147*'Prevalence Rates'!AB147","v":605.35997021276592},{"$f":"'Population 2016'!AC147*'Prevalence Rates'!AC147","v":1134.7414787234043},{"$f":"'Population 2016'!AD147*'Prevalence Rates'!AD147","v":788.69311537234046},{"$f":"'Population 2016'!AE147*'Prevalence Rates'!AE147","v":522.26819787234047},{"$f":"'Population 2016'!AF147*'Prevalence Rates'!AF147","v":105.12110000000001},{"$f":"'Population 2016'!AG147*'Prevalence Rates'!AG147","v":279.01964384828869},{"$f":"'Population 2016'!AH147*'Prevalence Rates'!AH147","v":1002.2137642553193},{"$f":"'Population 2016'!AI147*'Prevalence Rates'!AI147","v":802.63330446808504},{"$f":"'Population 2016'!AJ147*'Prevalence Rates'!AJ147","v":140.6524},{"$f":"'Population 2016'!AK147*'Prevalence Rates'!AK147","v":215.59951000000004},{"$f":"'Population 2016'!AL147*'Prevalence Rates'!AL147","v":137.43535042553194},{"$f":"'Population 2016'!AM147*'Prevalence Rates'!AM147","v":542.93675234042553},{"$f":"'Population 2016'!AN147*'Prevalence Rates'!AN147","v":44.920400000000001},{"$f":"'Population 2016'!AO147*'Prevalence Rates'!AO147","v":44.920400000000001},{"$f":"'Population 2016'!AP147*'Prevalence Rates'!AP147","v":197.63448361702129},{"$f":"'Population 2016'!AQ147*'Prevalence Rates'!AQ147","v":249.50720468085106},{"$f":"'Population 2016'!AR147*'Prevalence Rates'!AR147","v":7208.0673000000006},{"$f":"'Population 2016'!AS147*'Prevalence Rates'!AS147","v":295.34046648936175},{"$f":"'Population 2016'!AT147*'Prevalence Rates'!AT147","v":48.234200000000001},{"$f":"'Population 2016'!AU147*'Prevalence Rates'!AU147","v":48.234200000000001},{"$f":"'Population 2016'!AV147*'Prevalence Rates'!AV147","v":177.93304170212764},{"$f":"'Population 2016'!AW147*'Prevalence Rates'!AW147","v":439.6317792553192},{"$f":"'Population 2016'!AX147*'Prevalence Rates'!AX147","v":94.259200000000007},{"$f":"'Population 2016'!AY147*'Prevalence Rates'!AY147","v":686.36901014499358},{"$f":"'Population 2016'!AZ147*'Prevalence Rates'!AZ147","v":586.44389106382982},{"$f":"'Population 2016'!BA147*'Prevalence Rates'!BA147","v":134.04262244680851},{"$f":"'Population 2016'!BB147*'Prevalence Rates'!BB147","v":272.52675531914895},{"$f":"'Population 2016'!BC147*'Prevalence Rates'!BC147","v":125.7403},145]
[null,"Female 60-64",{"$f":"'Population 2016'!C148*'Prevalence Rates'!C148","v":137.20405031914893},{"$f":"'Population 2016'!D148*'Prevalence Rates'!D148","v":233.27350139382872},{"$f":"'Population 2016'!E148*'Prevalence Rates'!E148","v":249.55489441489368},{"$f":"'Population 2016'!F148*'Prevalence Rates'!F148","v":131.10720670212766},{"$f":"'Population 2016'!G148*'Prevalence Rates'!G148","v":271.17930000000001},{"$f":"'Population 2016'!H148*'Prevalence Rates'!H148","v":427.78749031914907},{"$f":"'Population 2016'!I148*'Prevalence Rates'!I148","v":266.18264973404257},{"$f":"'Population 2016'!J148*'Prevalence Rates'!J148","v":153.3553},{"$f":"'Population 2016'!K148*'Prevalence Rates'!K148","v":60.016600000000004},{"$f":"'Population 2016'!L148*'Prevalence Rates'!L148","v":466.60693382978724},{"$f":"'Population 2016'!M148*'Prevalence Rates'!M148","v":466.60693382978724},{"$f":"'Population 2016'!N148*'Prevalence Rates'!N148","v":125.83607117021278},{"$f":"'Population 2016'!O148*'Prevalence Rates'!O148","v":125.15411776595747},{"$f":"'Population 2016'!P148*'Prevalence Rates'!P148","v":33.490531914893616},{"$f":"'Population 2016'!Q148*'Prevalence Rates'!Q148","v":151.12778792553198},{"$f":"'Population 2016'!R148*'Prevalence Rates'!R148","v":27.374592819148937},{"$f":"'Population 2016'!S148*'Prevalence Rates'!S148","v":1050.2047300349459},{"$f":"'Population 2016'!T148*'Prevalence Rates'!T148","v":207.79876212765959},{"$f":"'Population 2016'!U148*'Prevalence Rates'!U148","v":127.58130000000001},{"$f":"'Population 2016'!V148*'Prevalence Rates'!V148","v":118.54473191489365},{"$f":"'Population 2016'!W148*'Prevalence Rates'!W148","v":489.82135627659574},{"$f":"'Population 2016'!X148*'Prevalence Rates'!X148","v":489.82135627659574},{"$f":"'Population 2016'!Y148*'Prevalence Rates'!Y148","v":244.53523164893619},{"$f":"'Population 2016'!Z148*'Prevalence Rates'!Z148","v":420.37883627659579},{"$f":"'Population 2016'!AA148*'Prevalence Rates'!AA148","v":643.05186871027149},{"$f":"'Population 2016'!AB148*'Prevalence Rates'!AB148","v":569.92267872340426},{"$f":"'Population 2016'!AC148*'Prevalence Rates'!AC148","v":898.86824999999999},{"$f":"'Population 2016'!AD148*'Prevalence Rates'!AD148","v":741.62001840425535},{"$f":"'Population 2016'!AE148*'Prevalence Rates'!AE148","v":478.16939308510644},{"$f":"'Population 2016'!AF148*'Prevalence Rates'!AF148","v":73.087700000000012},{"$f":"'Population 2016'!AG148*'Prevalence Rates'!AG148","v":255.46003815911197},{"$f":"'Population 2016'!AH148*'Prevalence Rates'!AH148","v":842.5121063829788},{"$f":"'Population 2016'!AI148*'Prevalence Rates'!AI148","v":672.59867611702123},{"$f":"'Population 2016'!AJ148*'Prevalence Rates'!AJ148","v":119.48090000000001},{"$f":"'Population 2016'!AK148*'Prevalence Rates'!AK148","v":194.85144000000003},{"$f":"'Population 2016'!AL148*'Prevalence Rates'!AL148","v":137.07557202127663},{"$f":"'Population 2016'!AM148*'Prevalence Rates'!AM148","v":459.62229734042558},{"$f":"'Population 2016'!AN148*'Prevalence Rates'!AN148","v":40.686100000000003},{"$f":"'Population 2016'!AO148*'Prevalence Rates'!AO148","v":40.686100000000003},{"$f":"'Population 2016'!AP148*'Prevalence Rates'!AP148","v":177.89984494680854},{"$f":"'Population 2016'!AQ148*'Prevalence Rates'!AQ148","v":216.50923819148937},{"$f":"'Population 2016'!AR148*'Prevalence Rates'!AR148","v":6367.0985000000001},{"$f":"'Population 2016'!AS148*'Prevalence Rates'!AS148","v":266.18264973404257},{"$f":"'Population 2016'!AT148*'Prevalence Rates'!AT148","v":48.0501},{"$f":"'Population 2016'!AU148*'Prevalence Rates'!AU148","v":48.0501},{"$f":"'Population 2016'!AV148*'Prevalence Rates'!AV148","v":166.81222659574468},{"$f":"'Population 2016'!AW148*'Prevalence Rates'!AW148","v":367.37546702127668},{"$f":"'Population 2016'!AX148*'Prevalence Rates'!AX148","v":93.338700000000003},{"$f":"'Population 2016'!AY148*'Prevalence Rates'!AY148","v":598.72286800230052},{"$f":"'Population 2016'!AZ148*'Prevalence Rates'!AZ148","v":515.61494138297883},{"$f":"'Population 2016'!BA148*'Prevalence Rates'!BA148","v":120.78565978723405},{"$f":"'Population 2016'!BB148*'Prevalence Rates'!BB148","v":228.92247446808511},{"$f":"'Population 2016'!BC148*'Prevalence Rates'!BC148","v":127.58130000000001},146]
[null,"Female 65-69",{"$f":"'Population 2016'!C149*'Prevalence Rates'!C149","v":116.16752148936169},{"$f":"'Population 2016'!D149*'Prevalence Rates'!D149","v":206.18964907051424},{"$f":"'Population 2016'!E149*'Prevalence Rates'!E149","v":224.91801329787236},{"$f":"'Population 2016'!F149*'Prevalence Rates'!F149","v":124.56874037234043},{"$f":"'Population 2016'!G149*'Prevalence Rates'!G149","v":256.8956},{"$f":"'Population 2016'!H149*'Prevalence Rates'!H149","v":413.35384446808513},{"$f":"'Population 2016'!I149*'Prevalence Rates'!I149","v":255.58138643617019},{"$f":"'Population 2016'!J149*'Prevalence Rates'!J149","v":135.87729999999999},{"$f":"'Population 2016'!K149*'Prevalence Rates'!K149","v":59.270899999999997},{"$f":"'Population 2016'!L149*'Prevalence Rates'!L149","v":451.04722829787232},{"$f":"'Population 2016'!M149*'Prevalence Rates'!M149","v":451.04722829787232},{"$f":"'Population 2016'!N149*'Prevalence Rates'!N149","v":117.56911510638297},{"$f":"'Population 2016'!O149*'Prevalence Rates'!O149","v":129.76420904255318},{"$f":"'Population 2016'!P149*'Prevalence Rates'!P149","v":26.405022606382975},{"$f":"'Population 2016'!Q149*'Prevalence Rates'!Q149","v":137.38980920212768},{"$f":"'Population 2016'!R149*'Prevalence Rates'!R149","v":23.404242287234045},{"$f":"'Population 2016'!S149*'Prevalence Rates'!S149","v":986.58874780749511},{"$f":"'Population 2016'!T149*'Prevalence Rates'!T149","v":178.3269689361702},{"$f":"'Population 2016'!U149*'Prevalence Rates'!U149","v":116.7257},{"$f":"'Population 2016'!V149*'Prevalence Rates'!V149","v":111.35187063829788},{"$f":"'Population 2016'!W149*'Prevalence Rates'!W149","v":480.45628053191484},{"$f":"'Population 2016'!X149*'Prevalence Rates'!X149","v":480.45628053191484},{"$f":"'Population 2016'!Y149*'Prevalence Rates'!Y149","v":223.67668962765956},{"$f":"'Population 2016'!Z149*'Prevalence Rates'!Z149","v":320.10413499999999},{"$f":"'Population 2016'!AA149*'Prevalence Rates'!AA149","v":539.63502795881743},{"$f":"'Population 2016'!AB149*'Prevalence Rates'!AB149","v":509.6461361702128},{"$f":"'Population 2016'!AC149*'Prevalence Rates'!AC149","v":748.37722340425523},{"$f":"'Population 2016'!AD149*'Prevalence Rates'!AD149","v":681.40230074468082},{"$f":"'Population 2016'!AE149*'Prevalence Rates'!AE149","v":432.0768870212766},{"$f":"'Population 2016'!AF149*'Prevalence Rates'!AF149","v":65.214500000000001},{"$f":"'Population 2016'!AG149*'Prevalence Rates'!AG149","v":230.83530573543018},{"$f":"'Population 2016'!AH149*'Prevalence Rates'!AH149","v":713.21092340425537},{"$f":"'Population 2016'!AI149*'Prevalence Rates'!AI149","v":609.03651180851057},{"$f":"'Population 2016'!AJ149*'Prevalence Rates'!AJ149","v":118.872},{"$f":"'Population 2016'!AK149*'Prevalence Rates'!AK149","v":180.40477000000001},{"$f":"'Population 2016'!AL149*'Prevalence Rates'!AL149","v":126.47784085106383},{"$f":"'Population 2016'!AM149*'Prevalence Rates'!AM149","v":407.41797255319142},{"$f":"'Population 2016'!AN149*'Prevalence Rates'!AN149","v":37.477699999999999},{"$f":"'Population 2016'!AO149*'Prevalence Rates'!AO149","v":37.477699999999999},{"$f":"'Population 2016'!AP149*'Prevalence Rates'!AP149","v":167.03228473404255},{"$f":"'Population 2016'!AQ149*'Prevalence Rates'!AQ149","v":198.93742063829785},{"$f":"'Population 2016'!AR149*'Prevalence Rates'!AR149","v":5788.5711000000001},{"$f":"'Population 2016'!AS149*'Prevalence Rates'!AS149","v":255.58138643617019},{"$f":"'Population 2016'!AT149*'Prevalence Rates'!AT149","v":38.633400000000002},{"$f":"'Population 2016'!AU149*'Prevalence Rates'!AU149","v":38.633400000000002},{"$f":"'Population 2016'!AV149*'Prevalence Rates'!AV149","v":158.53780191489358},{"$f":"'Population 2016'!AW149*'Prevalence Rates'!AW149","v":298.38821585106382},{"$f":"'Population 2016'!AX149*'Prevalence Rates'!AX149","v":76.606399999999994},{"$f":"'Population 2016'!AY149*'Prevalence Rates'!AY149","v":574.86720546827178},{"$f":"'Population 2016'!AZ149*'Prevalence Rates'!AZ149","v":486.23917148936175},{"$f":"'Population 2016'!BA149*'Prevalence Rates'!BA149","v":106.77886409574468},{"$f":"'Population 2016'!BB149*'Prevalence Rates'!BB149","v":209.20699191489359},{"$f":"'Population 2016'!BC149*'Prevalence Rates'!BC149","v":116.7257},147]
[null,"Female 70-74",{"$f":"'Population 2016'!C150*'Prevalence Rates'!C150","v":87.637714574468077},{"$f":"'Population 2016'!D150*'Prevalence Rates'!D150","v":153.37532651673814},{"$f":"'Population 2016'!E150*'Prevalence Rates'!E150","v":166.26536010638299},{"$f":"'Population 2016'!F150*'Prevalence Rates'!F150","v":93.663952393617024},{"$f":"'Population 2016'!G150*'Prevalence Rates'!G150","v":191.51599999999999},{"$f":"'Population 2016'!H150*'Prevalence Rates'!H150","v":333.38757164893622},{"$f":"'Population 2016'!I150*'Prevalence Rates'!I150","v":192.82476877659573},{"$f":"'Population 2016'!J150*'Prevalence Rates'!J150","v":108.47069999999999},{"$f":"'Population 2016'!K150*'Prevalence Rates'!K150","v":46.062899999999999},{"$f":"'Population 2016'!L150*'Prevalence Rates'!L150","v":367.00360021276595},{"$f":"'Population 2016'!M150*'Prevalence Rates'!M150","v":367.00360021276595},{"$f":"'Population 2016'!N150*'Prevalence Rates'!N150","v":89.035005053191483},{"$f":"'Population 2016'!O150*'Prevalence Rates'!O150","v":102.46316765957447},{"$f":"'Population 2016'!P150*'Prevalence Rates'!P150","v":20.27305053191489},{"$f":"'Population 2016'!Q150*'Prevalence Rates'!Q150","v":109.50283845744683},{"$f":"'Population 2016'!R150*'Prevalence Rates'!R150","v":18.680450265957447},{"$f":"'Population 2016'!S150*'Prevalence Rates'!S150","v":754.51242849832374},{"$f":"'Population 2016'!T150*'Prevalence Rates'!T150","v":133.68252382978721},{"$f":"'Population 2016'!U150*'Prevalence Rates'!U150","v":94.932500000000005},{"$f":"'Population 2016'!V150*'Prevalence Rates'!V150","v":79.897159148936183},{"$f":"'Population 2016'!W150*'Prevalence Rates'!W150","v":365.74585436170207},{"$f":"'Population 2016'!X150*'Prevalence Rates'!X150","v":365.74585436170207},{"$f":"'Population 2016'!Y150*'Prevalence Rates'!Y150","v":168.5785164893617},{"$f":"'Population 2016'!Z150*'Prevalence Rates'!Z150","v":248.79182457446808},{"$f":"'Population 2016'!AA150*'Prevalence Rates'!AA150","v":428.20453075181189},{"$f":"'Population 2016'!AB150*'Prevalence Rates'!AB150","v":392.43918723404255},{"$f":"'Population 2016'!AC150*'Prevalence Rates'!AC150","v":579.26388829787231},{"$f":"'Population 2016'!AD150*'Prevalence Rates'!AD150","v":532.62998819148936},{"$f":"'Population 2016'!AE150*'Prevalence Rates'!AE150","v":346.46797042553192},{"$f":"'Population 2016'!AF150*'Prevalence Rates'!AF150","v":54.317900000000002},{"$f":"'Population 2016'!AG150*'Prevalence Rates'!AG150","v":185.09909296947271},{"$f":"'Population 2016'!AH150*'Prevalence Rates'!AH150","v":581.15621531914906},{"$f":"'Population 2016'!AI150*'Prevalence Rates'!AI150","v":469.60947398936167},{"$f":"'Population 2016'!AJ150*'Prevalence Rates'!AJ150","v":89.979500000000002},{"$f":"'Population 2016'!AK150*'Prevalence Rates'!AK150","v":152.69686250000001},{"$f":"'Population 2016'!AL150*'Prevalence Rates'!AL150","v":105.34442611702127},{"$f":"'Population 2016'!AM150*'Prevalence Rates'!AM150","v":319.30304872340423},{"$f":"'Population 2016'!AN150*'Prevalence Rates'!AN150","v":37.807899999999997},{"$f":"'Population 2016'!AO150*'Prevalence Rates'!AO150","v":37.807899999999997},{"$f":"'Population 2016'!AP150*'Prevalence Rates'!AP150","v":144.55462228723403},{"$f":"'Population 2016'!AQ150*'Prevalence Rates'!AQ150","v":151.78046968085104},{"$f":"'Population 2016'!AR150*'Prevalence Rates'!AR150","v":4549.8257999999996},{"$f":"'Population 2016'!AS150*'Prevalence Rates'!AS150","v":192.82476877659573},{"$f":"'Population 2016'!AT150*'Prevalence Rates'!AT150","v":35.6616},{"$f":"'Population 2016'!AU150*'Prevalence Rates'!AU150","v":35.6616},{"$f":"'Population 2016'!AV150*'Prevalence Rates'!AV150","v":126.55512170212762},{"$f":"'Population 2016'!AW150*'Prevalence Rates'!AW150","v":251.85776670212766},{"$f":"'Population 2016'!AX150*'Prevalence Rates'!AX150","v":62.407800000000002},{"$f":"'Population 2016'!AY150*'Prevalence Rates'!AY150","v":448.82378183604379},{"$f":"'Population 2016'!AZ150*'Prevalence Rates'!AZ150","v":387.77721989361709},{"$f":"'Population 2016'!BA150*'Prevalence Rates'!BA150","v":77.497237446808512},{"$f":"'Population 2016'!BB150*'Prevalence Rates'!BB150","v":165.12599446808508},{"$f":"'Population 2016'!BC150*'Prevalence Rates'!BC150","v":94.932500000000005},148]
[null,"Female 75-79",{"$f":"'Population 2016'!C151*'Prevalence Rates'!C151","v":36.116841808510635},{"$f":"'Population 2016'!D151*'Prevalence Rates'!D151","v":56.483691083563485},{"$f":"'Population 2016'!E151*'Prevalence Rates'!E151","v":57.967206117021284},{"$f":"'Population 2016'!F151*'Prevalence Rates'!F151","v":31.52219563829787},{"$f":"'Population 2016'!G151*'Prevalence Rates'!G151","v":70.309799999999996},{"$f":"'Population 2016'!H151*'Prevalence Rates'!H151","v":110.21987888297876},{"$f":"'Population 2016'!I151*'Prevalence Rates'!I151","v":69.3580115425532},{"$f":"'Population 2016'!J151*'Prevalence Rates'!J151","v":39.576900000000002},{"$f":"'Population 2016'!K151*'Prevalence Rates'!K151","v":15.992900000000001},{"$f":"'Population 2016'!L151*'Prevalence Rates'!L151","v":124.64677148936168},{"$f":"'Population 2016'!M151*'Prevalence Rates'!M151","v":124.64677148936168},{"$f":"'Population 2016'!N151*'Prevalence Rates'!N151","v":38.308319148936171},{"$f":"'Population 2016'!O151*'Prevalence Rates'!O151","v":32.574106329787234},{"$f":"'Population 2016'!P151*'Prevalence Rates'!P151","v":6.6477007978723401},{"$f":"'Population 2016'!Q151*'Prevalence Rates'!Q151","v":41.578443031914908},{"$f":"'Population 2016'!R151*'Prevalence Rates'!R151","v":8.2110816489361707},{"$f":"'Population 2016'!S151*'Prevalence Rates'!S151","v":268.83017352602684},{"$f":"'Population 2016'!T151*'Prevalence Rates'!T151","v":49.934729361702125},{"$f":"'Population 2016'!U151*'Prevalence Rates'!U151","v":37.513300000000001},{"$f":"'Population 2016'!V151*'Prevalence Rates'!V151","v":29.550250212765963},{"$f":"'Population 2016'!W151*'Prevalence Rates'!W151","v":128.31961882978723},{"$f":"'Population 2016'!X151*'Prevalence Rates'!X151","v":128.31961882978723},{"$f":"'Population 2016'!Y151*'Prevalence Rates'!Y151","v":61.95053430851064},{"$f":"'Population 2016'!Z151*'Prevalence Rates'!Z151","v":92.818015212765957},{"$f":"'Population 2016'!AA151*'Prevalence Rates'!AA151","v":159.31138928673826},{"$f":"'Population 2016'!AB151*'Prevalence Rates'!AB151","v":143.62169893617022},{"$f":"'Population 2016'!AC151*'Prevalence Rates'!AC151","v":217.08962234042551},{"$f":"'Population 2016'!AD151*'Prevalence Rates'!AD151","v":181.37032930851063},{"$f":"'Population 2016'!AE151*'Prevalence Rates'!AE151","v":113.19261542553193},{"$f":"'Population 2016'!AF151*'Prevalence Rates'!AF151","v":21.815200000000001},{"$f":"'Population 2016'!AG151*'Prevalence Rates'!AG151","v":60.472690795559672},{"$f":"'Population 2016'!AH151*'Prevalence Rates'!AH151","v":214.56986638297874},{"$f":"'Population 2016'!AI151*'Prevalence Rates'!AI151","v":168.49603696808512},{"$f":"'Population 2016'!AJ151*'Prevalence Rates'!AJ151","v":31.690999999999999},{"$f":"'Population 2016'!AK151*'Prevalence Rates'!AK151","v":54.982042499999999},{"$f":"'Population 2016'!AL151*'Prevalence Rates'!AL151","v":37.231397500000007},{"$f":"'Population 2016'!AM151*'Prevalence Rates'!AM151","v":110.19647521276596},{"$f":"'Population 2016'!AN151*'Prevalence Rates'!AN151","v":13.634500000000001},{"$f":"'Population 2016'!AO151*'Prevalence Rates'!AO151","v":13.634500000000001},{"$f":"'Population 2016'!AP151*'Prevalence Rates'!AP151","v":49.074046648936175},{"$f":"'Population 2016'!AQ151*'Prevalence Rates'!AQ151","v":54.459046914893612},{"$f":"'Population 2016'!AR151*'Prevalence Rates'!AR151","v":1623.4636},{"$f":"'Population 2016'!AS151*'Prevalence Rates'!AS151","v":69.3580115425532},{"$f":"'Population 2016'!AT151*'Prevalence Rates'!AT151","v":12.381600000000001},{"$f":"'Population 2016'!AU151*'Prevalence Rates'!AU151","v":12.381600000000001},{"$f":"'Population 2016'!AV151*'Prevalence Rates'!AV151","v":40.604858191489356},{"$f":"'Population 2016'!AW151*'Prevalence Rates'!AW151","v":98.278950000000009},{"$f":"'Population 2016'!AX151*'Prevalence Rates'!AX151","v":23.584},{"$f":"'Population 2016'!AY151*'Prevalence Rates'!AY151","v":157.91260737684294},{"$f":"'Population 2016'!AZ151*'Prevalence Rates'!AZ151","v":136.75011478723403},{"$f":"'Population 2016'!BA151*'Prevalence Rates'!BA151","v":28.304563404255319},{"$f":"'Population 2016'!BB151*'Prevalence Rates'!BB151","v":54.906813617021271},{"$f":"'Population 2016'!BC151*'Prevalence Rates'!BC151","v":37.513300000000001},149]
[null,"Female 80-84",{"$f":"'Population 2016'!C152*'Prevalence Rates'!C152","v":32.72068308510638},{"$f":"'Population 2016'!D152*'Prevalence Rates'!D152","v":41.673511756896964},{"$f":"'Population 2016'!E152*'Prevalence Rates'!E152","v":37.609345212765966},{"$f":"'Population 2016'!F152*'Prevalence Rates'!F152","v":24.0462714893617},{"$f":"'Population 2016'!G152*'Prevalence Rates'!G152","v":49.821200000000005},{"$f":"'Population 2016'!H152*'Prevalence Rates'!H152","v":80.559627500000019},{"$f":"'Population 2016'!I152*'Prevalence Rates'!I152","v":51.208955319148941},{"$f":"'Population 2016'!J152*'Prevalence Rates'!J152","v":28.4482},{"$f":"'Population 2016'!K152*'Prevalence Rates'!K152","v":10.9076},{"$f":"'Population 2016'!L152*'Prevalence Rates'!L152","v":92.126411276595732},{"$f":"'Population 2016'!M152*'Prevalence Rates'!M152","v":92.126411276595732},{"$f":"'Population 2016'!N152*'Prevalence Rates'!N152","v":38.021006755319149},{"$f":"'Population 2016'!O152*'Prevalence Rates'!O152","v":23.922784787234043},{"$f":"'Population 2016'!P152*'Prevalence Rates'!P152","v":4.3573164893617022},{"$f":"'Population 2016'!Q152*'Prevalence Rates'!Q152","v":32.366452659574477},{"$f":"'Population 2016'!R152*'Prevalence Rates'!R152","v":7.9874335106382972},{"$f":"'Population 2016'!S152*'Prevalence Rates'!S152","v":197.96391705116594},{"$f":"'Population 2016'!T152*'Prevalence Rates'!T152","v":39.578311276595741},{"$f":"'Population 2016'!U152*'Prevalence Rates'!U152","v":28.079699999999999},{"$f":"'Population 2016'!V152*'Prevalence Rates'!V152","v":20.499262978723408},{"$f":"'Population 2016'!W152*'Prevalence Rates'!W152","v":92.915863723404257},{"$f":"'Population 2016'!X152*'Prevalence Rates'!X152","v":92.915863723404257},{"$f":"'Population 2016'!Y152*'Prevalence Rates'!Y152","v":43.707432180851065},{"$f":"'Population 2016'!Z152*'Prevalence Rates'!Z152","v":83.786589840425535},{"$f":"'Population 2016'!AA152*'Prevalence Rates'!AA152","v":127.75321186083005},{"$f":"'Population 2016'!AB152*'Prevalence Rates'!AB152","v":109.78242234042554},{"$f":"'Population 2016'!AC152*'Prevalence Rates'!AC152","v":179.30269148936168},{"$f":"'Population 2016'!AD152*'Prevalence Rates'!AD152","v":131.63184579787233},{"$f":"'Population 2016'!AE152*'Prevalence Rates'!AE152","v":83.284841808510649},{"$f":"'Population 2016'!AF152*'Prevalence Rates'!AF152","v":15.9192},{"$f":"'Population 2016'!AG152*'Prevalence Rates'!AG152","v":44.494585337650328},{"$f":"'Population 2016'!AH152*'Prevalence Rates'!AH152","v":166.62033276595747},{"$f":"'Population 2016'!AI152*'Prevalence Rates'!AI152","v":125.35033207446808},{"$f":"'Population 2016'!AJ152*'Prevalence Rates'!AJ152","v":21.8889},{"$f":"'Population 2016'!AK152*'Prevalence Rates'!AK152","v":45.863509999999998},{"$f":"'Population 2016'!AL152*'Prevalence Rates'!AL152","v":25.853136755319152},{"$f":"'Population 2016'!AM152*'Prevalence Rates'!AM152","v":84.548169574468091},{"$f":"'Population 2016'!AN152*'Prevalence Rates'!AN152","v":7.8121999999999998},{"$f":"'Population 2016'!AO152*'Prevalence Rates'!AO152","v":7.8121999999999998},{"$f":"'Population 2016'!AP152*'Prevalence Rates'!AP152","v":38.694107287234047},{"$f":"'Population 2016'!AQ152*'Prevalence Rates'!AQ152","v":38.692343191489357},{"$f":"'Population 2016'!AR152*'Prevalence Rates'!AR152","v":1230.5689},{"$f":"'Population 2016'!AS152*'Prevalence Rates'!AS152","v":51.208955319148941},{"$f":"'Population 2016'!AT152*'Prevalence Rates'!AT152","v":9.1387999999999998},{"$f":"'Population 2016'!AU152*'Prevalence Rates'!AU152","v":9.1387999999999998},{"$f":"'Population 2016'!AV152*'Prevalence Rates'!AV152","v":31.010137446808503},{"$f":"'Population 2016'!AW152*'Prevalence Rates'!AW152","v":77.020028191489374},{"$f":"'Population 2016'!AX152*'Prevalence Rates'!AX152","v":17.540600000000001},{"$f":"'Population 2016'!AY152*'Prevalence Rates'!AY152","v":122.48942269917433},{"$f":"'Population 2016'!AZ152*'Prevalence Rates'!AZ152","v":111.83238},{"$f":"'Population 2016'!BA152*'Prevalence Rates'!BA152","v":23.881975372340424},{"$f":"'Population 2016'!BB152*'Prevalence Rates'!BB152","v":37.847615744680851},{"$f":"'Population 2016'!BC152*'Prevalence Rates'!BC152","v":28.079699999999999},150]
[null,"Female 85-89",{"$f":"'Population 2016'!C153*'Prevalence Rates'!C153","v":21.617856489361699},{"$f":"'Population 2016'!D153*'Prevalence Rates'!D153","v":28.984121832617056},{"$f":"'Population 2016'!E153*'Prevalence Rates'!E153","v":27.125324202127665},{"$f":"'Population 2016'!F153*'Prevalence Rates'!F153","v":15.722562127659574},{"$f":"'Population 2016'!G153*'Prevalence Rates'!G153","v":29.995899999999999},{"$f":"'Population 2016'!H153*'Prevalence Rates'!H153","v":45.459179255319164},{"$f":"'Population 2016'!I153*'Prevalence Rates'!I153","v":29.896993031914899},{"$f":"'Population 2016'!J153*'Prevalence Rates'!J153","v":17.909099999999999},{"$f":"'Population 2016'!K153*'Prevalence Rates'!K153","v":7.9596},{"$f":"'Population 2016'!L153*'Prevalence Rates'!L153","v":62.849321489361692},{"$f":"'Population 2016'!M153*'Prevalence Rates'!M153","v":62.849321489361692},{"$f":"'Population 2016'!N153*'Prevalence Rates'!N153","v":21.261117127659574},{"$f":"'Population 2016'!O153*'Prevalence Rates'!O153","v":10.832959148936171},{"$f":"'Population 2016'!P153*'Prevalence Rates'!P153","v":2.7931515957446806},{"$f":"'Population 2016'!Q153*'Prevalence Rates'!Q153","v":25.063253085106389},{"$f":"'Population 2016'!R153*'Prevalence Rates'!R153","v":4.9202590425531909},{"$f":"'Population 2016'!S153*'Prevalence Rates'!S153","v":126.20593122021866},{"$f":"'Population 2016'!T153*'Prevalence Rates'!T153","v":27.486493404255317},{"$f":"'Population 2016'!U153*'Prevalence Rates'!U153","v":18.0565},{"$f":"'Population 2016'!V153*'Prevalence Rates'!V153","v":10.763336170212767},{"$f":"'Population 2016'!W153*'Prevalence Rates'!W153","v":61.918584574468085},{"$f":"'Population 2016'!X153*'Prevalence Rates'!X153","v":61.918584574468085},{"$f":"'Population 2016'!Y153*'Prevalence Rates'!Y153","v":25.138560372340425},{"$f":"'Population 2016'!Z153*'Prevalence Rates'!Z153","v":50.522330053191489},{"$f":"'Population 2016'!AA153*'Prevalence Rates'!AA153","v":76.707782297782828},{"$f":"'Population 2016'!AB153*'Prevalence Rates'!AB153","v":70.802178723404268},{"$f":"'Population 2016'!AC153*'Prevalence Rates'!AC153","v":110.06781382978723},{"$f":"'Population 2016'!AD153*'Prevalence Rates'!AD153","v":85.396072393617018},{"$f":"'Population 2016'!AE153*'Prevalence Rates'!AE153","v":56.215537446808518},{"$f":"'Population 2016'!AF153*'Prevalence Rates'!AF153","v":12.897500000000001},{"$f":"'Population 2016'!AG153*'Prevalence Rates'!AG153","v":30.032920444033305},{"$f":"'Population 2016'!AH153*'Prevalence Rates'!AH153","v":97.531757446808513},{"$f":"'Population 2016'!AI153*'Prevalence Rates'!AI153","v":79.99374478723405},{"$f":"'Population 2016'!AJ153*'Prevalence Rates'!AJ153","v":11.423500000000001},{"$f":"'Population 2016'!AK153*'Prevalence Rates'!AK153","v":24.195710000000002},{"$f":"'Population 2016'!AL153*'Prevalence Rates'!AL153","v":16.347248031914894},{"$f":"'Population 2016'!AM153*'Prevalence Rates'!AM153","v":44.707125638297875},{"$f":"'Population 2016'!AN153*'Prevalence Rates'!AN153","v":5.7485999999999997},{"$f":"'Population 2016'!AO153*'Prevalence Rates'!AO153","v":5.7485999999999997},{"$f":"'Population 2016'!AP153*'Prevalence Rates'!AP153","v":26.411179042553194},{"$f":"'Population 2016'!AQ153*'Prevalence Rates'!AQ153","v":22.073385212765952},{"$f":"'Population 2016'!AR153*'Prevalence Rates'!AR153","v":770.82830000000001},{"$f":"'Population 2016'!AS153*'Prevalence Rates'!AS153","v":29.896993031914899},{"$f":"'Population 2016'!AT153*'Prevalence Rates'!AT153","v":5.3801000000000005},{"$f":"'Population 2016'!AU153*'Prevalence Rates'!AU153","v":5.3801000000000005},{"$f":"'Population 2016'!AV153*'Prevalence Rates'!AV153","v":18.345106063829785},{"$f":"'Population 2016'!AW153*'Prevalence Rates'!AW153","v":48.372759787234052},{"$f":"'Population 2016'!AX153*'Prevalence Rates'!AX153","v":9.9495000000000005},{"$f":"'Population 2016'!AY153*'Prevalence Rates'!AY153","v":79.964792931913806},{"$f":"'Population 2016'!AZ153*'Prevalence Rates'!AZ153","v":71.911128510638292},{"$f":"'Population 2016'!BA153*'Prevalence Rates'!BA153","v":13.169484361702128},{"$f":"'Population 2016'!BB153*'Prevalence Rates'!BB153","v":19.518896170212763},{"$f":"'Population 2016'!BC153*'Prevalence Rates'!BC153","v":18.0565},151]
[null,"Female 90+",{"$f":"'Population 2016'!C154*'Prevalence Rates'!C154","v":12.409041489361702},{"$f":"'Population 2016'!D154*'Prevalence Rates'!D154","v":16.224038928257595},{"$f":"'Population 2016'!E154*'Prevalence Rates'!E154","v":14.921701861702131},{"$f":"'Population 2016'!F154*'Prevalence Rates'!F154","v":10.558779468085106},{"$f":"'Population 2016'!G154*'Prevalence Rates'!G154","v":19.9727},{"$f":"'Population 2016'!H154*'Prevalence Rates'!H154","v":27.051937819148943},{"$f":"'Population 2016'!I154*'Prevalence Rates'!I154","v":17.471290638297873},{"$f":"'Population 2016'!J154*'Prevalence Rates'!J154","v":10.465400000000001},{"$f":"'Population 2016'!K154*'Prevalence Rates'!K154","v":3.3165},{"$f":"'Population 2016'!L154*'Prevalence Rates'!L154","v":36.201910425531914},{"$f":"'Population 2016'!M154*'Prevalence Rates'!M154","v":36.201910425531914},{"$f":"'Population 2016'!N154*'Prevalence Rates'!N154","v":12.641745319148937},{"$f":"'Population 2016'!O154*'Prevalence Rates'!O154","v":7.29720164893617},{"$f":"'Population 2016'!P154*'Prevalence Rates'!P154","v":2.6255625},{"$f":"'Population 2016'!Q154*'Prevalence Rates'!Q154","v":14.274435531914898},{"$f":"'Population 2016'!R154*'Prevalence Rates'!R154","v":2.6198781914893616},{"$f":"'Population 2016'!S154*'Prevalence Rates'!S154","v":73.751263215140241},{"$f":"'Population 2016'!T154*'Prevalence Rates'!T154","v":16.234385106382977},{"$f":"'Population 2016'!U154*'Prevalence Rates'!U154","v":12.676400000000001},{"$f":"'Population 2016'!V154*'Prevalence Rates'!V154","v":5.0881225531914902},{"$f":"'Population 2016'!W154*'Prevalence Rates'!W154","v":34.264149255319147},{"$f":"'Population 2016'!X154*'Prevalence Rates'!X154","v":34.264149255319147},{"$f":"'Population 2016'!Y154*'Prevalence Rates'!Y154","v":13.356556914893616},{"$f":"'Population 2016'!Z154*'Prevalence Rates'!Z154","v":34.247880372340425},{"$f":"'Population 2016'!AA154*'Prevalence Rates'!AA154","v":48.5009157489622},{"$f":"'Population 2016'!AB154*'Prevalence Rates'!AB154","v":40.932509574468092},{"$f":"'Population 2016'!AC154*'Prevalence Rates'!AC154","v":80.760303191489356},{"$f":"'Population 2016'!AD154*'Prevalence Rates'!AD154","v":46.656098617021279},{"$f":"'Population 2016'!AE154*'Prevalence Rates'!AE154","v":27.346228191489363},{"$f":"'Population 2016'!AF154*'Prevalence Rates'!AF154","v":11.2761},{"$f":"'Population 2016'!AG154*'Prevalence Rates'!AG154","v":14.609610314523591},{"$f":"'Population 2016'!AH154*'Prevalence Rates'!AH154","v":50.011879148936174},{"$f":"'Population 2016'!AI154*'Prevalence Rates'!AI154","v":48.438423351063832},{"$f":"'Population 2016'!AJ154*'Prevalence Rates'!AJ154","v":8.0333000000000006},{"$f":"'Population 2016'!AK154*'Prevalence Rates'!AK154","v":15.348025},{"$f":"'Population 2016'!AL154*'Prevalence Rates'!AL154","v":10.730131968085107},{"$f":"'Population 2016'!AM154*'Prevalence Rates'!AM154","v":20.173963723404256},{"$f":"'Population 2016'!AN154*'Prevalence Rates'!AN154","v":4.9379},{"$f":"'Population 2016'!AO154*'Prevalence Rates'!AO154","v":4.9379},{"$f":"'Population 2016'!AP154*'Prevalence Rates'!AP154","v":16.607902978723406},{"$f":"'Population 2016'!AQ154*'Prevalence Rates'!AQ154","v":20.709778404255317},{"$f":"'Population 2016'!AR154*'Prevalence Rates'!AR154","v":462.68860000000001},{"$f":"'Population 2016'!AS154*'Prevalence Rates'!AS154","v":17.471290638297873},{"$f":"'Population 2016'!AT154*'Prevalence Rates'!AT154","v":4.3483000000000001},{"$f":"'Population 2016'!AU154*'Prevalence Rates'!AU154","v":4.3483000000000001},{"$f":"'Population 2016'!AV154*'Prevalence Rates'!AV154","v":8.980658617021275},{"$f":"'Population 2016'!AW154*'Prevalence Rates'!AW154","v":26.695629680851066},{"$f":"'Population 2016'!AX154*'Prevalence Rates'!AX154","v":7.1489000000000003},{"$f":"'Population 2016'!AY154*'Prevalence Rates'!AY154","v":48.113340991613931},{"$f":"'Population 2016'!AZ154*'Prevalence Rates'!AZ154","v":45.86978234042553},{"$f":"'Population 2016'!BA154*'Prevalence Rates'!BA154","v":7.1744205851063825},{"$f":"'Population 2016'!BB154*'Prevalence Rates'!BB154","v":12.060456170212765},{"$f":"'Population 2016'!BC154*'Prevalence Rates'!BC154","v":12.676400000000001},152]
[null,"Male 0-4",{"$f":"'Population 2016'!C155*'Prevalence Rates'!C155","v":0},{"$f":"'Population 2016'!D155*'Prevalence Rates'!D155","v":0},{"$f":"'Population 2016'!E155*'Prevalence Rates'!E155","v":0},{"$f":"'Population 2016'!F155*'Prevalence Rates'!F155","v":0},{"$f":"'Population 2016'!G155*'Prevalence Rates'!G155","v":0},{"$f":"'Population 2016'!H155*'Prevalence Rates'!H155","v":0},{"$f":"'Population 2016'!I155*'Prevalence Rates'!I155","v":0},{"$f":"'Population 2016'!J155*'Prevalence Rates'!J155","v":0},{"$f":"'Population 2016'!K155*'Prevalence Rates'!K155","v":0},{"$f":"'Population 2016'!L155*'Prevalence Rates'!L155","v":0},{"$f":"'Population 2016'!M155*'Prevalence Rates'!M155","v":0},{"$f":"'Population 2016'!N155*'Prevalence Rates'!N155","v":0},{"$f":"'Population 2016'!O155*'Prevalence Rates'!O155","v":0},{"$f":"'Population 2016'!P155*'Prevalence Rates'!P155","v":0},{"$f":"'Population 2016'!Q155*'Prevalence Rates'!Q155","v":0},{"$f":"'Population 2016'!R155*'Prevalence Rates'!R155","v":0},{"$f":"'Population 2016'!S155*'Prevalence Rates'!S155","v":0},{"$f":"'Population 2016'!T155*'Prevalence Rates'!T155","v":0},{"$f":"'Population 2016'!U155*'Prevalence Rates'!U155","v":0},{"$f":"'Population 2016'!V155*'Prevalence Rates'!V155","v":0},{"$f":"'Population 2016'!W155*'Prevalence Rates'!W155","v":0},{"$f":"'Population 2016'!X155*'Prevalence Rates'!X155","v":0},{"$f":"'Population 2016'!Y155*'Prevalence Rates'!Y155","v":0},{"$f":"'Population 2016'!Z155*'Prevalence Rates'!Z155","v":0},{"$f":"'Population 2016'!AA155*'Prevalence Rates'!AA155","v":0},{"$f":"'Population 2016'!AB155*'Prevalence Rates'!AB155","v":0},{"$f":"'Population 2016'!AC155*'Prevalence Rates'!AC155","v":0},{"$f":"'Population 2016'!AD155*'Prevalence Rates'!AD155","v":0},{"$f":"'Population 2016'!AE155*'Prevalence Rates'!AE155","v":0},{"$f":"'Population 2016'!AF155*'Prevalence Rates'!AF155","v":0},{"$f":"'Population 2016'!AG155*'Prevalence Rates'!AG155","v":0},{"$f":"'Population 2016'!AH155*'Prevalence Rates'!AH155","v":0},{"$f":"'Population 2016'!AI155*'Prevalence Rates'!AI155","v":0},{"$f":"'Population 2016'!AJ155*'Prevalence Rates'!AJ155","v":0},{"$f":"'Population 2016'!AK155*'Prevalence Rates'!AK155","v":0},{"$f":"'Population 2016'!AL155*'Prevalence Rates'!AL155","v":0},{"$f":"'Population 2016'!AM155*'Prevalence Rates'!AM155","v":0},{"$f":"'Population 2016'!AN155*'Prevalence Rates'!AN155","v":0},{"$f":"'Population 2016'!AO155*'Prevalence Rates'!AO155","v":0},{"$f":"'Population 2016'!AP155*'Prevalence Rates'!AP155","v":0},{"$f":"'Population 2016'!AQ155*'Prevalence Rates'!AQ155","v":0},{"$f":"'Population 2016'!AR155*'Prevalence Rates'!AR155","v":0},{"$f":"'Population 2016'!AS155*'Prevalence Rates'!AS155","v":0},{"$f":"'Population 2016'!AT155*'Prevalence Rates'!AT155","v":0},{"$f":"'Population 2016'!AU155*'Prevalence Rates'!AU155","v":0},{"$f":"'Population 2016'!AV155*'Prevalence Rates'!AV155","v":0},{"$f":"'Population 2016'!AW155*'Prevalence Rates'!AW155","v":0},{"$f":"'Population 2016'!AX155*'Prevalence Rates'!AX155","v":0},{"$f":"'Population 2016'!AY155*'Prevalence Rates'!AY155","v":0},{"$f":"'Population 2016'!AZ155*'Prevalence Rates'!AZ155","v":0},{"$f":"'Population 2016'!BA155*'Prevalence Rates'!BA155","v":0},{"$f":"'Population 2016'!BB155*'Prevalence Rates'!BB155","v":0},{"$f":"'Population 2016'!BC155*'Prevalence Rates'!BC155","v":0},153]
[null,"Male 5-9",{"$f":"'Population 2016'!C156*'Prevalence Rates'!C156","v":0},{"$f":"'Population 2016'!D156*'Prevalence Rates'!D156","v":0},{"$f":"'Population 2016'!E156*'Prevalence Rates'!E156","v":0},{"$f":"'Population 2016'!F156*'Prevalence Rates'!F156","v":0},{"$f":"'Population 2016'!G156*'Prevalence Rates'!G156","v":0},{"$f":"'Population 2016'!H156*'Prevalence Rates'!H156","v":0},{"$f":"'Population 2016'!I156*'Prevalence Rates'!I156","v":0},{"$f":"'Population 2016'!J156*'Prevalence Rates'!J156","v":0},{"$f":"'Population 2016'!K156*'Prevalence Rates'!K156","v":0},{"$f":"'Population 2016'!L156*'Prevalence Rates'!L156","v":0},{"$f":"'Population 2016'!M156*'Prevalence Rates'!M156","v":0},{"$f":"'Population 2016'!N156*'Prevalence Rates'!N156","v":0},{"$f":"'Population 2016'!O156*'Prevalence Rates'!O156","v":0},{"$f":"'Population 2016'!P156*'Prevalence Rates'!P156","v":0},{"$f":"'Population 2016'!Q156*'Prevalence Rates'!Q156","v":0},{"$f":"'Population 2016'!R156*'Prevalence Rates'!R156","v":0},{"$f":"'Population 2016'!S156*'Prevalence Rates'!S156","v":0},{"$f":"'Population 2016'!T156*'Prevalence Rates'!T156","v":0},{"$f":"'Population 2016'!U156*'Prevalence Rates'!U156","v":0},{"$f":"'Population 2016'!V156*'Prevalence Rates'!V156","v":0},{"$f":"'Population 2016'!W156*'Prevalence Rates'!W156","v":0},{"$f":"'Population 2016'!X156*'Prevalence Rates'!X156","v":0},{"$f":"'Population 2016'!Y156*'Prevalence Rates'!Y156","v":0},{"$f":"'Population 2016'!Z156*'Prevalence Rates'!Z156","v":0},{"$f":"'Population 2016'!AA156*'Prevalence Rates'!AA156","v":0},{"$f":"'Population 2016'!AB156*'Prevalence Rates'!AB156","v":0},{"$f":"'Population 2016'!AC156*'Prevalence Rates'!AC156","v":0},{"$f":"'Population 2016'!AD156*'Prevalence Rates'!AD156","v":0},{"$f":"'Population 2016'!AE156*'Prevalence Rates'!AE156","v":0},{"$f":"'Population 2016'!AF156*'Prevalence Rates'!AF156","v":0},{"$f":"'Population 2016'!AG156*'Prevalence Rates'!AG156","v":0},{"$f":"'Population 2016'!AH156*'Prevalence Rates'!AH156","v":0},{"$f":"'Population 2016'!AI156*'Prevalence Rates'!AI156","v":0},{"$f":"'Population 2016'!AJ156*'Prevalence Rates'!AJ156","v":0},{"$f":"'Population 2016'!AK156*'Prevalence Rates'!AK156","v":0},{"$f":"'Population 2016'!AL156*'Prevalence Rates'!AL156","v":0},{"$f":"'Population 2016'!AM156*'Prevalence Rates'!AM156","v":0},{"$f":"'Population 2016'!AN156*'Prevalence Rates'!AN156","v":0},{"$f":"'Population 2016'!AO156*'Prevalence Rates'!AO156","v":0},{"$f":"'Population 2016'!AP156*'Prevalence Rates'!AP156","v":0},{"$f":"'Population 2016'!AQ156*'Prevalence Rates'!AQ156","v":0},{"$f":"'Population 2016'!AR156*'Prevalence Rates'!AR156","v":0},{"$f":"'Population 2016'!AS156*'Prevalence Rates'!AS156","v":0},{"$f":"'Population 2016'!AT156*'Prevalence Rates'!AT156","v":0},{"$f":"'Population 2016'!AU156*'Prevalence Rates'!AU156","v":0},{"$f":"'Population 2016'!AV156*'Prevalence Rates'!AV156","v":0},{"$f":"'Population 2016'!AW156*'Prevalence Rates'!AW156","v":0},{"$f":"'Population 2016'!AX156*'Prevalence Rates'!AX156","v":0},{"$f":"'Population 2016'!AY156*'Prevalence Rates'!AY156","v":0},{"$f":"'Population 2016'!AZ156*'Prevalence Rates'!AZ156","v":0},{"$f":"'Population 2016'!BA156*'Prevalence Rates'!BA156","v":0},{"$f":"'Population 2016'!BB156*'Prevalence Rates'!BB156","v":0},{"$f":"'Population 2016'!BC156*'Prevalence Rates'!BC156","v":0},154]
[null,"Male 10-15",{"$f":"'Population 2016'!C157*'Prevalence Rates'!C157","v":0},{"$f":"'Population 2016'!D157*'Prevalence Rates'!D157","v":0},{"$f":"'Population 2016'!E157*'Prevalence Rates'!E157","v":0},{"$f":"'Population 2016'!F157*'Prevalence Rates'!F157","v":0},{"$f":"'Population 2016'!G157*'Prevalence Rates'!G157","v":0},{"$f":"'Population 2016'!H157*'Prevalence Rates'!H157","v":0},{"$f":"'Population 2016'!I157*'Prevalence Rates'!I157","v":0},{"$f":"'Population 2016'!J157*'Prevalence Rates'!J157","v":0},{"$f":"'Population 2016'!K157*'Prevalence Rates'!K157","v":0},{"$f":"'Population 2016'!L157*'Prevalence Rates'!L157","v":0},{"$f":"'Population 2016'!M157*'Prevalence Rates'!M157","v":0},{"$f":"'Population 2016'!N157*'Prevalence Rates'!N157","v":0},{"$f":"'Population 2016'!O157*'Prevalence Rates'!O157","v":0},{"$f":"'Population 2016'!P157*'Prevalence Rates'!P157","v":0},{"$f":"'Population 2016'!Q157*'Prevalence Rates'!Q157","v":0},{"$f":"'Population 2016'!R157*'Prevalence Rates'!R157","v":0},{"$f":"'Population 2016'!S157*'Prevalence Rates'!S157","v":0},{"$f":"'Population 2016'!T157*'Prevalence Rates'!T157","v":0},{"$f":"'Population 2016'!U157*'Prevalence Rates'!U157","v":0},{"$f":"'Population 2016'!V157*'Prevalence Rates'!V157","v":0},{"$f":"'Population 2016'!W157*'Prevalence Rates'!W157","v":0},{"$f":"'Population 2016'!X157*'Prevalence Rates'!X157","v":0},{"$f":"'Population 2016'!Y157*'Prevalence Rates'!Y157","v":0},{"$f":"'Population 2016'!Z157*'Prevalence Rates'!Z157","v":0},{"$f":"'Population 2016'!AA157*'Prevalence Rates'!AA157","v":0},{"$f":"'Population 2016'!AB157*'Prevalence Rates'!AB157","v":0},{"$f":"'Population 2016'!AC157*'Prevalence Rates'!AC157","v":0},{"$f":"'Population 2016'!AD157*'Prevalence Rates'!AD157","v":0},{"$f":"'Population 2016'!AE157*'Prevalence Rates'!AE157","v":0},{"$f":"'Population 2016'!AF157*'Prevalence Rates'!AF157","v":0},{"$f":"'Population 2016'!AG157*'Prevalence Rates'!AG157","v":0},{"$f":"'Population 2016'!AH157*'Prevalence Rates'!AH157","v":0},{"$f":"'Population 2016'!AI157*'Prevalence Rates'!AI157","v":0},{"$f":"'Population 2016'!AJ157*'Prevalence Rates'!AJ157","v":0},{"$f":"'Population 2016'!AK157*'Prevalence Rates'!AK157","v":0},{"$f":"'Population 2016'!AL157*'Prevalence Rates'!AL157","v":0},{"$f":"'Population 2016'!AM157*'Prevalence Rates'!AM157","v":0},{"$f":"'Population 2016'!AN157*'Prevalence Rates'!AN157","v":0},{"$f":"'Population 2016'!AO157*'Prevalence Rates'!AO157","v":0},{"$f":"'Population 2016'!AP157*'Prevalence Rates'!AP157","v":0},{"$f":"'Population 2016'!AQ157*'Prevalence Rates'!AQ157","v":0},{"$f":"'Population 2016'!AR157*'Prevalence Rates'!AR157","v":0},{"$f":"'Population 2016'!AS157*'Prevalence Rates'!AS157","v":0},{"$f":"'Population 2016'!AT157*'Prevalence Rates'!AT157","v":0},{"$f":"'Population 2016'!AU157*'Prevalence Rates'!AU157","v":0},{"$f":"'Population 2016'!AV157*'Prevalence Rates'!AV157","v":0},{"$f":"'Population 2016'!AW157*'Prevalence Rates'!AW157","v":0},{"$f":"'Population 2016'!AX157*'Prevalence Rates'!AX157","v":0},{"$f":"'Population 2016'!AY157*'Prevalence Rates'!AY157","v":0},{"$f":"'Population 2016'!AZ157*'Prevalence Rates'!AZ157","v":0},{"$f":"'Population 2016'!BA157*'Prevalence Rates'!BA157","v":0},{"$f":"'Population 2016'!BB157*'Prevalence Rates'!BB157","v":0},{"$f":"'Population 2016'!BC157*'Prevalence Rates'!BC157","v":0},155]
[null,"Male 16-19",{"$f":"'Population 2016'!C158*'Prevalence Rates'!C158","v":143.59688203883493},{"$f":"'Population 2016'!D158*'Prevalence Rates'!D158","v":151.0597734973002},{"$f":"'Population 2016'!E158*'Prevalence Rates'!E158","v":242.75874951456314},{"$f":"'Population 2016'!F158*'Prevalence Rates'!F158","v":219.1044560900265},{"$f":"'Population 2016'!G158*'Prevalence Rates'!G158","v":167.15649999999999},{"$f":"'Population 2016'!H158*'Prevalence Rates'!H158","v":308.05802771403353},{"$f":"'Population 2016'!I158*'Prevalence Rates'!I158","v":119.94512294792588},{"$f":"'Population 2016'!J158*'Prevalence Rates'!J158","v":105.0112},{"$f":"'Population 2016'!K158*'Prevalence Rates'!K158","v":44.506700000000002},{"$f":"'Population 2016'!L158*'Prevalence Rates'!L158","v":255.96117952338929},{"$f":"'Population 2016'!M158*'Prevalence Rates'!M158","v":255.96117952338929},{"$f":"'Population 2016'!N158*'Prevalence Rates'!N158","v":90.733940997352164},{"$f":"'Population 2016'!O158*'Prevalence Rates'!O158","v":97.055021624007054},{"$f":"'Population 2016'!P158*'Prevalence Rates'!P158","v":28.268681376875552},{"$f":"'Population 2016'!Q158*'Prevalence Rates'!Q158","v":101.30129761694616},{"$f":"'Population 2016'!R158*'Prevalence Rates'!R158","v":29.079306090026481},{"$f":"'Population 2016'!S158*'Prevalence Rates'!S158","v":674.7042057893193},{"$f":"'Population 2016'!T158*'Prevalence Rates'!T158","v":229.60926897616946},{"$f":"'Population 2016'!U158*'Prevalence Rates'!U158","v":78.143100000000004},{"$f":"'Population 2016'!V158*'Prevalence Rates'!V158","v":119.61022886142983},{"$f":"'Population 2016'!W158*'Prevalence Rates'!W158","v":371.87146231244486},{"$f":"'Population 2016'!X158*'Prevalence Rates'!X158","v":371.87146231244486},{"$f":"'Population 2016'!Y158*'Prevalence Rates'!Y158","v":199.30995278022948},{"$f":"'Population 2016'!Z158*'Prevalence Rates'!Z158","v":494.15269779346863},{"$f":"'Population 2016'!AA158*'Prevalence Rates'!AA158","v":475.29423216100099},{"$f":"'Population 2016'!AB158*'Prevalence Rates'!AB158","v":517.8555961165049},{"$f":"'Population 2016'!AC158*'Prevalence Rates'!AC158","v":829.43091685789932},{"$f":"'Population 2016'!AD158*'Prevalence Rates'!AD158","v":544.61109929391},{"$f":"'Population 2016'!AE158*'Prevalence Rates'!AE158","v":374.76458517210943},{"$f":"'Population 2016'!AF158*'Prevalence Rates'!AF158","v":53.326000000000001},{"$f":"'Population 2016'!AG158*'Prevalence Rates'!AG158","v":144.3192812464024},{"$f":"'Population 2016'!AH158*'Prevalence Rates'!AH158","v":561.35707078552525},{"$f":"'Population 2016'!AI158*'Prevalence Rates'!AI158","v":568.08273967343337},{"$f":"'Population 2016'!AJ158*'Prevalence Rates'!AJ158","v":84.501199999999997},{"$f":"'Population 2016'!AK158*'Prevalence Rates'!AK158","v":123.3154246248897},{"$f":"'Population 2016'!AL158*'Prevalence Rates'!AL158","v":99.907595145631078},{"$f":"'Population 2016'!AM158*'Prevalence Rates'!AM158","v":294.62017621359223},{"$f":"'Population 2016'!AN158*'Prevalence Rates'!AN158","v":30.765000000000001},{"$f":"'Population 2016'!AO158*'Prevalence Rates'!AO158","v":30.765000000000001},{"$f":"'Population 2016'!AP158*'Prevalence Rates'!AP158","v":146.59753305383936},{"$f":"'Population 2016'!AQ158*'Prevalence Rates'!AQ158","v":168.96130759046781},{"$f":"'Population 2016'!AR158*'Prevalence Rates'!AR158","v":4866.4076999999997},{"$f":"'Population 2016'!AS158*'Prevalence Rates'!AS158","v":119.94512294792588},{"$f":"'Population 2016'!AT158*'Prevalence Rates'!AT158","v":34.2517},{"$f":"'Population 2016'!AU158*'Prevalence Rates'!AU158","v":34.2517},{"$f":"'Population 2016'!AV158*'Prevalence Rates'!AV158","v":96.561731685789937},{"$f":"'Population 2016'!AW158*'Prevalence Rates'!AW158","v":266.85646081200355},{"$f":"'Population 2016'!AX158*'Prevalence Rates'!AX158","v":60.5045},{"$f":"'Population 2016'!AY158*'Prevalence Rates'!AY158","v":366.44021540957885},{"$f":"'Population 2016'!AZ158*'Prevalence Rates'!AZ158","v":457.09431381288607},{"$f":"'Population 2016'!BA158*'Prevalence Rates'!BA158","v":62.130093998234777},{"$f":"'Population 2016'!BB158*'Prevalence Rates'!BB158","v":146.33115648720212},{"$f":"'Population 2016'!BC158*'Prevalence Rates'!BC158","v":78.143100000000004},156]
[null,"Male 20-24",{"$f":"'Population 2016'!C159*'Prevalence Rates'!C159","v":468.60371844660193},{"$f":"'Population 2016'!D159*'Prevalence Rates'!D159","v":288.49070735437937},{"$f":"'Population 2016'!E159*'Prevalence Rates'!E159","v":298.52232590467787},{"$f":"'Population 2016'!F159*'Prevalence Rates'!F159","v":232.84289766107682},{"$f":"'Population 2016'!G159*'Prevalence Rates'!G159","v":168.59219999999999},{"$f":"'Population 2016'!H159*'Prevalence Rates'!H159","v":384.85919805825245},{"$f":"'Population 2016'!I159*'Prevalence Rates'!I159","v":141.69839461606358},{"$f":"'Population 2016'!J159*'Prevalence Rates'!J159","v":190.94810000000001},{"$f":"'Population 2016'!K159*'Prevalence Rates'!K159","v":60.094300000000004},{"$f":"'Population 2016'!L159*'Prevalence Rates'!L159","v":292.82976001765229},{"$f":"'Population 2016'!M159*'Prevalence Rates'!M159","v":292.82976001765229},{"$f":"'Population 2016'!N159*'Prevalence Rates'!N159","v":177.73589470432481},{"$f":"'Population 2016'!O159*'Prevalence Rates'!O159","v":131.285179788173},{"$f":"'Population 2016'!P159*'Prevalence Rates'!P159","v":39.046116151809358},{"$f":"'Population 2016'!Q159*'Prevalence Rates'!Q159","v":124.66341857899383},{"$f":"'Population 2016'!R159*'Prevalence Rates'!R159","v":38.535990997352165},{"$f":"'Population 2016'!S159*'Prevalence Rates'!S159","v":1134.4380354745206},{"$f":"'Population 2016'!T159*'Prevalence Rates'!T159","v":643.64154346866724},{"$f":"'Population 2016'!U159*'Prevalence Rates'!U159","v":91.679699999999997},{"$f":"'Population 2016'!V159*'Prevalence Rates'!V159","v":158.58864210061782},{"$f":"'Population 2016'!W159*'Prevalence Rates'!W159","v":514.91622166813772},{"$f":"'Population 2016'!X159*'Prevalence Rates'!X159","v":514.91622166813772},{"$f":"'Population 2016'!Y159*'Prevalence Rates'!Y159","v":308.42251919682258},{"$f":"'Population 2016'!Z159*'Prevalence Rates'!Z159","v":1138.908895498676},{"$f":"'Population 2016'!AA159*'Prevalence Rates'!AA159","v":748.97888197333498},{"$f":"'Population 2016'!AB159*'Prevalence Rates'!AB159","v":905.38706796116503},{"$f":"'Population 2016'!AC159*'Prevalence Rates'!AC159","v":1523.7050972639011},{"$f":"'Population 2016'!AD159*'Prevalence Rates'!AD159","v":564.83019399823479},{"$f":"'Population 2016'!AE159*'Prevalence Rates'!AE159","v":393.83544571932919},{"$f":"'Population 2016'!AF159*'Prevalence Rates'!AF159","v":79.168599999999998},{"$f":"'Population 2016'!AG159*'Prevalence Rates'!AG159","v":151.66333934533174},{"$f":"'Population 2016'!AH159*'Prevalence Rates'!AH159","v":691.80501535745816},{"$f":"'Population 2016'!AI159*'Prevalence Rates'!AI159","v":1116.8714164165931},{"$f":"'Population 2016'!AJ159*'Prevalence Rates'!AJ159","v":122.8549},{"$f":"'Population 2016'!AK159*'Prevalence Rates'!AK159","v":149.43969770520744},{"$f":"'Population 2016'!AL159*'Prevalence Rates'!AL159","v":137.73161941747574},{"$f":"'Population 2016'!AM159*'Prevalence Rates'!AM159","v":345.93599708737867},{"$f":"'Population 2016'!AN159*'Prevalence Rates'!AN159","v":36.917999999999999},{"$f":"'Population 2016'!AO159*'Prevalence Rates'!AO159","v":36.917999999999999},{"$f":"'Population 2016'!AP159*'Prevalence Rates'!AP159","v":194.37343292144746},{"$f":"'Population 2016'!AQ159*'Prevalence Rates'!AQ159","v":185.96505701676966},{"$f":"'Population 2016'!AR159*'Prevalence Rates'!AR159","v":7229.1597000000002},{"$f":"'Population 2016'!AS159*'Prevalence Rates'!AS159","v":141.69839461606358},{"$f":"'Population 2016'!AT159*'Prevalence Rates'!AT159","v":46.9679},{"$f":"'Population 2016'!AU159*'Prevalence Rates'!AU159","v":46.9679},{"$f":"'Population 2016'!AV159*'Prevalence Rates'!AV159","v":104.82456443071491},{"$f":"'Population 2016'!AW159*'Prevalence Rates'!AW159","v":345.6168520741395},{"$f":"'Population 2016'!AX159*'Prevalence Rates'!AX159","v":130.85380000000001},{"$f":"'Population 2016'!AY159*'Prevalence Rates'!AY159","v":495.57231144086012},{"$f":"'Population 2016'!AZ159*'Prevalence Rates'!AZ159","v":606.65746977052072},{"$f":"'Population 2016'!BA159*'Prevalence Rates'!BA159","v":92.368314651368053},{"$f":"'Population 2016'!BB159*'Prevalence Rates'!BB159","v":203.56953402471314},{"$f":"'Population 2016'!BC159*'Prevalence Rates'!BC159","v":91.679699999999997},157]
[null,"Male 25-29",{"$f":"'Population 2016'!C160*'Prevalence Rates'!C160","v":814.66425388349512},{"$f":"'Population 2016'!D160*'Prevalence Rates'!D160","v":441.37951961980508},{"$f":"'Population 2016'!E160*'Prevalence Rates'!E160","v":373.72557078552518},{"$f":"'Population 2016'!F160*'Prevalence Rates'!F160","v":289.99524421888793},{"$f":"'Population 2016'!G160*'Prevalence Rates'!G160","v":212.88929999999999},{"$f":"'Population 2016'!H160*'Prevalence Rates'!H160","v":478.43906712268313},{"$f":"'Population 2016'!I160*'Prevalence Rates'!I160","v":183.67573327449253},{"$f":"'Population 2016'!J160*'Prevalence Rates'!J160","v":224.95590000000001},{"$f":"'Population 2016'!K160*'Prevalence Rates'!K160","v":65.504400000000004},{"$f":"'Population 2016'!L160*'Prevalence Rates'!L160","v":390.30389651368051},{"$f":"'Population 2016'!M160*'Prevalence Rates'!M160","v":390.30389651368051},{"$f":"'Population 2016'!N160*'Prevalence Rates'!N160","v":293.40430088261252},{"$f":"'Population 2016'!O160*'Prevalence Rates'!O160","v":183.60929673433364},{"$f":"'Population 2016'!P160*'Prevalence Rates'!P160","v":51.477668490732569},{"$f":"'Population 2016'!Q160*'Prevalence Rates'!Q160","v":164.1759748014122},{"$f":"'Population 2016'!R160*'Prevalence Rates'!R160","v":41.727218711385703},{"$f":"'Population 2016'!S160*'Prevalence Rates'!S160","v":1795.8998499754655},{"$f":"'Population 2016'!T160*'Prevalence Rates'!T160","v":1242.6137058693735},{"$f":"'Population 2016'!U160*'Prevalence Rates'!U160","v":118.08029999999999},{"$f":"'Population 2016'!V160*'Prevalence Rates'!V160","v":206.8918808031774},{"$f":"'Population 2016'!W160*'Prevalence Rates'!W160","v":718.45336681376887},{"$f":"'Population 2016'!X160*'Prevalence Rates'!X160","v":718.45336681376887},{"$f":"'Population 2016'!Y160*'Prevalence Rates'!Y160","v":381.73878111209183},{"$f":"'Population 2016'!Z160*'Prevalence Rates'!Z160","v":1641.530009443954},{"$f":"'Population 2016'!AA160*'Prevalence Rates'!AA160","v":1039.821316215965},{"$f":"'Population 2016'!AB160*'Prevalence Rates'!AB160","v":1370.069545631068},{"$f":"'Population 2016'!AC160*'Prevalence Rates'!AC160","v":2172.6107791703444},{"$f":"'Population 2016'!AD160*'Prevalence Rates'!AD160","v":768.05762630185347},{"$f":"'Population 2016'!AE160*'Prevalence Rates'!AE160","v":553.23000220653125},{"$f":"'Population 2016'!AF160*'Prevalence Rates'!AF160","v":104.5772},{"$f":"'Population 2016'!AG160*'Prevalence Rates'!AG160","v":213.045094017422},{"$f":"'Population 2016'!AH160*'Prevalence Rates'!AH160","v":909.52891350397192},{"$f":"'Population 2016'!AI160*'Prevalence Rates'!AI160","v":1895.4413372462488},{"$f":"'Population 2016'!AJ160*'Prevalence Rates'!AJ160","v":163.18639999999999},{"$f":"'Population 2016'!AK160*'Prevalence Rates'!AK160","v":213.05361632833188},{"$f":"'Population 2016'!AL160*'Prevalence Rates'!AL160","v":154.19920970873787},{"$f":"'Population 2016'!AM160*'Prevalence Rates'!AM160","v":459.04682427184468},{"$f":"'Population 2016'!AN160*'Prevalence Rates'!AN160","v":58.321899999999999},{"$f":"'Population 2016'!AO160*'Prevalence Rates'!AO160","v":58.321899999999999},{"$f":"'Population 2016'!AP160*'Prevalence Rates'!AP160","v":219.60078521624007},{"$f":"'Population 2016'!AQ160*'Prevalence Rates'!AQ160","v":276.17416169461609},{"$f":"'Population 2016'!AR160*'Prevalence Rates'!AR160","v":10325.562},{"$f":"'Population 2016'!AS160*'Prevalence Rates'!AS160","v":183.67573327449253},{"$f":"'Population 2016'!AT160*'Prevalence Rates'!AT160","v":58.034599999999998},{"$f":"'Population 2016'!AU160*'Prevalence Rates'!AU160","v":58.034599999999998},{"$f":"'Population 2016'!AV160*'Prevalence Rates'!AV160","v":125.04903662842011},{"$f":"'Population 2016'!AW160*'Prevalence Rates'!AW160","v":450.24930776699028},{"$f":"'Population 2016'!AX160*'Prevalence Rates'!AX160","v":159.45150000000001},{"$f":"'Population 2016'!AY160*'Prevalence Rates'!AY160","v":668.50234205286904},{"$f":"'Population 2016'!AZ160*'Prevalence Rates'!AZ160","v":795.45521866725494},{"$f":"'Population 2016'!BA160*'Prevalence Rates'!BA160","v":143.94795013239187},{"$f":"'Population 2016'!BB160*'Prevalence Rates'!BB160","v":279.81092833186233},{"$f":"'Population 2016'!BC160*'Prevalence Rates'!BC160","v":118.08029999999999},158]
[null,"Male 30-34",{"$f":"'Population 2016'!C161*'Prevalence Rates'!C161","v":617.74102378640771},{"$f":"'Population 2016'!D161*'Prevalence Rates'!D161","v":381.36287942286191},{"$f":"'Population 2016'!E161*'Prevalence Rates'!E161","v":396.08286120917916},{"$f":"'Population 2016'!F161*'Prevalence Rates'!F161","v":324.17088512797886},{"$f":"'Population 2016'!G161*'Prevalence Rates'!G161","v":201.68459999999999},{"$f":"'Population 2016'!H161*'Prevalence Rates'!H161","v":445.56692634598409},{"$f":"'Population 2016'!I161*'Prevalence Rates'!I161","v":187.27306906443073},{"$f":"'Population 2016'!J161*'Prevalence Rates'!J161","v":188.1815},{"$f":"'Population 2016'!K161*'Prevalence Rates'!K161","v":63.206000000000003},{"$f":"'Population 2016'!L161*'Prevalence Rates'!L161","v":365.96555467784646},{"$f":"'Population 2016'!M161*'Prevalence Rates'!M161","v":365.96555467784646},{"$f":"'Population 2016'!N161*'Prevalence Rates'!N161","v":240.47390361871138},{"$f":"'Population 2016'!O161*'Prevalence Rates'!O161","v":155.54163353927626},{"$f":"'Population 2016'!P161*'Prevalence Rates'!P161","v":44.300493556928508},{"$f":"'Population 2016'!Q161*'Prevalence Rates'!Q161","v":144.37585723742276},{"$f":"'Population 2016'!R161*'Prevalence Rates'!R161","v":42.058387113857023},{"$f":"'Population 2016'!S161*'Prevalence Rates'!S161","v":1691.2266771590228},{"$f":"'Population 2016'!T161*'Prevalence Rates'!T161","v":1099.8296630626655},{"$f":"'Population 2016'!U161*'Prevalence Rates'!U161","v":128.99770000000001},{"$f":"'Population 2016'!V161*'Prevalence Rates'!V161","v":207.42717674315975},{"$f":"'Population 2016'!W161*'Prevalence Rates'!W161","v":712.47674073256849},{"$f":"'Population 2016'!X161*'Prevalence Rates'!X161","v":712.47674073256849},{"$f":"'Population 2016'!Y161*'Prevalence Rates'!Y161","v":350.82677184466019},{"$f":"'Population 2016'!Z161*'Prevalence Rates'!Z161","v":1513.806775286849},{"$f":"'Population 2016'!AA161*'Prevalence Rates'!AA161","v":1025.36959634963},{"$f":"'Population 2016'!AB161*'Prevalence Rates'!AB161","v":1243.545972815534},{"$f":"'Population 2016'!AC161*'Prevalence Rates'!AC161","v":2027.6878347749337},{"$f":"'Population 2016'!AD161*'Prevalence Rates'!AD161","v":807.9527686672551},{"$f":"'Population 2016'!AE161*'Prevalence Rates'!AE161","v":606.03690864960276},{"$f":"'Population 2016'!AF161*'Prevalence Rates'!AF161","v":92.797899999999998},{"$f":"'Population 2016'!AG161*'Prevalence Rates'!AG161","v":233.38067289612036},{"$f":"'Population 2016'!AH161*'Prevalence Rates'!AH161","v":998.97278252427202},{"$f":"'Population 2016'!AI161*'Prevalence Rates'!AI161","v":1738.6352540600178},{"$f":"'Population 2016'!AJ161*'Prevalence Rates'!AJ161","v":162.8991},{"$f":"'Population 2016'!AK161*'Prevalence Rates'!AK161","v":245.61639611650489},{"$f":"'Population 2016'!AL161*'Prevalence Rates'!AL161","v":143.96798252427186},{"$f":"'Population 2016'!AM161*'Prevalence Rates'!AM161","v":534.81452864077676},{"$f":"'Population 2016'!AN161*'Prevalence Rates'!AN161","v":50.277500000000003},{"$f":"'Population 2016'!AO161*'Prevalence Rates'!AO161","v":50.277500000000003},{"$f":"'Population 2016'!AP161*'Prevalence Rates'!AP161","v":245.04699439541039},{"$f":"'Population 2016'!AQ161*'Prevalence Rates'!AQ161","v":286.42516769638132},{"$f":"'Population 2016'!AR161*'Prevalence Rates'!AR161","v":9952.9339},{"$f":"'Population 2016'!AS161*'Prevalence Rates'!AS161","v":187.27306906443073},{"$f":"'Population 2016'!AT161*'Prevalence Rates'!AT161","v":63.7806},{"$f":"'Population 2016'!AU161*'Prevalence Rates'!AU161","v":63.7806},{"$f":"'Population 2016'!AV161*'Prevalence Rates'!AV161","v":128.22632612533098},{"$f":"'Population 2016'!AW161*'Prevalence Rates'!AW161","v":464.61608278905555},{"$f":"'Population 2016'!AX161*'Prevalence Rates'!AX161","v":124.9755},{"$f":"'Population 2016'!AY161*'Prevalence Rates'!AY161","v":671.49218785997687},{"$f":"'Population 2016'!AZ161*'Prevalence Rates'!AZ161","v":807.83232074139437},{"$f":"'Population 2016'!BA161*'Prevalence Rates'!BA161","v":125.08580494263018},{"$f":"'Population 2016'!BB161*'Prevalence Rates'!BB161","v":289.10697246248895},{"$f":"'Population 2016'!BC161*'Prevalence Rates'!BC161","v":128.99770000000001},159]
[null,"Male 35-39",{"$f":"'Population 2016'!C162*'Prevalence Rates'!C162","v":483.32547281553406},{"$f":"'Population 2016'!D162*'Prevalence Rates'!D162","v":348.94575660884664},{"$f":"'Population 2016'!E162*'Prevalence Rates'!E162","v":431.98462709620486},{"$f":"'Population 2016'!F162*'Prevalence Rates'!F162","v":346.31560189761706},{"$f":"'Population 2016'!G162*'Prevalence Rates'!G162","v":244.35880000000003},{"$f":"'Population 2016'!H162*'Prevalence Rates'!H162","v":514.1499054721977},{"$f":"'Population 2016'!I162*'Prevalence Rates'!I162","v":190.71492122683148},{"$f":"'Population 2016'!J162*'Prevalence Rates'!J162","v":199.08420000000004},{"$f":"'Population 2016'!K162*'Prevalence Rates'!K162","v":68.842200000000005},{"$f":"'Population 2016'!L162*'Prevalence Rates'!L162","v":366.49605048543702},{"$f":"'Population 2016'!M162*'Prevalence Rates'!M162","v":366.49605048543702},{"$f":"'Population 2016'!N162*'Prevalence Rates'!N162","v":186.20451262135924},{"$f":"'Population 2016'!O162*'Prevalence Rates'!O162","v":188.71322983230365},{"$f":"'Population 2016'!P162*'Prevalence Rates'!P162","v":42.20644377758164},{"$f":"'Population 2016'!Q162*'Prevalence Rates'!Q162","v":160.28584554280675},{"$f":"'Population 2016'!R162*'Prevalence Rates'!R162","v":47.004645984112983},{"$f":"'Population 2016'!S162*'Prevalence Rates'!S162","v":1620.9057766441927},{"$f":"'Population 2016'!T162*'Prevalence Rates'!T162","v":905.09650617828777},{"$f":"'Population 2016'!U162*'Prevalence Rates'!U162","v":153.49950000000001},{"$f":"'Population 2016'!V162*'Prevalence Rates'!V162","v":270.39953645189769},{"$f":"'Population 2016'!W162*'Prevalence Rates'!W162","v":757.81433327449258},{"$f":"'Population 2016'!X162*'Prevalence Rates'!X162","v":757.81433327449258},{"$f":"'Population 2016'!Y162*'Prevalence Rates'!Y162","v":417.85906575463372},{"$f":"'Population 2016'!Z162*'Prevalence Rates'!Z162","v":1252.7372176522508},{"$f":"'Population 2016'!AA162*'Prevalence Rates'!AA162","v":996.46902102753768},{"$f":"'Population 2016'!AB162*'Prevalence Rates'!AB162","v":1154.6197165048545},{"$f":"'Population 2016'!AC162*'Prevalence Rates'!AC162","v":1788.891085613416},{"$f":"'Population 2016'!AD162*'Prevalence Rates'!AD162","v":910.53078287731694},{"$f":"'Population 2016'!AE162*'Prevalence Rates'!AE162","v":664.52541482789059},{"$f":"'Population 2016'!AF162*'Prevalence Rates'!AF162","v":107.60470000000001},{"$f":"'Population 2016'!AG162*'Prevalence Rates'!AG162","v":255.90419701446723},{"$f":"'Population 2016'!AH162*'Prevalence Rates'!AH162","v":1132.4446926743162},{"$f":"'Population 2016'!AI162*'Prevalence Rates'!AI162","v":1592.0521683583411},{"$f":"'Population 2016'!AJ162*'Prevalence Rates'!AJ162","v":181.71860000000004},{"$f":"'Population 2016'!AK162*'Prevalence Rates'!AK162","v":242.01183839364523},{"$f":"'Population 2016'!AL162*'Prevalence Rates'!AL162","v":164.4643951456311},{"$f":"'Population 2016'!AM162*'Prevalence Rates'!AM162","v":632.67625631067972},{"$f":"'Population 2016'!AN162*'Prevalence Rates'!AN162","v":50.236200000000004},{"$f":"'Population 2016'!AO162*'Prevalence Rates'!AO162","v":50.236200000000004},{"$f":"'Population 2016'!AP162*'Prevalence Rates'!AP162","v":258.72603680494262},{"$f":"'Population 2016'!AQ162*'Prevalence Rates'!AQ162","v":270.42991694616069},{"$f":"'Population 2016'!AR162*'Prevalence Rates'!AR162","v":9925.3707000000013},{"$f":"'Population 2016'!AS162*'Prevalence Rates'!AS162","v":190.71492122683148},{"$f":"'Population 2016'!AT162*'Prevalence Rates'!AT162","v":69.772500000000008},{"$f":"'Population 2016'!AU162*'Prevalence Rates'!AU162","v":69.772500000000008},{"$f":"'Population 2016'!AV162*'Prevalence Rates'!AV162","v":141.83174801412181},{"$f":"'Population 2016'!AW162*'Prevalence Rates'!AW162","v":500.90264148278908},{"$f":"'Population 2016'!AX162*'Prevalence Rates'!AX162","v":130.24200000000002},{"$f":"'Population 2016'!AY162*'Prevalence Rates'!AY162","v":684.88258737415015},{"$f":"'Population 2016'!AZ162*'Prevalence Rates'!AZ162","v":794.06633702559577},{"$f":"'Population 2016'!BA162*'Prevalence Rates'!BA162","v":118.58245895851724},{"$f":"'Population 2016'!BB162*'Prevalence Rates'!BB162","v":311.29783993821718},{"$f":"'Population 2016'!BC162*'Prevalence Rates'!BC162","v":153.49950000000001},160]
[null,"Male 40-44",{"$f":"'Population 2016'!C163*'Prevalence Rates'!C163","v":372.84105776699033},{"$f":"'Population 2016'!D163*'Prevalence Rates'!D163","v":328.33969530980937},{"$f":"'Population 2016'!E163*'Prevalence Rates'!E163","v":476.07685110326577},{"$f":"'Population 2016'!F163*'Prevalence Rates'!F163","v":406.84025207413958},{"$f":"'Population 2016'!G163*'Prevalence Rates'!G163","v":292.42430000000002},{"$f":"'Population 2016'!H163*'Prevalence Rates'!H163","v":574.14481288614309},{"$f":"'Population 2016'!I163*'Prevalence Rates'!I163","v":250.78441138570173},{"$f":"'Population 2016'!J163*'Prevalence Rates'!J163","v":222.34170000000003},{"$f":"'Population 2016'!K163*'Prevalence Rates'!K163","v":90.549200000000013},{"$f":"'Population 2016'!L163*'Prevalence Rates'!L163","v":437.93715123565767},{"$f":"'Population 2016'!M163*'Prevalence Rates'!M163","v":437.93715123565767},{"$f":"'Population 2016'!N163*'Prevalence Rates'!N163","v":168.57150953221537},{"$f":"'Population 2016'!O163*'Prevalence Rates'!O163","v":192.18454342453666},{"$f":"'Population 2016'!P163*'Prevalence Rates'!P163","v":50.22032550750221},{"$f":"'Population 2016'!Q163*'Prevalence Rates'!Q163","v":208.07477356575467},{"$f":"'Population 2016'!R163*'Prevalence Rates'!R163","v":47.362095763459848},{"$f":"'Population 2016'!S163*'Prevalence Rates'!S163","v":1591.0585509784669},{"$f":"'Population 2016'!T163*'Prevalence Rates'!T163","v":676.57155450132393},{"$f":"'Population 2016'!U163*'Prevalence Rates'!U163","v":174.27620000000002},{"$f":"'Population 2016'!V163*'Prevalence Rates'!V163","v":275.59952753751111},{"$f":"'Population 2016'!W163*'Prevalence Rates'!W163","v":809.76128353927641},{"$f":"'Population 2016'!X163*'Prevalence Rates'!X163","v":809.76128353927641},{"$f":"'Population 2016'!Y163*'Prevalence Rates'!Y163","v":442.48574073256844},{"$f":"'Population 2016'!Z163*'Prevalence Rates'!Z163","v":908.9983469549868},{"$f":"'Population 2016'!AA163*'Prevalence Rates'!AA163","v":918.90930594375493},{"$f":"'Population 2016'!AB163*'Prevalence Rates'!AB163","v":1126.9816776699029},{"$f":"'Population 2016'!AC163*'Prevalence Rates'!AC163","v":1514.9827389232128},{"$f":"'Population 2016'!AD163*'Prevalence Rates'!AD163","v":949.97615975286863},{"$f":"'Population 2016'!AE163*'Prevalence Rates'!AE163","v":652.79060679611655},{"$f":"'Population 2016'!AF163*'Prevalence Rates'!AF163","v":108.22490000000002},{"$f":"'Population 2016'!AG163*'Prevalence Rates'!AG163","v":251.38520261713808},{"$f":"'Population 2016'!AH163*'Prevalence Rates'!AH163","v":1164.1318218887911},{"$f":"'Population 2016'!AI163*'Prevalence Rates'!AI163","v":1432.7093497793473},{"$f":"'Population 2016'!AJ163*'Prevalence Rates'!AJ163","v":198.46400000000003},{"$f":"'Population 2016'!AK163*'Prevalence Rates'!AK163","v":269.4599307149162},{"$f":"'Population 2016'!AL163*'Prevalence Rates'!AL163","v":203.11550000000003},{"$f":"'Population 2016'!AM163*'Prevalence Rates'!AM163","v":629.38106747572829},{"$f":"'Population 2016'!AN163*'Prevalence Rates'!AN163","v":51.476600000000005},{"$f":"'Population 2016'!AO163*'Prevalence Rates'!AO163","v":51.476600000000005},{"$f":"'Population 2016'!AP163*'Prevalence Rates'!AP163","v":253.50757109443956},{"$f":"'Population 2016'!AQ163*'Prevalence Rates'!AQ163","v":275.63675048543695},{"$f":"'Population 2016'!AR163*'Prevalence Rates'!AR163","v":9870.7931000000008},{"$f":"'Population 2016'!AS163*'Prevalence Rates'!AS163","v":250.78441138570173},{"$f":"'Population 2016'!AT163*'Prevalence Rates'!AT163","v":68.222000000000008},{"$f":"'Population 2016'!AU163*'Prevalence Rates'!AU163","v":68.222000000000008},{"$f":"'Population 2016'!AV163*'Prevalence Rates'!AV163","v":160.69365578111211},{"$f":"'Population 2016'!AW163*'Prevalence Rates'!AW163","v":535.42747308031778},{"$f":"'Population 2016'!AX163*'Prevalence Rates'!AX163","v":131.79250000000002},{"$f":"'Population 2016'!AY163*'Prevalence Rates'!AY163","v":721.99445171462139},{"$f":"'Population 2016'!AZ163*'Prevalence Rates'!AZ163","v":826.65010136804949},{"$f":"'Population 2016'!BA163*'Prevalence Rates'!BA163","v":144.29913680494266},{"$f":"'Population 2016'!BB163*'Prevalence Rates'!BB163","v":328.60610017652255},{"$f":"'Population 2016'!BC163*'Prevalence Rates'!BC163","v":174.27620000000002},161]
[null,"Male 45-49",{"$f":"'Population 2016'!C164*'Prevalence Rates'!C164","v":293.83675242718448},{"$f":"'Population 2016'!D164*'Prevalence Rates'!D164","v":302.19626261112853},{"$f":"'Population 2016'!E164*'Prevalence Rates'!E164","v":480.06020388349521},{"$f":"'Population 2016'!F164*'Prevalence Rates'!F164","v":392.76342524271854},{"$f":"'Population 2016'!G164*'Prevalence Rates'!G164","v":310.99860000000001},{"$f":"'Population 2016'!H164*'Prevalence Rates'!H164","v":593.70770485436901},{"$f":"'Population 2016'!I164*'Prevalence Rates'!I164","v":248.83817766990296},{"$f":"'Population 2016'!J164*'Prevalence Rates'!J164","v":219.26520000000002},{"$f":"'Population 2016'!K164*'Prevalence Rates'!K164","v":91.981999999999999},{"$f":"'Population 2016'!L164*'Prevalence Rates'!L164","v":484.37790097087384},{"$f":"'Population 2016'!M164*'Prevalence Rates'!M164","v":484.37790097087384},{"$f":"'Population 2016'!N164*'Prevalence Rates'!N164","v":141.64242815533981},{"$f":"'Population 2016'!O164*'Prevalence Rates'!O164","v":201.88470291262138},{"$f":"'Population 2016'!P164*'Prevalence Rates'!P164","v":50.539743689320389},{"$f":"'Population 2016'!Q164*'Prevalence Rates'!Q164","v":190.84251844660196},{"$f":"'Population 2016'!R164*'Prevalence Rates'!R164","v":43.700281553398064},{"$f":"'Population 2016'!S164*'Prevalence Rates'!S164","v":1393.39244796039},{"$f":"'Population 2016'!T164*'Prevalence Rates'!T164","v":475.5215533980583},{"$f":"'Population 2016'!U164*'Prevalence Rates'!U164","v":187.69300000000001},{"$f":"'Population 2016'!V164*'Prevalence Rates'!V164","v":268.65036893203887},{"$f":"'Population 2016'!W164*'Prevalence Rates'!W164","v":774.91746699029136},{"$f":"'Population 2016'!X164*'Prevalence Rates'!X164","v":774.91746699029136},{"$f":"'Population 2016'!Y164*'Prevalence Rates'!Y164","v":433.48884466019422},{"$f":"'Population 2016'!Z164*'Prevalence Rates'!Z164","v":758.75835728155334},{"$f":"'Population 2016'!AA164*'Prevalence Rates'!AA164","v":850.51629855074282},{"$f":"'Population 2016'!AB164*'Prevalence Rates'!AB164","v":1051.0132194174757},{"$f":"'Population 2016'!AC164*'Prevalence Rates'!AC164","v":1370.0778252427183},{"$f":"'Population 2016'!AD164*'Prevalence Rates'!AD164","v":1001.1139553398059},{"$f":"'Population 2016'!AE164*'Prevalence Rates'!AE164","v":684.86776699029133},{"$f":"'Population 2016'!AF164*'Prevalence Rates'!AF164","v":99.937200000000004},{"$f":"'Population 2016'!AG164*'Prevalence Rates'!AG164","v":263.73789784719293},{"$f":"'Population 2016'!AH164*'Prevalence Rates'!AH164","v":1106.091833009709},{"$f":"'Population 2016'!AI164*'Prevalence Rates'!AI164","v":1166.2199009708738},{"$f":"'Population 2016'!AJ164*'Prevalence Rates'!AJ164","v":184.7098},{"$f":"'Population 2016'!AK164*'Prevalence Rates'!AK164","v":262.17557864077679},{"$f":"'Population 2016'!AL164*'Prevalence Rates'!AL164","v":213.10571262135926},{"$f":"'Population 2016'!AM164*'Prevalence Rates'!AM164","v":564.59835631067961},{"$f":"'Population 2016'!AN164*'Prevalence Rates'!AN164","v":53.697600000000001},{"$f":"'Population 2016'!AO164*'Prevalence Rates'!AO164","v":53.697600000000001},{"$f":"'Population 2016'!AP164*'Prevalence Rates'!AP164","v":265.76382233009707},{"$f":"'Population 2016'!AQ164*'Prevalence Rates'!AQ164","v":285.93256699029126},{"$f":"'Population 2016'!AR164*'Prevalence Rates'!AR164","v":9360.0385999999999},{"$f":"'Population 2016'!AS164*'Prevalence Rates'!AS164","v":248.83817766990296},{"$f":"'Population 2016'!AT164*'Prevalence Rates'!AT164","v":65.381799999999998},{"$f":"'Population 2016'!AU164*'Prevalence Rates'!AU164","v":65.381799999999998},{"$f":"'Population 2016'!AV164*'Prevalence Rates'!AV164","v":161.816},{"$f":"'Population 2016'!AW164*'Prevalence Rates'!AW164","v":541.35820582524275},{"$f":"'Population 2016'!AX164*'Prevalence Rates'!AX164","v":127.28320000000001},{"$f":"'Population 2016'!AY164*'Prevalence Rates'!AY164","v":696.51959932176237},{"$f":"'Population 2016'!AZ164*'Prevalence Rates'!AZ164","v":803.50196893203884},{"$f":"'Population 2016'!BA164*'Prevalence Rates'!BA164","v":141.45186407766991},{"$f":"'Population 2016'!BB164*'Prevalence Rates'!BB164","v":301.84527087378643},{"$f":"'Population 2016'!BC164*'Prevalence Rates'!BC164","v":187.69300000000001},162]
[null,"Male 50-54",{"$f":"'Population 2016'!C165*'Prevalence Rates'!C165","v":300.303972815534},{"$f":"'Population 2016'!D165*'Prevalence Rates'!D165","v":302.59193693205964},{"$f":"'Population 2016'!E165*'Prevalence Rates'!E165","v":475.52232135922338},{"$f":"'Population 2016'!F165*'Prevalence Rates'!F165","v":457.07556504854381},{"$f":"'Population 2016'!G165*'Prevalence Rates'!G165","v":347.79140000000001},{"$f":"'Population 2016'!H165*'Prevalence Rates'!H165","v":664.04241553398072},{"$f":"'Population 2016'!I165*'Prevalence Rates'!I165","v":285.82516213592237},{"$f":"'Population 2016'!J165*'Prevalence Rates'!J165","v":235.1756},{"$f":"'Population 2016'!K165*'Prevalence Rates'!K165","v":94.468000000000004},{"$f":"'Population 2016'!L165*'Prevalence Rates'!L165","v":563.48097281553407},{"$f":"'Population 2016'!M165*'Prevalence Rates'!M165","v":563.48097281553407},{"$f":"'Population 2016'!N165*'Prevalence Rates'!N165","v":181.50586601941748},{"$f":"'Population 2016'!O165*'Prevalence Rates'!O165","v":228.95445631067963},{"$f":"'Population 2016'!P165*'Prevalence Rates'!P165","v":51.824652427184468},{"$f":"'Population 2016'!Q165*'Prevalence Rates'!Q165","v":194.88780873786411},{"$f":"'Population 2016'!R165*'Prevalence Rates'!R165","v":55.592489320388353},{"$f":"'Population 2016'!S165*'Prevalence Rates'!S165","v":1441.835295392641},{"$f":"'Population 2016'!T165*'Prevalence Rates'!T165","v":467.2423834951457},{"$f":"'Population 2016'!U165*'Prevalence Rates'!U165","v":178.99200000000002},{"$f":"'Population 2016'!V165*'Prevalence Rates'!V165","v":278.60896019417476},{"$f":"'Population 2016'!W165*'Prevalence Rates'!W165","v":807.57995242718459},{"$f":"'Population 2016'!X165*'Prevalence Rates'!X165","v":807.57995242718459},{"$f":"'Population 2016'!Y165*'Prevalence Rates'!Y165","v":456.2034902912622},{"$f":"'Population 2016'!Z165*'Prevalence Rates'!Z165","v":761.3828097087378},{"$f":"'Population 2016'!AA165*'Prevalence Rates'!AA165","v":888.72613838761504},{"$f":"'Population 2016'!AB165*'Prevalence Rates'!AB165","v":1058.3119223300971},{"$f":"'Population 2016'!AC165*'Prevalence Rates'!AC165","v":1476.2688621359223},{"$f":"'Population 2016'!AD165*'Prevalence Rates'!AD165","v":1160.0167495145631},{"$f":"'Population 2016'!AE165*'Prevalence Rates'!AE165","v":807.16558252427194},{"$f":"'Population 2016'!AF165*'Prevalence Rates'!AF165","v":119.07940000000001},{"$f":"'Population 2016'!AG165*'Prevalence Rates'!AG165","v":310.83395103419167},{"$f":"'Population 2016'!AH165*'Prevalence Rates'!AH165","v":1116.0630407766992},{"$f":"'Population 2016'!AI165*'Prevalence Rates'!AI165","v":1167.9848951456311},{"$f":"'Population 2016'!AJ165*'Prevalence Rates'!AJ165","v":186.20140000000001},{"$f":"'Population 2016'!AK165*'Prevalence Rates'!AK165","v":268.61592038834959},{"$f":"'Population 2016'!AL165*'Prevalence Rates'!AL165","v":239.03252038834955},{"$f":"'Population 2016'!AM165*'Prevalence Rates'!AM165","v":557.15363106796121},{"$f":"'Population 2016'!AN165*'Prevalence Rates'!AN165","v":70.602400000000003},{"$f":"'Population 2016'!AO165*'Prevalence Rates'!AO165","v":70.602400000000003},{"$f":"'Population 2016'!AP165*'Prevalence Rates'!AP165","v":312.44313495145633},{"$f":"'Population 2016'!AQ165*'Prevalence Rates'!AQ165","v":330.54430873786407},{"$f":"'Population 2016'!AR165*'Prevalence Rates'!AR165","v":10039.9596},{"$f":"'Population 2016'!AS165*'Prevalence Rates'!AS165","v":285.82516213592237},{"$f":"'Population 2016'!AT165*'Prevalence Rates'!AT165","v":74.58},{"$f":"'Population 2016'!AU165*'Prevalence Rates'!AU165","v":74.58},{"$f":"'Population 2016'!AV165*'Prevalence Rates'!AV165","v":178.11542718446603},{"$f":"'Population 2016'!AW165*'Prevalence Rates'!AW165","v":558.48088737864089},{"$f":"'Population 2016'!AX165*'Prevalence Rates'!AX165","v":140.70760000000001},{"$f":"'Population 2016'!AY165*'Prevalence Rates'!AY165","v":778.48383378525534},{"$f":"'Population 2016'!AZ165*'Prevalence Rates'!AZ165","v":954.22389223300968},{"$f":"'Population 2016'!BA165*'Prevalence Rates'!BA165","v":156.34153398058251},{"$f":"'Population 2016'!BB165*'Prevalence Rates'!BB165","v":306.67157766990294},{"$f":"'Population 2016'!BC165*'Prevalence Rates'!BC165","v":178.99200000000002},163]
[null,"Male 55-59",{"$f":"'Population 2016'!C166*'Prevalence Rates'!C166","v":224.39992475728155},{"$f":"'Population 2016'!D166*'Prevalence Rates'!D166","v":232.65940539628755},{"$f":"'Population 2016'!E166*'Prevalence Rates'!E166","v":371.1448746690204},{"$f":"'Population 2016'!F166*'Prevalence Rates'!F166","v":357.12002383053846},{"$f":"'Population 2016'!G166*'Prevalence Rates'!G166","v":296.02350000000001},{"$f":"'Population 2016'!H166*'Prevalence Rates'!H166","v":490.08697418358344},{"$f":"'Population 2016'!I166*'Prevalence Rates'!I166","v":236.08689982347752},{"$f":"'Population 2016'!J166*'Prevalence Rates'!J166","v":186.03600000000003},{"$f":"'Population 2016'!K166*'Prevalence Rates'!K166","v":78.772000000000006},{"$f":"'Population 2016'!L166*'Prevalence Rates'!L166","v":455.81005604589592},{"$f":"'Population 2016'!M166*'Prevalence Rates'!M166","v":455.81005604589592},{"$f":"'Population 2016'!N166*'Prevalence Rates'!N166","v":141.99884112974405},{"$f":"'Population 2016'!O166*'Prevalence Rates'!O166","v":152.01027846425421},{"$f":"'Population 2016'!P166*'Prevalence Rates'!P166","v":41.688466019417476},{"$f":"'Population 2016'!Q166*'Prevalence Rates'!Q166","v":168.24634355692851},{"$f":"'Population 2016'!R166*'Prevalence Rates'!R166","v":45.882903795233901},{"$f":"'Population 2016'!S166*'Prevalence Rates'!S166","v":1137.249844037661},{"$f":"'Population 2016'!T166*'Prevalence Rates'!T166","v":331.67659090909092},{"$f":"'Population 2016'!U166*'Prevalence Rates'!U166","v":148.53550000000001},{"$f":"'Population 2016'!V166*'Prevalence Rates'!V166","v":199.46341526919684},{"$f":"'Population 2016'!W166*'Prevalence Rates'!W166","v":666.57112400706092},{"$f":"'Population 2016'!X166*'Prevalence Rates'!X166","v":666.57112400706092},{"$f":"'Population 2016'!Y166*'Prevalence Rates'!Y166","v":341.69486981465138},{"$f":"'Population 2016'!Z166*'Prevalence Rates'!Z166","v":569.38383362753757},{"$f":"'Population 2016'!AA166*'Prevalence Rates'!AA166","v":678.83806015020707},{"$f":"'Population 2016'!AB166*'Prevalence Rates'!AB166","v":824.42114563106804},{"$f":"'Population 2016'!AC166*'Prevalence Rates'!AC166","v":1137.9522259488085},{"$f":"'Population 2016'!AD166*'Prevalence Rates'!AD166","v":972.68279788173004},{"$f":"'Population 2016'!AE166*'Prevalence Rates'!AE166","v":672.05954324801417},{"$f":"'Population 2016'!AF166*'Prevalence Rates'!AF166","v":107.0545},{"$f":"'Population 2016'!AG166*'Prevalence Rates'!AG166","v":258.80553839364524},{"$f":"'Population 2016'!AH166*'Prevalence Rates'!AH166","v":843.29389673433377},{"$f":"'Population 2016'!AI166*'Prevalence Rates'!AI166","v":884.44197109443974},{"$f":"'Population 2016'!AJ166*'Prevalence Rates'!AJ166","v":144.97400000000002},{"$f":"'Population 2016'!AK166*'Prevalence Rates'!AK166","v":217.5482762577229},{"$f":"'Population 2016'!AL166*'Prevalence Rates'!AL166","v":192.37795145631074},{"$f":"'Population 2016'!AM166*'Prevalence Rates'!AM166","v":388.36926941747578},{"$f":"'Population 2016'!AN166*'Prevalence Rates'!AN166","v":63.478500000000004},{"$f":"'Population 2016'!AO166*'Prevalence Rates'!AO166","v":63.478500000000004},{"$f":"'Population 2016'!AP166*'Prevalence Rates'!AP166","v":245.67415975286852},{"$f":"'Population 2016'!AQ166*'Prevalence Rates'!AQ166","v":240.96087202118272},{"$f":"'Population 2016'!AR166*'Prevalence Rates'!AR166","v":7865.6775000000007},{"$f":"'Population 2016'!AS166*'Prevalence Rates'!AS166","v":236.08689982347752},{"$f":"'Population 2016'!AT166*'Prevalence Rates'!AT166","v":56.565000000000005},{"$f":"'Population 2016'!AU166*'Prevalence Rates'!AU166","v":56.565000000000005},{"$f":"'Population 2016'!AV166*'Prevalence Rates'!AV166","v":134.71053398058251},{"$f":"'Population 2016'!AW166*'Prevalence Rates'!AW166","v":453.84097793468675},{"$f":"'Population 2016'!AX166*'Prevalence Rates'!AX166","v":107.26400000000001},{"$f":"'Population 2016'!AY166*'Prevalence Rates'!AY166","v":624.5294329500947},{"$f":"'Population 2016'!AZ166*'Prevalence Rates'!AZ166","v":747.56885348631954},{"$f":"'Population 2016'!BA166*'Prevalence Rates'!BA166","v":126.92593556928509},{"$f":"'Population 2016'!BB166*'Prevalence Rates'!BB166","v":232.50949779346868},{"$f":"'Population 2016'!BC166*'Prevalence Rates'!BC166","v":148.53550000000001},164]
[null,"Male 60-64",{"$f":"'Population 2016'!C167*'Prevalence Rates'!C167","v":201.41492718446602},{"$f":"'Population 2016'!D167*'Prevalence Rates'!D167","v":214.57015746687358},{"$f":"'Population 2016'!E167*'Prevalence Rates'!E167","v":346.99227978817305},{"$f":"'Population 2016'!F167*'Prevalence Rates'!F167","v":303.8907519858783},{"$f":"'Population 2016'!G167*'Prevalence Rates'!G167","v":287.01500000000004},{"$f":"'Population 2016'!H167*'Prevalence Rates'!H167","v":472.21808495145632},{"$f":"'Population 2016'!I167*'Prevalence Rates'!I167","v":208.31197043248017},{"$f":"'Population 2016'!J167*'Prevalence Rates'!J167","v":162.99100000000001},{"$f":"'Population 2016'!K167*'Prevalence Rates'!K167","v":64.52600000000001},{"$f":"'Population 2016'!L167*'Prevalence Rates'!L167","v":441.09254236540164},{"$f":"'Population 2016'!M167*'Prevalence Rates'!M167","v":441.09254236540164},{"$f":"'Population 2016'!N167*'Prevalence Rates'!N167","v":119.12654457193294},{"$f":"'Population 2016'!O167*'Prevalence Rates'!O167","v":144.97473962930275},{"$f":"'Population 2016'!P167*'Prevalence Rates'!P167","v":36.815788172992058},{"$f":"'Population 2016'!Q167*'Prevalence Rates'!Q167","v":148.19314408649603},{"$f":"'Population 2016'!R167*'Prevalence Rates'!R167","v":35.740367166813776},{"$f":"'Population 2016'!S167*'Prevalence Rates'!S167","v":967.76955617389547},{"$f":"'Population 2016'!T167*'Prevalence Rates'!T167","v":272.64030450132395},{"$f":"'Population 2016'!U167*'Prevalence Rates'!U167","v":143.08850000000001},{"$f":"'Population 2016'!V167*'Prevalence Rates'!V167","v":165.30872087378643},{"$f":"'Population 2016'!W167*'Prevalence Rates'!W167","v":557.6167936893205},{"$f":"'Population 2016'!X167*'Prevalence Rates'!X167","v":557.6167936893205},{"$f":"'Population 2016'!Y167*'Prevalence Rates'!Y167","v":290.70898609885262},{"$f":"'Population 2016'!Z167*'Prevalence Rates'!Z167","v":475.51045233892324},{"$f":"'Population 2016'!AA167*'Prevalence Rates'!AA167","v":571.55295922521748},{"$f":"'Population 2016'!AB167*'Prevalence Rates'!AB167","v":749.07436893203885},{"$f":"'Population 2016'!AC167*'Prevalence Rates'!AC167","v":936.03934333627535},{"$f":"'Population 2016'!AD167*'Prevalence Rates'!AD167","v":927.82391085613426},{"$f":"'Population 2016'!AE167*'Prevalence Rates'!AE167","v":636.04421888790819},{"$f":"'Population 2016'!AF167*'Prevalence Rates'!AF167","v":80.238500000000002},{"$f":"'Population 2016'!AG167*'Prevalence Rates'!AG167","v":244.93628305000195},{"$f":"'Population 2016'!AH167*'Prevalence Rates'!AH167","v":729.65429214474864},{"$f":"'Population 2016'!AI167*'Prevalence Rates'!AI167","v":751.50608517210958},{"$f":"'Population 2016'!AJ167*'Prevalence Rates'!AJ167","v":137.851},{"$f":"'Population 2016'!AK167*'Prevalence Rates'!AK167","v":189.05442718446605},{"$f":"'Population 2016'!AL167*'Prevalence Rates'!AL167","v":170.79538349514567},{"$f":"'Population 2016'!AM167*'Prevalence Rates'!AM167","v":331.29780825242722},{"$f":"'Population 2016'!AN167*'Prevalence Rates'!AN167","v":50.699000000000005},{"$f":"'Population 2016'!AO167*'Prevalence Rates'!AO167","v":50.699000000000005},{"$f":"'Population 2016'!AP167*'Prevalence Rates'!AP167","v":231.75757215357461},{"$f":"'Population 2016'!AQ167*'Prevalence Rates'!AQ167","v":193.91194263018537},{"$f":"'Population 2016'!AR167*'Prevalence Rates'!AR167","v":6965.2465000000002},{"$f":"'Population 2016'!AS167*'Prevalence Rates'!AS167","v":208.31197043248017},{"$f":"'Population 2016'!AT167*'Prevalence Rates'!AT167","v":55.727000000000004},{"$f":"'Population 2016'!AU167*'Prevalence Rates'!AU167","v":55.727000000000004},{"$f":"'Population 2016'!AV167*'Prevalence Rates'!AV167","v":140.00627978817298},{"$f":"'Population 2016'!AW167*'Prevalence Rates'!AW167","v":397.30852162400708},{"$f":"'Population 2016'!AX167*'Prevalence Rates'!AX167","v":98.465000000000003},{"$f":"'Population 2016'!AY167*'Prevalence Rates'!AY167","v":538.7086635221699},{"$f":"'Population 2016'!AZ167*'Prevalence Rates'!AZ167","v":661.49717453662845},{"$f":"'Population 2016'!BA167*'Prevalence Rates'!BA167","v":111.72377978817299},{"$f":"'Population 2016'!BB167*'Prevalence Rates'!BB167","v":189.9731392321271},{"$f":"'Population 2016'!BC167*'Prevalence Rates'!BC167","v":143.08850000000001},165]
[null,"Male 65-69",{"$f":"'Population 2016'!C168*'Prevalence Rates'!C168","v":147.76927864077672},{"$f":"'Population 2016'!D168*'Prevalence Rates'!D168","v":168.52765676504282},{"$f":"'Population 2016'!E168*'Prevalence Rates'!E168","v":281.39041191526923},{"$f":"'Population 2016'!F168*'Prevalence Rates'!F168","v":275.61479457193303},{"$f":"'Population 2016'!G168*'Prevalence Rates'!G168","v":255.59010000000004},{"$f":"'Population 2016'!H168*'Prevalence Rates'!H168","v":393.10516151809355},{"$f":"'Population 2016'!I168*'Prevalence Rates'!I168","v":175.41425692850842},{"$f":"'Population 2016'!J168*'Prevalence Rates'!J168","v":129.83130000000003},{"$f":"'Population 2016'!K168*'Prevalence Rates'!K168","v":53.105400000000003},{"$f":"'Population 2016'!L168*'Prevalence Rates'!L168","v":368.55873389232136},{"$f":"'Population 2016'!M168*'Prevalence Rates'!M168","v":368.55873389232136},{"$f":"'Population 2016'!N168*'Prevalence Rates'!N168","v":93.184479214474848},{"$f":"'Population 2016'!O168*'Prevalence Rates'!O168","v":117.53486610767874},{"$f":"'Population 2016'!P168*'Prevalence Rates'!P168","v":31.152576169461607},{"$f":"'Population 2016'!Q168*'Prevalence Rates'!Q168","v":107.74541001765226},{"$f":"'Population 2016'!R168*'Prevalence Rates'!R168","v":24.504444571932925},{"$f":"'Population 2016'!S168*'Prevalence Rates'!S168","v":755.77485038189297},{"$f":"'Population 2016'!T168*'Prevalence Rates'!T168","v":191.13000926743163},{"$f":"'Population 2016'!U168*'Prevalence Rates'!U168","v":121.03470000000002},{"$f":"'Population 2016'!V168*'Prevalence Rates'!V168","v":138.25084329214476},{"$f":"'Population 2016'!W168*'Prevalence Rates'!W168","v":462.65569752868498},{"$f":"'Population 2016'!X168*'Prevalence Rates'!X168","v":462.65569752868498},{"$f":"'Population 2016'!Y168*'Prevalence Rates'!Y168","v":237.59101588702563},{"$f":"'Population 2016'!Z168*'Prevalence Rates'!Z168","v":293.30842321270961},{"$f":"'Population 2016'!AA168*'Prevalence Rates'!AA168","v":401.96958304860607},{"$f":"'Population 2016'!AB168*'Prevalence Rates'!AB168","v":592.53214368932038},{"$f":"'Population 2016'!AC168*'Prevalence Rates'!AC168","v":645.48542700794349},{"$f":"'Population 2016'!AD168*'Prevalence Rates'!AD168","v":748.20890176522505},{"$f":"'Population 2016'!AE168*'Prevalence Rates'!AE168","v":486.81651368049427},{"$f":"'Population 2016'!AF168*'Prevalence Rates'!AF168","v":58.318200000000004},{"$f":"'Population 2016'!AG168*'Prevalence Rates'!AG168","v":187.46971334279905},{"$f":"'Population 2016'!AH168*'Prevalence Rates'!AH168","v":524.57308172992066},{"$f":"'Population 2016'!AI168*'Prevalence Rates'!AI168","v":549.50433005295679},{"$f":"'Population 2016'!AJ168*'Prevalence Rates'!AJ168","v":107.83980000000001},{"$f":"'Population 2016'!AK168*'Prevalence Rates'!AK168","v":152.80494466019422},{"$f":"'Population 2016'!AL168*'Prevalence Rates'!AL168","v":158.08100679611653},{"$f":"'Population 2016'!AM168*'Prevalence Rates'!AM168","v":259.49416456310684},{"$f":"'Population 2016'!AN168*'Prevalence Rates'!AN168","v":38.118600000000001},{"$f":"'Population 2016'!AO168*'Prevalence Rates'!AO168","v":38.118600000000001},{"$f":"'Population 2016'!AP168*'Prevalence Rates'!AP168","v":174.29121023830541},{"$f":"'Population 2016'!AQ168*'Prevalence Rates'!AQ168","v":156.93351791703446},{"$f":"'Population 2016'!AR168*'Prevalence Rates'!AR168","v":5436.1359000000002},{"$f":"'Population 2016'!AS168*'Prevalence Rates'!AS168","v":175.41425692850842},{"$f":"'Population 2016'!AT168*'Prevalence Rates'!AT168","v":45.123300000000008},{"$f":"'Population 2016'!AU168*'Prevalence Rates'!AU168","v":45.123300000000008},{"$f":"'Population 2016'!AV168*'Prevalence Rates'!AV168","v":109.12143336275375},{"$f":"'Population 2016'!AW168*'Prevalence Rates'!AW168","v":264.82205851721096},{"$f":"'Population 2016'!AX168*'Prevalence Rates'!AX168","v":76.72590000000001},{"$f":"'Population 2016'!AY168*'Prevalence Rates'!AY168","v":444.61834936750114},{"$f":"'Population 2016'!AZ168*'Prevalence Rates'!AZ168","v":543.62706195939984},{"$f":"'Population 2016'!BA168*'Prevalence Rates'!BA168","v":74.676638128861427},{"$f":"'Population 2016'!BB168*'Prevalence Rates'!BB168","v":141.52329293909975},{"$f":"'Population 2016'!BC168*'Prevalence Rates'!BC168","v":121.03470000000002},166]
[null,"Male 70-74",{"$f":"'Population 2016'!C169*'Prevalence Rates'!C169","v":91.388481553398066},{"$f":"'Population 2016'!D169*'Prevalence Rates'!D169","v":114.72844325927915},{"$f":"'Population 2016'!E169*'Prevalence Rates'!E169","v":199.38341756398944},{"$f":"'Population 2016'!F169*'Prevalence Rates'!F169","v":180.04324805825249},{"$f":"'Population 2016'!G169*'Prevalence Rates'!G169","v":184.56570000000002},{"$f":"'Population 2016'!H169*'Prevalence Rates'!H169","v":298.38715061782881},{"$f":"'Population 2016'!I169*'Prevalence Rates'!I169","v":129.46100083848194},{"$f":"'Population 2016'!J169*'Prevalence Rates'!J169","v":93.015900000000016},{"$f":"'Population 2016'!K169*'Prevalence Rates'!K169","v":40.562100000000001},{"$f":"'Population 2016'!L169*'Prevalence Rates'!L169","v":295.35186209179176},{"$f":"'Population 2016'!M169*'Prevalence Rates'!M169","v":295.35186209179176},{"$f":"'Population 2016'!N169*'Prevalence Rates'!N169","v":65.581124536628423},{"$f":"'Population 2016'!O169*'Prevalence Rates'!O169","v":90.347675639894092},{"$f":"'Population 2016'!P169*'Prevalence Rates'!P169","v":17.260211120917919},{"$f":"'Population 2016'!Q169*'Prevalence Rates'!Q169","v":82.01749011473963},{"$f":"'Population 2016'!R169*'Prevalence Rates'!R169","v":20.373427096204768},{"$f":"'Population 2016'!S169*'Prevalence Rates'!S169","v":538.28637682793351},{"$f":"'Population 2016'!T169*'Prevalence Rates'!T169","v":113.3704203442189},{"$f":"'Population 2016'!U169*'Prevalence Rates'!U169","v":87.314400000000006},{"$f":"'Population 2016'!V169*'Prevalence Rates'!V169","v":104.25722210944396},{"$f":"'Population 2016'!W169*'Prevalence Rates'!W169","v":338.87657105030894},{"$f":"'Population 2016'!X169*'Prevalence Rates'!X169","v":338.87657105030894},{"$f":"'Population 2016'!Y169*'Prevalence Rates'!Y169","v":174.9938512797882},{"$f":"'Population 2016'!Z169*'Prevalence Rates'!Z169","v":208.08656213592235},{"$f":"'Population 2016'!AA169*'Prevalence Rates'!AA169","v":294.9901356913893},{"$f":"'Population 2016'!AB169*'Prevalence Rates'!AB169","v":411.30510291262135},{"$f":"'Population 2016'!AC169*'Prevalence Rates'!AC169","v":474.32339205648719},{"$f":"'Population 2016'!AD169*'Prevalence Rates'!AD169","v":562.06322992056482},{"$f":"'Population 2016'!AE169*'Prevalence Rates'!AE169","v":373.74263459841131},{"$f":"'Population 2016'!AF169*'Prevalence Rates'!AF169","v":49.032900000000005},{"$f":"'Population 2016'!AG169*'Prevalence Rates'!AG169","v":143.92573506274226},{"$f":"'Population 2016'!AH169*'Prevalence Rates'!AH169","v":384.40690538393648},{"$f":"'Population 2016'!AI169*'Prevalence Rates'!AI169","v":378.33539377758171},{"$f":"'Population 2016'!AJ169*'Prevalence Rates'!AJ169","v":76.563000000000002},{"$f":"'Population 2016'!AK169*'Prevalence Rates'!AK169","v":112.18590873786411},{"$f":"'Population 2016'!AL169*'Prevalence Rates'!AL169","v":118.92332621359226},{"$f":"'Population 2016'!AM169*'Prevalence Rates'!AM169","v":182.54289320388352},{"$f":"'Population 2016'!AN169*'Prevalence Rates'!AN169","v":31.765500000000003},{"$f":"'Population 2016'!AO169*'Prevalence Rates'!AO169","v":31.765500000000003},{"$f":"'Population 2016'!AP169*'Prevalence Rates'!AP169","v":139.95237908208298},{"$f":"'Population 2016'!AQ169*'Prevalence Rates'!AQ169","v":116.07609876434248},{"$f":"'Population 2016'!AR169*'Prevalence Rates'!AR169","v":3980.6244000000006},{"$f":"'Population 2016'!AS169*'Prevalence Rates'!AS169","v":129.46100083848194},{"$f":"'Population 2016'!AT169*'Prevalence Rates'!AT169","v":33.720300000000002},{"$f":"'Population 2016'!AU169*'Prevalence Rates'!AU169","v":33.720300000000002},{"$f":"'Population 2016'!AV169*'Prevalence Rates'!AV169","v":82.613160635481023},{"$f":"'Population 2016'!AW169*'Prevalence Rates'!AW169","v":201.49838578993825},{"$f":"'Population 2016'!AX169*'Prevalence Rates'!AX169","v":52.453800000000008},{"$f":"'Population 2016'!AY169*'Prevalence Rates'!AY169","v":322.17492525225691},{"$f":"'Population 2016'!AZ169*'Prevalence Rates'!AZ169","v":390.43240816416591},{"$f":"'Population 2016'!BA169*'Prevalence Rates'!BA169","v":57.039442188879086},{"$f":"'Population 2016'!BB169*'Prevalence Rates'!BB169","v":106.2083557811121},{"$f":"'Population 2016'!BC169*'Prevalence Rates'!BC169","v":87.314400000000006},167]
[null,"Male 75-79",{"$f":"'Population 2016'!C170*'Prevalence Rates'!C170","v":37.580864077669908},{"$f":"'Population 2016'!D170*'Prevalence Rates'!D170","v":39.132126675673852},{"$f":"'Population 2016'!E170*'Prevalence Rates'!E170","v":62.56233009708739},{"$f":"'Population 2016'!F170*'Prevalence Rates'!F170","v":61.105679611650501},{"$f":"'Population 2016'!G170*'Prevalence Rates'!G170","v":62.974000000000011},{"$f":"'Population 2016'!H170*'Prevalence Rates'!H170","v":100.21722683142103},{"$f":"'Population 2016'!I170*'Prevalence Rates'!I170","v":43.548673433362765},{"$f":"'Population 2016'!J170*'Prevalence Rates'!J170","v":29.600000000000005},{"$f":"'Population 2016'!K170*'Prevalence Rates'!K170","v":12.21},{"$f":"'Population 2016'!L170*'Prevalence Rates'!L170","v":100.68366195939986},{"$f":"'Population 2016'!M170*'Prevalence Rates'!M170","v":100.68366195939986},{"$f":"'Population 2016'!N170*'Prevalence Rates'!N170","v":25.920116504854374},{"$f":"'Population 2016'!O170*'Prevalence Rates'!O170","v":30.649650485436897},{"$f":"'Population 2016'!P170*'Prevalence Rates'!P170","v":4.3347149161518095},{"$f":"'Population 2016'!Q170*'Prevalence Rates'!Q170","v":24.720473962930278},{"$f":"'Population 2016'!R170*'Prevalence Rates'!R170","v":7.3357316857899404},{"$f":"'Population 2016'!S170*'Prevalence Rates'!S170","v":181.73360373039606},{"$f":"'Population 2016'!T170*'Prevalence Rates'!T170","v":41.13710944395411},{"$f":"'Population 2016'!U170*'Prevalence Rates'!U170","v":30.562000000000005},{"$f":"'Population 2016'!V170*'Prevalence Rates'!V170","v":33.641849955869375},{"$f":"'Population 2016'!W170*'Prevalence Rates'!W170","v":116.50846072374229},{"$f":"'Population 2016'!X170*'Prevalence Rates'!X170","v":116.50846072374229},{"$f":"'Population 2016'!Y170*'Prevalence Rates'!Y170","v":56.113292144748463},{"$f":"'Population 2016'!Z170*'Prevalence Rates'!Z170","v":67.357895851721096},{"$f":"'Population 2016'!AA170*'Prevalence Rates'!AA170","v":98.745314900598345},{"$f":"'Population 2016'!AB170*'Prevalence Rates'!AB170","v":146.88209708737864},{"$f":"'Population 2016'!AC170*'Prevalence Rates'!AC170","v":150.58222771403354},{"$f":"'Population 2016'!AD170*'Prevalence Rates'!AD170","v":179.86591526919685},{"$f":"'Population 2016'!AE170*'Prevalence Rates'!AE170","v":115.37272727272729},{"$f":"'Population 2016'!AF170*'Prevalence Rates'!AF170","v":15.836000000000002},{"$f":"'Population 2016'!AG170*'Prevalence Rates'!AG170","v":44.429249011857713},{"$f":"'Population 2016'!AH170*'Prevalence Rates'!AH170","v":135.96719505736985},{"$f":"'Population 2016'!AI170*'Prevalence Rates'!AI170","v":126.22264254192413},{"$f":"'Population 2016'!AJ170*'Prevalence Rates'!AJ170","v":25.456000000000003},{"$f":"'Population 2016'!AK170*'Prevalence Rates'!AK170","v":45.051304501323933},{"$f":"'Population 2016'!AL170*'Prevalence Rates'!AL170","v":40.375980582524278},{"$f":"'Population 2016'!AM170*'Prevalence Rates'!AM170","v":60.476679611650496},{"$f":"'Population 2016'!AN170*'Prevalence Rates'!AN170","v":10.360000000000001},{"$f":"'Population 2016'!AO170*'Prevalence Rates'!AO170","v":10.360000000000001},{"$f":"'Population 2016'!AP170*'Prevalence Rates'!AP170","v":48.632107678729035},{"$f":"'Population 2016'!AQ170*'Prevalence Rates'!AQ170","v":37.197964695498683},{"$f":"'Population 2016'!AR170*'Prevalence Rates'!AR170","v":1342.8040000000001},{"$f":"'Population 2016'!AS170*'Prevalence Rates'!AS170","v":43.548673433362765},{"$f":"'Population 2016'!AT170*'Prevalence Rates'!AT170","v":11.544000000000002},{"$f":"'Population 2016'!AU170*'Prevalence Rates'!AU170","v":11.544000000000002},{"$f":"'Population 2016'!AV170*'Prevalence Rates'!AV170","v":27.240229479258605},{"$f":"'Population 2016'!AW170*'Prevalence Rates'!AW170","v":75.265902912621371},{"$f":"'Population 2016'!AX170*'Prevalence Rates'!AX170","v":17.390000000000004},{"$f":"'Population 2016'!AY170*'Prevalence Rates'!AY170","v":112.11898125056132},{"$f":"'Population 2016'!AZ170*'Prevalence Rates'!AZ170","v":137.23848631950577},{"$f":"'Population 2016'!BA170*'Prevalence Rates'!BA170","v":15.938737864077671},{"$f":"'Population 2016'!BB170*'Prevalence Rates'!BB170","v":34.59888614298324},{"$f":"'Population 2016'!BC170*'Prevalence Rates'!BC170","v":30.562000000000005},168]
[null,"Male 80-84",{"$f":"'Population 2016'!C171*'Prevalence Rates'!C171","v":26.532592233009712},{"$f":"'Population 2016'!D171*'Prevalence Rates'!D171","v":26.97142816773307},{"$f":"'Population 2016'!E171*'Prevalence Rates'!E171","v":42.585040600176526},{"$f":"'Population 2016'!F171*'Prevalence Rates'!F171","v":40.16736981465138},{"$f":"'Population 2016'!G171*'Prevalence Rates'!G171","v":37.592000000000006},{"$f":"'Population 2016'!H171*'Prevalence Rates'!H171","v":61.808320388349529},{"$f":"'Population 2016'!I171*'Prevalence Rates'!I171","v":28.451073256840253},{"$f":"'Population 2016'!J171*'Prevalence Rates'!J171","v":20.942000000000004},{"$f":"'Population 2016'!K171*'Prevalence Rates'!K171","v":7.7700000000000014},{"$f":"'Population 2016'!L171*'Prevalence Rates'!L171","v":68.192730803177426},{"$f":"'Population 2016'!M171*'Prevalence Rates'!M171","v":68.192730803177426},{"$f":"'Population 2016'!N171*'Prevalence Rates'!N171","v":17.672806707855255},{"$f":"'Population 2016'!O171*'Prevalence Rates'!O171","v":19.504323036187117},{"$f":"'Population 2016'!P171*'Prevalence Rates'!P171","v":4.3984607237422777},{"$f":"'Population 2016'!Q171*'Prevalence Rates'!Q171","v":19.408051191526923},{"$f":"'Population 2016'!R171*'Prevalence Rates'!R171","v":5.5017987643424551},{"$f":"'Population 2016'!S171*'Prevalence Rates'!S171","v":123.61730342709556},{"$f":"'Population 2016'!T171*'Prevalence Rates'!T171","v":34.438901147396301},{"$f":"'Population 2016'!U171*'Prevalence Rates'!U171","v":18.130000000000003},{"$f":"'Population 2016'!V171*'Prevalence Rates'!V171","v":19.992082965578113},{"$f":"'Population 2016'!W171*'Prevalence Rates'!W171","v":73.729276257722873},{"$f":"'Population 2016'!X171*'Prevalence Rates'!X171","v":73.729276257722873},{"$f":"'Population 2016'!Y171*'Prevalence Rates'!Y171","v":36.208239187996476},{"$f":"'Population 2016'!Z171*'Prevalence Rates'!Z171","v":46.438755516328335},{"$f":"'Population 2016'!AA171*'Prevalence Rates'!AA171","v":67.053755720458668},{"$f":"'Population 2016'!AB171*'Prevalence Rates'!AB171","v":95.593631067961169},{"$f":"'Population 2016'!AC171*'Prevalence Rates'!AC171","v":109.04504148278906},{"$f":"'Population 2016'!AD171*'Prevalence Rates'!AD171","v":119.30922683142101},{"$f":"'Population 2016'!AE171*'Prevalence Rates'!AE171","v":81.048940864960286},{"$f":"'Population 2016'!AF171*'Prevalence Rates'!AF171","v":10.434000000000001},{"$f":"'Population 2016'!AG171*'Prevalence Rates'!AG171","v":31.211393376568562},{"$f":"'Population 2016'!AH171*'Prevalence Rates'!AH171","v":86.286873786407781},{"$f":"'Population 2016'!AI171*'Prevalence Rates'!AI171","v":91.744553398058287},{"$f":"'Population 2016'!AJ171*'Prevalence Rates'!AJ171","v":16.502000000000002},{"$f":"'Population 2016'!AK171*'Prevalence Rates'!AK171","v":25.241511032656675},{"$f":"'Population 2016'!AL171*'Prevalence Rates'!AL171","v":25.787922330097093},{"$f":"'Population 2016'!AM171*'Prevalence Rates'!AM171","v":36.529058252427191},{"$f":"'Population 2016'!AN171*'Prevalence Rates'!AN171","v":7.7700000000000014},{"$f":"'Population 2016'!AO171*'Prevalence Rates'!AO171","v":7.7700000000000014},{"$f":"'Population 2016'!AP171*'Prevalence Rates'!AP171","v":34.671677846425418},{"$f":"'Population 2016'!AQ171*'Prevalence Rates'!AQ171","v":26.015278022947932},{"$f":"'Population 2016'!AR171*'Prevalence Rates'!AR171","v":895.10400000000016},{"$f":"'Population 2016'!AS171*'Prevalence Rates'!AS171","v":28.451073256840253},{"$f":"'Population 2016'!AT171*'Prevalence Rates'!AT171","v":6.8820000000000006},{"$f":"'Population 2016'!AU171*'Prevalence Rates'!AU171","v":6.8820000000000006},{"$f":"'Population 2016'!AV171*'Prevalence Rates'!AV171","v":15.782965578111209},{"$f":"'Population 2016'!AW171*'Prevalence Rates'!AW171","v":49.572162400706098},{"$f":"'Population 2016'!AX171*'Prevalence Rates'!AX171","v":13.172000000000002},{"$f":"'Population 2016'!AY171*'Prevalence Rates'!AY171","v":74.174249537914278},{"$f":"'Population 2016'!AZ171*'Prevalence Rates'!AZ171","v":94.006419240953235},{"$f":"'Population 2016'!BA171*'Prevalence Rates'!BA171","v":13.978358340688439},{"$f":"'Population 2016'!BB171*'Prevalence Rates'!BB171","v":21.25018093556929},{"$f":"'Population 2016'!BC171*'Prevalence Rates'!BC171","v":18.130000000000003},169]
[null,"Male 85-89",{"$f":"'Population 2016'!C172*'Prevalence Rates'!C172","v":13.22444660194175},{"$f":"'Population 2016'!D172*'Prevalence Rates'!D172","v":12.278477670245294},{"$f":"'Population 2016'!E172*'Prevalence Rates'!E172","v":18.413231244483676},{"$f":"'Population 2016'!F172*'Prevalence Rates'!F172","v":22.818484554280676},{"$f":"'Population 2016'!G172*'Prevalence Rates'!G172","v":18.130000000000003},{"$f":"'Population 2016'!H172*'Prevalence Rates'!H172","v":28.787436893203889},{"$f":"'Population 2016'!I172*'Prevalence Rates'!I172","v":14.11652868490733},{"$f":"'Population 2016'!J172*'Prevalence Rates'!J172","v":9.1760000000000019},{"$f":"'Population 2016'!K172*'Prevalence Rates'!K172","v":4.1440000000000001},{"$f":"'Population 2016'!L172*'Prevalence Rates'!L172","v":31.573540158870266},{"$f":"'Population 2016'!M172*'Prevalence Rates'!M172","v":31.573540158870266},{"$f":"'Population 2016'!N172*'Prevalence Rates'!N172","v":12.118496028243602},{"$f":"'Population 2016'!O172*'Prevalence Rates'!O172","v":7.9824642541924105},{"$f":"'Population 2016'!P172*'Prevalence Rates'!P172","v":1.2749161518093557},{"$f":"'Population 2016'!Q172*'Prevalence Rates'!Q172","v":9.9165225066195966},{"$f":"'Population 2016'!R172*'Prevalence Rates'!R172","v":3.0281218005295685},{"$f":"'Population 2016'!S172*'Prevalence Rates'!S172","v":61.743107013957591},{"$f":"'Population 2016'!T172*'Prevalence Rates'!T172","v":15.671279788172994},{"$f":"'Population 2016'!U172*'Prevalence Rates'!U172","v":11.026000000000002},{"$f":"'Population 2016'!V172*'Prevalence Rates'!V172","v":8.6172771403353945},{"$f":"'Population 2016'!W172*'Prevalence Rates'!W172","v":37.836892321270966},{"$f":"'Population 2016'!X172*'Prevalence Rates'!X172","v":37.836892321270966},{"$f":"'Population 2016'!Y172*'Prevalence Rates'!Y172","v":15.734470432480144},{"$f":"'Population 2016'!Z172*'Prevalence Rates'!Z172","v":20.571934686672552},{"$f":"'Population 2016'!AA172*'Prevalence Rates'!AA172","v":32.751391093994265},{"$f":"'Population 2016'!AB172*'Prevalence Rates'!AB172","v":47.098485436893206},{"$f":"'Population 2016'!AC172*'Prevalence Rates'!AC172","v":55.118178287731688},{"$f":"'Population 2016'!AD172*'Prevalence Rates'!AD172","v":58.046566637246258},{"$f":"'Population 2016'!AE172*'Prevalence Rates'!AE172","v":39.604368932038838},{"$f":"'Population 2016'!AF172*'Prevalence Rates'!AF172","v":6.5860000000000012},{"$f":"'Population 2016'!AG172*'Prevalence Rates'!AG172","v":15.251371886872102},{"$f":"'Population 2016'!AH172*'Prevalence Rates'!AH172","v":40.493348631950582},{"$f":"'Population 2016'!AI172*'Prevalence Rates'!AI172","v":45.117042365401602},{"$f":"'Population 2016'!AJ172*'Prevalence Rates'!AJ172","v":8.9540000000000006},{"$f":"'Population 2016'!AK172*'Prevalence Rates'!AK172","v":15.176857899382178},{"$f":"'Population 2016'!AL172*'Prevalence Rates'!AL172","v":11.011631067961167},{"$f":"'Population 2016'!AM172*'Prevalence Rates'!AM172","v":17.44244660194175},{"$f":"'Population 2016'!AN172*'Prevalence Rates'!AN172","v":3.9220000000000006},{"$f":"'Population 2016'!AO172*'Prevalence Rates'!AO172","v":3.9220000000000006},{"$f":"'Population 2016'!AP172*'Prevalence Rates'!AP172","v":18.744990291262138},{"$f":"'Population 2016'!AQ172*'Prevalence Rates'!AQ172","v":16.152769638128866},{"$f":"'Population 2016'!AR172*'Prevalence Rates'!AR172","v":445.40600000000006},{"$f":"'Population 2016'!AS172*'Prevalence Rates'!AS172","v":14.11652868490733},{"$f":"'Population 2016'!AT172*'Prevalence Rates'!AT172","v":4.2180000000000009},{"$f":"'Population 2016'!AU172*'Prevalence Rates'!AU172","v":4.2180000000000009},{"$f":"'Population 2016'!AV172*'Prevalence Rates'!AV172","v":8.8267696381288623},{"$f":"'Population 2016'!AW172*'Prevalence Rates'!AW172","v":22.970762577228601},{"$f":"'Population 2016'!AX172*'Prevalence Rates'!AX172","v":5.0320000000000009},{"$f":"'Population 2016'!AY172*'Prevalence Rates'!AY172","v":40.74508091653243},{"$f":"'Population 2016'!AZ172*'Prevalence Rates'!AZ172","v":54.195594880847317},{"$f":"'Population 2016'!BA172*'Prevalence Rates'!BA172","v":5.881138570167697},{"$f":"'Population 2016'!BB172*'Prevalence Rates'!BB172","v":10.655020300088264},{"$f":"'Population 2016'!BC172*'Prevalence Rates'!BC172","v":11.026000000000002},170]
[null,"Male 90+",{"$f":"'Population 2016'!C173*'Prevalence Rates'!C173","v":5.273038834951457},{"$f":"'Population 2016'!D173*'Prevalence Rates'!D173","v":5.4767310471597712},{"$f":"'Population 2016'!E173*'Prevalence Rates'!E173","v":8.7445075022065328},{"$f":"'Population 2016'!F173*'Prevalence Rates'!F173","v":9.9991112091791727},{"$f":"'Population 2016'!G173*'Prevalence Rates'!G173","v":7.4740000000000011},{"$f":"'Population 2016'!H173*'Prevalence Rates'!H173","v":11.468791703442191},{"$f":"'Population 2016'!I173*'Prevalence Rates'!I173","v":5.0688693733451027},{"$f":"'Population 2016'!J173*'Prevalence Rates'!J173","v":4.1440000000000001},{"$f":"'Population 2016'!K173*'Prevalence Rates'!K173","v":1.9980000000000002},{"$f":"'Population 2016'!L173*'Prevalence Rates'!L173","v":15.289849955869379},{"$f":"'Population 2016'!M173*'Prevalence Rates'!M173","v":15.289849955869379},{"$f":"'Population 2016'!N173*'Prevalence Rates'!N173","v":4.376123565754634},{"$f":"'Population 2016'!O173*'Prevalence Rates'!O173","v":2.6357193292144752},{"$f":"'Population 2016'!P173*'Prevalence Rates'!P173","v":0.7649496910856135},{"$f":"'Population 2016'!Q173*'Prevalence Rates'!Q173","v":4.1791059135039728},{"$f":"'Population 2016'!R173*'Prevalence Rates'!R173","v":1.4927360988526042},{"$f":"'Population 2016'!S173*'Prevalence Rates'!S173","v":25.038075243452017},{"$f":"'Population 2016'!T173*'Prevalence Rates'!T173","v":6.6350176522506628},{"$f":"'Population 2016'!U173*'Prevalence Rates'!U173","v":4.4400000000000004},{"$f":"'Population 2016'!V173*'Prevalence Rates'!V173","v":4.4120458958517217},{"$f":"'Population 2016'!W173*'Prevalence Rates'!W173","v":15.96117299205649},{"$f":"'Population 2016'!X173*'Prevalence Rates'!X173","v":15.96117299205649},{"$f":"'Population 2016'!Y173*'Prevalence Rates'!Y173","v":7.5828773168579007},{"$f":"'Population 2016'!Z173*'Prevalence Rates'!Z173","v":10.416169461606357},{"$f":"'Population 2016'!AA173*'Prevalence Rates'!AA173","v":15.50973532470131},{"$f":"'Population 2016'!AB173*'Prevalence Rates'!AB173","v":20.173980582524273},{"$f":"'Population 2016'!AC173*'Prevalence Rates'!AC173","v":28.75040423654016},{"$f":"'Population 2016'!AD173*'Prevalence Rates'!AD173","v":22.59109620476611},{"$f":"'Population 2016'!AE173*'Prevalence Rates'!AE173","v":14.961650485436895},{"$f":"'Population 2016'!AF173*'Prevalence Rates'!AF173","v":2.8120000000000003},{"$f":"'Population 2016'!AG173*'Prevalence Rates'!AG173","v":5.761629379485016},{"$f":"'Population 2016'!AH173*'Prevalence Rates'!AH173","v":16.819226831421009},{"$f":"'Population 2016'!AI173*'Prevalence Rates'!AI173","v":18.585331862312451},{"$f":"'Population 2016'!AJ173*'Prevalence Rates'!AJ173","v":2.8120000000000003},{"$f":"'Population 2016'!AK173*'Prevalence Rates'!AK173","v":5.9109867608120057},{"$f":"'Population 2016'!AL173*'Prevalence Rates'!AL173","v":5.5528737864077682},{"$f":"'Population 2016'!AM173*'Prevalence Rates'!AM173","v":6.4336893203883507},{"$f":"'Population 2016'!AN173*'Prevalence Rates'!AN173","v":1.5540000000000003},{"$f":"'Population 2016'!AO173*'Prevalence Rates'!AO173","v":1.5540000000000003},{"$f":"'Population 2016'!AP173*'Prevalence Rates'!AP173","v":8.7170759046778468},{"$f":"'Population 2016'!AQ173*'Prevalence Rates'!AQ173","v":10.328453662842014},{"$f":"'Population 2016'!AR173*'Prevalence Rates'!AR173","v":191.88200000000003},{"$f":"'Population 2016'!AS173*'Prevalence Rates'!AS173","v":5.0688693733451027},{"$f":"'Population 2016'!AT173*'Prevalence Rates'!AT173","v":1.4800000000000002},{"$f":"'Population 2016'!AU173*'Prevalence Rates'!AU173","v":1.4800000000000002},{"$f":"'Population 2016'!AV173*'Prevalence Rates'!AV173","v":3.2150485436893206},{"$f":"'Population 2016'!AW173*'Prevalence Rates'!AW173","v":10.333352162400708},{"$f":"'Population 2016'!AX173*'Prevalence Rates'!AX173","v":2.1460000000000004},{"$f":"'Population 2016'!AY173*'Prevalence Rates'!AY173","v":17.467178159235125},{"$f":"'Population 2016'!AZ173*'Prevalence Rates'!AZ173","v":23.482165931156224},{"$f":"'Population 2016'!BA173*'Prevalence Rates'!BA173","v":2.0456134157105033},{"$f":"'Population 2016'!BB173*'Prevalence Rates'!BB173","v":4.8486328331862323},{"$f":"'Population 2016'!BC173*'Prevalence Rates'!BC173","v":4.4400000000000004},171]
["SIMD Q4","Female 0-4",{"$f":"'Population 2016'!C174*'Prevalence Rates'!C174","v":0},{"$f":"'Population 2016'!D174*'Prevalence Rates'!D174","v":0},{"$f":"'Population 2016'!E174*'Prevalence Rates'!E174","v":0},{"$f":"'Population 2016'!F174*'Prevalence Rates'!F174","v":0},{"$f":"'Population 2016'!G174*'Prevalence Rates'!G174","v":0},{"$f":"'Population 2016'!H174*'Prevalence Rates'!H174","v":0},{"$f":"'Population 2016'!I174*'Prevalence Rates'!I174","v":0},{"$f":"'Population 2016'!J174*'Prevalence Rates'!J174","v":0},{"$f":"'Population 2016'!K174*'Prevalence Rates'!K174","v":0},{"$f":"'Population 2016'!L174*'Prevalence Rates'!L174","v":0},{"$f":"'Population 2016'!M174*'Prevalence Rates'!M174","v":0},{"$f":"'Population 2016'!N174*'Prevalence Rates'!N174","v":0},{"$f":"'Population 2016'!O174*'Prevalence Rates'!O174","v":0},{"$f":"'Population 2016'!P174*'Prevalence Rates'!P174","v":0},{"$f":"'Population 2016'!Q174*'Prevalence Rates'!Q174","v":0},{"$f":"'Population 2016'!R174*'Prevalence Rates'!R174","v":0},{"$f":"'Population 2016'!S174*'Prevalence Rates'!S174","v":0},{"$f":"'Population 2016'!T174*'Prevalence Rates'!T174","v":0},{"$f":"'Population 2016'!U174*'Prevalence Rates'!U174","v":0},{"$f":"'Population 2016'!V174*'Prevalence Rates'!V174","v":0},{"$f":"'Population 2016'!W174*'Prevalence Rates'!W174","v":0},{"$f":"'Population 2016'!X174*'Prevalence Rates'!X174","v":0},{"$f":"'Population 2016'!Y174*'Prevalence Rates'!Y174","v":0},{"$f":"'Population 2016'!Z174*'Prevalence Rates'!Z174","v":0},{"$f":"'Population 2016'!AA174*'Prevalence Rates'!AA174","v":0},{"$f":"'Population 2016'!AB174*'Prevalence Rates'!AB174","v":0},{"$f":"'Population 2016'!AC174*'Prevalence Rates'!AC174","v":0},{"$f":"'Population 2016'!AD174*'Prevalence Rates'!AD174","v":0},{"$f":"'Population 2016'!AE174*'Prevalence Rates'!AE174","v":0},{"$f":"'Population 2016'!AF174*'Prevalence Rates'!AF174","v":0},{"$f":"'Population 2016'!AG174*'Prevalence Rates'!AG174","v":0},{"$f":"'Population 2016'!AH174*'Prevalence Rates'!AH174","v":0},{"$f":"'Population 2016'!AI174*'Prevalence Rates'!AI174","v":0},{"$f":"'Population 2016'!AJ174*'Prevalence Rates'!AJ174","v":0},{"$f":"'Population 2016'!AK174*'Prevalence Rates'!AK174","v":0},{"$f":"'Population 2016'!AL174*'Prevalence Rates'!AL174","v":0},{"$f":"'Population 2016'!AM174*'Prevalence Rates'!AM174","v":0},{"$f":"'Population 2016'!AN174*'Prevalence Rates'!AN174","v":0},{"$f":"'Population 2016'!AO174*'Prevalence Rates'!AO174","v":0},{"$f":"'Population 2016'!AP174*'Prevalence Rates'!AP174","v":0},{"$f":"'Population 2016'!AQ174*'Prevalence Rates'!AQ174","v":0},{"$f":"'Population 2016'!AR174*'Prevalence Rates'!AR174","v":0},{"$f":"'Population 2016'!AS174*'Prevalence Rates'!AS174","v":0},{"$f":"'Population 2016'!AT174*'Prevalence Rates'!AT174","v":0},{"$f":"'Population 2016'!AU174*'Prevalence Rates'!AU174","v":0},{"$f":"'Population 2016'!AV174*'Prevalence Rates'!AV174","v":0},{"$f":"'Population 2016'!AW174*'Prevalence Rates'!AW174","v":0},{"$f":"'Population 2016'!AX174*'Prevalence Rates'!AX174","v":0},{"$f":"'Population 2016'!AY174*'Prevalence Rates'!AY174","v":0},{"$f":"'Population 2016'!AZ174*'Prevalence Rates'!AZ174","v":0},{"$f":"'Population 2016'!BA174*'Prevalence Rates'!BA174","v":0},{"$f":"'Population 2016'!BB174*'Prevalence Rates'!BB174","v":0},{"$f":"'Population 2016'!BC174*'Prevalence Rates'!BC174","v":0},172]
[null,"Female 5-9",{"$f":"'Population 2016'!C175*'Prevalence Rates'!C175","v":0},{"$f":"'Population 2016'!D175*'Prevalence Rates'!D175","v":0},{"$f":"'Population 2016'!E175*'Prevalence Rates'!E175","v":0},{"$f":"'Population 2016'!F175*'Prevalence Rates'!F175","v":0},{"$f":"'Population 2016'!G175*'Prevalence Rates'!G175","v":0},{"$f":"'Population 2016'!H175*'Prevalence Rates'!H175","v":0},{"$f":"'Population 2016'!I175*'Prevalence Rates'!I175","v":0},{"$f":"'Population 2016'!J175*'Prevalence Rates'!J175","v":0},{"$f":"'Population 2016'!K175*'Prevalence Rates'!K175","v":0},{"$f":"'Population 2016'!L175*'Prevalence Rates'!L175","v":0},{"$f":"'Population 2016'!M175*'Prevalence Rates'!M175","v":0},{"$f":"'Population 2016'!N175*'Prevalence Rates'!N175","v":0},{"$f":"'Population 2016'!O175*'Prevalence Rates'!O175","v":0},{"$f":"'Population 2016'!P175*'Prevalence Rates'!P175","v":0},{"$f":"'Population 2016'!Q175*'Prevalence Rates'!Q175","v":0},{"$f":"'Population 2016'!R175*'Prevalence Rates'!R175","v":0},{"$f":"'Population 2016'!S175*'Prevalence Rates'!S175","v":0},{"$f":"'Population 2016'!T175*'Prevalence Rates'!T175","v":0},{"$f":"'Population 2016'!U175*'Prevalence Rates'!U175","v":0},{"$f":"'Population 2016'!V175*'Prevalence Rates'!V175","v":0},{"$f":"'Population 2016'!W175*'Prevalence Rates'!W175","v":0},{"$f":"'Population 2016'!X175*'Prevalence Rates'!X175","v":0},{"$f":"'Population 2016'!Y175*'Prevalence Rates'!Y175","v":0},{"$f":"'Population 2016'!Z175*'Prevalence Rates'!Z175","v":0},{"$f":"'Population 2016'!AA175*'Prevalence Rates'!AA175","v":0},{"$f":"'Population 2016'!AB175*'Prevalence Rates'!AB175","v":0},{"$f":"'Population 2016'!AC175*'Prevalence Rates'!AC175","v":0},{"$f":"'Population 2016'!AD175*'Prevalence Rates'!AD175","v":0},{"$f":"'Population 2016'!AE175*'Prevalence Rates'!AE175","v":0},{"$f":"'Population 2016'!AF175*'Prevalence Rates'!AF175","v":0},{"$f":"'Population 2016'!AG175*'Prevalence Rates'!AG175","v":0},{"$f":"'Population 2016'!AH175*'Prevalence Rates'!AH175","v":0},{"$f":"'Population 2016'!AI175*'Prevalence Rates'!AI175","v":0},{"$f":"'Population 2016'!AJ175*'Prevalence Rates'!AJ175","v":0},{"$f":"'Population 2016'!AK175*'Prevalence Rates'!AK175","v":0},{"$f":"'Population 2016'!AL175*'Prevalence Rates'!AL175","v":0},{"$f":"'Population 2016'!AM175*'Prevalence Rates'!AM175","v":0},{"$f":"'Population 2016'!AN175*'Prevalence Rates'!AN175","v":0},{"$f":"'Population 2016'!AO175*'Prevalence Rates'!AO175","v":0},{"$f":"'Population 2016'!AP175*'Prevalence Rates'!AP175","v":0},{"$f":"'Population 2016'!AQ175*'Prevalence Rates'!AQ175","v":0},{"$f":"'Population 2016'!AR175*'Prevalence Rates'!AR175","v":0},{"$f":"'Population 2016'!AS175*'Prevalence Rates'!AS175","v":0},{"$f":"'Population 2016'!AT175*'Prevalence Rates'!AT175","v":0},{"$f":"'Population 2016'!AU175*'Prevalence Rates'!AU175","v":0},{"$f":"'Population 2016'!AV175*'Prevalence Rates'!AV175","v":0},{"$f":"'Population 2016'!AW175*'Prevalence Rates'!AW175","v":0},{"$f":"'Population 2016'!AX175*'Prevalence Rates'!AX175","v":0},{"$f":"'Population 2016'!AY175*'Prevalence Rates'!AY175","v":0},{"$f":"'Population 2016'!AZ175*'Prevalence Rates'!AZ175","v":0},{"$f":"'Population 2016'!BA175*'Prevalence Rates'!BA175","v":0},{"$f":"'Population 2016'!BB175*'Prevalence Rates'!BB175","v":0},{"$f":"'Population 2016'!BC175*'Prevalence Rates'!BC175","v":0},173]
[null,"Female 10-15",{"$f":"'Population 2016'!C176*'Prevalence Rates'!C176","v":0},{"$f":"'Population 2016'!D176*'Prevalence Rates'!D176","v":0},{"$f":"'Population 2016'!E176*'Prevalence Rates'!E176","v":0},{"$f":"'Population 2016'!F176*'Prevalence Rates'!F176","v":0},{"$f":"'Population 2016'!G176*'Prevalence Rates'!G176","v":0},{"$f":"'Population 2016'!H176*'Prevalence Rates'!H176","v":0},{"$f":"'Population 2016'!I176*'Prevalence Rates'!I176","v":0},{"$f":"'Population 2016'!J176*'Prevalence Rates'!J176","v":0},{"$f":"'Population 2016'!K176*'Prevalence Rates'!K176","v":0},{"$f":"'Population 2016'!L176*'Prevalence Rates'!L176","v":0},{"$f":"'Population 2016'!M176*'Prevalence Rates'!M176","v":0},{"$f":"'Population 2016'!N176*'Prevalence Rates'!N176","v":0},{"$f":"'Population 2016'!O176*'Prevalence Rates'!O176","v":0},{"$f":"'Population 2016'!P176*'Prevalence Rates'!P176","v":0},{"$f":"'Population 2016'!Q176*'Prevalence Rates'!Q176","v":0},{"$f":"'Population 2016'!R176*'Prevalence Rates'!R176","v":0},{"$f":"'Population 2016'!S176*'Prevalence Rates'!S176","v":0},{"$f":"'Population 2016'!T176*'Prevalence Rates'!T176","v":0},{"$f":"'Population 2016'!U176*'Prevalence Rates'!U176","v":0},{"$f":"'Population 2016'!V176*'Prevalence Rates'!V176","v":0},{"$f":"'Population 2016'!W176*'Prevalence Rates'!W176","v":0},{"$f":"'Population 2016'!X176*'Prevalence Rates'!X176","v":0},{"$f":"'Population 2016'!Y176*'Prevalence Rates'!Y176","v":0},{"$f":"'Population 2016'!Z176*'Prevalence Rates'!Z176","v":0},{"$f":"'Population 2016'!AA176*'Prevalence Rates'!AA176","v":0},{"$f":"'Population 2016'!AB176*'Prevalence Rates'!AB176","v":0},{"$f":"'Population 2016'!AC176*'Prevalence Rates'!AC176","v":0},{"$f":"'Population 2016'!AD176*'Prevalence Rates'!AD176","v":0},{"$f":"'Population 2016'!AE176*'Prevalence Rates'!AE176","v":0},{"$f":"'Population 2016'!AF176*'Prevalence Rates'!AF176","v":0},{"$f":"'Population 2016'!AG176*'Prevalence Rates'!AG176","v":0},{"$f":"'Population 2016'!AH176*'Prevalence Rates'!AH176","v":0},{"$f":"'Population 2016'!AI176*'Prevalence Rates'!AI176","v":0},{"$f":"'Population 2016'!AJ176*'Prevalence Rates'!AJ176","v":0},{"$f":"'Population 2016'!AK176*'Prevalence Rates'!AK176","v":0},{"$f":"'Population 2016'!AL176*'Prevalence Rates'!AL176","v":0},{"$f":"'Population 2016'!AM176*'Prevalence Rates'!AM176","v":0},{"$f":"'Population 2016'!AN176*'Prevalence Rates'!AN176","v":0},{"$f":"'Population 2016'!AO176*'Prevalence Rates'!AO176","v":0},{"$f":"'Population 2016'!AP176*'Prevalence Rates'!AP176","v":0},{"$f":"'Population 2016'!AQ176*'Prevalence Rates'!AQ176","v":0},{"$f":"'Population 2016'!AR176*'Prevalence Rates'!AR176","v":0},{"$f":"'Population 2016'!AS176*'Prevalence Rates'!AS176","v":0},{"$f":"'Population 2016'!AT176*'Prevalence Rates'!AT176","v":0},{"$f":"'Population 2016'!AU176*'Prevalence Rates'!AU176","v":0},{"$f":"'Population 2016'!AV176*'Prevalence Rates'!AV176","v":0},{"$f":"'Population 2016'!AW176*'Prevalence Rates'!AW176","v":0},{"$f":"'Population 2016'!AX176*'Prevalence Rates'!AX176","v":0},{"$f":"'Population 2016'!AY176*'Prevalence Rates'!AY176","v":0},{"$f":"'Population 2016'!AZ176*'Prevalence Rates'!AZ176","v":0},{"$f":"'Population 2016'!BA176*'Prevalence Rates'!BA176","v":0},{"$f":"'Population 2016'!BB176*'Prevalence Rates'!BB176","v":0},{"$f":"'Population 2016'!BC176*'Prevalence Rates'!BC176","v":0},174]
[null,"Female 16-19",{"$f":"'Population 2016'!C177*'Prevalence Rates'!C177","v":183.90477744680851},{"$f":"'Population 2016'!D177*'Prevalence Rates'!D177","v":273.7539132420153},{"$f":"'Population 2016'!E177*'Prevalence Rates'!E177","v":273.41804148936177},{"$f":"'Population 2016'!F177*'Prevalence Rates'!F177","v":57.063254574468083},{"$f":"'Population 2016'!G177*'Prevalence Rates'!G177","v":83.049400000000006},{"$f":"'Population 2016'!H177*'Prevalence Rates'!H177","v":211.97909436170215},{"$f":"'Population 2016'!I177*'Prevalence Rates'!I177","v":171.48501329787237},{"$f":"'Population 2016'!J177*'Prevalence Rates'!J177","v":168.78399999999999},{"$f":"'Population 2016'!K177*'Prevalence Rates'!K177","v":34.3322},{"$f":"'Population 2016'!L177*'Prevalence Rates'!L177","v":109.72551531914893},{"$f":"'Population 2016'!M177*'Prevalence Rates'!M177","v":109.72551531914893},{"$f":"'Population 2016'!N177*'Prevalence Rates'!N177","v":227.05579861702125},{"$f":"'Population 2016'!O177*'Prevalence Rates'!O177","v":65.977465638297872},{"$f":"'Population 2016'!P177*'Prevalence Rates'!P177","v":52.627675531914889},{"$f":"'Population 2016'!Q177*'Prevalence Rates'!Q177","v":188.76568319148939},{"$f":"'Population 2016'!R177*'Prevalence Rates'!R177","v":28.852127127659575},{"$f":"'Population 2016'!S177*'Prevalence Rates'!S177","v":720.22807172484977},{"$f":"'Population 2016'!T177*'Prevalence Rates'!T177","v":193.47151659574465},{"$f":"'Population 2016'!U177*'Prevalence Rates'!U177","v":5.5621999999999998},{"$f":"'Population 2016'!V177*'Prevalence Rates'!V177","v":77.03014468085108},{"$f":"'Population 2016'!W177*'Prevalence Rates'!W177","v":244.37850127659573},{"$f":"'Population 2016'!X177*'Prevalence Rates'!X177","v":244.37850127659573},{"$f":"'Population 2016'!Y177*'Prevalence Rates'!Y177","v":209.82971010638298},{"$f":"'Population 2016'!Z177*'Prevalence Rates'!Z177","v":322.53679723404252},{"$f":"'Population 2016'!AA177*'Prevalence Rates'!AA177","v":472.82341456225504},{"$f":"'Population 2016'!AB177*'Prevalence Rates'!AB177","v":635.25180212765963},{"$f":"'Population 2016'!AC177*'Prevalence Rates'!AC177","v":703.15104255319136},{"$f":"'Population 2016'!AD177*'Prevalence Rates'!AD177","v":354.7791934042553},{"$f":"'Population 2016'!AE177*'Prevalence Rates'!AE177","v":272.59656617021272},{"$f":"'Population 2016'!AF177*'Prevalence Rates'!AF177","v":62.335000000000001},{"$f":"'Population 2016'!AG177*'Prevalence Rates'!AG177","v":145.63359805735431},{"$f":"'Population 2016'!AH177*'Prevalence Rates'!AH177","v":575.40163234042552},{"$f":"'Population 2016'!AI177*'Prevalence Rates'!AI177","v":551.83155478723404},{"$f":"'Population 2016'!AJ177*'Prevalence Rates'!AJ177","v":55.046599999999998},{"$f":"'Population 2016'!AK177*'Prevalence Rates'!AK177","v":182.09012500000003},{"$f":"'Population 2016'!AL177*'Prevalence Rates'!AL177","v":86.397432234042554},{"$f":"'Population 2016'!AM177*'Prevalence Rates'!AM177","v":298.65218808510639},{"$f":"'Population 2016'!AN177*'Prevalence Rates'!AN177","v":37.784599999999998},{"$f":"'Population 2016'!AO177*'Prevalence Rates'!AO177","v":37.784599999999998},{"$f":"'Population 2016'!AP177*'Prevalence Rates'!AP177","v":217.90642851063828},{"$f":"'Population 2016'!AQ177*'Prevalence Rates'!AQ177","v":143.50088319148935},{"$f":"'Population 2016'!AR177*'Prevalence Rates'!AR177","v":4489.6544000000004},{"$f":"'Population 2016'!AS177*'Prevalence Rates'!AS177","v":171.48501329787237},{"$f":"'Population 2016'!AT177*'Prevalence Rates'!AT177","v":69.623400000000004},{"$f":"'Population 2016'!AU177*'Prevalence Rates'!AU177","v":69.623400000000004},{"$f":"'Population 2016'!AV177*'Prevalence Rates'!AV177","v":58.92850957446808},{"$f":"'Population 2016'!AW177*'Prevalence Rates'!AW177","v":261.3885087234043},{"$f":"'Population 2016'!AX177*'Prevalence Rates'!AX177","v":134.45179999999999},{"$f":"'Population 2016'!AY177*'Prevalence Rates'!AY177","v":455.79426244167473},{"$f":"'Population 2016'!AZ177*'Prevalence Rates'!AZ177","v":504.32708170212766},{"$f":"'Population 2016'!BA177*'Prevalence Rates'!BA177","v":54.989978191489357},{"$f":"'Population 2016'!BB177*'Prevalence Rates'!BB177","v":139.58795914893616},{"$f":"'Population 2016'!BC177*'Prevalence Rates'!BC177","v":5.5621999999999998},175]
[null,"Female 20-24",{"$f":"'Population 2016'!C178*'Prevalence Rates'!C178","v":437.15627319148939},{"$f":"'Population 2016'!D178*'Prevalence Rates'!D178","v":437.49113285585508},{"$f":"'Population 2016'!E178*'Prevalence Rates'!E178","v":315.28247234042561},{"$f":"'Population 2016'!F178*'Prevalence Rates'!F178","v":63.581904042553191},{"$f":"'Population 2016'!G178*'Prevalence Rates'!G178","v":88.419799999999995},{"$f":"'Population 2016'!H178*'Prevalence Rates'!H178","v":255.81008734042558},{"$f":"'Population 2016'!I178*'Prevalence Rates'!I178","v":164.62561276595747},{"$f":"'Population 2016'!J178*'Prevalence Rates'!J178","v":240.5172},{"$f":"'Population 2016'!K178*'Prevalence Rates'!K178","v":36.633800000000001},{"$f":"'Population 2016'!L178*'Prevalence Rates'!L178","v":142.34661446808511},{"$f":"'Population 2016'!M178*'Prevalence Rates'!M178","v":142.34661446808511},{"$f":"'Population 2016'!N178*'Prevalence Rates'!N178","v":495.98357765957439},{"$f":"'Population 2016'!O178*'Prevalence Rates'!O178","v":87.121579255319148},{"$f":"'Population 2016'!P178*'Prevalence Rates'!P178","v":79.95917553191488},{"$f":"'Population 2016'!Q178*'Prevalence Rates'!Q178","v":239.73673723404261},{"$f":"'Population 2016'!R178*'Prevalence Rates'!R178","v":29.683600531914895},{"$f":"'Population 2016'!S178*'Prevalence Rates'!S178","v":1114.060138996683},{"$f":"'Population 2016'!T178*'Prevalence Rates'!T178","v":503.49213957446801},{"$f":"'Population 2016'!U178*'Prevalence Rates'!U178","v":9.59},{"$f":"'Population 2016'!V178*'Prevalence Rates'!V178","v":102.49465531914896},{"$f":"'Population 2016'!W178*'Prevalence Rates'!W178","v":315.95213999999999},{"$f":"'Population 2016'!X178*'Prevalence Rates'!X178","v":315.95213999999999},{"$f":"'Population 2016'!Y178*'Prevalence Rates'!Y178","v":290.93560478723401},{"$f":"'Population 2016'!Z178*'Prevalence Rates'!Z178","v":1148.8918960638298},{"$f":"'Population 2016'!AA178*'Prevalence Rates'!AA178","v":825.96718772719805},{"$f":"'Population 2016'!AB178*'Prevalence Rates'!AB178","v":941.61557446808513},{"$f":"'Population 2016'!AC178*'Prevalence Rates'!AC178","v":1570.6277553191487},{"$f":"'Population 2016'!AD178*'Prevalence Rates'!AD178","v":388.1422932978723},{"$f":"'Population 2016'!AE178*'Prevalence Rates'!AE178","v":300.52285021276595},{"$f":"'Population 2016'!AF178*'Prevalence Rates'!AF178","v":76.144599999999997},{"$f":"'Population 2016'!AG178*'Prevalence Rates'!AG178","v":160.55310083256245},{"$f":"'Population 2016'!AH178*'Prevalence Rates'!AH178","v":647.85795914893617},{"$f":"'Population 2016'!AI178*'Prevalence Rates'!AI178","v":997.8300120212765},{"$f":"'Population 2016'!AJ178*'Prevalence Rates'!AJ178","v":63.677599999999998},{"$f":"'Population 2016'!AK178*'Prevalence Rates'!AK178","v":188.90382000000002},{"$f":"'Population 2016'!AL178*'Prevalence Rates'!AL178","v":100.2660005319149},{"$f":"'Population 2016'!AM178*'Prevalence Rates'!AM178","v":335.5879710638298},{"$f":"'Population 2016'!AN178*'Prevalence Rates'!AN178","v":44.689399999999999},{"$f":"'Population 2016'!AO178*'Prevalence Rates'!AO178","v":44.689399999999999},{"$f":"'Population 2016'!AP178*'Prevalence Rates'!AP178","v":222.55870074468083},{"$f":"'Population 2016'!AQ178*'Prevalence Rates'!AQ178","v":180.54052382978719},{"$f":"'Population 2016'!AR178*'Prevalence Rates'!AR178","v":6680.9694},{"$f":"'Population 2016'!AS178*'Prevalence Rates'!AS178","v":164.62561276595747},{"$f":"'Population 2016'!AT178*'Prevalence Rates'!AT178","v":69.623400000000004},{"$f":"'Population 2016'!AU178*'Prevalence Rates'!AU178","v":69.623400000000004},{"$f":"'Population 2016'!AV178*'Prevalence Rates'!AV178","v":67.717846595744675},{"$f":"'Population 2016'!AW178*'Prevalence Rates'!AW178","v":294.76497340425533},{"$f":"'Population 2016'!AX178*'Prevalence Rates'!AX178","v":203.88339999999999},{"$f":"'Population 2016'!AY178*'Prevalence Rates'!AY178","v":623.87386449850158},{"$f":"'Population 2016'!AZ178*'Prevalence Rates'!AZ178","v":706.43633170212763},{"$f":"'Population 2016'!BA178*'Prevalence Rates'!BA178","v":70.591785957446803},{"$f":"'Population 2016'!BB178*'Prevalence Rates'!BB178","v":170.35512765957446},{"$f":"'Population 2016'!BC178*'Prevalence Rates'!BC178","v":9.59},176]
[null,"Female 25-29",{"$f":"'Population 2016'!C179*'Prevalence Rates'!C179","v":347.70766978723407},{"$f":"'Population 2016'!D179*'Prevalence Rates'!D179","v":400.24389370718205},{"$f":"'Population 2016'!E179*'Prevalence Rates'!E179","v":332.80077446808514},{"$f":"'Population 2016'!F179*'Prevalence Rates'!F179","v":61.763354042553182},{"$f":"'Population 2016'!G179*'Prevalence Rates'!G179","v":76.003200000000007},{"$f":"'Population 2016'!H179*'Prevalence Rates'!H179","v":227.71714978723409},{"$f":"'Population 2016'!I179*'Prevalence Rates'!I179","v":151.4957821276596},{"$f":"'Population 2016'!J179*'Prevalence Rates'!J179","v":184.7664},{"$f":"'Population 2016'!K179*'Prevalence Rates'!K179","v":32.76},{"$f":"'Population 2016'!L179*'Prevalence Rates'!L179","v":135.1476459574468},{"$f":"'Population 2016'!M179*'Prevalence Rates'!M179","v":135.1476459574468},{"$f":"'Population 2016'!N179*'Prevalence Rates'!N179","v":242.77390468085105},{"$f":"'Population 2016'!O179*'Prevalence Rates'!O179","v":78.726362553191493},{"$f":"'Population 2016'!P179*'Prevalence Rates'!P179","v":61.865617021276591},{"$f":"'Population 2016'!Q179*'Prevalence Rates'!Q179","v":163.79093872340431},{"$f":"'Population 2016'!R179*'Prevalence Rates'!R179","v":31.000519148936171},{"$f":"'Population 2016'!S179*'Prevalence Rates'!S179","v":1244.6933296044022},{"$f":"'Population 2016'!T179*'Prevalence Rates'!T179","v":683.37638808510644},{"$f":"'Population 2016'!U179*'Prevalence Rates'!U179","v":7.6752000000000002},{"$f":"'Population 2016'!V179*'Prevalence Rates'!V179","v":96.432694468085117},{"$f":"'Population 2016'!W179*'Prevalence Rates'!W179","v":304.90100425531915},{"$f":"'Population 2016'!X179*'Prevalence Rates'!X179","v":304.90100425531915},{"$f":"'Population 2016'!Y179*'Prevalence Rates'!Y179","v":243.13645531914892},{"$f":"'Population 2016'!Z179*'Prevalence Rates'!Z179","v":930.32186553191491},{"$f":"'Population 2016'!AA179*'Prevalence Rates'!AA179","v":718.43253257439176},{"$f":"'Population 2016'!AB179*'Prevalence Rates'!AB179","v":884.48614468085111},{"$f":"'Population 2016'!AC179*'Prevalence Rates'!AC179","v":1310.6788085106382},{"$f":"'Population 2016'!AD179*'Prevalence Rates'!AD179","v":405.16841106382981},{"$f":"'Population 2016'!AE179*'Prevalence Rates'!AE179","v":329.01256340425533},{"$f":"'Population 2016'!AF179*'Prevalence Rates'!AF179","v":59.716799999999999},{"$f":"'Population 2016'!AG179*'Prevalence Rates'!AG179","v":175.77361332099912},{"$f":"'Population 2016'!AH179*'Prevalence Rates'!AH179","v":621.40681531914902},{"$f":"'Population 2016'!AI179*'Prevalence Rates'!AI179","v":1186.1041787234042},{"$f":"'Population 2016'!AJ179*'Prevalence Rates'!AJ179","v":72.072000000000003},{"$f":"'Population 2016'!AK179*'Prevalence Rates'!AK179","v":204.78276000000002},{"$f":"'Population 2016'!AL179*'Prevalence Rates'!AL179","v":91.093312340425527},{"$f":"'Population 2016'!AM179*'Prevalence Rates'!AM179","v":317.75447489361699},{"$f":"'Population 2016'!AN179*'Prevalence Rates'!AN179","v":48.110399999999998},{"$f":"'Population 2016'!AO179*'Prevalence Rates'!AO179","v":48.110399999999998},{"$f":"'Population 2016'!AP179*'Prevalence Rates'!AP179","v":203.15949702127659},{"$f":"'Population 2016'!AQ179*'Prevalence Rates'!AQ179","v":162.35617021276596},{"$f":"'Population 2016'!AR179*'Prevalence Rates'!AR179","v":6258.6576000000005},{"$f":"'Population 2016'!AS179*'Prevalence Rates'!AS179","v":151.4957821276596},{"$f":"'Population 2016'!AT179*'Prevalence Rates'!AT179","v":86.299199999999999},{"$f":"'Population 2016'!AU179*'Prevalence Rates'!AU179","v":86.299199999999999},{"$f":"'Population 2016'!AV179*'Prevalence Rates'!AV179","v":57.125274893617011},{"$f":"'Population 2016'!AW179*'Prevalence Rates'!AW179","v":285.57101106382981},{"$f":"'Population 2016'!AX179*'Prevalence Rates'!AX179","v":152.00640000000001},{"$f":"'Population 2016'!AY179*'Prevalence Rates'!AY179","v":490.54449378708762},{"$f":"'Population 2016'!AZ179*'Prevalence Rates'!AZ179","v":506.33378042553193},{"$f":"'Population 2016'!BA179*'Prevalence Rates'!BA179","v":71.145459574468077},{"$f":"'Population 2016'!BB179*'Prevalence Rates'!BB179","v":201.94180085106382},{"$f":"'Population 2016'!BC179*'Prevalence Rates'!BC179","v":7.6752000000000002},177]
[null,"Female 30-34",{"$f":"'Population 2016'!C180*'Prevalence Rates'!C180","v":275.21327489361704},{"$f":"'Population 2016'!D180*'Prevalence Rates'!D180","v":406.97747199969859},{"$f":"'Population 2016'!E180*'Prevalence Rates'!E180","v":404.94048510638305},{"$f":"'Population 2016'!F180*'Prevalence Rates'!F180","v":69.202363404255308},{"$f":"'Population 2016'!G180*'Prevalence Rates'!G180","v":79.747200000000007},{"$f":"'Population 2016'!H180*'Prevalence Rates'!H180","v":247.40342042553198},{"$f":"'Population 2016'!I180*'Prevalence Rates'!I180","v":175.97994893617022},{"$f":"'Population 2016'!J180*'Prevalence Rates'!J180","v":167.35679999999999},{"$f":"'Population 2016'!K180*'Prevalence Rates'!K180","v":43.992000000000004},{"$f":"'Population 2016'!L180*'Prevalence Rates'!L180","v":138.93267063829785},{"$f":"'Population 2016'!M180*'Prevalence Rates'!M180","v":138.93267063829785},{"$f":"'Population 2016'!N180*'Prevalence Rates'!N180","v":189.98639234042551},{"$f":"'Population 2016'!O180*'Prevalence Rates'!O180","v":88.089449361702137},{"$f":"'Population 2016'!P180*'Prevalence Rates'!P180","v":66.264319148936167},{"$f":"'Population 2016'!Q180*'Prevalence Rates'!Q180","v":181.91966553191494},{"$f":"'Population 2016'!R180*'Prevalence Rates'!R180","v":27.673238297872341},{"$f":"'Population 2016'!S180*'Prevalence Rates'!S180","v":1223.3755247728132},{"$f":"'Population 2016'!T180*'Prevalence Rates'!T180","v":576.44774808510635},{"$f":"'Population 2016'!U180*'Prevalence Rates'!U180","v":11.4192},{"$f":"'Population 2016'!V180*'Prevalence Rates'!V180","v":109.60520170212767},{"$f":"'Population 2016'!W180*'Prevalence Rates'!W180","v":321.49688170212767},{"$f":"'Population 2016'!X180*'Prevalence Rates'!X180","v":321.49688170212767},{"$f":"'Population 2016'!Y180*'Prevalence Rates'!Y180","v":244.92929361702127},{"$f":"'Population 2016'!Z180*'Prevalence Rates'!Z180","v":741.80449531914894},{"$f":"'Population 2016'!AA180*'Prevalence Rates'!AA180","v":692.65881472997853},{"$f":"'Population 2016'!AB180*'Prevalence Rates'!AB180","v":916.88369361702132},{"$f":"'Population 2016'!AC180*'Prevalence Rates'!AC180","v":1150.503319148936},{"$f":"'Population 2016'!AD180*'Prevalence Rates'!AD180","v":474.56484510638302},{"$f":"'Population 2016'!AE180*'Prevalence Rates'!AE180","v":394.07651234042555},{"$f":"'Population 2016'!AF180*'Prevalence Rates'!AF180","v":53.352000000000004},{"$f":"'Population 2016'!AG180*'Prevalence Rates'!AG180","v":210.53376133209994},{"$f":"'Population 2016'!AH180*'Prevalence Rates'!AH180","v":717.22613106382983},{"$f":"'Population 2016'!AI180*'Prevalence Rates'!AI180","v":1122.459564255319},{"$f":"'Population 2016'!AJ180*'Prevalence Rates'!AJ180","v":90.043199999999999},{"$f":"'Population 2016'!AK180*'Prevalence Rates'!AK180","v":232.53048000000001},{"$f":"'Population 2016'!AL180*'Prevalence Rates'!AL180","v":85.788681702127661},{"$f":"'Population 2016'!AM180*'Prevalence Rates'!AM180","v":351.48691914893612},{"$f":"'Population 2016'!AN180*'Prevalence Rates'!AN180","v":54.288000000000004},{"$f":"'Population 2016'!AO180*'Prevalence Rates'!AO180","v":54.288000000000004},{"$f":"'Population 2016'!AP180*'Prevalence Rates'!AP180","v":244.75812510638298},{"$f":"'Population 2016'!AQ180*'Prevalence Rates'!AQ180","v":185.95193361702127},{"$f":"'Population 2016'!AR180*'Prevalence Rates'!AR180","v":6334.4736000000003},{"$f":"'Population 2016'!AS180*'Prevalence Rates'!AS180","v":175.97994893617022},{"$f":"'Population 2016'!AT180*'Prevalence Rates'!AT180","v":81.806399999999996},{"$f":"'Population 2016'!AU180*'Prevalence Rates'!AU180","v":81.806399999999996},{"$f":"'Population 2016'!AV180*'Prevalence Rates'!AV180","v":73.502486808510625},{"$f":"'Population 2016'!AW180*'Prevalence Rates'!AW180","v":340.10037957446815},{"$f":"'Population 2016'!AX180*'Prevalence Rates'!AX180","v":123.3648},{"$f":"'Population 2016'!AY180*'Prevalence Rates'!AY180","v":514.98633214157917},{"$f":"'Population 2016'!AZ180*'Prevalence Rates'!AZ180","v":530.34098553191495},{"$f":"'Population 2016'!BA180*'Prevalence Rates'!BA180","v":70.895826382978726},{"$f":"'Population 2016'!BB180*'Prevalence Rates'!BB180","v":241.44339063829784},{"$f":"'Population 2016'!BC180*'Prevalence Rates'!BC180","v":11.4192},178]
[null,"Female 35-39",{"$f":"'Population 2016'!C181*'Prevalence Rates'!C181","v":178.9942424468085},{"$f":"'Population 2016'!D181*'Prevalence Rates'!D181","v":321.58078370323176},{"$f":"'Population 2016'!E181*'Prevalence Rates'!E181","v":352.64584840425539},{"$f":"'Population 2016'!F181*'Prevalence Rates'!F181","v":62.515715053191485},{"$f":"'Population 2016'!G181*'Prevalence Rates'!G181","v":81.64070000000001},{"$f":"'Population 2016'!H181*'Prevalence Rates'!H181","v":227.37628430851072},{"$f":"'Population 2016'!I181*'Prevalence Rates'!I181","v":151.47105436170213},{"$f":"'Population 2016'!J181*'Prevalence Rates'!J181","v":153.566},{"$f":"'Population 2016'!K181*'Prevalence Rates'!K181","v":38.2348},{"$f":"'Population 2016'!L181*'Prevalence Rates'!L181","v":112.75565212765957},{"$f":"'Population 2016'!M181*'Prevalence Rates'!M181","v":112.75565212765957},{"$f":"'Population 2016'!N181*'Prevalence Rates'!N181","v":134.39358829787236},{"$f":"'Population 2016'!O181*'Prevalence Rates'!O181","v":86.853225478723417},{"$f":"'Population 2016'!P181*'Prevalence Rates'!P181","v":59.625183510638287},{"$f":"'Population 2016'!Q181*'Prevalence Rates'!Q181","v":169.04312563829791},{"$f":"'Population 2016'!R181*'Prevalence Rates'!R181","v":27.44417127659575},{"$f":"'Population 2016'!S181*'Prevalence Rates'!S181","v":938.40034535134544},{"$f":"'Population 2016'!T181*'Prevalence Rates'!T181","v":360.40866638297871},{"$f":"'Population 2016'!U181*'Prevalence Rates'!U181","v":7.2082000000000006},{"$f":"'Population 2016'!V181*'Prevalence Rates'!V181","v":97.884822127659589},{"$f":"'Population 2016'!W181*'Prevalence Rates'!W181","v":288.82343872340425},{"$f":"'Population 2016'!X181*'Prevalence Rates'!X181","v":288.82343872340425},{"$f":"'Population 2016'!Y181*'Prevalence Rates'!Y181","v":221.76259015957447},{"$f":"'Population 2016'!Z181*'Prevalence Rates'!Z181","v":456.48718760638303},{"$f":"'Population 2016'!AA181*'Prevalence Rates'!AA181","v":570.56897131437415},{"$f":"'Population 2016'!AB181*'Prevalence Rates'!AB181","v":728.75668829787242},{"$f":"'Population 2016'!AC181*'Prevalence Rates'!AC181","v":844.90472872340411},{"$f":"'Population 2016'!AD181*'Prevalence Rates'!AD181","v":397.69209734042551},{"$f":"'Population 2016'!AE181*'Prevalence Rates'!AE181","v":316.32845627659577},{"$f":"'Population 2016'!AF181*'Prevalence Rates'!AF181","v":63.150100000000002},{"$f":"'Population 2016'!AG181*'Prevalence Rates'!AG181","v":168.9971810823312},{"$f":"'Population 2016'!AH181*'Prevalence Rates'!AH181","v":698.11783744680861},{"$f":"'Population 2016'!AI181*'Prevalence Rates'!AI181","v":809.09877872340417},{"$f":"'Population 2016'!AJ181*'Prevalence Rates'!AJ181","v":77.096400000000003},{"$f":"'Population 2016'!AK181*'Prevalence Rates'!AK181","v":189.65401000000003},{"$f":"'Population 2016'!AL181*'Prevalence Rates'!AL181","v":78.395342978723406},{"$f":"'Population 2016'!AM181*'Prevalence Rates'!AM181","v":328.49187702127659},{"$f":"'Population 2016'!AN181*'Prevalence Rates'!AN181","v":49.360500000000002},{"$f":"'Population 2016'!AO181*'Prevalence Rates'!AO181","v":49.360500000000002},{"$f":"'Population 2016'!AP181*'Prevalence Rates'!AP181","v":193.72287553191489},{"$f":"'Population 2016'!AQ181*'Prevalence Rates'!AQ181","v":154.56804648936171},{"$f":"'Population 2016'!AR181*'Prevalence Rates'!AR181","v":5139.76},{"$f":"'Population 2016'!AS181*'Prevalence Rates'!AS181","v":151.47105436170213},{"$f":"'Population 2016'!AT181*'Prevalence Rates'!AT181","v":74.589200000000005},{"$f":"'Population 2016'!AU181*'Prevalence Rates'!AU181","v":74.589200000000005},{"$f":"'Population 2016'!AV181*'Prevalence Rates'!AV181","v":62.016525531914887},{"$f":"'Population 2016'!AW181*'Prevalence Rates'!AW181","v":340.41124585106388},{"$f":"'Population 2016'!AX181*'Prevalence Rates'!AX181","v":115.33120000000001},{"$f":"'Population 2016'!AY181*'Prevalence Rates'!AY181","v":428.04330450311198},{"$f":"'Population 2016'!AZ181*'Prevalence Rates'!AZ181","v":422.01127053191493},{"$f":"'Population 2016'!BA181*'Prevalence Rates'!BA181","v":55.165734893617021},{"$f":"'Population 2016'!BB181*'Prevalence Rates'!BB181","v":202.78046893617019},{"$f":"'Population 2016'!BC181*'Prevalence Rates'!BC181","v":7.2082000000000006},179]
[null,"Female 40-44",{"$f":"'Population 2016'!C182*'Prevalence Rates'!C182","v":143.30648425531913},{"$f":"'Population 2016'!D182*'Prevalence Rates'!D182","v":321.5056304469328},{"$f":"'Population 2016'!E182*'Prevalence Rates'!E182","v":382.8389377659575},{"$f":"'Population 2016'!F182*'Prevalence Rates'!F182","v":67.513694893617014},{"$f":"'Population 2016'!G182*'Prevalence Rates'!G182","v":100.6014},{"$f":"'Population 2016'!H182*'Prevalence Rates'!H182","v":279.66490718085117},{"$f":"'Population 2016'!I182*'Prevalence Rates'!I182","v":199.82650723404257},{"$f":"'Population 2016'!J182*'Prevalence Rates'!J182","v":187.25650000000002},{"$f":"'Population 2016'!K182*'Prevalence Rates'!K182","v":50.770800000000001},{"$f":"'Population 2016'!L182*'Prevalence Rates'!L182","v":139.59336106382978},{"$f":"'Population 2016'!M182*'Prevalence Rates'!M182","v":139.59336106382978},{"$f":"'Population 2016'!N182*'Prevalence Rates'!N182","v":131.74644186170212},{"$f":"'Population 2016'!O182*'Prevalence Rates'!O182","v":89.412436542553209},{"$f":"'Population 2016'!P182*'Prevalence Rates'!P182","v":70.908833776595742},{"$f":"'Population 2016'!Q182*'Prevalence Rates'!Q182","v":203.9810576595745},{"$f":"'Population 2016'!R182*'Prevalence Rates'!R182","v":31.452107180851069},{"$f":"'Population 2016'!S182*'Prevalence Rates'!S182","v":980.55809797112295},{"$f":"'Population 2016'!T182*'Prevalence Rates'!T182","v":307.44239936170209},{"$f":"'Population 2016'!U182*'Prevalence Rates'!U182","v":8.1484000000000005},{"$f":"'Population 2016'!V182*'Prevalence Rates'!V182","v":120.35360170212768},{"$f":"'Population 2016'!W182*'Prevalence Rates'!W182","v":333.08385382978719},{"$f":"'Population 2016'!X182*'Prevalence Rates'!X182","v":333.08385382978719},{"$f":"'Population 2016'!Y182*'Prevalence Rates'!Y182","v":271.5177574468085},{"$f":"'Population 2016'!Z182*'Prevalence Rates'!Z182","v":384.62040005319153},{"$f":"'Population 2016'!AA182*'Prevalence Rates'!AA182","v":597.09171951839573},{"$f":"'Population 2016'!AB182*'Prevalence Rates'!AB182","v":765.83790957446809},{"$f":"'Population 2016'!AC182*'Prevalence Rates'!AC182","v":857.33237234042542},{"$f":"'Population 2016'!AD182*'Prevalence Rates'!AD182","v":475.59208494680848},{"$f":"'Population 2016'!AE182*'Prevalence Rates'!AE182","v":375.50204372340426},{"$f":"'Population 2016'!AF182*'Prevalence Rates'!AF182","v":73.022199999999998},{"$f":"'Population 2016'!AG182*'Prevalence Rates'!AG182","v":200.61042761332104},{"$f":"'Population 2016'!AH182*'Prevalence Rates'!AH182","v":758.59336851063836},{"$f":"'Population 2016'!AI182*'Prevalence Rates'!AI182","v":780.89427904255319},{"$f":"'Population 2016'!AJ182*'Prevalence Rates'!AJ182","v":73.962400000000002},{"$f":"'Population 2016'!AK182*'Prevalence Rates'!AK182","v":241.29057750000004},{"$f":"'Population 2016'!AL182*'Prevalence Rates'!AL182","v":101.20961271276596},{"$f":"'Population 2016'!AM182*'Prevalence Rates'!AM182","v":370.09222627659574},{"$f":"'Population 2016'!AN182*'Prevalence Rates'!AN182","v":52.964600000000004},{"$f":"'Population 2016'!AO182*'Prevalence Rates'!AO182","v":52.964600000000004},{"$f":"'Population 2016'!AP182*'Prevalence Rates'!AP182","v":245.09622037234044},{"$f":"'Population 2016'!AQ182*'Prevalence Rates'!AQ182","v":184.28570138297871},{"$f":"'Population 2016'!AR182*'Prevalence Rates'!AR182","v":5610.6435000000001},{"$f":"'Population 2016'!AS182*'Prevalence Rates'!AS182","v":199.82650723404257},{"$f":"'Population 2016'!AT182*'Prevalence Rates'!AT182","v":79.760300000000001},{"$f":"'Population 2016'!AU182*'Prevalence Rates'!AU182","v":79.760300000000001},{"$f":"'Population 2016'!AV182*'Prevalence Rates'!AV182","v":88.944753723404247},{"$f":"'Population 2016'!AW182*'Prevalence Rates'!AW182","v":360.86259627659581},{"$f":"'Population 2016'!AX182*'Prevalence Rates'!AX182","v":136.48570000000001},{"$f":"'Population 2016'!AY182*'Prevalence Rates'!AY182","v":494.24662085393771},{"$f":"'Population 2016'!AZ182*'Prevalence Rates'!AZ182","v":487.63873085106388},{"$f":"'Population 2016'!BA182*'Prevalence Rates'!BA182","v":69.375090851063831},{"$f":"'Population 2016'!BB182*'Prevalence Rates'!BB182","v":214.42094510638296},{"$f":"'Population 2016'!BC182*'Prevalence Rates'!BC182","v":8.1484000000000005},180]
[null,"Female 45-49",{"$f":"'Population 2016'!C183*'Prevalence Rates'!C183","v":140.43139361702126},{"$f":"'Population 2016'!D183*'Prevalence Rates'!D183","v":352.47788443437878},{"$f":"'Population 2016'!E183*'Prevalence Rates'!E183","v":433.88717021276597},{"$f":"'Population 2016'!F183*'Prevalence Rates'!F183","v":85.126492819148922},{"$f":"'Population 2016'!G183*'Prevalence Rates'!G183","v":127.22449999999999},{"$f":"'Population 2016'!H183*'Prevalence Rates'!H183","v":321.53847686170218},{"$f":"'Population 2016'!I183*'Prevalence Rates'!I183","v":253.1239369680851},{"$f":"'Population 2016'!J183*'Prevalence Rates'!J183","v":210.04749999999999},{"$f":"'Population 2016'!K183*'Prevalence Rates'!K183","v":59.9495},{"$f":"'Population 2016'!L183*'Prevalence Rates'!L183","v":182.2548138297872},{"$f":"'Population 2016'!M183*'Prevalence Rates'!M183","v":182.2548138297872},{"$f":"'Population 2016'!N183*'Prevalence Rates'!N183","v":145.50858856382976},{"$f":"'Population 2016'!O183*'Prevalence Rates'!O183","v":102.39549228723403},{"$f":"'Population 2016'!P183*'Prevalence Rates'!P183","v":86.348178191489353},{"$f":"'Population 2016'!Q183*'Prevalence Rates'!Q183","v":234.17004069148939},{"$f":"'Population 2016'!R183*'Prevalence Rates'!R183","v":36.552749999999996},{"$f":"'Population 2016'!S183*'Prevalence Rates'!S183","v":1063.8269297402808},{"$f":"'Population 2016'!T183*'Prevalence Rates'!T183","v":277.07757446808506},{"$f":"'Population 2016'!U183*'Prevalence Rates'!U183","v":7.774},{"$f":"'Population 2016'!V183*'Prevalence Rates'!V183","v":129.41228936170214},{"$f":"'Population 2016'!W183*'Prevalence Rates'!W183","v":394.21909468085101},{"$f":"'Population 2016'!X183*'Prevalence Rates'!X183","v":394.21909468085101},{"$f":"'Population 2016'!Y183*'Prevalence Rates'!Y183","v":298.36104654255314},{"$f":"'Population 2016'!Z183*'Prevalence Rates'!Z183","v":409.21139999999997},{"$f":"'Population 2016'!AA183*'Prevalence Rates'!AA183","v":678.48950973001411},{"$f":"'Population 2016'!AB183*'Prevalence Rates'!AB183","v":838.49778723404245},{"$f":"'Population 2016'!AC183*'Prevalence Rates'!AC183","v":1001.3001063829786},{"$f":"'Population 2016'!AD183*'Prevalence Rates'!AD183","v":542.98137579787226},{"$f":"'Population 2016'!AE183*'Prevalence Rates'!AE183","v":417.09068617021273},{"$f":"'Population 2016'!AF183*'Prevalence Rates'!AF183","v":92.540499999999994},{"$f":"'Population 2016'!AG183*'Prevalence Rates'!AG183","v":222.82898936170216},{"$f":"'Population 2016'!AH183*'Prevalence Rates'!AH183","v":833.72778297872344},{"$f":"'Population 2016'!AI183*'Prevalence Rates'!AI183","v":785.92046622340422},{"$f":"'Population 2016'!AJ183*'Prevalence Rates'!AJ183","v":82.524000000000001},{"$f":"'Population 2016'!AK183*'Prevalence Rates'!AK183","v":262.98545000000001},{"$f":"'Population 2016'!AL183*'Prevalence Rates'!AL183","v":123.87633617021275},{"$f":"'Population 2016'!AM183*'Prevalence Rates'!AM183","v":426.91283617021276},{"$f":"'Population 2016'!AN183*'Prevalence Rates'!AN183","v":59.052499999999995},{"$f":"'Population 2016'!AO183*'Prevalence Rates'!AO183","v":59.052499999999995},{"$f":"'Population 2016'!AP183*'Prevalence Rates'!AP183","v":297.93735718085105},{"$f":"'Population 2016'!AQ183*'Prevalence Rates'!AQ183","v":226.99046223404252},{"$f":"'Population 2016'!AR183*'Prevalence Rates'!AR183","v":6307.2554999999993},{"$f":"'Population 2016'!AS183*'Prevalence Rates'!AS183","v":253.1239369680851},{"$f":"'Population 2016'!AT183*'Prevalence Rates'!AT183","v":81.626999999999995},{"$f":"'Population 2016'!AU183*'Prevalence Rates'!AU183","v":81.626999999999995},{"$f":"'Population 2016'!AV183*'Prevalence Rates'!AV183","v":94.667217021276571},{"$f":"'Population 2016'!AW183*'Prevalence Rates'!AW183","v":382.73956223404258},{"$f":"'Population 2016'!AX183*'Prevalence Rates'!AX183","v":150.09799999999998},{"$f":"'Population 2016'!AY183*'Prevalence Rates'!AY183","v":591.80809148932519},{"$f":"'Population 2016'!AZ183*'Prevalence Rates'!AZ183","v":587.90954521276592},{"$f":"'Population 2016'!BA183*'Prevalence Rates'!BA183","v":96.091443085106377},{"$f":"'Population 2016'!BB183*'Prevalence Rates'!BB183","v":225.3314893617021},{"$f":"'Population 2016'!BC183*'Prevalence Rates'!BC183","v":7.774},181]
[null,"Female 50-54",{"$f":"'Population 2016'!C184*'Prevalence Rates'!C184","v":148.3803404255319},{"$f":"'Population 2016'!D184*'Prevalence Rates'!D184","v":362.73100434367819},{"$f":"'Population 2016'!E184*'Prevalence Rates'!E184","v":443.22654654255319},{"$f":"'Population 2016'!F184*'Prevalence Rates'!F184","v":96.77373563829785},{"$f":"'Population 2016'!G184*'Prevalence Rates'!G184","v":135.74599999999998},{"$f":"'Population 2016'!H184*'Prevalence Rates'!H184","v":346.632688031915},{"$f":"'Population 2016'!I184*'Prevalence Rates'!I184","v":275.42695132978724},{"$f":"'Population 2016'!J184*'Prevalence Rates'!J184","v":221.40949999999998},{"$f":"'Population 2016'!K184*'Prevalence Rates'!K184","v":53.969499999999996},{"$f":"'Population 2016'!L184*'Prevalence Rates'!L184","v":201.81386702127656},{"$f":"'Population 2016'!M184*'Prevalence Rates'!M184","v":201.81386702127656},{"$f":"'Population 2016'!N184*'Prevalence Rates'!N184","v":162.02157925531912},{"$f":"'Population 2016'!O184*'Prevalence Rates'!O184","v":105.60012021276596},{"$f":"'Population 2016'!P184*'Prevalence Rates'!P184","v":96.660099734042547},{"$f":"'Population 2016'!Q184*'Prevalence Rates'!Q184","v":228.27791170212768},{"$f":"'Population 2016'!R184*'Prevalence Rates'!R184","v":36.68236968085106},{"$f":"'Population 2016'!S184*'Prevalence Rates'!S184","v":1098.7274331364413},{"$f":"'Population 2016'!T184*'Prevalence Rates'!T184","v":301.15152765957441},{"$f":"'Population 2016'!U184*'Prevalence Rates'!U184","v":9.8669999999999991},{"$f":"'Population 2016'!V184*'Prevalence Rates'!V184","v":120.87742978723405},{"$f":"'Population 2016'!W184*'Prevalence Rates'!W184","v":412.09611382978716},{"$f":"'Population 2016'!X184*'Prevalence Rates'!X184","v":412.09611382978716},{"$f":"'Population 2016'!Y184*'Prevalence Rates'!Y184","v":297.25967686170208},{"$f":"'Population 2016'!Z184*'Prevalence Rates'!Z184","v":431.8849039893617},{"$f":"'Population 2016'!AA184*'Prevalence Rates'!AA184","v":707.57032923973361},{"$f":"'Population 2016'!AB184*'Prevalence Rates'!AB184","v":864.63484042553182},{"$f":"'Population 2016'!AC184*'Prevalence Rates'!AC184","v":1073.9427925531913},{"$f":"'Population 2016'!AD184*'Prevalence Rates'!AD184","v":586.89167287234034},{"$f":"'Population 2016'!AE184*'Prevalence Rates'!AE184","v":452.48019893617021},{"$f":"'Population 2016'!AF184*'Prevalence Rates'!AF184","v":103.155},{"$f":"'Population 2016'!AG184*'Prevalence Rates'!AG184","v":241.73569148936173},{"$f":"'Population 2016'!AH184*'Prevalence Rates'!AH184","v":838.43417021276605},{"$f":"'Population 2016'!AI184*'Prevalence Rates'!AI184","v":794.88998909574457},{"$f":"'Population 2016'!AJ184*'Prevalence Rates'!AJ184","v":80.580500000000001},{"$f":"'Population 2016'!AK184*'Prevalence Rates'!AK184","v":273.05801250000002},{"$f":"'Population 2016'!AL184*'Prevalence Rates'!AL184","v":144.03545691489362},{"$f":"'Population 2016'!AM184*'Prevalence Rates'!AM184","v":424.23948989361696},{"$f":"'Population 2016'!AN184*'Prevalence Rates'!AN184","v":61.444499999999998},{"$f":"'Population 2016'!AO184*'Prevalence Rates'!AO184","v":61.444499999999998},{"$f":"'Population 2016'!AP184*'Prevalence Rates'!AP184","v":302.26546170212765},{"$f":"'Population 2016'!AQ184*'Prevalence Rates'!AQ184","v":242.20383670212763},{"$f":"'Population 2016'!AR184*'Prevalence Rates'!AR184","v":6589.2124999999996},{"$f":"'Population 2016'!AS184*'Prevalence Rates'!AS184","v":275.42695132978724},{"$f":"'Population 2016'!AT184*'Prevalence Rates'!AT184","v":84.915999999999997},{"$f":"'Population 2016'!AU184*'Prevalence Rates'!AU184","v":84.915999999999997},{"$f":"'Population 2016'!AV184*'Prevalence Rates'!AV184","v":95.757135638297854},{"$f":"'Population 2016'!AW184*'Prevalence Rates'!AW184","v":388.39511542553191},{"$f":"'Population 2016'!AX184*'Prevalence Rates'!AX184","v":167.44},{"$f":"'Population 2016'!AY184*'Prevalence Rates'!AY184","v":624.79523413751315},{"$f":"'Population 2016'!AZ184*'Prevalence Rates'!AZ184","v":624.24329361702132},{"$f":"'Population 2016'!BA184*'Prevalence Rates'!BA184","v":107.65431382978723},{"$f":"'Population 2016'!BB184*'Prevalence Rates'!BB184","v":209.55828510638295},{"$f":"'Population 2016'!BC184*'Prevalence Rates'!BC184","v":9.8669999999999991},182]
[null,"Female 55-59",{"$f":"'Population 2016'!C185*'Prevalence Rates'!C185","v":126.54058691489364},{"$f":"'Population 2016'!D185*'Prevalence Rates'!D185","v":292.09874157265955},{"$f":"'Population 2016'!E185*'Prevalence Rates'!E185","v":350.92918244680857},{"$f":"'Population 2016'!F185*'Prevalence Rates'!F185","v":78.983474840425529},{"$f":"'Population 2016'!G185*'Prevalence Rates'!G185","v":116.76960000000001},{"$f":"'Population 2016'!H185*'Prevalence Rates'!H185","v":305.62771356382984},{"$f":"'Population 2016'!I185*'Prevalence Rates'!I185","v":237.92882696808513},{"$f":"'Population 2016'!J185*'Prevalence Rates'!J185","v":169.09560000000002},{"$f":"'Population 2016'!K185*'Prevalence Rates'!K185","v":44.339400000000005},{"$f":"'Population 2016'!L185*'Prevalence Rates'!L185","v":186.53984617021277},{"$f":"'Population 2016'!M185*'Prevalence Rates'!M185","v":186.53984617021277},{"$f":"'Population 2016'!N185*'Prevalence Rates'!N185","v":150.48581122340428},{"$f":"'Population 2016'!O185*'Prevalence Rates'!O185","v":92.767318085106396},{"$f":"'Population 2016'!P185*'Prevalence Rates'!P185","v":95.397534574468082},{"$f":"'Population 2016'!Q185*'Prevalence Rates'!Q185","v":197.07997547872347},{"$f":"'Population 2016'!R185*'Prevalence Rates'!R185","v":31.160484574468089},{"$f":"'Population 2016'!S185*'Prevalence Rates'!S185","v":912.43151250782171},{"$f":"'Population 2016'!T185*'Prevalence Rates'!T185","v":248.82770872340427},{"$f":"'Population 2016'!U185*'Prevalence Rates'!U185","v":7.986600000000001},{"$f":"'Population 2016'!V185*'Prevalence Rates'!V185","v":97.533788936170239},{"$f":"'Population 2016'!W185*'Prevalence Rates'!W185","v":350.4700847872341},{"$f":"'Population 2016'!X185*'Prevalence Rates'!X185","v":350.4700847872341},{"$f":"'Population 2016'!Y185*'Prevalence Rates'!Y185","v":232.81371143617022},{"$f":"'Population 2016'!Z185*'Prevalence Rates'!Z185","v":349.67984792553193},{"$f":"'Population 2016'!AA185*'Prevalence Rates'!AA185","v":587.07736465767994},{"$f":"'Population 2016'!AB185*'Prevalence Rates'!AB185","v":702.16013297872348},{"$f":"'Population 2016'!AC185*'Prevalence Rates'!AC185","v":921.03721276595741},{"$f":"'Population 2016'!AD185*'Prevalence Rates'!AD185","v":492.27068824468091},{"$f":"'Population 2016'!AE185*'Prevalence Rates'!AE185","v":376.79685989361712},{"$f":"'Population 2016'!AF185*'Prevalence Rates'!AF185","v":81.380700000000004},{"$f":"'Population 2016'!AG185*'Prevalence Rates'!AG185","v":201.30217784458839},{"$f":"'Population 2016'!AH185*'Prevalence Rates'!AH185","v":664.36558468085127},{"$f":"'Population 2016'!AI185*'Prevalence Rates'!AI185","v":644.65207180851064},{"$f":"'Population 2016'!AJ185*'Prevalence Rates'!AJ185","v":63.617400000000011},{"$f":"'Population 2016'!AK185*'Prevalence Rates'!AK185","v":228.05874000000006},{"$f":"'Population 2016'!AL185*'Prevalence Rates'!AL185","v":119.61537558510641},{"$f":"'Population 2016'!AM185*'Prevalence Rates'!AM185","v":320.86180148936171},{"$f":"'Population 2016'!AN185*'Prevalence Rates'!AN185","v":54.94230000000001},{"$f":"'Population 2016'!AO185*'Prevalence Rates'!AO185","v":54.94230000000001},{"$f":"'Population 2016'!AP185*'Prevalence Rates'!AP185","v":249.74810138297875},{"$f":"'Population 2016'!AQ185*'Prevalence Rates'!AQ185","v":208.43722244680851},{"$f":"'Population 2016'!AR185*'Prevalence Rates'!AR185","v":5482.3878000000004},{"$f":"'Population 2016'!AS185*'Prevalence Rates'!AS185","v":237.92882696808513},{"$f":"'Population 2016'!AT185*'Prevalence Rates'!AT185","v":68.850000000000009},{"$f":"'Population 2016'!AU185*'Prevalence Rates'!AU185","v":68.850000000000009},{"$f":"'Population 2016'!AV185*'Prevalence Rates'!AV185","v":92.644852978723407},{"$f":"'Population 2016'!AW185*'Prevalence Rates'!AW185","v":318.27978000000007},{"$f":"'Population 2016'!AX185*'Prevalence Rates'!AX185","v":124.75620000000002},{"$f":"'Population 2016'!AY185*'Prevalence Rates'!AY185","v":527.98157811755118},{"$f":"'Population 2016'!AZ185*'Prevalence Rates'!AZ185","v":525.57570382978736},{"$f":"'Population 2016'!BA185*'Prevalence Rates'!BA185","v":102.64604792553192},{"$f":"'Population 2016'!BB185*'Prevalence Rates'!BB185","v":153.88062893617021},{"$f":"'Population 2016'!BC185*'Prevalence Rates'!BC185","v":7.986600000000001},183]
[null,"Female 60-64",{"$f":"'Population 2016'!C186*'Prevalence Rates'!C186","v":117.02258712765959},{"$f":"'Population 2016'!D186*'Prevalence Rates'!D186","v":263.83325177091905},{"$f":"'Population 2016'!E186*'Prevalence Rates'!E186","v":314.65475425531923},{"$f":"'Population 2016'!F186*'Prevalence Rates'!F186","v":79.631470531914886},{"$f":"'Population 2016'!G186*'Prevalence Rates'!G186","v":110.57310000000001},{"$f":"'Population 2016'!H186*'Prevalence Rates'!H186","v":284.18504026595753},{"$f":"'Population 2016'!I186*'Prevalence Rates'!I186","v":214.43142063829791},{"$f":"'Population 2016'!J186*'Prevalence Rates'!J186","v":140.86710000000002},{"$f":"'Population 2016'!K186*'Prevalence Rates'!K186","v":36.352800000000002},{"$f":"'Population 2016'!L186*'Prevalence Rates'!L186","v":179.66129170212767},{"$f":"'Population 2016'!M186*'Prevalence Rates'!M186","v":179.66129170212767},{"$f":"'Population 2016'!N186*'Prevalence Rates'!N186","v":107.54098994680852},{"$f":"'Population 2016'!O186*'Prevalence Rates'!O186","v":82.787803563829797},{"$f":"'Population 2016'!P186*'Prevalence Rates'!P186","v":76.192779255319152},{"$f":"'Population 2016'!Q186*'Prevalence Rates'!Q186","v":164.67264670212771},{"$f":"'Population 2016'!R186*'Prevalence Rates'!R186","v":27.817597340425536},{"$f":"'Population 2016'!S186*'Prevalence Rates'!S186","v":795.70692266928086},{"$f":"'Population 2016'!T186*'Prevalence Rates'!T186","v":208.76843489361704},{"$f":"'Population 2016'!U186*'Prevalence Rates'!U186","v":5.2326000000000006},{"$f":"'Population 2016'!V186*'Prevalence Rates'!V186","v":81.171513191489382},{"$f":"'Population 2016'!W186*'Prevalence Rates'!W186","v":319.38343085106385},{"$f":"'Population 2016'!X186*'Prevalence Rates'!X186","v":319.38343085106385},{"$f":"'Population 2016'!Y186*'Prevalence Rates'!Y186","v":193.85926037234043},{"$f":"'Population 2016'!Z186*'Prevalence Rates'!Z186","v":273.16127632978726},{"$f":"'Population 2016'!AA186*'Prevalence Rates'!AA186","v":484.45767915065909},{"$f":"'Population 2016'!AB186*'Prevalence Rates'!AB186","v":632.12649893617038},{"$f":"'Population 2016'!AC186*'Prevalence Rates'!AC186","v":745.68944680851064},{"$f":"'Population 2016'!AD186*'Prevalence Rates'!AD186","v":468.97258069148944},{"$f":"'Population 2016'!AE186*'Prevalence Rates'!AE186","v":359.59329574468092},{"$f":"'Population 2016'!AF186*'Prevalence Rates'!AF186","v":63.892800000000008},{"$f":"'Population 2016'!AG186*'Prevalence Rates'!AG186","v":192.11124421831641},{"$f":"'Population 2016'!AH186*'Prevalence Rates'!AH186","v":563.21761021276609},{"$f":"'Population 2016'!AI186*'Prevalence Rates'!AI186","v":543.88606835106384},{"$f":"'Population 2016'!AJ186*'Prevalence Rates'!AJ186","v":58.109400000000008},{"$f":"'Population 2016'!AK186*'Prevalence Rates'!AK186","v":203.09373000000005},{"$f":"'Population 2016'!AL186*'Prevalence Rates'!AL186","v":119.88447654255322},{"$f":"'Population 2016'!AM186*'Prevalence Rates'!AM186","v":273.69852606382977},{"$f":"'Population 2016'!AN186*'Prevalence Rates'!AN186","v":50.811300000000003},{"$f":"'Population 2016'!AO186*'Prevalence Rates'!AO186","v":50.811300000000003},{"$f":"'Population 2016'!AP186*'Prevalence Rates'!AP186","v":235.95700691489364},{"$f":"'Population 2016'!AQ186*'Prevalence Rates'!AQ186","v":180.73051755319148},{"$f":"'Population 2016'!AR186*'Prevalence Rates'!AR186","v":4827.8997000000008},{"$f":"'Population 2016'!AS186*'Prevalence Rates'!AS186","v":214.43142063829791},{"$f":"'Population 2016'!AT186*'Prevalence Rates'!AT186","v":62.102700000000006},{"$f":"'Population 2016'!AU186*'Prevalence Rates'!AU186","v":62.102700000000006},{"$f":"'Population 2016'!AV186*'Prevalence Rates'!AV186","v":80.454740744680848},{"$f":"'Population 2016'!AW186*'Prevalence Rates'!AW186","v":268.6625147872341},{"$f":"'Population 2016'!AX186*'Prevalence Rates'!AX186","v":104.51430000000001},{"$f":"'Population 2016'!AY186*'Prevalence Rates'!AY186","v":482.60264099458544},{"$f":"'Population 2016'!AZ186*'Prevalence Rates'!AZ186","v":481.24260287234051},{"$f":"'Population 2016'!BA186*'Prevalence Rates'!BA186","v":76.75500542553192},{"$f":"'Population 2016'!BB186*'Prevalence Rates'!BB186","v":128.23385744680851},{"$f":"'Population 2016'!BC186*'Prevalence Rates'!BC186","v":5.2326000000000006},184]
[null,"Female 65-69",{"$f":"'Population 2016'!C187*'Prevalence Rates'!C187","v":101.21198127659575},{"$f":"'Population 2016'!D187*'Prevalence Rates'!D187","v":219.8263920718033},{"$f":"'Population 2016'!E187*'Prevalence Rates'!E187","v":259.02116914893622},{"$f":"'Population 2016'!F187*'Prevalence Rates'!F187","v":71.747078510638303},{"$f":"'Population 2016'!G187*'Prevalence Rates'!G187","v":106.4676},{"$f":"'Population 2016'!H187*'Prevalence Rates'!H187","v":243.13385531914898},{"$f":"'Population 2016'!I187*'Prevalence Rates'!I187","v":195.49036063829791},{"$f":"'Population 2016'!J187*'Prevalence Rates'!J187","v":122.6516},{"$f":"'Population 2016'!K187*'Prevalence Rates'!K187","v":33.870800000000003},{"$f":"'Population 2016'!L187*'Prevalence Rates'!L187","v":143.53978212765958},{"$f":"'Population 2016'!M187*'Prevalence Rates'!M187","v":143.53978212765958},{"$f":"'Population 2016'!N187*'Prevalence Rates'!N187","v":99.74509106382979},{"$f":"'Population 2016'!O187*'Prevalence Rates'!O187","v":68.674885531914896},{"$f":"'Population 2016'!P187*'Prevalence Rates'!P187","v":62.56235106382978},{"$f":"'Population 2016'!Q187*'Prevalence Rates'!Q187","v":138.37387638297878},{"$f":"'Population 2016'!R187*'Prevalence Rates'!R187","v":21.29837765957447},{"$f":"'Population 2016'!S187*'Prevalence Rates'!S187","v":680.34231084463545},{"$f":"'Population 2016'!T187*'Prevalence Rates'!T187","v":168.5012655319149},{"$f":"'Population 2016'!U187*'Prevalence Rates'!U187","v":6.8204000000000002},{"$f":"'Population 2016'!V187*'Prevalence Rates'!V187","v":75.741120000000009},{"$f":"'Population 2016'!W187*'Prevalence Rates'!W187","v":275.98934297872341},{"$f":"'Population 2016'!X187*'Prevalence Rates'!X187","v":275.98934297872341},{"$f":"'Population 2016'!Y187*'Prevalence Rates'!Y187","v":174.41334468085108},{"$f":"'Population 2016'!Z187*'Prevalence Rates'!Z187","v":200.7081019148936},{"$f":"'Population 2016'!AA187*'Prevalence Rates'!AA187","v":368.74086728939761},{"$f":"'Population 2016'!AB187*'Prevalence Rates'!AB187","v":539.96268085106385},{"$f":"'Population 2016'!AC187*'Prevalence Rates'!AC187","v":580.81621276595752},{"$f":"'Population 2016'!AD187*'Prevalence Rates'!AD187","v":400.62791021276593},{"$f":"'Population 2016'!AE187*'Prevalence Rates'!AE187","v":295.90832978723409},{"$f":"'Population 2016'!AF187*'Prevalence Rates'!AF187","v":50.170400000000001},{"$f":"'Population 2016'!AG187*'Prevalence Rates'!AG187","v":158.08781221091584},{"$f":"'Population 2016'!AH187*'Prevalence Rates'!AH187","v":414.8672476595745},{"$f":"'Population 2016'!AI187*'Prevalence Rates'!AI187","v":451.65670170212763},{"$f":"'Population 2016'!AJ187*'Prevalence Rates'!AJ187","v":53.060400000000001},{"$f":"'Population 2016'!AK187*'Prevalence Rates'!AK187","v":187.63325000000003},{"$f":"'Population 2016'!AL187*'Prevalence Rates'!AL187","v":103.24174510638298},{"$f":"'Population 2016'!AM187*'Prevalence Rates'!AM187","v":191.76785617021275},{"$f":"'Population 2016'!AN187*'Prevalence Rates'!AN187","v":44.159200000000006},{"$f":"'Population 2016'!AO187*'Prevalence Rates'!AO187","v":44.159200000000006},{"$f":"'Population 2016'!AP187*'Prevalence Rates'!AP187","v":200.71043851063831},{"$f":"'Population 2016'!AQ187*'Prevalence Rates'!AQ187","v":141.29751106382977},{"$f":"'Population 2016'!AR187*'Prevalence Rates'!AR187","v":4033.0528000000004},{"$f":"'Population 2016'!AS187*'Prevalence Rates'!AS187","v":195.49036063829791},{"$f":"'Population 2016'!AT187*'Prevalence Rates'!AT187","v":49.014400000000002},{"$f":"'Population 2016'!AU187*'Prevalence Rates'!AU187","v":49.014400000000002},{"$f":"'Population 2016'!AV187*'Prevalence Rates'!AV187","v":70.311363404255303},{"$f":"'Population 2016'!AW187*'Prevalence Rates'!AW187","v":204.66217531914896},{"$f":"'Population 2016'!AX187*'Prevalence Rates'!AX187","v":88.780799999999999},{"$f":"'Population 2016'!AY187*'Prevalence Rates'!AY187","v":420.9003521674062},{"$f":"'Population 2016'!AZ187*'Prevalence Rates'!AZ187","v":421.94122978723408},{"$f":"'Population 2016'!BA187*'Prevalence Rates'!BA187","v":67.365223617021286},{"$f":"'Population 2016'!BB187*'Prevalence Rates'!BB187","v":106.65747914893616},{"$f":"'Population 2016'!BC187*'Prevalence Rates'!BC187","v":6.8204000000000002},185]
[null,"Female 70-74",{"$f":"'Population 2016'!C188*'Prevalence Rates'!C188","v":71.299128510638297},{"$f":"'Population 2016'!D188*'Prevalence Rates'!D188","v":159.06227461639435},{"$f":"'Population 2016'!E188*'Prevalence Rates'!E188","v":189.06718191489364},{"$f":"'Population 2016'!F188*'Prevalence Rates'!F188","v":56.998732127659572},{"$f":"'Population 2016'!G188*'Prevalence Rates'!G188","v":84.272400000000005},{"$f":"'Population 2016'!H188*'Prevalence Rates'!H188","v":204.79351659574473},{"$f":"'Population 2016'!I188*'Prevalence Rates'!I188","v":156.39228851063831},{"$f":"'Population 2016'!J188*'Prevalence Rates'!J188","v":97.566400000000002},{"$f":"'Population 2016'!K188*'Prevalence Rates'!K188","v":26.241200000000003},{"$f":"'Population 2016'!L188*'Prevalence Rates'!L188","v":123.7411914893617},{"$f":"'Population 2016'!M188*'Prevalence Rates'!M188","v":123.7411914893617},{"$f":"'Population 2016'!N188*'Prevalence Rates'!N188","v":70.001825957446812},{"$f":"'Population 2016'!O188*'Prevalence Rates'!O188","v":50.857174680851067},{"$f":"'Population 2016'!P188*'Prevalence Rates'!P188","v":44.42452659574468},{"$f":"'Population 2016'!Q188*'Prevalence Rates'!Q188","v":99.06163680851067},{"$f":"'Population 2016'!R188*'Prevalence Rates'!R188","v":16.637791489361703},{"$f":"'Population 2016'!S188*'Prevalence Rates'!S188","v":515.62525844277786},{"$f":"'Population 2016'!T188*'Prevalence Rates'!T188","v":126.88083829787233},{"$f":"'Population 2016'!U188*'Prevalence Rates'!U188","v":5.3176000000000005},{"$f":"'Population 2016'!V188*'Prevalence Rates'!V188","v":56.709916595744687},{"$f":"'Population 2016'!W188*'Prevalence Rates'!W188","v":213.66532468085109},{"$f":"'Population 2016'!X188*'Prevalence Rates'!X188","v":213.66532468085109},{"$f":"'Population 2016'!Y188*'Prevalence Rates'!Y188","v":134.8126585106383},{"$f":"'Population 2016'!Z188*'Prevalence Rates'!Z188","v":143.76366489361703},{"$f":"'Population 2016'!AA188*'Prevalence Rates'!AA188","v":262.09999608677487},{"$f":"'Population 2016'!AB188*'Prevalence Rates'!AB188","v":394.61166808510643},{"$f":"'Population 2016'!AC188*'Prevalence Rates'!AC188","v":429.09121276595744},{"$f":"'Population 2016'!AD188*'Prevalence Rates'!AD188","v":306.89899978723406},{"$f":"'Population 2016'!AE188*'Prevalence Rates'!AE188","v":224.13019914893619},{"$f":"'Population 2016'!AF188*'Prevalence Rates'!AF188","v":41.962800000000001},{"$f":"'Population 2016'!AG188*'Prevalence Rates'!AG188","v":119.74064014801112},{"$f":"'Population 2016'!AH188*'Prevalence Rates'!AH188","v":277.92601191489365},{"$f":"'Population 2016'!AI188*'Prevalence Rates'!AI188","v":331.01875531914891},{"$f":"'Population 2016'!AJ188*'Prevalence Rates'!AJ188","v":40.922400000000003},{"$f":"'Population 2016'!AK188*'Prevalence Rates'!AK188","v":141.18517000000003},{"$f":"'Population 2016'!AL188*'Prevalence Rates'!AL188","v":84.152188297872343},{"$f":"'Population 2016'!AM188*'Prevalence Rates'!AM188","v":125.61907659574467},{"$f":"'Population 2016'!AN188*'Prevalence Rates'!AN188","v":33.4084},{"$f":"'Population 2016'!AO188*'Prevalence Rates'!AO188","v":33.4084},{"$f":"'Population 2016'!AP188*'Prevalence Rates'!AP188","v":152.68103659574467},{"$f":"'Population 2016'!AQ188*'Prevalence Rates'!AQ188","v":101.5951829787234},{"$f":"'Population 2016'!AR188*'Prevalence Rates'!AR188","v":3042.5920000000001},{"$f":"'Population 2016'!AS188*'Prevalence Rates'!AS188","v":156.39228851063831},{"$f":"'Population 2016'!AT188*'Prevalence Rates'!AT188","v":39.535200000000003},{"$f":"'Population 2016'!AU188*'Prevalence Rates'!AU188","v":39.535200000000003},{"$f":"'Population 2016'!AV188*'Prevalence Rates'!AV188","v":69.348194042553189},{"$f":"'Population 2016'!AW188*'Prevalence Rates'!AW188","v":139.06532425531915},{"$f":"'Population 2016'!AX188*'Prevalence Rates'!AX188","v":71.325200000000009},{"$f":"'Population 2016'!AY188*'Prevalence Rates'!AY188","v":322.29920483849304},{"$f":"'Population 2016'!AZ188*'Prevalence Rates'!AZ188","v":321.06928468085113},{"$f":"'Population 2016'!BA188*'Prevalence Rates'!BA188","v":51.795686808510638},{"$f":"'Population 2016'!BB188*'Prevalence Rates'!BB188","v":73.428136170212767},{"$f":"'Population 2016'!BC188*'Prevalence Rates'!BC188","v":5.3176000000000005},186]
[null,"Female 75-79",{"$f":"'Population 2016'!C189*'Prevalence Rates'!C189","v":32.211223829787237},{"$f":"'Population 2016'!D189*'Prevalence Rates'!D189","v":67.670159761742326},{"$f":"'Population 2016'!E189*'Prevalence Rates'!E189","v":78.839886170212779},{"$f":"'Population 2016'!F189*'Prevalence Rates'!F189","v":23.564601489361703},{"$f":"'Population 2016'!G189*'Prevalence Rates'!G189","v":34.445399999999999},{"$f":"'Population 2016'!H189*'Prevalence Rates'!H189","v":76.676026063829809},{"$f":"'Population 2016'!I189*'Prevalence Rates'!I189","v":67.005297446808527},{"$f":"'Population 2016'!J189*'Prevalence Rates'!J189","v":38.006599999999999},{"$f":"'Population 2016'!K189*'Prevalence Rates'!K189","v":9.1486000000000001},{"$f":"'Population 2016'!L189*'Prevalence Rates'!L189","v":51.776007234042552},{"$f":"'Population 2016'!M189*'Prevalence Rates'!M189","v":51.776007234042552},{"$f":"'Population 2016'!N189*'Prevalence Rates'!N189","v":32.473447553191491},{"$f":"'Population 2016'!O189*'Prevalence Rates'!O189","v":19.115485638297873},{"$f":"'Population 2016'!P189*'Prevalence Rates'!P189","v":22.339148936170211},{"$f":"'Population 2016'!Q189*'Prevalence Rates'!Q189","v":39.409981914893628},{"$f":"'Population 2016'!R189*'Prevalence Rates'!R189","v":8.0385010638297878},{"$f":"'Population 2016'!S189*'Prevalence Rates'!S189","v":212.47115582928686},{"$f":"'Population 2016'!T189*'Prevalence Rates'!T189","v":55.125965106382978},{"$f":"'Population 2016'!U189*'Prevalence Rates'!U189","v":2.3332000000000002},{"$f":"'Population 2016'!V189*'Prevalence Rates'!V189","v":23.721824680851068},{"$f":"'Population 2016'!W189*'Prevalence Rates'!W189","v":82.852180212765958},{"$f":"'Population 2016'!X189*'Prevalence Rates'!X189","v":82.852180212765958},{"$f":"'Population 2016'!Y189*'Prevalence Rates'!Y189","v":54.325446276595741},{"$f":"'Population 2016'!Z189*'Prevalence Rates'!Z189","v":68.536770212765958},{"$f":"'Population 2016'!AA189*'Prevalence Rates'!AA189","v":115.97145692112156},{"$f":"'Population 2016'!AB189*'Prevalence Rates'!AB189","v":163.83740851063831},{"$f":"'Population 2016'!AC189*'Prevalence Rates'!AC189","v":191.00952127659576},{"$f":"'Population 2016'!AD189*'Prevalence Rates'!AD189","v":125.88825670212766},{"$f":"'Population 2016'!AE189*'Prevalence Rates'!AE189","v":92.052186382978718},{"$f":"'Population 2016'!AF189*'Prevalence Rates'!AF189","v":14.8588},{"$f":"'Population 2016'!AG189*'Prevalence Rates'!AG189","v":49.178503237742838},{"$f":"'Population 2016'!AH189*'Prevalence Rates'!AH189","v":121.7742280851064},{"$f":"'Population 2016'!AI189*'Prevalence Rates'!AI189","v":138.70080372340425},{"$f":"'Population 2016'!AJ189*'Prevalence Rates'!AJ189","v":16.148199999999999},{"$f":"'Population 2016'!AK189*'Prevalence Rates'!AK189","v":54.455660000000002},{"$f":"'Population 2016'!AL189*'Prevalence Rates'!AL189","v":30.717766808510643},{"$f":"'Population 2016'!AM189*'Prevalence Rates'!AM189","v":57.177835531914894},{"$f":"'Population 2016'!AN189*'Prevalence Rates'!AN189","v":13.937800000000001},{"$f":"'Population 2016'!AO189*'Prevalence Rates'!AO189","v":13.937800000000001},{"$f":"'Population 2016'!AP189*'Prevalence Rates'!AP189","v":66.730663085106386},{"$f":"'Population 2016'!AQ189*'Prevalence Rates'!AQ189","v":40.471091489361697},{"$f":"'Population 2016'!AR189*'Prevalence Rates'!AR189","v":1271.4712},{"$f":"'Population 2016'!AS189*'Prevalence Rates'!AS189","v":67.005297446808527},{"$f":"'Population 2016'!AT189*'Prevalence Rates'!AT189","v":14.797400000000001},{"$f":"'Population 2016'!AU189*'Prevalence Rates'!AU189","v":14.797400000000001},{"$f":"'Population 2016'!AV189*'Prevalence Rates'!AV189","v":26.730032765957443},{"$f":"'Population 2016'!AW189*'Prevalence Rates'!AW189","v":59.462372765957454},{"$f":"'Population 2016'!AX189*'Prevalence Rates'!AX189","v":28.858000000000001},{"$f":"'Population 2016'!AY189*'Prevalence Rates'!AY189","v":134.3937350939058},{"$f":"'Population 2016'!AZ189*'Prevalence Rates'!AZ189","v":139.31202765957448},{"$f":"'Population 2016'!BA189*'Prevalence Rates'!BA189","v":22.188816914893614},{"$f":"'Population 2016'!BB189*'Prevalence Rates'!BB189","v":31.068399999999997},{"$f":"'Population 2016'!BC189*'Prevalence Rates'!BC189","v":2.3332000000000002},187]
[null,"Female 80-84",{"$f":"'Population 2016'!C190*'Prevalence Rates'!C190","v":24.865758936170216},{"$f":"'Population 2016'!D190*'Prevalence Rates'!D190","v":50.885133188986401},{"$f":"'Population 2016'!E190*'Prevalence Rates'!E190","v":58.737101595744683},{"$f":"'Population 2016'!F190*'Prevalence Rates'!F190","v":18.973677765957447},{"$f":"'Population 2016'!G190*'Prevalence Rates'!G190","v":23.516200000000001},{"$f":"'Population 2016'!H190*'Prevalence Rates'!H190","v":58.422785851063843},{"$f":"'Population 2016'!I190*'Prevalence Rates'!I190","v":45.736762021276604},{"$f":"'Population 2016'!J190*'Prevalence Rates'!J190","v":29.840400000000002},{"$f":"'Population 2016'!K190*'Prevalence Rates'!K190","v":6.7540000000000004},{"$f":"'Population 2016'!L190*'Prevalence Rates'!L190","v":40.968039574468087},{"$f":"'Population 2016'!M190*'Prevalence Rates'!M190","v":40.968039574468087},{"$f":"'Population 2016'!N190*'Prevalence Rates'!N190","v":32.313872872340426},{"$f":"'Population 2016'!O190*'Prevalence Rates'!O190","v":11.970681170212767},{"$f":"'Population 2016'!P190*'Prevalence Rates'!P190","v":15.683944148936169},{"$f":"'Population 2016'!Q190*'Prevalence Rates'!Q190","v":30.629161382978733},{"$f":"'Population 2016'!R190*'Prevalence Rates'!R190","v":6.8407111702127663},{"$f":"'Population 2016'!S190*'Prevalence Rates'!S190","v":158.67601127440162},{"$f":"'Population 2016'!T190*'Prevalence Rates'!T190","v":47.244164680851064},{"$f":"'Population 2016'!U190*'Prevalence Rates'!U190","v":1.1666000000000001},{"$f":"'Population 2016'!V190*'Prevalence Rates'!V190","v":17.241120000000002},{"$f":"'Population 2016'!W190*'Prevalence Rates'!W190","v":61.775193191489365},{"$f":"'Population 2016'!X190*'Prevalence Rates'!X190","v":61.775193191489365},{"$f":"'Population 2016'!Y190*'Prevalence Rates'!Y190","v":41.117261170212764},{"$f":"'Population 2016'!Z190*'Prevalence Rates'!Z190","v":51.477074148936168},{"$f":"'Population 2016'!AA190*'Prevalence Rates'!AA190","v":85.388703123153036},{"$f":"'Population 2016'!AB190*'Prevalence Rates'!AB190","v":125.61590851063831},{"$f":"'Population 2016'!AC190*'Prevalence Rates'!AC190","v":145.88052127659574},{"$f":"'Population 2016'!AD190*'Prevalence Rates'!AD190","v":95.481311063829793},{"$f":"'Population 2016'!AE190*'Prevalence Rates'!AE190","v":72.269041063829789},{"$f":"'Population 2016'!AF190*'Prevalence Rates'!AF190","v":13.8764},{"$f":"'Population 2016'!AG190*'Prevalence Rates'!AG190","v":38.609438945420912},{"$f":"'Population 2016'!AH190*'Prevalence Rates'!AH190","v":84.189589787234056},{"$f":"'Population 2016'!AI190*'Prevalence Rates'!AI190","v":107.50009978723403},{"$f":"'Population 2016'!AJ190*'Prevalence Rates'!AJ190","v":10.9292},{"$f":"'Population 2016'!AK190*'Prevalence Rates'!AK190","v":44.301635000000005},{"$f":"'Population 2016'!AL190*'Prevalence Rates'!AL190","v":22.858338191489366},{"$f":"'Population 2016'!AM190*'Prevalence Rates'!AM190","v":36.232335957446807},{"$f":"'Population 2016'!AN190*'Prevalence Rates'!AN190","v":8.2276000000000007},{"$f":"'Population 2016'!AO190*'Prevalence Rates'!AO190","v":8.2276000000000007},{"$f":"'Population 2016'!AP190*'Prevalence Rates'!AP190","v":48.762867553191491},{"$f":"'Population 2016'!AQ190*'Prevalence Rates'!AQ190","v":31.16984063829787},{"$f":"'Population 2016'!AR190*'Prevalence Rates'!AR190","v":959.9276000000001},{"$f":"'Population 2016'!AS190*'Prevalence Rates'!AS190","v":45.736762021276604},{"$f":"'Population 2016'!AT190*'Prevalence Rates'!AT190","v":10.5608},{"$f":"'Population 2016'!AU190*'Prevalence Rates'!AU190","v":10.5608},{"$f":"'Population 2016'!AV190*'Prevalence Rates'!AV190","v":23.596607872340421},{"$f":"'Population 2016'!AW190*'Prevalence Rates'!AW190","v":43.377336382978726},{"$f":"'Population 2016'!AX190*'Prevalence Rates'!AX190","v":23.086400000000001},{"$f":"'Population 2016'!AY190*'Prevalence Rates'!AY190","v":104.56735783420072},{"$f":"'Population 2016'!AZ190*'Prevalence Rates'!AZ190","v":110.73378957446809},{"$f":"'Population 2016'!BA190*'Prevalence Rates'!BA190","v":14.492326914893617},{"$f":"'Population 2016'!BB190*'Prevalence Rates'!BB190","v":19.302069787234039},{"$f":"'Population 2016'!BC190*'Prevalence Rates'!BC190","v":1.1666000000000001},188]
[null,"Female 85-89",{"$f":"'Population 2016'!C191*'Prevalence Rates'!C191","v":15.235038297872341},{"$f":"'Population 2016'!D191*'Prevalence Rates'!D191","v":32.009340148395957},{"$f":"'Population 2016'!E191*'Prevalence Rates'!E191","v":37.294131382978726},{"$f":"'Population 2016'!F191*'Prevalence Rates'!F191","v":11.204422234042553},{"$f":"'Population 2016'!G191*'Prevalence Rates'!G191","v":15.350000000000001},{"$f":"'Population 2016'!H191*'Prevalence Rates'!H191","v":34.27138978723405},{"$f":"'Population 2016'!I191*'Prevalence Rates'!I191","v":29.738306170212773},{"$f":"'Population 2016'!J191*'Prevalence Rates'!J191","v":18.358600000000003},{"$f":"'Population 2016'!K191*'Prevalence Rates'!K191","v":4.2366000000000001},{"$f":"'Population 2016'!L191*'Prevalence Rates'!L191","v":23.952793191489359},{"$f":"'Population 2016'!M191*'Prevalence Rates'!M191","v":23.952793191489359},{"$f":"'Population 2016'!N191*'Prevalence Rates'!N191","v":25.85109829787234},{"$f":"'Population 2016'!O191*'Prevalence Rates'!O191","v":7.270151914893618},{"$f":"'Population 2016'!P191*'Prevalence Rates'!P191","v":12.007292553191489},{"$f":"'Population 2016'!Q191*'Prevalence Rates'!Q191","v":17.492500744680857},{"$f":"'Population 2016'!R191*'Prevalence Rates'!R191","v":4.498366489361703},{"$f":"'Population 2016'!S191*'Prevalence Rates'!S191","v":104.40016274705189},{"$f":"'Population 2016'!T191*'Prevalence Rates'!T191","v":38.942623404255322},{"$f":"'Population 2016'!U191*'Prevalence Rates'!U191","v":1.3508},{"$f":"'Population 2016'!V191*'Prevalence Rates'!V191","v":10.352823829787235},{"$f":"'Population 2016'!W191*'Prevalence Rates'!W191","v":37.470199148936167},{"$f":"'Population 2016'!X191*'Prevalence Rates'!X191","v":37.470199148936167},{"$f":"'Population 2016'!Y191*'Prevalence Rates'!Y191","v":25.014131382978722},{"$f":"'Population 2016'!Z191*'Prevalence Rates'!Z191","v":33.150937765957444},{"$f":"'Population 2016'!AA191*'Prevalence Rates'!AA191","v":54.28891206739975},{"$f":"'Population 2016'!AB191*'Prevalence Rates'!AB191","v":79.370604255319151},{"$f":"'Population 2016'!AC191*'Prevalence Rates'!AC191","v":97.459436170212769},{"$f":"'Population 2016'!AD191*'Prevalence Rates'!AD191","v":58.479384893617024},{"$f":"'Population 2016'!AE191*'Prevalence Rates'!AE191","v":43.372959999999999},{"$f":"'Population 2016'!AF191*'Prevalence Rates'!AF191","v":8.8415999999999997},{"$f":"'Population 2016'!AG191*'Prevalence Rates'!AG191","v":23.171826086956525},{"$f":"'Population 2016'!AH191*'Prevalence Rates'!AH191","v":48.6094655319149},{"$f":"'Population 2016'!AI191*'Prevalence Rates'!AI191","v":73.843526489361707},{"$f":"'Population 2016'!AJ191*'Prevalence Rates'!AJ191","v":5.8944000000000001},{"$f":"'Population 2016'!AK191*'Prevalence Rates'!AK191","v":28.356055000000001},{"$f":"'Population 2016'!AL191*'Prevalence Rates'!AL191","v":13.55901425531915},{"$f":"'Population 2016'!AM191*'Prevalence Rates'!AM191","v":15.03346340425532},{"$f":"'Population 2016'!AN191*'Prevalence Rates'!AN191","v":6.0171999999999999},{"$f":"'Population 2016'!AO191*'Prevalence Rates'!AO191","v":6.0171999999999999},{"$f":"'Population 2016'!AP191*'Prevalence Rates'!AP191","v":33.437394893617025},{"$f":"'Population 2016'!AQ191*'Prevalence Rates'!AQ191","v":20.8745629787234},{"$f":"'Population 2016'!AR191*'Prevalence Rates'!AR191","v":613.26319999999998},{"$f":"'Population 2016'!AS191*'Prevalence Rates'!AS191","v":29.738306170212773},{"$f":"'Population 2016'!AT191*'Prevalence Rates'!AT191","v":6.8154000000000003},{"$f":"'Population 2016'!AU191*'Prevalence Rates'!AU191","v":6.8154000000000003},{"$f":"'Population 2016'!AV191*'Prevalence Rates'!AV191","v":13.42896382978723},{"$f":"'Population 2016'!AW191*'Prevalence Rates'!AW191","v":29.092430425531919},{"$f":"'Population 2016'!AX191*'Prevalence Rates'!AX191","v":14.122},{"$f":"'Population 2016'!AY191*'Prevalence Rates'!AY191","v":68.649678176386885},{"$f":"'Population 2016'!AZ191*'Prevalence Rates'!AZ191","v":75.382674255319159},{"$f":"'Population 2016'!BA191*'Prevalence Rates'!BA191","v":9.0884084042553184},{"$f":"'Population 2016'!BB191*'Prevalence Rates'!BB191","v":9.1883140425531895},{"$f":"'Population 2016'!BC191*'Prevalence Rates'!BC191","v":1.3508},189]
[null,"Female 90+",{"$f":"'Population 2016'!C192*'Prevalence Rates'!C192","v":7.0189997872340433},{"$f":"'Population 2016'!D192*'Prevalence Rates'!D192","v":17.46231711867415},{"$f":"'Population 2016'!E192*'Prevalence Rates'!E192","v":21.44297021276596},{"$f":"'Population 2016'!F192*'Prevalence Rates'!F192","v":9.0855343617021269},{"$f":"'Population 2016'!G192*'Prevalence Rates'!G192","v":9.8239999999999998},{"$f":"'Population 2016'!H192*'Prevalence Rates'!H192","v":21.23336106382979},{"$f":"'Population 2016'!I192*'Prevalence Rates'!I192","v":17.504192872340429},{"$f":"'Population 2016'!J192*'Prevalence Rates'!J192","v":13.3238},{"$f":"'Population 2016'!K192*'Prevalence Rates'!K192","v":2.7630000000000003},{"$f":"'Population 2016'!L192*'Prevalence Rates'!L192","v":12.487584255319149},{"$f":"'Population 2016'!M192*'Prevalence Rates'!M192","v":12.487584255319149},{"$f":"'Population 2016'!N192*'Prevalence Rates'!N192","v":14.920232659574468},{"$f":"'Population 2016'!O192*'Prevalence Rates'!O192","v":4.4498343617021279},{"$f":"'Population 2016'!P192*'Prevalence Rates'!P192","v":6.0036462765957443},{"$f":"'Population 2016'!Q192*'Prevalence Rates'!Q192","v":8.9191011702127678},{"$f":"'Population 2016'!R192*'Prevalence Rates'!R192","v":4.4717489361702132},{"$f":"'Population 2016'!S192*'Prevalence Rates'!S192","v":62.054512809047175},{"$f":"'Population 2016'!T192*'Prevalence Rates'!T192","v":22.992471063829786},{"$f":"'Population 2016'!U192*'Prevalence Rates'!U192","v":0.6754},{"$f":"'Population 2016'!V192*'Prevalence Rates'!V192","v":7.0513327659574481},{"$f":"'Population 2016'!W192*'Prevalence Rates'!W192","v":25.760761914893617},{"$f":"'Population 2016'!X192*'Prevalence Rates'!X192","v":25.760761914893617},{"$f":"'Population 2016'!Y192*'Prevalence Rates'!Y192","v":17.641069148936168},{"$f":"'Population 2016'!Z192*'Prevalence Rates'!Z192","v":20.412038085106381},{"$f":"'Population 2016'!AA192*'Prevalence Rates'!AA192","v":30.634457523746999},{"$f":"'Population 2016'!AB192*'Prevalence Rates'!AB192","v":42.82976595744681},{"$f":"'Population 2016'!AC192*'Prevalence Rates'!AC192","v":59.12036170212766},{"$f":"'Population 2016'!AD192*'Prevalence Rates'!AD192","v":38.052454042553194},{"$f":"'Population 2016'!AE192*'Prevalence Rates'!AE192","v":28.376989787234042},{"$f":"'Population 2016'!AF192*'Prevalence Rates'!AF192","v":4.6050000000000004},{"$f":"'Population 2016'!AG192*'Prevalence Rates'!AG192","v":15.160290471785387},{"$f":"'Population 2016'!AH192*'Prevalence Rates'!AH192","v":23.12350127659575},{"$f":"'Population 2016'!AI192*'Prevalence Rates'!AI192","v":40.968366170212768},{"$f":"'Population 2016'!AJ192*'Prevalence Rates'!AJ192","v":4.3593999999999999},{"$f":"'Population 2016'!AK192*'Prevalence Rates'!AK192","v":14.817355000000001},{"$f":"'Population 2016'!AL192*'Prevalence Rates'!AL192","v":8.999345744680852},{"$f":"'Population 2016'!AM192*'Prevalence Rates'!AM192","v":6.6721551063829789},{"$f":"'Population 2016'!AN192*'Prevalence Rates'!AN192","v":2.9472},{"$f":"'Population 2016'!AO192*'Prevalence Rates'!AO192","v":2.9472},{"$f":"'Population 2016'!AP192*'Prevalence Rates'!AP192","v":21.811174255319148},{"$f":"'Population 2016'!AQ192*'Prevalence Rates'!AQ192","v":11.43130829787234},{"$f":"'Population 2016'!AR192*'Prevalence Rates'!AR192","v":368.27719999999999},{"$f":"'Population 2016'!AS192*'Prevalence Rates'!AS192","v":17.504192872340429},{"$f":"'Population 2016'!AT192*'Prevalence Rates'!AT192","v":3.9910000000000001},{"$f":"'Population 2016'!AU192*'Prevalence Rates'!AU192","v":3.9910000000000001},{"$f":"'Population 2016'!AV192*'Prevalence Rates'!AV192","v":7.7376410638297859},{"$f":"'Population 2016'!AW192*'Prevalence Rates'!AW192","v":14.1687685106383},{"$f":"'Population 2016'!AX192*'Prevalence Rates'!AX192","v":10.5608},{"$f":"'Population 2016'!AY192*'Prevalence Rates'!AY192","v":46.594962597027511},{"$f":"'Population 2016'!AZ192*'Prevalence Rates'!AZ192","v":50.879175319148942},{"$f":"'Population 2016'!BA192*'Prevalence Rates'!BA192","v":4.5032654255319144},{"$f":"'Population 2016'!BB192*'Prevalence Rates'!BB192","v":2.7102221276595739},{"$f":"'Population 2016'!BC192*'Prevalence Rates'!BC192","v":0.6754},190]
[null,"Male 0-4",{"$f":"'Population 2016'!C193*'Prevalence Rates'!C193","v":0},{"$f":"'Population 2016'!D193*'Prevalence Rates'!D193","v":0},{"$f":"'Population 2016'!E193*'Prevalence Rates'!E193","v":0},{"$f":"'Population 2016'!F193*'Prevalence Rates'!F193","v":0},{"$f":"'Population 2016'!G193*'Prevalence Rates'!G193","v":0},{"$f":"'Population 2016'!H193*'Prevalence Rates'!H193","v":0},{"$f":"'Population 2016'!I193*'Prevalence Rates'!I193","v":0},{"$f":"'Population 2016'!J193*'Prevalence Rates'!J193","v":0},{"$f":"'Population 2016'!K193*'Prevalence Rates'!K193","v":0},{"$f":"'Population 2016'!L193*'Prevalence Rates'!L193","v":0},{"$f":"'Population 2016'!M193*'Prevalence Rates'!M193","v":0},{"$f":"'Population 2016'!N193*'Prevalence Rates'!N193","v":0},{"$f":"'Population 2016'!O193*'Prevalence Rates'!O193","v":0},{"$f":"'Population 2016'!P193*'Prevalence Rates'!P193","v":0},{"$f":"'Population 2016'!Q193*'Prevalence Rates'!Q193","v":0},{"$f":"'Population 2016'!R193*'Prevalence Rates'!R193","v":0},{"$f":"'Population 2016'!S193*'Prevalence Rates'!S193","v":0},{"$f":"'Population 2016'!T193*'Prevalence Rates'!T193","v":0},{"$f":"'Population 2016'!U193*'Prevalence Rates'!U193","v":0},{"$f":"'Population 2016'!V193*'Prevalence Rates'!V193","v":0},{"$f":"'Population 2016'!W193*'Prevalence Rates'!W193","v":0},{"$f":"'Population 2016'!X193*'Prevalence Rates'!X193","v":0},{"$f":"'Population 2016'!Y193*'Prevalence Rates'!Y193","v":0},{"$f":"'Population 2016'!Z193*'Prevalence Rates'!Z193","v":0},{"$f":"'Population 2016'!AA193*'Prevalence Rates'!AA193","v":0},{"$f":"'Population 2016'!AB193*'Prevalence Rates'!AB193","v":0},{"$f":"'Population 2016'!AC193*'Prevalence Rates'!AC193","v":0},{"$f":"'Population 2016'!AD193*'Prevalence Rates'!AD193","v":0},{"$f":"'Population 2016'!AE193*'Prevalence Rates'!AE193","v":0},{"$f":"'Population 2016'!AF193*'Prevalence Rates'!AF193","v":0},{"$f":"'Population 2016'!AG193*'Prevalence Rates'!AG193","v":0},{"$f":"'Population 2016'!AH193*'Prevalence Rates'!AH193","v":0},{"$f":"'Population 2016'!AI193*'Prevalence Rates'!AI193","v":0},{"$f":"'Population 2016'!AJ193*'Prevalence Rates'!AJ193","v":0},{"$f":"'Population 2016'!AK193*'Prevalence Rates'!AK193","v":0},{"$f":"'Population 2016'!AL193*'Prevalence Rates'!AL193","v":0},{"$f":"'Population 2016'!AM193*'Prevalence Rates'!AM193","v":0},{"$f":"'Population 2016'!AN193*'Prevalence Rates'!AN193","v":0},{"$f":"'Population 2016'!AO193*'Prevalence Rates'!AO193","v":0},{"$f":"'Population 2016'!AP193*'Prevalence Rates'!AP193","v":0},{"$f":"'Population 2016'!AQ193*'Prevalence Rates'!AQ193","v":0},{"$f":"'Population 2016'!AR193*'Prevalence Rates'!AR193","v":0},{"$f":"'Population 2016'!AS193*'Prevalence Rates'!AS193","v":0},{"$f":"'Population 2016'!AT193*'Prevalence Rates'!AT193","v":0},{"$f":"'Population 2016'!AU193*'Prevalence Rates'!AU193","v":0},{"$f":"'Population 2016'!AV193*'Prevalence Rates'!AV193","v":0},{"$f":"'Population 2016'!AW193*'Prevalence Rates'!AW193","v":0},{"$f":"'Population 2016'!AX193*'Prevalence Rates'!AX193","v":0},{"$f":"'Population 2016'!AY193*'Prevalence Rates'!AY193","v":0},{"$f":"'Population 2016'!AZ193*'Prevalence Rates'!AZ193","v":0},{"$f":"'Population 2016'!BA193*'Prevalence Rates'!BA193","v":0},{"$f":"'Population 2016'!BB193*'Prevalence Rates'!BB193","v":0},{"$f":"'Population 2016'!BC193*'Prevalence Rates'!BC193","v":0},191]
[null,"Male 5-9",{"$f":"'Population 2016'!C194*'Prevalence Rates'!C194","v":0},{"$f":"'Population 2016'!D194*'Prevalence Rates'!D194","v":0},{"$f":"'Population 2016'!E194*'Prevalence Rates'!E194","v":0},{"$f":"'Population 2016'!F194*'Prevalence Rates'!F194","v":0},{"$f":"'Population 2016'!G194*'Prevalence Rates'!G194","v":0},{"$f":"'Population 2016'!H194*'Prevalence Rates'!H194","v":0},{"$f":"'Population 2016'!I194*'Prevalence Rates'!I194","v":0},{"$f":"'Population 2016'!J194*'Prevalence Rates'!J194","v":0},{"$f":"'Population 2016'!K194*'Prevalence Rates'!K194","v":0},{"$f":"'Population 2016'!L194*'Prevalence Rates'!L194","v":0},{"$f":"'Population 2016'!M194*'Prevalence Rates'!M194","v":0},{"$f":"'Population 2016'!N194*'Prevalence Rates'!N194","v":0},{"$f":"'Population 2016'!O194*'Prevalence Rates'!O194","v":0},{"$f":"'Population 2016'!P194*'Prevalence Rates'!P194","v":0},{"$f":"'Population 2016'!Q194*'Prevalence Rates'!Q194","v":0},{"$f":"'Population 2016'!R194*'Prevalence Rates'!R194","v":0},{"$f":"'Population 2016'!S194*'Prevalence Rates'!S194","v":0},{"$f":"'Population 2016'!T194*'Prevalence Rates'!T194","v":0},{"$f":"'Population 2016'!U194*'Prevalence Rates'!U194","v":0},{"$f":"'Population 2016'!V194*'Prevalence Rates'!V194","v":0},{"$f":"'Population 2016'!W194*'Prevalence Rates'!W194","v":0},{"$f":"'Population 2016'!X194*'Prevalence Rates'!X194","v":0},{"$f":"'Population 2016'!Y194*'Prevalence Rates'!Y194","v":0},{"$f":"'Population 2016'!Z194*'Prevalence Rates'!Z194","v":0},{"$f":"'Population 2016'!AA194*'Prevalence Rates'!AA194","v":0},{"$f":"'Population 2016'!AB194*'Prevalence Rates'!AB194","v":0},{"$f":"'Population 2016'!AC194*'Prevalence Rates'!AC194","v":0},{"$f":"'Population 2016'!AD194*'Prevalence Rates'!AD194","v":0},{"$f":"'Population 2016'!AE194*'Prevalence Rates'!AE194","v":0},{"$f":"'Population 2016'!AF194*'Prevalence Rates'!AF194","v":0},{"$f":"'Population 2016'!AG194*'Prevalence Rates'!AG194","v":0},{"$f":"'Population 2016'!AH194*'Prevalence Rates'!AH194","v":0},{"$f":"'Population 2016'!AI194*'Prevalence Rates'!AI194","v":0},{"$f":"'Population 2016'!AJ194*'Prevalence Rates'!AJ194","v":0},{"$f":"'Population 2016'!AK194*'Prevalence Rates'!AK194","v":0},{"$f":"'Population 2016'!AL194*'Prevalence Rates'!AL194","v":0},{"$f":"'Population 2016'!AM194*'Prevalence Rates'!AM194","v":0},{"$f":"'Population 2016'!AN194*'Prevalence Rates'!AN194","v":0},{"$f":"'Population 2016'!AO194*'Prevalence Rates'!AO194","v":0},{"$f":"'Population 2016'!AP194*'Prevalence Rates'!AP194","v":0},{"$f":"'Population 2016'!AQ194*'Prevalence Rates'!AQ194","v":0},{"$f":"'Population 2016'!AR194*'Prevalence Rates'!AR194","v":0},{"$f":"'Population 2016'!AS194*'Prevalence Rates'!AS194","v":0},{"$f":"'Population 2016'!AT194*'Prevalence Rates'!AT194","v":0},{"$f":"'Population 2016'!AU194*'Prevalence Rates'!AU194","v":0},{"$f":"'Population 2016'!AV194*'Prevalence Rates'!AV194","v":0},{"$f":"'Population 2016'!AW194*'Prevalence Rates'!AW194","v":0},{"$f":"'Population 2016'!AX194*'Prevalence Rates'!AX194","v":0},{"$f":"'Population 2016'!AY194*'Prevalence Rates'!AY194","v":0},{"$f":"'Population 2016'!AZ194*'Prevalence Rates'!AZ194","v":0},{"$f":"'Population 2016'!BA194*'Prevalence Rates'!BA194","v":0},{"$f":"'Population 2016'!BB194*'Prevalence Rates'!BB194","v":0},{"$f":"'Population 2016'!BC194*'Prevalence Rates'!BC194","v":0},192]
[null,"Male 10-15",{"$f":"'Population 2016'!C195*'Prevalence Rates'!C195","v":0},{"$f":"'Population 2016'!D195*'Prevalence Rates'!D195","v":0},{"$f":"'Population 2016'!E195*'Prevalence Rates'!E195","v":0},{"$f":"'Population 2016'!F195*'Prevalence Rates'!F195","v":0},{"$f":"'Population 2016'!G195*'Prevalence Rates'!G195","v":0},{"$f":"'Population 2016'!H195*'Prevalence Rates'!H195","v":0},{"$f":"'Population 2016'!I195*'Prevalence Rates'!I195","v":0},{"$f":"'Population 2016'!J195*'Prevalence Rates'!J195","v":0},{"$f":"'Population 2016'!K195*'Prevalence Rates'!K195","v":0},{"$f":"'Population 2016'!L195*'Prevalence Rates'!L195","v":0},{"$f":"'Population 2016'!M195*'Prevalence Rates'!M195","v":0},{"$f":"'Population 2016'!N195*'Prevalence Rates'!N195","v":0},{"$f":"'Population 2016'!O195*'Prevalence Rates'!O195","v":0},{"$f":"'Population 2016'!P195*'Prevalence Rates'!P195","v":0},{"$f":"'Population 2016'!Q195*'Prevalence Rates'!Q195","v":0},{"$f":"'Population 2016'!R195*'Prevalence Rates'!R195","v":0},{"$f":"'Population 2016'!S195*'Prevalence Rates'!S195","v":0},{"$f":"'Population 2016'!T195*'Prevalence Rates'!T195","v":0},{"$f":"'Population 2016'!U195*'Prevalence Rates'!U195","v":0},{"$f":"'Population 2016'!V195*'Prevalence Rates'!V195","v":0},{"$f":"'Population 2016'!W195*'Prevalence Rates'!W195","v":0},{"$f":"'Population 2016'!X195*'Prevalence Rates'!X195","v":0},{"$f":"'Population 2016'!Y195*'Prevalence Rates'!Y195","v":0},{"$f":"'Population 2016'!Z195*'Prevalence Rates'!Z195","v":0},{"$f":"'Population 2016'!AA195*'Prevalence Rates'!AA195","v":0},{"$f":"'Population 2016'!AB195*'Prevalence Rates'!AB195","v":0},{"$f":"'Population 2016'!AC195*'Prevalence Rates'!AC195","v":0},{"$f":"'Population 2016'!AD195*'Prevalence Rates'!AD195","v":0},{"$f":"'Population 2016'!AE195*'Prevalence Rates'!AE195","v":0},{"$f":"'Population 2016'!AF195*'Prevalence Rates'!AF195","v":0},{"$f":"'Population 2016'!AG195*'Prevalence Rates'!AG195","v":0},{"$f":"'Population 2016'!AH195*'Prevalence Rates'!AH195","v":0},{"$f":"'Population 2016'!AI195*'Prevalence Rates'!AI195","v":0},{"$f":"'Population 2016'!AJ195*'Prevalence Rates'!AJ195","v":0},{"$f":"'Population 2016'!AK195*'Prevalence Rates'!AK195","v":0},{"$f":"'Population 2016'!AL195*'Prevalence Rates'!AL195","v":0},{"$f":"'Population 2016'!AM195*'Prevalence Rates'!AM195","v":0},{"$f":"'Population 2016'!AN195*'Prevalence Rates'!AN195","v":0},{"$f":"'Population 2016'!AO195*'Prevalence Rates'!AO195","v":0},{"$f":"'Population 2016'!AP195*'Prevalence Rates'!AP195","v":0},{"$f":"'Population 2016'!AQ195*'Prevalence Rates'!AQ195","v":0},{"$f":"'Population 2016'!AR195*'Prevalence Rates'!AR195","v":0},{"$f":"'Population 2016'!AS195*'Prevalence Rates'!AS195","v":0},{"$f":"'Population 2016'!AT195*'Prevalence Rates'!AT195","v":0},{"$f":"'Population 2016'!AU195*'Prevalence Rates'!AU195","v":0},{"$f":"'Population 2016'!AV195*'Prevalence Rates'!AV195","v":0},{"$f":"'Population 2016'!AW195*'Prevalence Rates'!AW195","v":0},{"$f":"'Population 2016'!AX195*'Prevalence Rates'!AX195","v":0},{"$f":"'Population 2016'!AY195*'Prevalence Rates'!AY195","v":0},{"$f":"'Population 2016'!AZ195*'Prevalence Rates'!AZ195","v":0},{"$f":"'Population 2016'!BA195*'Prevalence Rates'!BA195","v":0},{"$f":"'Population 2016'!BB195*'Prevalence Rates'!BB195","v":0},{"$f":"'Population 2016'!BC195*'Prevalence Rates'!BC195","v":0},193]
[null,"Male 16-19",{"$f":"'Population 2016'!C196*'Prevalence Rates'!C196","v":200.72565436893203},{"$f":"'Population 2016'!D196*'Prevalence Rates'!D196","v":248.12981773575768},{"$f":"'Population 2016'!E196*'Prevalence Rates'!E196","v":428.60653027360996},{"$f":"'Population 2016'!F196*'Prevalence Rates'!F196","v":166.76295472197708},{"$f":"'Population 2016'!G196*'Prevalence Rates'!G196","v":103.9324},{"$f":"'Population 2016'!H196*'Prevalence Rates'!H196","v":261.50592550750224},{"$f":"'Population 2016'!I196*'Prevalence Rates'!I196","v":128.59254633715801},{"$f":"'Population 2016'!J196*'Prevalence Rates'!J196","v":182.18979999999999},{"$f":"'Population 2016'!K196*'Prevalence Rates'!K196","v":47.241999999999997},{"$f":"'Population 2016'!L196*'Prevalence Rates'!L196","v":112.46511120917918},{"$f":"'Population 2016'!M196*'Prevalence Rates'!M196","v":112.46511120917918},{"$f":"'Population 2016'!N196*'Prevalence Rates'!N196","v":178.46304995586937},{"$f":"'Population 2016'!O196*'Prevalence Rates'!O196","v":75.249278022947934},{"$f":"'Population 2016'!P196*'Prevalence Rates'!P196","v":79.621959399823481},{"$f":"'Population 2016'!Q196*'Prevalence Rates'!Q196","v":145.68615913503973},{"$f":"'Population 2016'!R196*'Prevalence Rates'!R196","v":41.551894263018539},{"$f":"'Population 2016'!S196*'Prevalence Rates'!S196","v":626.44848552193423},{"$f":"'Population 2016'!T196*'Prevalence Rates'!T196","v":220.12290158870258},{"$f":"'Population 2016'!U196*'Prevalence Rates'!U196","v":7.1890000000000001},{"$f":"'Population 2016'!V196*'Prevalence Rates'!V196","v":156.33305816416592},{"$f":"'Population 2016'!W196*'Prevalence Rates'!W196","v":313.26971676963814},{"$f":"'Population 2016'!X196*'Prevalence Rates'!X196","v":313.26971676963814},{"$f":"'Population 2016'!Y196*'Prevalence Rates'!Y196","v":298.87603530450133},{"$f":"'Population 2016'!Z196*'Prevalence Rates'!Z196","v":312.00767608120032},{"$f":"'Population 2016'!AA196*'Prevalence Rates'!AA196","v":440.40144963710844},{"$f":"'Population 2016'!AB196*'Prevalence Rates'!AB196","v":833.2699106796116},{"$f":"'Population 2016'!AC196*'Prevalence Rates'!AC196","v":754.81037387466893},{"$f":"'Population 2016'!AD196*'Prevalence Rates'!AD196","v":511.87764819064432},{"$f":"'Population 2016'!AE196*'Prevalence Rates'!AE196","v":409.73492939099731},{"$f":"'Population 2016'!AF196*'Prevalence Rates'!AF196","v":81.338399999999993},{"$f":"'Population 2016'!AG196*'Prevalence Rates'!AG196","v":157.78612187727848},{"$f":"'Population 2016'!AH196*'Prevalence Rates'!AH196","v":532.36271774051204},{"$f":"'Population 2016'!AI196*'Prevalence Rates'!AI196","v":532.63882030008824},{"$f":"'Population 2016'!AJ196*'Prevalence Rates'!AJ196","v":56.484999999999999},{"$f":"'Population 2016'!AK196*'Prevalence Rates'!AK196","v":184.6894074139453},{"$f":"'Population 2016'!AL196*'Prevalence Rates'!AL196","v":134.79823689320389},{"$f":"'Population 2016'!AM196*'Prevalence Rates'!AM196","v":228.18344660194174},{"$f":"'Population 2016'!AN196*'Prevalence Rates'!AN196","v":50.733800000000002},{"$f":"'Population 2016'!AO196*'Prevalence Rates'!AO196","v":50.733800000000002},{"$f":"'Population 2016'!AP196*'Prevalence Rates'!AP196","v":296.17084660194178},{"$f":"'Population 2016'!AQ196*'Prevalence Rates'!AQ196","v":152.82648314210061},{"$f":"'Population 2016'!AR196*'Prevalence Rates'!AR196","v":5079.9528},{"$f":"'Population 2016'!AS196*'Prevalence Rates'!AS196","v":128.59254633715801},{"$f":"'Population 2016'!AT196*'Prevalence Rates'!AT196","v":76.819599999999994},{"$f":"'Population 2016'!AU196*'Prevalence Rates'!AU196","v":76.819599999999994},{"$f":"'Population 2016'!AV196*'Prevalence Rates'!AV196","v":56.464151809355691},{"$f":"'Population 2016'!AW196*'Prevalence Rates'!AW196","v":303.09933486319505},{"$f":"'Population 2016'!AX196*'Prevalence Rates'!AX196","v":134.9478},{"$f":"'Population 2016'!AY196*'Prevalence Rates'!AY196","v":436.0575115597178},{"$f":"'Population 2016'!AZ196*'Prevalence Rates'!AZ196","v":667.97557502206519},{"$f":"'Population 2016'!BA196*'Prevalence Rates'!BA196","v":52.757706090026481},{"$f":"'Population 2016'!BB196*'Prevalence Rates'!BB196","v":108.16431076787291},{"$f":"'Population 2016'!BC196*'Prevalence Rates'!BC196","v":7.1890000000000001},194]
[null,"Male 20-24",{"$f":"'Population 2016'!C197*'Prevalence Rates'!C197","v":497.40003009708738},{"$f":"'Population 2016'!D197*'Prevalence Rates'!D197","v":374.89178983989478},{"$f":"'Population 2016'!E197*'Prevalence Rates'!E197","v":482.6756781994705},{"$f":"'Population 2016'!F197*'Prevalence Rates'!F197","v":199.49878367166818},{"$f":"'Population 2016'!G197*'Prevalence Rates'!G197","v":116.2564},{"$f":"'Population 2016'!H197*'Prevalence Rates'!H197","v":284.15268049426305},{"$f":"'Population 2016'!I197*'Prevalence Rates'!I197","v":133.13110679611651},{"$f":"'Population 2016'!J197*'Prevalence Rates'!J197","v":264.76060000000001},{"$f":"'Population 2016'!K197*'Prevalence Rates'!K197","v":61.825400000000002},{"$f":"'Population 2016'!L197*'Prevalence Rates'!L197","v":136.23132338923213},{"$f":"'Population 2016'!M197*'Prevalence Rates'!M197","v":136.23132338923213},{"$f":"'Population 2016'!N197*'Prevalence Rates'!N197","v":389.86234342453662},{"$f":"'Population 2016'!O197*'Prevalence Rates'!O197","v":84.028360458958517},{"$f":"'Population 2016'!P197*'Prevalence Rates'!P197","v":105.63179947043248},{"$f":"'Population 2016'!Q197*'Prevalence Rates'!Q197","v":183.04158455428066},{"$f":"'Population 2016'!R197*'Prevalence Rates'!R197","v":42.498945984112979},{"$f":"'Population 2016'!S197*'Prevalence Rates'!S197","v":934.27544704268325},{"$f":"'Population 2016'!T197*'Prevalence Rates'!T197","v":519.70052383053837},{"$f":"'Population 2016'!U197*'Prevalence Rates'!U197","v":9.6538000000000004},{"$f":"'Population 2016'!V197*'Prevalence Rates'!V197","v":182.93072656663725},{"$f":"'Population 2016'!W197*'Prevalence Rates'!W197","v":409.74689443954105},{"$f":"'Population 2016'!X197*'Prevalence Rates'!X197","v":409.74689443954105},{"$f":"'Population 2016'!Y197*'Prevalence Rates'!Y197","v":393.76566857899383},{"$f":"'Population 2016'!Z197*'Prevalence Rates'!Z197","v":1018.4219666372461},{"$f":"'Population 2016'!AA197*'Prevalence Rates'!AA197","v":723.31166728440701},{"$f":"'Population 2016'!AB197*'Prevalence Rates'!AB197","v":1213.1841320388348},{"$f":"'Population 2016'!AC197*'Prevalence Rates'!AC197","v":1508.0776190644306},{"$f":"'Population 2016'!AD197*'Prevalence Rates'!AD197","v":568.7045585172109},{"$f":"'Population 2016'!AE197*'Prevalence Rates'!AE197","v":454.37271844660188},{"$f":"'Population 2016'!AF197*'Prevalence Rates'!AF197","v":85.241},{"$f":"'Population 2016'!AG197*'Prevalence Rates'!AG197","v":174.97582946390881},{"$f":"'Population 2016'!AH197*'Prevalence Rates'!AH197","v":635.53986937334514},{"$f":"'Population 2016'!AI197*'Prevalence Rates'!AI197","v":911.61079408649607},{"$f":"'Population 2016'!AJ197*'Prevalence Rates'!AJ197","v":61.4146},{"$f":"'Population 2016'!AK197*'Prevalence Rates'!AK197","v":231.91491015004416},{"$f":"'Population 2016'!AL197*'Prevalence Rates'!AL197","v":153.08481941747573},{"$f":"'Population 2016'!AM197*'Prevalence Rates'!AM197","v":299.8132067961165},{"$f":"'Population 2016'!AN197*'Prevalence Rates'!AN197","v":53.198599999999999},{"$f":"'Population 2016'!AO197*'Prevalence Rates'!AO197","v":53.198599999999999},{"$f":"'Population 2016'!AP197*'Prevalence Rates'!AP197","v":312.36200467784641},{"$f":"'Population 2016'!AQ197*'Prevalence Rates'!AQ197","v":197.23022859664607},{"$f":"'Population 2016'!AR197*'Prevalence Rates'!AR197","v":7235.8311999999996},{"$f":"'Population 2016'!AS197*'Prevalence Rates'!AS197","v":133.13110679611651},{"$f":"'Population 2016'!AT197*'Prevalence Rates'!AT197","v":92.224599999999995},{"$f":"'Population 2016'!AU197*'Prevalence Rates'!AU197","v":92.224599999999995},{"$f":"'Population 2016'!AV197*'Prevalence Rates'!AV197","v":55.4906319505737},{"$f":"'Population 2016'!AW197*'Prevalence Rates'!AW197","v":335.07592709620474},{"$f":"'Population 2016'!AX197*'Prevalence Rates'!AX197","v":202.93520000000001},{"$f":"'Population 2016'!AY197*'Prevalence Rates'!AY197","v":587.72546511246276},{"$f":"'Population 2016'!AZ197*'Prevalence Rates'!AZ197","v":912.28845092674305},{"$f":"'Population 2016'!BA197*'Prevalence Rates'!BA197","v":77.598778464254195},{"$f":"'Population 2016'!BB197*'Prevalence Rates'!BB197","v":134.25002012356575},{"$f":"'Population 2016'!BC197*'Prevalence Rates'!BC197","v":9.6538000000000004},195]
[null,"Male 25-29",{"$f":"'Population 2016'!C198*'Prevalence Rates'!C198","v":648.68161407766991},{"$f":"'Population 2016'!D198*'Prevalence Rates'!D198","v":458.28628067578478},{"$f":"'Population 2016'!E198*'Prevalence Rates'!E198","v":555.53129854368945},{"$f":"'Population 2016'!F198*'Prevalence Rates'!F198","v":190.64717961165053},{"$f":"'Population 2016'!G198*'Prevalence Rates'!G198","v":108.79},{"$f":"'Population 2016'!H198*'Prevalence Rates'!H198","v":291.01512864077671},{"$f":"'Population 2016'!I198*'Prevalence Rates'!I198","v":122.80518203883497},{"$f":"'Population 2016'!J198*'Prevalence Rates'!J198","v":218.2895},{"$f":"'Population 2016'!K198*'Prevalence Rates'!K198","v":59.125000000000007},{"$f":"'Population 2016'!L198*'Prevalence Rates'!L198","v":148.30689563106799},{"$f":"'Population 2016'!M198*'Prevalence Rates'!M198","v":148.30689563106799},{"$f":"'Population 2016'!N198*'Prevalence Rates'!N198","v":295.04773543689322},{"$f":"'Population 2016'!O198*'Prevalence Rates'!O198","v":95.307203883495148},{"$f":"'Population 2016'!P198*'Prevalence Rates'!P198","v":95.955961165048549},{"$f":"'Population 2016'!Q198*'Prevalence Rates'!Q198","v":148.50279611650487},{"$f":"'Population 2016'!R198*'Prevalence Rates'!R198","v":51.659907766990301},{"$f":"'Population 2016'!S198*'Prevalence Rates'!S198","v":1191.92593335166},{"$f":"'Population 2016'!T198*'Prevalence Rates'!T198","v":887.38536407766992},{"$f":"'Population 2016'!U198*'Prevalence Rates'!U198","v":5.9125000000000005},{"$f":"'Population 2016'!V198*'Prevalence Rates'!V198","v":172.5127645631068},{"$f":"'Population 2016'!W198*'Prevalence Rates'!W198","v":412.23139805825247},{"$f":"'Population 2016'!X198*'Prevalence Rates'!X198","v":412.23139805825247},{"$f":"'Population 2016'!Y198*'Prevalence Rates'!Y198","v":344.53332524271849},{"$f":"'Population 2016'!Z198*'Prevalence Rates'!Z198","v":1126.2952427184466},{"$f":"'Population 2016'!AA198*'Prevalence Rates'!AA198","v":778.13931522578878},{"$f":"'Population 2016'!AB198*'Prevalence Rates'!AB198","v":1441.7591067961166},{"$f":"'Population 2016'!AC198*'Prevalence Rates'!AC198","v":1658.7479611650485},{"$f":"'Population 2016'!AD198*'Prevalence Rates'!AD198","v":620.71877669902915},{"$f":"'Population 2016'!AE198*'Prevalence Rates'!AE198","v":515.4990291262136},{"$f":"'Population 2016'!AF198*'Prevalence Rates'!AF198","v":77.808500000000009},{"$f":"'Population 2016'!AG198*'Prevalence Rates'!AG198","v":198.51515407344871},{"$f":"'Population 2016'!AH198*'Prevalence Rates'!AH198","v":651.36400000000003},{"$f":"'Population 2016'!AI198*'Prevalence Rates'!AI198","v":1309.2683834951458},{"$f":"'Population 2016'!AJ198*'Prevalence Rates'!AJ198","v":77.808500000000009},{"$f":"'Population 2016'!AK198*'Prevalence Rates'!AK198","v":240.9903689320389},{"$f":"'Population 2016'!AL198*'Prevalence Rates'!AL198","v":134.45369417475732},{"$f":"'Population 2016'!AM198*'Prevalence Rates'!AM198","v":295.63188834951455},{"$f":"'Population 2016'!AN198*'Prevalence Rates'!AN198","v":59.834500000000006},{"$f":"'Population 2016'!AO198*'Prevalence Rates'!AO198","v":59.834500000000006},{"$f":"'Population 2016'!AP198*'Prevalence Rates'!AP198","v":302.89137378640777},{"$f":"'Population 2016'!AQ198*'Prevalence Rates'!AQ198","v":240.49545145631069},{"$f":"'Population 2016'!AR198*'Prevalence Rates'!AR198","v":7974.3070000000007},{"$f":"'Population 2016'!AS198*'Prevalence Rates'!AS198","v":122.80518203883497},{"$f":"'Population 2016'!AT198*'Prevalence Rates'!AT198","v":108.55350000000001},{"$f":"'Population 2016'!AU198*'Prevalence Rates'!AU198","v":108.55350000000001},{"$f":"'Population 2016'!AV198*'Prevalence Rates'!AV198","v":63.518932038834947},{"$f":"'Population 2016'!AW198*'Prevalence Rates'!AW198","v":354.79383495145635},{"$f":"'Population 2016'!AX198*'Prevalence Rates'!AX198","v":159.1645},{"$f":"'Population 2016'!AY198*'Prevalence Rates'!AY198","v":540.67765905615181},{"$f":"'Population 2016'!AZ198*'Prevalence Rates'!AZ198","v":805.39636650485443},{"$f":"'Population 2016'!BA198*'Prevalence Rates'!BA198","v":89.075752427184469},{"$f":"'Population 2016'!BB198*'Prevalence Rates'!BB198","v":164.33378883495146},{"$f":"'Population 2016'!BC198*'Prevalence Rates'!BC198","v":5.9125000000000005},196]
[null,"Male 30-34",{"$f":"'Population 2016'!C199*'Prevalence Rates'!C199","v":479.62314805825247},{"$f":"'Population 2016'!D199*'Prevalence Rates'!D199","v":417.35105847989848},{"$f":"'Population 2016'!E199*'Prevalence Rates'!E199","v":600.29189805825251},{"$f":"'Population 2016'!F199*'Prevalence Rates'!F199","v":186.00391019417481},{"$f":"'Population 2016'!G199*'Prevalence Rates'!G199","v":94.600000000000009},{"$f":"'Population 2016'!H199*'Prevalence Rates'!H199","v":275.51728155339811},{"$f":"'Population 2016'!I199*'Prevalence Rates'!I199","v":123.85033252427186},{"$f":"'Population 2016'!J199*'Prevalence Rates'!J199","v":203.863},{"$f":"'Population 2016'!K199*'Prevalence Rates'!K199","v":73.551500000000004},{"$f":"'Population 2016'!L199*'Prevalence Rates'!L199","v":156.614036407767},{"$f":"'Population 2016'!M199*'Prevalence Rates'!M199","v":156.614036407767},{"$f":"'Population 2016'!N199*'Prevalence Rates'!N199","v":187.19528155339808},{"$f":"'Population 2016'!O199*'Prevalence Rates'!O199","v":101.32407281553398},{"$f":"'Population 2016'!P199*'Prevalence Rates'!P199","v":86.788194174757294},{"$f":"'Population 2016'!Q199*'Prevalence Rates'!Q199","v":156.42596359223302},{"$f":"'Population 2016'!R199*'Prevalence Rates'!R199","v":40.482830097087387},{"$f":"'Population 2016'!S199*'Prevalence Rates'!S199","v":1208.6841187063408},{"$f":"'Population 2016'!T199*'Prevalence Rates'!T199","v":840.53206310679616},{"$f":"'Population 2016'!U199*'Prevalence Rates'!U199","v":5.4395000000000007},{"$f":"'Population 2016'!V199*'Prevalence Rates'!V199","v":178.68180339805826},{"$f":"'Population 2016'!W199*'Prevalence Rates'!W199","v":412.49033737864085},{"$f":"'Population 2016'!X199*'Prevalence Rates'!X199","v":412.49033737864085},{"$f":"'Population 2016'!Y199*'Prevalence Rates'!Y199","v":337.86884708737864},{"$f":"'Population 2016'!Z199*'Prevalence Rates'!Z199","v":933.21605825242716},{"$f":"'Population 2016'!AA199*'Prevalence Rates'!AA199","v":718.49215675960136},{"$f":"'Population 2016'!AB199*'Prevalence Rates'!AB199","v":1338.103223300971},{"$f":"'Population 2016'!AC199*'Prevalence Rates'!AC199","v":1384.616699029126},{"$f":"'Population 2016'!AD199*'Prevalence Rates'!AD199","v":628.99168446601948},{"$f":"'Population 2016'!AE199*'Prevalence Rates'!AE199","v":539.27949029126205},{"$f":"'Population 2016'!AF199*'Prevalence Rates'!AF199","v":82.775000000000006},{"$f":"'Population 2016'!AG199*'Prevalence Rates'!AG199","v":207.67284719290842},{"$f":"'Population 2016'!AH199*'Prevalence Rates'!AH199","v":732.21986407766997},{"$f":"'Population 2016'!AI199*'Prevalence Rates'!AI199","v":1332.9854927184467},{"$f":"'Population 2016'!AJ199*'Prevalence Rates'!AJ199","v":91.289000000000001},{"$f":"'Population 2016'!AK199*'Prevalence Rates'!AK199","v":245.33023786407773},{"$f":"'Population 2016'!AL199*'Prevalence Rates'!AL199","v":113.99988834951459},{"$f":"'Population 2016'!AM199*'Prevalence Rates'!AM199","v":321.4482742718447},{"$f":"'Population 2016'!AN199*'Prevalence Rates'!AN199","v":59.834500000000006},{"$f":"'Population 2016'!AO199*'Prevalence Rates'!AO199","v":59.834500000000006},{"$f":"'Population 2016'!AP199*'Prevalence Rates'!AP199","v":333.6832354368932},{"$f":"'Population 2016'!AQ199*'Prevalence Rates'!AQ199","v":189.36845145631071},{"$f":"'Population 2016'!AR199*'Prevalence Rates'!AR199","v":7649.8290000000006},{"$f":"'Population 2016'!AS199*'Prevalence Rates'!AS199","v":123.85033252427186},{"$f":"'Population 2016'!AT199*'Prevalence Rates'!AT199","v":96.728500000000011},{"$f":"'Population 2016'!AU199*'Prevalence Rates'!AU199","v":96.728500000000011},{"$f":"'Population 2016'!AV199*'Prevalence Rates'!AV199","v":59.782524271844657},{"$f":"'Population 2016'!AW199*'Prevalence Rates'!AW199","v":409.4633252427185},{"$f":"'Population 2016'!AX199*'Prevalence Rates'!AX199","v":130.3115},{"$f":"'Population 2016'!AY199*'Prevalence Rates'!AY199","v":510.47220324295893},{"$f":"'Population 2016'!AZ199*'Prevalence Rates'!AZ199","v":738.05220873786413},{"$f":"'Population 2016'!BA199*'Prevalence Rates'!BA199","v":69.462742718446606},{"$f":"'Population 2016'!BB199*'Prevalence Rates'!BB199","v":212.73477669902914},{"$f":"'Population 2016'!BC199*'Prevalence Rates'!BC199","v":5.4395000000000007},197]
[null,"Male 35-39",{"$f":"'Population 2016'!C200*'Prevalence Rates'!C200","v":332.19805339805822},{"$f":"'Population 2016'!D200*'Prevalence Rates'!D200","v":364.02260351103502},{"$f":"'Population 2016'!E200*'Prevalence Rates'!E200","v":596.75412894969111},{"$f":"'Population 2016'!F200*'Prevalence Rates'!F200","v":156.36748234774939},{"$f":"'Population 2016'!G200*'Prevalence Rates'!G200","v":104.15},{"$f":"'Population 2016'!H200*'Prevalence Rates'!H200","v":284.48126668137689},{"$f":"'Population 2016'!I200*'Prevalence Rates'!I200","v":129.33416862312447},{"$f":"'Population 2016'!J200*'Prevalence Rates'!J200","v":211.6328},{"$f":"'Population 2016'!K200*'Prevalence Rates'!K200","v":65.614500000000007},{"$f":"'Population 2016'!L200*'Prevalence Rates'!L200","v":117.71128601059137},{"$f":"'Population 2016'!M200*'Prevalence Rates'!M200","v":117.71128601059137},{"$f":"'Population 2016'!N200*'Prevalence Rates'!N200","v":134.31571919682258},{"$f":"'Population 2016'!O200*'Prevalence Rates'!O200","v":99.205219064430722},{"$f":"'Population 2016'!P200*'Prevalence Rates'!P200","v":76.080793645189758},{"$f":"'Population 2016'!Q200*'Prevalence Rates'!Q200","v":167.2826413503972},{"$f":"'Population 2016'!R200*'Prevalence Rates'!R200","v":42.618768314210065},{"$f":"'Population 2016'!S200*'Prevalence Rates'!S200","v":1024.2180686436598},{"$f":"'Population 2016'!T200*'Prevalence Rates'!T200","v":582.8902288172992},{"$f":"'Population 2016'!U200*'Prevalence Rates'!U200","v":10.415000000000001},{"$f":"'Population 2016'!V200*'Prevalence Rates'!V200","v":181.82650401588702},{"$f":"'Population 2016'!W200*'Prevalence Rates'!W200","v":397.74305878199476},{"$f":"'Population 2016'!X200*'Prevalence Rates'!X200","v":397.74305878199476},{"$f":"'Population 2016'!Y200*'Prevalence Rates'!Y200","v":347.3862120476611},{"$f":"'Population 2016'!Z200*'Prevalence Rates'!Z200","v":608.63660520741394},{"$f":"'Population 2016'!AA200*'Prevalence Rates'!AA200","v":605.24275917002876},{"$f":"'Population 2016'!AB200*'Prevalence Rates'!AB200","v":1168.283918446602},{"$f":"'Population 2016'!AC200*'Prevalence Rates'!AC200","v":1042.6810407766991},{"$f":"'Population 2016'!AD200*'Prevalence Rates'!AD200","v":585.12444395410421},{"$f":"'Population 2016'!AE200*'Prevalence Rates'!AE200","v":484.21017210944393},{"$f":"'Population 2016'!AF200*'Prevalence Rates'!AF200","v":70.4054},{"$f":"'Population 2016'!AG200*'Prevalence Rates'!AG200","v":186.46602901109026},{"$f":"'Population 2016'!AH200*'Prevalence Rates'!AH200","v":726.86735428067084},{"$f":"'Population 2016'!AI200*'Prevalence Rates'!AI200","v":1061.092701676964},{"$f":"'Population 2016'!AJ200*'Prevalence Rates'!AJ200","v":98.525900000000007},{"$f":"'Population 2016'!AK200*'Prevalence Rates'!AK200","v":215.17794466019421},{"$f":"'Population 2016'!AL200*'Prevalence Rates'!AL200","v":125.04471456310681},{"$f":"'Population 2016'!AM200*'Prevalence Rates'!AM200","v":307.26575679611653},{"$f":"'Population 2016'!AN200*'Prevalence Rates'!AN200","v":50.200300000000006},{"$f":"'Population 2016'!AO200*'Prevalence Rates'!AO200","v":50.200300000000006},{"$f":"'Population 2016'!AP200*'Prevalence Rates'!AP200","v":295.55563821712269},{"$f":"'Population 2016'!AQ200*'Prevalence Rates'!AQ200","v":182.09005039717565},{"$f":"'Population 2016'!AR200*'Prevalence Rates'!AR200","v":6669.9743000000008},{"$f":"'Population 2016'!AS200*'Prevalence Rates'!AS200","v":129.33416862312447},{"$f":"'Population 2016'!AT200*'Prevalence Rates'!AT200","v":94.568200000000004},{"$f":"'Population 2016'!AU200*'Prevalence Rates'!AU200","v":94.568200000000004},{"$f":"'Population 2016'!AV200*'Prevalence Rates'!AV200","v":61.374960723742277},{"$f":"'Population 2016'!AW200*'Prevalence Rates'!AW200","v":418.02721350397178},{"$f":"'Population 2016'!AX200*'Prevalence Rates'!AX200","v":146.01830000000001},{"$f":"'Population 2016'!AY200*'Prevalence Rates'!AY200","v":449.60405892392538},{"$f":"'Population 2016'!AZ200*'Prevalence Rates'!AZ200","v":616.99811284201235},{"$f":"'Population 2016'!BA200*'Prevalence Rates'!BA200","v":53.502581200353042},{"$f":"'Population 2016'!BB200*'Prevalence Rates'!BB200","v":193.93989360105914},{"$f":"'Population 2016'!BC200*'Prevalence Rates'!BC200","v":10.415000000000001},198]
[null,"Male 40-44",{"$f":"'Population 2016'!C201*'Prevalence Rates'!C201","v":278.48092135922332},{"$f":"'Population 2016'!D201*'Prevalence Rates'!D201","v":370.65325202671875},{"$f":"'Population 2016'!E201*'Prevalence Rates'!E201","v":658.39070564872031},{"$f":"'Population 2016'!F201*'Prevalence Rates'!F201","v":184.75419452780235},{"$f":"'Population 2016'!G201*'Prevalence Rates'!G201","v":130.39580000000001},{"$f":"'Population 2016'!H201*'Prevalence Rates'!H201","v":339.51420022065315},{"$f":"'Population 2016'!I201*'Prevalence Rates'!I201","v":168.14976134157109},{"$f":"'Population 2016'!J201*'Prevalence Rates'!J201","v":235.17070000000001},{"$f":"'Population 2016'!K201*'Prevalence Rates'!K201","v":70.822000000000003},{"$f":"'Population 2016'!L201*'Prevalence Rates'!L201","v":153.43354099735217},{"$f":"'Population 2016'!M201*'Prevalence Rates'!M201","v":153.43354099735217},{"$f":"'Population 2016'!N201*'Prevalence Rates'!N201","v":136.92149152691968},{"$f":"'Population 2016'!O201*'Prevalence Rates'!O201","v":117.85919187996471},{"$f":"'Population 2016'!P201*'Prevalence Rates'!P201","v":90.794532038834959},{"$f":"'Population 2016'!Q201*'Prevalence Rates'!Q201","v":222.31244947043251},{"$f":"'Population 2016'!R201*'Prevalence Rates'!R201","v":51.742786319505747},{"$f":"'Population 2016'!S201*'Prevalence Rates'!S201","v":1048.3259996457202},{"$f":"'Population 2016'!T201*'Prevalence Rates'!T201","v":486.66086849073258},{"$f":"'Population 2016'!U201*'Prevalence Rates'!U201","v":11.4565},{"$f":"'Population 2016'!V201*'Prevalence Rates'!V201","v":199.67926641659312},{"$f":"'Population 2016'!W201*'Prevalence Rates'!W201","v":423.7423183583407},{"$f":"'Population 2016'!X201*'Prevalence Rates'!X201","v":423.7423183583407},{"$f":"'Population 2016'!Y201*'Prevalence Rates'!Y201","v":383.85020255957636},{"$f":"'Population 2016'!Z201*'Prevalence Rates'!Z201","v":528.98364121800535},{"$f":"'Population 2016'!AA201*'Prevalence Rates'!AA201","v":633.25651996354418},{"$f":"'Population 2016'!AB201*'Prevalence Rates'!AB201","v":1231.1864737864078},{"$f":"'Population 2016'!AC201*'Prevalence Rates'!AC201","v":1058.106639364519},{"$f":"'Population 2016'!AD201*'Prevalence Rates'!AD201","v":661.52182418358348},{"$f":"'Population 2016'!AE201*'Prevalence Rates'!AE201","v":533.75725948808474},{"$f":"'Population 2016'!AF201*'Prevalence Rates'!AF201","v":85.194700000000012},{"$f":"'Population 2016'!AG201*'Prevalence Rates'!AG201","v":205.54627384013205},{"$f":"'Population 2016'!AH201*'Prevalence Rates'!AH201","v":789.72725684024715},{"$f":"'Population 2016'!AI201*'Prevalence Rates'!AI201","v":1029.4817518534865},{"$f":"'Population 2016'!AJ201*'Prevalence Rates'!AJ201","v":94.35990000000001},{"$f":"'Population 2016'!AK201*'Prevalence Rates'!AK201","v":261.94598278905568},{"$f":"'Population 2016'!AL201*'Prevalence Rates'!AL201","v":158.69022038834953},{"$f":"'Population 2016'!AM201*'Prevalence Rates'!AM201","v":344.89424174757283},{"$f":"'Population 2016'!AN201*'Prevalence Rates'!AN201","v":64.156400000000005},{"$f":"'Population 2016'!AO201*'Prevalence Rates'!AO201","v":64.156400000000005},{"$f":"'Population 2016'!AP201*'Prevalence Rates'!AP201","v":330.42456182700795},{"$f":"'Population 2016'!AQ201*'Prevalence Rates'!AQ201","v":200.45207228596647},{"$f":"'Population 2016'!AR201*'Prevalence Rates'!AR201","v":7154.6884},{"$f":"'Population 2016'!AS201*'Prevalence Rates'!AS201","v":168.14976134157109},{"$f":"'Population 2016'!AT201*'Prevalence Rates'!AT201","v":114.77330000000001},{"$f":"'Population 2016'!AU201*'Prevalence Rates'!AU201","v":114.77330000000001},{"$f":"'Population 2016'!AV201*'Prevalence Rates'!AV201","v":67.792181818181817},{"$f":"'Population 2016'!AW201*'Prevalence Rates'!AW201","v":443.38006284201236},{"$f":"'Population 2016'!AX201*'Prevalence Rates'!AX201","v":164.34870000000001},{"$f":"'Population 2016'!AY201*'Prevalence Rates'!AY201","v":492.17012367411951},{"$f":"'Population 2016'!AZ201*'Prevalence Rates'!AZ201","v":686.59917700794347},{"$f":"'Population 2016'!BA201*'Prevalence Rates'!BA201","v":73.176176081200353},{"$f":"'Population 2016'!BB201*'Prevalence Rates'!BB201","v":213.14853640776701},{"$f":"'Population 2016'!BC201*'Prevalence Rates'!BC201","v":11.4565},199]
[null,"Male 45-49",{"$f":"'Population 2016'!C202*'Prevalence Rates'!C202","v":259.29190097087377},{"$f":"'Population 2016'!D202*'Prevalence Rates'!D202","v":382.73377316572589},{"$f":"'Population 2016'!E202*'Prevalence Rates'!E202","v":703.85782140335391},{"$f":"'Population 2016'!F202*'Prevalence Rates'!F202","v":235.36427206531337},{"$f":"'Population 2016'!G202*'Prevalence Rates'!G202","v":158.69229999999999},{"$f":"'Population 2016'!H202*'Prevalence Rates'!H202","v":428.69606954986762},{"$f":"'Population 2016'!I202*'Prevalence Rates'!I202","v":229.65196941747575},{"$f":"'Population 2016'!J202*'Prevalence Rates'!J202","v":291.9359},{"$f":"'Population 2016'!K202*'Prevalence Rates'!K202","v":88.346299999999999},{"$f":"'Population 2016'!L202*'Prevalence Rates'!L202","v":201.77808367166816},{"$f":"'Population 2016'!M202*'Prevalence Rates'!M202","v":201.77808367166816},{"$f":"'Population 2016'!N202*'Prevalence Rates'!N202","v":162.82500423654017},{"$f":"'Population 2016'!O202*'Prevalence Rates'!O202","v":132.2268134157105},{"$f":"'Population 2016'!P202*'Prevalence Rates'!P202","v":119.0575279788173},{"$f":"'Population 2016'!Q202*'Prevalence Rates'!Q202","v":243.98933592233007},{"$f":"'Population 2016'!R202*'Prevalence Rates'!R202","v":53.302954898499557},{"$f":"'Population 2016'!S202*'Prevalence Rates'!S202","v":1169.3173816396843},{"$f":"'Population 2016'!T202*'Prevalence Rates'!T202","v":450.88130097087378},{"$f":"'Population 2016'!U202*'Prevalence Rates'!U202","v":14.896800000000001},{"$f":"'Population 2016'!V202*'Prevalence Rates'!V202","v":239.00693556928508},{"$f":"'Population 2016'!W202*'Prevalence Rates'!W202","v":565.42099488084727},{"$f":"'Population 2016'!X202*'Prevalence Rates'!X202","v":565.42099488084727},{"$f":"'Population 2016'!Y202*'Prevalence Rates'!Y202","v":468.37238592233007},{"$f":"'Population 2016'!Z202*'Prevalence Rates'!Z202","v":542.90213036187106},{"$f":"'Population 2016'!AA202*'Prevalence Rates'!AA202","v":726.20884392485766},{"$f":"'Population 2016'!AB202*'Prevalence Rates'!AB202","v":1328.9970407766991},{"$f":"'Population 2016'!AC202*'Prevalence Rates'!AC202","v":1217.759711915269},{"$f":"'Population 2016'!AD202*'Prevalence Rates'!AD202","v":785.81514801412175},{"$f":"'Population 2016'!AE202*'Prevalence Rates'!AE202","v":629.94019417475727},{"$f":"'Population 2016'!AF202*'Prevalence Rates'!AF202","v":117.1054},{"$f":"'Population 2016'!AG202*'Prevalence Rates'!AG202","v":242.58566483748416},{"$f":"'Population 2016'!AH202*'Prevalence Rates'!AH202","v":901.78597634598418},{"$f":"'Population 2016'!AI202*'Prevalence Rates'!AI202","v":1022.3789105030892},{"$f":"'Population 2016'!AJ202*'Prevalence Rates'!AJ202","v":97.4499},{"$f":"'Population 2016'!AK202*'Prevalence Rates'!AK202","v":329.86598402471321},{"$f":"'Population 2016'!AL202*'Prevalence Rates'!AL202","v":205.77912427184467},{"$f":"'Population 2016'!AM202*'Prevalence Rates'!AM202","v":397.94001019417482},{"$f":"'Population 2016'!AN202*'Prevalence Rates'!AN202","v":84.001400000000004},{"$f":"'Population 2016'!AO202*'Prevalence Rates'!AO202","v":84.001400000000004},{"$f":"'Population 2016'!AP202*'Prevalence Rates'!AP202","v":410.11725304501323},{"$f":"'Population 2016'!AQ202*'Prevalence Rates'!AQ202","v":246.43835260370699},{"$f":"'Population 2016'!AR202*'Prevalence Rates'!AR202","v":8244.1373999999996},{"$f":"'Population 2016'!AS202*'Prevalence Rates'!AS202","v":229.65196941747575},{"$f":"'Population 2016'!AT202*'Prevalence Rates'!AT202","v":111.3122},{"$f":"'Population 2016'!AU202*'Prevalence Rates'!AU202","v":111.3122},{"$f":"'Population 2016'!AV202*'Prevalence Rates'!AV202","v":95.121042365401593},{"$f":"'Population 2016'!AW202*'Prevalence Rates'!AW202","v":502.28252894969114},{"$f":"'Population 2016'!AX202*'Prevalence Rates'!AX202","v":203.58959999999999},{"$f":"'Population 2016'!AY202*'Prevalence Rates'!AY202","v":627.44657374493261},{"$f":"'Population 2016'!AZ202*'Prevalence Rates'!AZ202","v":851.12186385701671},{"$f":"'Population 2016'!BA202*'Prevalence Rates'!BA202","v":102.7113323036187},{"$f":"'Population 2016'!BB202*'Prevalence Rates'!BB202","v":219.74943958517213},{"$f":"'Population 2016'!BC202*'Prevalence Rates'!BC202","v":14.896800000000001},200]
[null,"Male 50-54",{"$f":"'Population 2016'!C203*'Prevalence Rates'!C203","v":267.7165475728155},{"$f":"'Population 2016'!D203*'Prevalence Rates'!D203","v":409.73671521742693},{"$f":"'Population 2016'!E203*'Prevalence Rates'!E203","v":761.89975414827893},{"$f":"'Population 2016'!F203*'Prevalence Rates'!F203","v":279.09184748455431},{"$f":"'Population 2016'!G203*'Prevalence Rates'!G203","v":178.96850000000001},{"$f":"'Population 2016'!H203*'Prevalence Rates'!H203","v":461.62302669902914},{"$f":"'Population 2016'!I203*'Prevalence Rates'!I203","v":263.48258468667257},{"$f":"'Population 2016'!J203*'Prevalence Rates'!J203","v":301.45330000000001},{"$f":"'Population 2016'!K203*'Prevalence Rates'!K203","v":82.76},{"$f":"'Population 2016'!L203*'Prevalence Rates'!L203","v":239.18397842012359},{"$f":"'Population 2016'!M203*'Prevalence Rates'!M203","v":239.18397842012359},{"$f":"'Population 2016'!N203*'Prevalence Rates'!N203","v":180.00163040600177},{"$f":"'Population 2016'!O203*'Prevalence Rates'!O203","v":139.38558993821712},{"$f":"'Population 2016'!P203*'Prevalence Rates'!P203","v":127.612559929391},{"$f":"'Population 2016'!Q203*'Prevalence Rates'!Q203","v":264.38779501323916},{"$f":"'Population 2016'!R203*'Prevalence Rates'!R203","v":66.658505119152693},{"$f":"'Population 2016'!S203*'Prevalence Rates'!S203","v":1212.8109547108083},{"$f":"'Population 2016'!T203*'Prevalence Rates'!T203","v":446.64103795233893},{"$f":"'Population 2016'!U203*'Prevalence Rates'!U203","v":11.586399999999999},{"$f":"'Population 2016'!V203*'Prevalence Rates'!V203","v":228.02032643424536},{"$f":"'Population 2016'!W203*'Prevalence Rates'!W203","v":579.6924382612533},{"$f":"'Population 2016'!X203*'Prevalence Rates'!X203","v":579.6924382612533},{"$f":"'Population 2016'!Y203*'Prevalence Rates'!Y203","v":466.42893203883494},{"$f":"'Population 2016'!Z203*'Prevalence Rates'!Z203","v":529.06868314210055},{"$f":"'Population 2016'!AA203*'Prevalence Rates'!AA203","v":758.94895203572162},{"$f":"'Population 2016'!AB203*'Prevalence Rates'!AB203","v":1403.842613592233},{"$f":"'Population 2016'!AC203*'Prevalence Rates'!AC203","v":1293.9252081200352},{"$f":"'Population 2016'!AD203*'Prevalence Rates'!AD203","v":855.33884377758159},{"$f":"'Population 2016'!AE203*'Prevalence Rates'!AE203","v":678.93057149161518},{"$f":"'Population 2016'!AF203*'Prevalence Rates'!AF203","v":133.45050000000001},{"$f":"'Population 2016'!AG203*'Prevalence Rates'!AG203","v":261.45152442534248},{"$f":"'Population 2016'!AH203*'Prevalence Rates'!AH203","v":923.52052003530457},{"$f":"'Population 2016'!AI203*'Prevalence Rates'!AI203","v":1035.4157105472198},{"$f":"'Population 2016'!AJ203*'Prevalence Rates'!AJ203","v":100.34650000000001},{"$f":"'Population 2016'!AK203*'Prevalence Rates'!AK203","v":333.66268120035306},{"$f":"'Population 2016'!AL203*'Prevalence Rates'!AL203","v":233.40931359223302},{"$f":"'Population 2016'!AM203*'Prevalence Rates'!AM203","v":405.7349174757282},{"$f":"'Population 2016'!AN203*'Prevalence Rates'!AN203","v":91.449799999999996},{"$f":"'Population 2016'!AO203*'Prevalence Rates'!AO203","v":91.449799999999996},{"$f":"'Population 2016'!AP203*'Prevalence Rates'!AP203","v":463.99324607237423},{"$f":"'Population 2016'!AQ203*'Prevalence Rates'!AQ203","v":272.71063512797883},{"$f":"'Population 2016'!AR203*'Prevalence Rates'!AR203","v":8743.1802000000007},{"$f":"'Population 2016'!AS203*'Prevalence Rates'!AS203","v":263.48258468667257},{"$f":"'Population 2016'!AT203*'Prevalence Rates'!AT203","v":122.48480000000001},{"$f":"'Population 2016'!AU203*'Prevalence Rates'!AU203","v":122.48480000000001},{"$f":"'Population 2016'!AV203*'Prevalence Rates'!AV203","v":97.409177405119152},{"$f":"'Population 2016'!AW203*'Prevalence Rates'!AW203","v":516.14263759929395},{"$f":"'Population 2016'!AX203*'Prevalence Rates'!AX203","v":218.69329999999999},{"$f":"'Population 2016'!AY203*'Prevalence Rates'!AY203","v":687.44107533682836},{"$f":"'Population 2016'!AZ203*'Prevalence Rates'!AZ203","v":970.69198521623991},{"$f":"'Population 2016'!BA203*'Prevalence Rates'!BA203","v":112.24370653133275},{"$f":"'Population 2016'!BB203*'Prevalence Rates'!BB203","v":216.06742308031775},{"$f":"'Population 2016'!BC203*'Prevalence Rates'!BC203","v":11.586399999999999},201]
[null,"Male 55-59",{"$f":"'Population 2016'!C204*'Prevalence Rates'!C204","v":175.40285242718448},{"$f":"'Population 2016'!D204*'Prevalence Rates'!D204","v":267.74768798890562},{"$f":"'Population 2016'!E204*'Prevalence Rates'!E204","v":497.48235251544577},{"$f":"'Population 2016'!F204*'Prevalence Rates'!F204","v":176.85538172992059},{"$f":"'Population 2016'!G204*'Prevalence Rates'!G204","v":119.96820000000001},{"$f":"'Population 2016'!H204*'Prevalence Rates'!H204","v":319.34645586937341},{"$f":"'Population 2016'!I204*'Prevalence Rates'!I204","v":175.40232497793471},{"$f":"'Population 2016'!J204*'Prevalence Rates'!J204","v":192.1284},{"$f":"'Population 2016'!K204*'Prevalence Rates'!K204","v":50.048999999999999},{"$f":"'Population 2016'!L204*'Prevalence Rates'!L204","v":159.2838714916152},{"$f":"'Population 2016'!M204*'Prevalence Rates'!M204","v":159.2838714916152},{"$f":"'Population 2016'!N204*'Prevalence Rates'!N204","v":140.6810001765225},{"$f":"'Population 2016'!O204*'Prevalence Rates'!O204","v":95.631427890556054},{"$f":"'Population 2016'!P204*'Prevalence Rates'!P204","v":98.453676963812882},{"$f":"'Population 2016'!Q204*'Prevalence Rates'!Q204","v":178.61284263018536},{"$f":"'Population 2016'!R204*'Prevalence Rates'!R204","v":36.164557811120922},{"$f":"'Population 2016'!S204*'Prevalence Rates'!S204","v":804.56295894793141},{"$f":"'Population 2016'!T204*'Prevalence Rates'!T204","v":296.74360723742279},{"$f":"'Population 2016'!U204*'Prevalence Rates'!U204","v":7.7688000000000006},{"$f":"'Population 2016'!V204*'Prevalence Rates'!V204","v":152.40283451015003},{"$f":"'Population 2016'!W204*'Prevalence Rates'!W204","v":390.78114942630191},{"$f":"'Population 2016'!X204*'Prevalence Rates'!X204","v":390.78114942630191},{"$f":"'Population 2016'!Y204*'Prevalence Rates'!Y204","v":303.76033053839365},{"$f":"'Population 2016'!Z204*'Prevalence Rates'!Z204","v":331.56356504854369},{"$f":"'Population 2016'!AA204*'Prevalence Rates'!AA204","v":481.95768952946656},{"$f":"'Population 2016'!AB204*'Prevalence Rates'!AB204","v":911.09051650485435},{"$f":"'Population 2016'!AC204*'Prevalence Rates'!AC204","v":858.48483812886127},{"$f":"'Population 2016'!AD204*'Prevalence Rates'!AD204","v":585.48145789938212},{"$f":"'Population 2016'!AE204*'Prevalence Rates'!AE204","v":467.47167696381291},{"$f":"'Population 2016'!AF204*'Prevalence Rates'!AF204","v":84.560400000000001},{"$f":"'Population 2016'!AG204*'Prevalence Rates'!AG204","v":180.02014889289688},{"$f":"'Population 2016'!AH204*'Prevalence Rates'!AH204","v":553.72176063548113},{"$f":"'Population 2016'!AI204*'Prevalence Rates'!AI204","v":681.10227087378644},{"$f":"'Population 2016'!AJ204*'Prevalence Rates'!AJ204","v":69.321600000000004},{"$f":"'Population 2016'!AK204*'Prevalence Rates'!AK204","v":211.58310185348634},{"$f":"'Population 2016'!AL204*'Prevalence Rates'!AL204","v":157.71128155339807},{"$f":"'Population 2016'!AM204*'Prevalence Rates'!AM204","v":229.32972524271844},{"$f":"'Population 2016'!AN204*'Prevalence Rates'!AN204","v":58.266000000000005},{"$f":"'Population 2016'!AO204*'Prevalence Rates'!AO204","v":58.266000000000005},{"$f":"'Population 2016'!AP204*'Prevalence Rates'!AP204","v":307.25593451015004},{"$f":"'Population 2016'!AQ204*'Prevalence Rates'!AQ204","v":192.06075463371582},{"$f":"'Population 2016'!AR204*'Prevalence Rates'!AR204","v":5749.3602000000001},{"$f":"'Population 2016'!AS204*'Prevalence Rates'!AS204","v":175.40232497793471},{"$f":"'Population 2016'!AT204*'Prevalence Rates'!AT204","v":79.182000000000002},{"$f":"'Population 2016'!AU204*'Prevalence Rates'!AU204","v":79.182000000000002},{"$f":"'Population 2016'!AV204*'Prevalence Rates'!AV204","v":70.337994704324799},{"$f":"'Population 2016'!AW204*'Prevalence Rates'!AW204","v":323.0821811120918},{"$f":"'Population 2016'!AX204*'Prevalence Rates'!AX204","v":142.07939999999999},{"$f":"'Population 2016'!AY204*'Prevalence Rates'!AY204","v":463.88427885827241},{"$f":"'Population 2016'!AZ204*'Prevalence Rates'!AZ204","v":655.40019638128865},{"$f":"'Population 2016'!BA204*'Prevalence Rates'!BA204","v":83.631034421888785},{"$f":"'Population 2016'!BB204*'Prevalence Rates'!BB204","v":132.69528667255076},{"$f":"'Population 2016'!BC204*'Prevalence Rates'!BC204","v":7.7688000000000006},202]
[null,"Male 60-64",{"$f":"'Population 2016'!C205*'Prevalence Rates'!C205","v":168.8125718446602},{"$f":"'Population 2016'!D205*'Prevalence Rates'!D205","v":241.7695042297689},{"$f":"'Population 2016'!E205*'Prevalence Rates'!E205","v":440.35656593115624},{"$f":"'Population 2016'!F205*'Prevalence Rates'!F205","v":177.3730072374228},{"$f":"'Population 2016'!G205*'Prevalence Rates'!G205","v":117.72720000000001},{"$f":"'Population 2016'!H205*'Prevalence Rates'!H205","v":291.0637040600177},{"$f":"'Population 2016'!I205*'Prevalence Rates'!I205","v":167.91966619594001},{"$f":"'Population 2016'!J205*'Prevalence Rates'!J205","v":152.08920000000001},{"$f":"'Population 2016'!K205*'Prevalence Rates'!K205","v":38.395800000000001},{"$f":"'Population 2016'!L205*'Prevalence Rates'!L205","v":161.44469920564873},{"$f":"'Population 2016'!M205*'Prevalence Rates'!M205","v":161.44469920564873},{"$f":"'Population 2016'!N205*'Prevalence Rates'!N205","v":105.85055931156222},{"$f":"'Population 2016'!O205*'Prevalence Rates'!O205","v":88.789751809355707},{"$f":"'Population 2016'!P205*'Prevalence Rates'!P205","v":88.543960458958523},{"$f":"'Population 2016'!Q205*'Prevalence Rates'!Q205","v":136.85547669902914},{"$f":"'Population 2016'!R205*'Prevalence Rates'!R205","v":37.456149161518098},{"$f":"'Population 2016'!S205*'Prevalence Rates'!S205","v":682.46700114267514},{"$f":"'Population 2016'!T205*'Prevalence Rates'!T205","v":257.96026390114741},{"$f":"'Population 2016'!U205*'Prevalence Rates'!U205","v":6.7229999999999999},{"$f":"'Population 2016'!V205*'Prevalence Rates'!V205","v":118.16438949691086},{"$f":"'Population 2016'!W205*'Prevalence Rates'!W205","v":334.18413071491619},{"$f":"'Population 2016'!X205*'Prevalence Rates'!X205","v":334.18413071491619},{"$f":"'Population 2016'!Y205*'Prevalence Rates'!Y205","v":238.18586187113857},{"$f":"'Population 2016'!Z205*'Prevalence Rates'!Z205","v":280.9177562224184},{"$f":"'Population 2016'!AA205*'Prevalence Rates'!AA205","v":409.36395416016632},{"$f":"'Population 2016'!AB205*'Prevalence Rates'!AB205","v":835.74069902912618},{"$f":"'Population 2016'!AC205*'Prevalence Rates'!AC205","v":737.26434174757276},{"$f":"'Population 2016'!AD205*'Prevalence Rates'!AD205","v":543.98939894086493},{"$f":"'Population 2016'!AE205*'Prevalence Rates'!AE205","v":427.57343777581644},{"$f":"'Population 2016'!AF205*'Prevalence Rates'!AF205","v":70.815600000000003},{"$f":"'Population 2016'!AG205*'Prevalence Rates'!AG205","v":164.65560957826472},{"$f":"'Population 2016'!AH205*'Prevalence Rates'!AH205","v":463.12312162400713},{"$f":"'Population 2016'!AI205*'Prevalence Rates'!AI205","v":552.49234236540167},{"$f":"'Population 2016'!AJ205*'Prevalence Rates'!AJ205","v":58.564800000000005},{"$f":"'Population 2016'!AK205*'Prevalence Rates'!AK205","v":204.48732709620478},{"$f":"'Population 2016'!AL205*'Prevalence Rates'!AL205","v":145.74042524271846},{"$f":"'Population 2016'!AM205*'Prevalence Rates'!AM205","v":190.93972718446602},{"$f":"'Population 2016'!AN205*'Prevalence Rates'!AN205","v":53.933399999999999},{"$f":"'Population 2016'!AO205*'Prevalence Rates'!AO205","v":53.933399999999999},{"$f":"'Population 2016'!AP205*'Prevalence Rates'!AP205","v":283.43764501323915},{"$f":"'Population 2016'!AQ205*'Prevalence Rates'!AQ205","v":157.0978580759047},{"$f":"'Population 2016'!AR205*'Prevalence Rates'!AR205","v":5052.7080000000005},{"$f":"'Population 2016'!AS205*'Prevalence Rates'!AS205","v":167.91966619594001},{"$f":"'Population 2016'!AT205*'Prevalence Rates'!AT205","v":72.459000000000003},{"$f":"'Population 2016'!AU205*'Prevalence Rates'!AU205","v":72.459000000000003},{"$f":"'Population 2016'!AV205*'Prevalence Rates'!AV205","v":61.604753751103267},{"$f":"'Population 2016'!AW205*'Prevalence Rates'!AW205","v":271.06764148278904},{"$f":"'Population 2016'!AX205*'Prevalence Rates'!AX205","v":113.6934},{"$f":"'Population 2016'!AY205*'Prevalence Rates'!AY205","v":412.43580917380831},{"$f":"'Population 2016'!AZ205*'Prevalence Rates'!AZ205","v":595.43304068843781},{"$f":"'Population 2016'!BA205*'Prevalence Rates'!BA205","v":68.143805825242723},{"$f":"'Population 2016'!BB205*'Prevalence Rates'!BB205","v":96.198040247131516},{"$f":"'Population 2016'!BC205*'Prevalence Rates'!BC205","v":6.7229999999999999},203]
[null,"Male 65-69",{"$f":"'Population 2016'!C206*'Prevalence Rates'!C206","v":117.79394174757283},{"$f":"'Population 2016'!D206*'Prevalence Rates'!D206","v":181.92694640954267},{"$f":"'Population 2016'!E206*'Prevalence Rates'!E206","v":339.20350026478383},{"$f":"'Population 2016'!F206*'Prevalence Rates'!F206","v":138.05564271844665},{"$f":"'Population 2016'!G206*'Prevalence Rates'!G206","v":93.05040000000001},{"$f":"'Population 2016'!H206*'Prevalence Rates'!H206","v":221.59794210061787},{"$f":"'Population 2016'!I206*'Prevalence Rates'!I206","v":134.90292780229481},{"$f":"'Population 2016'!J206*'Prevalence Rates'!J206","v":110.25680000000001},{"$f":"'Population 2016'!K206*'Prevalence Rates'!K206","v":29.998000000000001},{"$f":"'Population 2016'!L206*'Prevalence Rates'!L206","v":123.14486478375994},{"$f":"'Population 2016'!M206*'Prevalence Rates'!M206","v":123.14486478375994},{"$f":"'Population 2016'!N206*'Prevalence Rates'!N206","v":75.310721094439558},{"$f":"'Population 2016'!O206*'Prevalence Rates'!O206","v":61.976650308914387},{"$f":"'Population 2016'!P206*'Prevalence Rates'!P206","v":66.992019770520756},{"$f":"'Population 2016'!Q206*'Prevalence Rates'!Q206","v":101.41960670785527},{"$f":"'Population 2016'!R206*'Prevalence Rates'!R206","v":25.314037775816423},{"$f":"'Population 2016'!S206*'Prevalence Rates'!S206","v":514.1623844220095},{"$f":"'Population 2016'!T206*'Prevalence Rates'!T206","v":164.71649073256842},{"$f":"'Population 2016'!U206*'Prevalence Rates'!U206","v":5.8864000000000001},{"$f":"'Population 2016'!V206*'Prevalence Rates'!V206","v":93.962044660194181},{"$f":"'Population 2016'!W206*'Prevalence Rates'!W206","v":272.91700723742281},{"$f":"'Population 2016'!X206*'Prevalence Rates'!X206","v":272.91700723742281},{"$f":"'Population 2016'!Y206*'Prevalence Rates'!Y206","v":180.27949249779348},{"$f":"'Population 2016'!Z206*'Prevalence Rates'!Z206","v":184.03682330097087},{"$f":"'Population 2016'!AA206*'Prevalence Rates'!AA206","v":286.36923794307017},{"$f":"'Population 2016'!AB206*'Prevalence Rates'!AB206","v":622.08125825242723},{"$f":"'Population 2016'!AC206*'Prevalence Rates'!AC206","v":514.03550503089139},{"$f":"'Population 2016'!AD206*'Prevalence Rates'!AD206","v":414.93924589585174},{"$f":"'Population 2016'!AE206*'Prevalence Rates'!AE206","v":322.62499558693736},{"$f":"'Population 2016'!AF206*'Prevalence Rates'!AF206","v":45.619600000000005},{"$f":"'Population 2016'!AG206*'Prevalence Rates'!AG206","v":124.24068153037339},{"$f":"'Population 2016'!AH206*'Prevalence Rates'!AH206","v":325.50265348631956},{"$f":"'Population 2016'!AI206*'Prevalence Rates'!AI206","v":388.98597281553401},{"$f":"'Population 2016'!AJ206*'Prevalence Rates'!AJ206","v":48.676000000000002},{"$f":"'Population 2016'!AK206*'Prevalence Rates'!AK206","v":146.87485189761699},{"$f":"'Population 2016'!AL206*'Prevalence Rates'!AL206","v":120.50524660194178},{"$f":"'Population 2016'!AM206*'Prevalence Rates'!AM206","v":126.74058834951457},{"$f":"'Population 2016'!AN206*'Prevalence Rates'!AN206","v":39.846400000000003},{"$f":"'Population 2016'!AO206*'Prevalence Rates'!AO206","v":39.846400000000003},{"$f":"'Population 2016'!AP206*'Prevalence Rates'!AP206","v":216.76521129744043},{"$f":"'Population 2016'!AQ206*'Prevalence Rates'!AQ206","v":112.14253415710505},{"$f":"'Population 2016'!AR206*'Prevalence Rates'!AR206","v":3748.5048000000002},{"$f":"'Population 2016'!AS206*'Prevalence Rates'!AS206","v":134.90292780229481},{"$f":"'Population 2016'!AT206*'Prevalence Rates'!AT206","v":53.656800000000004},{"$f":"'Population 2016'!AU206*'Prevalence Rates'!AU206","v":53.656800000000004},{"$f":"'Population 2016'!AV206*'Prevalence Rates'!AV206","v":45.336450132391882},{"$f":"'Population 2016'!AW206*'Prevalence Rates'!AW206","v":197.80406142983233},{"$f":"'Population 2016'!AX206*'Prevalence Rates'!AX206","v":80.258800000000008},{"$f":"'Population 2016'!AY206*'Prevalence Rates'!AY206","v":321.55104340006017},{"$f":"'Population 2016'!AZ206*'Prevalence Rates'!AZ206","v":452.34754969108559},{"$f":"'Population 2016'!BA206*'Prevalence Rates'!BA206","v":55.152778464254197},{"$f":"'Population 2016'!BB206*'Prevalence Rates'!BB206","v":73.438425066195947},{"$f":"'Population 2016'!BC206*'Prevalence Rates'!BC206","v":5.8864000000000001},204]
[null,"Male 70-74",{"$f":"'Population 2016'!C207*'Prevalence Rates'!C207","v":84.888460194174769},{"$f":"'Population 2016'!D207*'Prevalence Rates'!D207","v":122.24553913233444},{"$f":"'Population 2016'!E207*'Prevalence Rates'!E207","v":223.054305560459},{"$f":"'Population 2016'!F207*'Prevalence Rates'!F207","v":113.21608578993825},{"$f":"'Population 2016'!G207*'Prevalence Rates'!G207","v":76.410000000000011},{"$f":"'Population 2016'!H207*'Prevalence Rates'!H207","v":183.09500529567524},{"$f":"'Population 2016'!I207*'Prevalence Rates'!I207","v":103.55342171226833},{"$f":"'Population 2016'!J207*'Prevalence Rates'!J207","v":90.899600000000007},{"$f":"'Population 2016'!K207*'Prevalence Rates'!K207","v":23.432400000000001},{"$f":"'Population 2016'!L207*'Prevalence Rates'!L207","v":96.597966107678744},{"$f":"'Population 2016'!M207*'Prevalence Rates'!M207","v":96.597966107678744},{"$f":"'Population 2016'!N207*'Prevalence Rates'!N207","v":52.781872903795239},{"$f":"'Population 2016'!O207*'Prevalence Rates'!O207","v":50.572025066195941},{"$f":"'Population 2016'!P207*'Prevalence Rates'!P207","v":46.709137511032665},{"$f":"'Population 2016'!Q207*'Prevalence Rates'!Q207","v":80.615584819064438},{"$f":"'Population 2016'!R207*'Prevalence Rates'!R207","v":18.072135216240074},{"$f":"'Population 2016'!S207*'Prevalence Rates'!S207","v":384.35175642570908},{"$f":"'Population 2016'!T207*'Prevalence Rates'!T207","v":115.90086407766991},{"$f":"'Population 2016'!U207*'Prevalence Rates'!U207","v":4.7544000000000004},{"$f":"'Population 2016'!V207*'Prevalence Rates'!V207","v":67.808748278905568},{"$f":"'Population 2016'!W207*'Prevalence Rates'!W207","v":204.74972568402472},{"$f":"'Population 2016'!X207*'Prevalence Rates'!X207","v":204.74972568402472},{"$f":"'Population 2016'!Y207*'Prevalence Rates'!Y207","v":139.77702206531333},{"$f":"'Population 2016'!Z207*'Prevalence Rates'!Z207","v":118.97329991173875},{"$f":"'Population 2016'!AA207*'Prevalence Rates'!AA207","v":196.68607974714595},{"$f":"'Population 2016'!AB207*'Prevalence Rates'!AB207","v":432.88119611650484},{"$f":"'Population 2016'!AC207*'Prevalence Rates'!AC207","v":359.86130132391878},{"$f":"'Population 2016'!AD207*'Prevalence Rates'!AD207","v":321.58391526919684},{"$f":"'Population 2016'!AE207*'Prevalence Rates'!AE207","v":245.39571932921447},{"$f":"'Population 2016'!AF207*'Prevalence Rates'!AF207","v":34.752400000000002},{"$f":"'Population 2016'!AG207*'Prevalence Rates'!AG207","v":94.500214896964593},{"$f":"'Population 2016'!AH207*'Prevalence Rates'!AH207","v":217.50625666372466},{"$f":"'Population 2016'!AI207*'Prevalence Rates'!AI207","v":286.91733945278025},{"$f":"'Population 2016'!AJ207*'Prevalence Rates'!AJ207","v":39.959600000000002},{"$f":"'Population 2016'!AK207*'Prevalence Rates'!AK207","v":114.00518870255961},{"$f":"'Population 2016'!AL207*'Prevalence Rates'!AL207","v":97.613568932038859},{"$f":"'Population 2016'!AM207*'Prevalence Rates'!AM207","v":86.717244660194183},{"$f":"'Population 2016'!AN207*'Prevalence Rates'!AN207","v":31.356400000000001},{"$f":"'Population 2016'!AO207*'Prevalence Rates'!AO207","v":31.356400000000001},{"$f":"'Population 2016'!AP207*'Prevalence Rates'!AP207","v":158.41305913503973},{"$f":"'Population 2016'!AQ207*'Prevalence Rates'!AQ207","v":85.532441306266563},{"$f":"'Population 2016'!AR207*'Prevalence Rates'!AR207","v":2757.5520000000001},{"$f":"'Population 2016'!AS207*'Prevalence Rates'!AS207","v":103.55342171226833},{"$f":"'Population 2016'!AT207*'Prevalence Rates'!AT207","v":34.752400000000002},{"$f":"'Population 2016'!AU207*'Prevalence Rates'!AU207","v":34.752400000000002},{"$f":"'Population 2016'!AV207*'Prevalence Rates'!AV207","v":39.166400706090023},{"$f":"'Population 2016'!AW207*'Prevalence Rates'!AW207","v":130.19608578993822},{"$f":"'Population 2016'!AX207*'Prevalence Rates'!AX207","v":67.467200000000005},{"$f":"'Population 2016'!AY207*'Prevalence Rates'!AY207","v":241.39085822605682},{"$f":"'Population 2016'!AZ207*'Prevalence Rates'!AZ207","v":339.70670573698146},{"$f":"'Population 2016'!BA207*'Prevalence Rates'!BA207","v":36.898903795233892},{"$f":"'Population 2016'!BB207*'Prevalence Rates'!BB207","v":51.278700794351288},{"$f":"'Population 2016'!BC207*'Prevalence Rates'!BC207","v":4.7544000000000004},205]
[null,"Male 75-79",{"$f":"'Population 2016'!C208*'Prevalence Rates'!C208","v":20.623440776699027},{"$f":"'Population 2016'!D208*'Prevalence Rates'!D208","v":31.530953988446456},{"$f":"'Population 2016'!E208*'Prevalence Rates'!E208","v":58.613083009708738},{"$f":"'Population 2016'!F208*'Prevalence Rates'!F208","v":32.009975242718454},{"$f":"'Population 2016'!G208*'Prevalence Rates'!G208","v":18.437100000000001},{"$f":"'Population 2016'!H208*'Prevalence Rates'!H208","v":43.350493203883495},{"$f":"'Population 2016'!I208*'Prevalence Rates'!I208","v":27.309215048543692},{"$f":"'Population 2016'!J208*'Prevalence Rates'!J208","v":21.448899999999998},{"$f":"'Population 2016'!K208*'Prevalence Rates'!K208","v":5.2096},{"$f":"'Population 2016'!L208*'Prevalence Rates'!L208","v":25.606676213592237},{"$f":"'Population 2016'!M208*'Prevalence Rates'!M208","v":25.606676213592237},{"$f":"'Population 2016'!N208*'Prevalence Rates'!N208","v":14.672637378640777},{"$f":"'Population 2016'!O208*'Prevalence Rates'!O208","v":10.478866990291262},{"$f":"'Population 2016'!P208*'Prevalence Rates'!P208","v":13.077452427184467},{"$f":"'Population 2016'!Q208*'Prevalence Rates'!Q208","v":19.128263592233012},{"$f":"'Population 2016'!R208*'Prevalence Rates'!R208","v":4.8556572815533983},{"$f":"'Population 2016'!S208*'Prevalence Rates'!S208","v":98.439399491184474},{"$f":"'Population 2016'!T208*'Prevalence Rates'!T208","v":33.121376213592235},{"$f":"'Population 2016'!U208*'Prevalence Rates'!U208","v":0.89539999999999997},{"$f":"'Population 2016'!V208*'Prevalence Rates'!V208","v":18.010109223300972},{"$f":"'Population 2016'!W208*'Prevalence Rates'!W208","v":50.889404854368934},{"$f":"'Population 2016'!X208*'Prevalence Rates'!X208","v":50.889404854368934},{"$f":"'Population 2016'!Y208*'Prevalence Rates'!Y208","v":34.824364077669905},{"$f":"'Population 2016'!Z208*'Prevalence Rates'!Z208","v":33.370802912621357},{"$f":"'Population 2016'!AA208*'Prevalence Rates'!AA208","v":49.376534884130336},{"$f":"'Population 2016'!AB208*'Prevalence Rates'!AB208","v":111.98111067961165},{"$f":"'Population 2016'!AC208*'Prevalence Rates'!AC208","v":95.356831067961167},{"$f":"'Population 2016'!AD208*'Prevalence Rates'!AD208","v":76.362611650485434},{"$f":"'Population 2016'!AE208*'Prevalence Rates'!AE208","v":57.954393203883491},{"$f":"'Population 2016'!AF208*'Prevalence Rates'!AF208","v":8.9946999999999999},{"$f":"'Population 2016'!AG208*'Prevalence Rates'!AG208","v":22.317840861122839},{"$f":"'Population 2016'!AH208*'Prevalence Rates'!AH208","v":50.13966990291263},{"$f":"'Population 2016'!AI208*'Prevalence Rates'!AI208","v":73.792961650485438},{"$f":"'Population 2016'!AJ208*'Prevalence Rates'!AJ208","v":8.4248999999999992},{"$f":"'Population 2016'!AK208*'Prevalence Rates'!AK208","v":29.742647572815539},{"$f":"'Population 2016'!AL208*'Prevalence Rates'!AL208","v":23.863239805825245},{"$f":"'Population 2016'!AM208*'Prevalence Rates'!AM208","v":19.894397087378639},{"$f":"'Population 2016'!AN208*'Prevalence Rates'!AN208","v":9.1167999999999996},{"$f":"'Population 2016'!AO208*'Prevalence Rates'!AO208","v":9.1167999999999996},{"$f":"'Population 2016'!AP208*'Prevalence Rates'!AP208","v":43.834438834951456},{"$f":"'Population 2016'!AQ208*'Prevalence Rates'!AQ208","v":21.099555339805825},{"$f":"'Population 2016'!AR208*'Prevalence Rates'!AR208","v":703.49950000000001},{"$f":"'Population 2016'!AS208*'Prevalence Rates'!AS208","v":27.309215048543692},{"$f":"'Population 2016'!AT208*'Prevalence Rates'!AT208","v":9.2388999999999992},{"$f":"'Population 2016'!AU208*'Prevalence Rates'!AU208","v":9.2388999999999992},{"$f":"'Population 2016'!AV208*'Prevalence Rates'!AV208","v":9.966650485436892},{"$f":"'Population 2016'!AW208*'Prevalence Rates'!AW208","v":30.106361165048547},{"$f":"'Population 2016'!AX208*'Prevalence Rates'!AX208","v":16.2393},{"$f":"'Population 2016'!AY208*'Prevalence Rates'!AY208","v":64.611057006645666},{"$f":"'Population 2016'!AZ208*'Prevalence Rates'!AZ208","v":94.682892233009696},{"$f":"'Population 2016'!BA208*'Prevalence Rates'!BA208","v":8.8600631067961171},{"$f":"'Population 2016'!BB208*'Prevalence Rates'!BB208","v":12.905743689320389},{"$f":"'Population 2016'!BC208*'Prevalence Rates'!BC208","v":0.89539999999999997},206]
[null,"Male 80-84",{"$f":"'Population 2016'!C209*'Prevalence Rates'!C209","v":14.040512135922329},{"$f":"'Population 2016'!D209*'Prevalence Rates'!D209","v":20.59957548705901},{"$f":"'Population 2016'!E209*'Prevalence Rates'!E209","v":37.811108252427189},{"$f":"'Population 2016'!F209*'Prevalence Rates'!F209","v":19.224786893203888},{"$f":"'Population 2016'!G209*'Prevalence Rates'!G209","v":12.494899999999999},{"$f":"'Population 2016'!H209*'Prevalence Rates'!H209","v":29.718795145631066},{"$f":"'Population 2016'!I209*'Prevalence Rates'!I209","v":17.806447572815536},{"$f":"'Population 2016'!J209*'Prevalence Rates'!J209","v":14.7334},{"$f":"'Population 2016'!K209*'Prevalence Rates'!K209","v":3.7444000000000002},{"$f":"'Population 2016'!L209*'Prevalence Rates'!L209","v":19.173471844660195},{"$f":"'Population 2016'!M209*'Prevalence Rates'!M209","v":19.173471844660195},{"$f":"'Population 2016'!N209*'Prevalence Rates'!N209","v":12.867486407766991},{"$f":"'Population 2016'!O209*'Prevalence Rates'!O209","v":6.4612776699029135},{"$f":"'Population 2016'!P209*'Prevalence Rates'!P209","v":9.4662524271844664},{"$f":"'Population 2016'!Q209*'Prevalence Rates'!Q209","v":12.739189805825243},{"$f":"'Population 2016'!R209*'Prevalence Rates'!R209","v":3.6827932038834956},{"$f":"'Population 2016'!S209*'Prevalence Rates'!S209","v":65.36991372461469},{"$f":"'Population 2016'!T209*'Prevalence Rates'!T209","v":24.189378640776699},{"$f":"'Population 2016'!U209*'Prevalence Rates'!U209","v":0.85470000000000002},{"$f":"'Population 2016'!V209*'Prevalence Rates'!V209","v":12.929362621359223},{"$f":"'Population 2016'!W209*'Prevalence Rates'!W209","v":32.084388349514562},{"$f":"'Population 2016'!X209*'Prevalence Rates'!X209","v":32.084388349514562},{"$f":"'Population 2016'!Y209*'Prevalence Rates'!Y209","v":24.432662621359224},{"$f":"'Population 2016'!Z209*'Prevalence Rates'!Z209","v":23.918129126213593},{"$f":"'Population 2016'!AA209*'Prevalence Rates'!AA209","v":33.566944676484809},{"$f":"'Population 2016'!AB209*'Prevalence Rates'!AB209","v":73.359576699029134},{"$f":"'Population 2016'!AC209*'Prevalence Rates'!AC209","v":66.527005825242711},{"$f":"'Population 2016'!AD209*'Prevalence Rates'!AD209","v":53.065543689320386},{"$f":"'Population 2016'!AE209*'Prevalence Rates'!AE209","v":40.616480582524268},{"$f":"'Population 2016'!AF209*'Prevalence Rates'!AF209","v":5.4131},{"$f":"'Population 2016'!AG209*'Prevalence Rates'!AG209","v":15.641129168425497},{"$f":"'Population 2016'!AH209*'Prevalence Rates'!AH209","v":32.571351456310687},{"$f":"'Population 2016'!AI209*'Prevalence Rates'!AI209","v":50.784583495145633},{"$f":"'Population 2016'!AJ209*'Prevalence Rates'!AJ209","v":6.4306000000000001},{"$f":"'Population 2016'!AK209*'Prevalence Rates'!AK209","v":19.638055339805828},{"$f":"'Population 2016'!AL209*'Prevalence Rates'!AL209","v":15.995100000000001},{"$f":"'Population 2016'!AM209*'Prevalence Rates'!AM209","v":11.873731067961165},{"$f":"'Population 2016'!AN209*'Prevalence Rates'!AN209","v":5.1281999999999996},{"$f":"'Population 2016'!AO209*'Prevalence Rates'!AO209","v":5.1281999999999996},{"$f":"'Population 2016'!AP209*'Prevalence Rates'!AP209","v":30.821089805825242},{"$f":"'Population 2016'!AQ209*'Prevalence Rates'!AQ209","v":13.112476699029127},{"$f":"'Population 2016'!AR209*'Prevalence Rates'!AR209","v":476.71910000000003},{"$f":"'Population 2016'!AS209*'Prevalence Rates'!AS209","v":17.806447572815536},{"$f":"'Population 2016'!AT209*'Prevalence Rates'!AT209","v":5.4131},{"$f":"'Population 2016'!AU209*'Prevalence Rates'!AU209","v":5.4131},{"$f":"'Population 2016'!AV209*'Prevalence Rates'!AV209","v":7.6196650485436885},{"$f":"'Population 2016'!AW209*'Prevalence Rates'!AW209","v":20.582920388349518},{"$f":"'Population 2016'!AX209*'Prevalence Rates'!AX209","v":10.989000000000001},{"$f":"'Population 2016'!AY209*'Prevalence Rates'!AY209","v":43.548930556922677},{"$f":"'Population 2016'!AZ209*'Prevalence Rates'!AZ209","v":65.944453398058243},{"$f":"'Population 2016'!BA209*'Prevalence Rates'!BA209","v":7.2661893203883494},{"$f":"'Population 2016'!BB209*'Prevalence Rates'!BB209","v":7.4076334951456309},{"$f":"'Population 2016'!BC209*'Prevalence Rates'!BC209","v":0.85470000000000002},207]
[null,"Male 85-89",{"$f":"'Population 2016'!C210*'Prevalence Rates'!C210","v":6.4908597087378634},{"$f":"'Population 2016'!D210*'Prevalence Rates'!D210","v":11.077130214739277},{"$f":"'Population 2016'!E210*'Prevalence Rates'!E210","v":21.232090776699032},{"$f":"'Population 2016'!F210*'Prevalence Rates'!F210","v":11.751092233009711},{"$f":"'Population 2016'!G210*'Prevalence Rates'!G210","v":5.6980000000000004},{"$f":"'Population 2016'!H210*'Prevalence Rates'!H210","v":13.716366990291261},{"$f":"'Population 2016'!I210*'Prevalence Rates'!I210","v":10.312151456310682},{"$f":"'Population 2016'!J210*'Prevalence Rates'!J210","v":8.14},{"$f":"'Population 2016'!K210*'Prevalence Rates'!K210","v":1.7094},{"$f":"'Population 2016'!L210*'Prevalence Rates'!L210","v":9.628783009708739},{"$f":"'Population 2016'!M210*'Prevalence Rates'!M210","v":9.628783009708739},{"$f":"'Population 2016'!N210*'Prevalence Rates'!N210","v":7.0354601941747577},{"$f":"'Population 2016'!O210*'Prevalence Rates'!O210","v":2.6093621359223302},{"$f":"'Population 2016'!P210*'Prevalence Rates'!P210","v":5.048667961165048},{"$f":"'Population 2016'!Q210*'Prevalence Rates'!Q210","v":7.6746800970873785},{"$f":"'Population 2016'!R210*'Prevalence Rates'!R210","v":1.7827533980582526},{"$f":"'Population 2016'!S210*'Prevalence Rates'!S210","v":36.289915339767717},{"$f":"'Population 2016'!T210*'Prevalence Rates'!T210","v":14.909832524271845},{"$f":"'Population 2016'!U210*'Prevalence Rates'!U210","v":0.4884},{"$f":"'Population 2016'!V210*'Prevalence Rates'!V210","v":6.4836393203883498},{"$f":"'Population 2016'!W210*'Prevalence Rates'!W210","v":16.042194174757281},{"$f":"'Population 2016'!X210*'Prevalence Rates'!X210","v":16.042194174757281},{"$f":"'Population 2016'!Y210*'Prevalence Rates'!Y210","v":12.894050970873787},{"$f":"'Population 2016'!Z210*'Prevalence Rates'!Z210","v":12.221638834951456},{"$f":"'Population 2016'!AA210*'Prevalence Rates'!AA210","v":17.117577886695344},{"$f":"'Population 2016'!AB210*'Prevalence Rates'!AB210","v":38.322803883495148},{"$f":"'Population 2016'!AC210*'Prevalence Rates'!AC210","v":34.595790291262134},{"$f":"'Population 2016'!AD210*'Prevalence Rates'!AD210","v":27.568197087378639},{"$f":"'Population 2016'!AE210*'Prevalence Rates'!AE210","v":21.958422330097086},{"$f":"'Population 2016'!AF210*'Prevalence Rates'!AF210","v":3.1339000000000001},{"$f":"'Population 2016'!AG210*'Prevalence Rates'!AG210","v":8.4560384128324184},{"$f":"'Population 2016'!AH210*'Prevalence Rates'!AH210","v":16.013600000000004},{"$f":"'Population 2016'!AI210*'Prevalence Rates'!AI210","v":29.11264174757282},{"$f":"'Population 2016'!AJ210*'Prevalence Rates'!AJ210","v":2.8490000000000002},{"$f":"'Population 2016'!AK210*'Prevalence Rates'!AK210","v":9.4016640776699045},{"$f":"'Population 2016'!AL210*'Prevalence Rates'!AL210","v":7.9199038834951461},{"$f":"'Population 2016'!AM210*'Prevalence Rates'!AM210","v":5.0718917475728151},{"$f":"'Population 2016'!AN210*'Prevalence Rates'!AN210","v":2.7675999999999998},{"$f":"'Population 2016'!AO210*'Prevalence Rates'!AO210","v":2.7675999999999998},{"$f":"'Population 2016'!AP210*'Prevalence Rates'!AP210","v":16.798395145631069},{"$f":"'Population 2016'!AQ210*'Prevalence Rates'!AQ210","v":7.6880970873786412},{"$f":"'Population 2016'!AR210*'Prevalence Rates'!AR210","v":251.68879999999999},{"$f":"'Population 2016'!AS210*'Prevalence Rates'!AS210","v":10.312151456310682},{"$f":"'Population 2016'!AT210*'Prevalence Rates'!AT210","v":2.4826999999999999},{"$f":"'Population 2016'!AU210*'Prevalence Rates'!AU210","v":2.4826999999999999},{"$f":"'Population 2016'!AV210*'Prevalence Rates'!AV210","v":3.4722524271844657},{"$f":"'Population 2016'!AW210*'Prevalence Rates'!AW210","v":10.867474757281554},{"$f":"'Population 2016'!AX210*'Prevalence Rates'!AX210","v":6.4306000000000001},{"$f":"'Population 2016'!AY210*'Prevalence Rates'!AY210","v":23.641948153802407},{"$f":"'Population 2016'!AZ210*'Prevalence Rates'!AZ210","v":37.120483495145628},{"$f":"'Population 2016'!BA210*'Prevalence Rates'!BA210","v":2.7658398058252427},{"$f":"'Population 2016'!BB210*'Prevalence Rates'!BB210","v":3.621509708737864},{"$f":"'Population 2016'!BC210*'Prevalence Rates'!BC210","v":0.4884},208]
[null,"Male 90+",{"$f":"'Population 2016'!C211*'Prevalence Rates'!C211","v":1.8874131067961164},{"$f":"'Population 2016'!D211*'Prevalence Rates'!D211","v":4.3725514005549782},{"$f":"'Population 2016'!E211*'Prevalence Rates'!E211","v":8.9542334951456315},{"$f":"'Population 2016'!F211*'Prevalence Rates'!F211","v":4.4654150485436901},{"$f":"'Population 2016'!G211*'Prevalence Rates'!G211","v":2.8490000000000002},{"$f":"'Population 2016'!H211*'Prevalence Rates'!H211","v":5.9268252427184462},{"$f":"'Population 2016'!I211*'Prevalence Rates'!I211","v":3.6871936893203889},{"$f":"'Population 2016'!J211*'Prevalence Rates'!J211","v":3.0931999999999999},{"$f":"'Population 2016'!K211*'Prevalence Rates'!K211","v":0.6512},{"$f":"'Population 2016'!L211*'Prevalence Rates'!L211","v":3.6160495145631071},{"$f":"'Population 2016'!M211*'Prevalence Rates'!M211","v":3.6160495145631071},{"$f":"'Population 2016'!N211*'Prevalence Rates'!N211","v":3.8417315533980583},{"$f":"'Population 2016'!O211*'Prevalence Rates'!O211","v":1.3668087378640779},{"$f":"'Population 2016'!P211*'Prevalence Rates'!P211","v":2.1737320388349515},{"$f":"'Population 2016'!Q211*'Prevalence Rates'!Q211","v":2.4153815533980585},{"$f":"'Population 2016'!R211*'Prevalence Rates'!R211","v":1.1494067961165049},{"$f":"'Population 2016'!S211*'Prevalence Rates'!S211","v":14.323701683775866},{"$f":"'Population 2016'!T211*'Prevalence Rates'!T211","v":7.33327427184466},{"$f":"'Population 2016'!U211*'Prevalence Rates'!U211","v":8.14E-2},{"$f":"'Population 2016'!V211*'Prevalence Rates'!V211","v":2.6541213592233013},{"$f":"'Population 2016'!W211*'Prevalence Rates'!W211","v":7.085302427184466},{"$f":"'Population 2016'!X211*'Prevalence Rates'!X211","v":7.085302427184466},{"$f":"'Population 2016'!Y211*'Prevalence Rates'!Y211","v":5.0742087378640779},{"$f":"'Population 2016'!Z211*'Prevalence Rates'!Z211","v":4.9650407766990288},{"$f":"'Population 2016'!AA211*'Prevalence Rates'!AA211","v":7.0801941757261471},{"$f":"'Population 2016'!AB211*'Prevalence Rates'!AB211","v":15.704667961165049},{"$f":"'Population 2016'!AC211*'Prevalence Rates'!AC211","v":15.070135922330097},{"$f":"'Population 2016'!AD211*'Prevalence Rates'!AD211","v":11.993675728155338},{"$f":"'Population 2016'!AE211*'Prevalence Rates'!AE211","v":9.1530097087378621},{"$f":"'Population 2016'!AF211*'Prevalence Rates'!AF211","v":1.1802999999999999},{"$f":"'Population 2016'!AG211*'Prevalence Rates'!AG211","v":3.524761502743774},{"$f":"'Population 2016'!AH211*'Prevalence Rates'!AH211","v":5.946798058252428},{"$f":"'Population 2016'!AI211*'Prevalence Rates'!AI211","v":11.341649514563107},{"$f":"'Population 2016'!AJ211*'Prevalence Rates'!AJ211","v":0.73260000000000003},{"$f":"'Population 2016'!AK211*'Prevalence Rates'!AK211","v":4.3054349514563111},{"$f":"'Population 2016'!AL211*'Prevalence Rates'!AL211","v":2.588203883495146},{"$f":"'Population 2016'!AM211*'Prevalence Rates'!AM211","v":2.1231174757281552},{"$f":"'Population 2016'!AN211*'Prevalence Rates'!AN211","v":1.3431},{"$f":"'Population 2016'!AO211*'Prevalence Rates'!AO211","v":1.3431},{"$f":"'Population 2016'!AP211*'Prevalence Rates'!AP211","v":6.9933233009708733},{"$f":"'Population 2016'!AQ211*'Prevalence Rates'!AQ211","v":3.2460854368932042},{"$f":"'Population 2016'!AR211*'Prevalence Rates'!AR211","v":103.5408},{"$f":"'Population 2016'!AS211*'Prevalence Rates'!AS211","v":3.6871936893203889},{"$f":"'Population 2016'!AT211*'Prevalence Rates'!AT211","v":1.0175000000000001},{"$f":"'Population 2016'!AU211*'Prevalence Rates'!AU211","v":1.0175000000000001},{"$f":"'Population 2016'!AV211*'Prevalence Rates'!AV211","v":1.8325776699029126},{"$f":"'Population 2016'!AW211*'Prevalence Rates'!AW211","v":3.8016961165048548},{"$f":"'Population 2016'!AX211*'Prevalence Rates'!AX211","v":2.4420000000000002},{"$f":"'Population 2016'!AY211*'Prevalence Rates'!AY211","v":10.223024812434103},{"$f":"'Population 2016'!AZ211*'Prevalence Rates'!AZ211","v":15.908778640776697},{"$f":"'Population 2016'!BA211*'Prevalence Rates'!BA211","v":1.1719660194174757},{"$f":"'Population 2016'!BB211*'Prevalence Rates'!BB211","v":0.75722475728155336},{"$f":"'Population 2016'!BC211*'Prevalence Rates'!BC211","v":8.14E-2},209]
["SIMD Q5 (least deprived)","Female 0-4",{"$f":"'Population 2016'!C212*'Prevalence Rates'!C212","v":0},{"$f":"'Population 2016'!D212*'Prevalence Rates'!D212","v":0},{"$f":"'Population 2016'!E212*'Prevalence Rates'!E212","v":0},{"$f":"'Population 2016'!F212*'Prevalence Rates'!F212","v":0},{"$f":"'Population 2016'!G212*'Prevalence Rates'!G212","v":0},{"$f":"'Population 2016'!H212*'Prevalence Rates'!H212","v":0},{"$f":"'Population 2016'!I212*'Prevalence Rates'!I212","v":0},{"$f":"'Population 2016'!J212*'Prevalence Rates'!J212","v":0},{"$f":"'Population 2016'!K212*'Prevalence Rates'!K212","v":0},{"$f":"'Population 2016'!L212*'Prevalence Rates'!L212","v":0},{"$f":"'Population 2016'!M212*'Prevalence Rates'!M212","v":0},{"$f":"'Population 2016'!N212*'Prevalence Rates'!N212","v":0},{"$f":"'Population 2016'!O212*'Prevalence Rates'!O212","v":0},{"$f":"'Population 2016'!P212*'Prevalence Rates'!P212","v":0},{"$f":"'Population 2016'!Q212*'Prevalence Rates'!Q212","v":0},{"$f":"'Population 2016'!R212*'Prevalence Rates'!R212","v":0},{"$f":"'Population 2016'!S212*'Prevalence Rates'!S212","v":0},{"$f":"'Population 2016'!T212*'Prevalence Rates'!T212","v":0},{"$f":"'Population 2016'!U212*'Prevalence Rates'!U212","v":0},{"$f":"'Population 2016'!V212*'Prevalence Rates'!V212","v":0},{"$f":"'Population 2016'!W212*'Prevalence Rates'!W212","v":0},{"$f":"'Population 2016'!X212*'Prevalence Rates'!X212","v":0},{"$f":"'Population 2016'!Y212*'Prevalence Rates'!Y212","v":0},{"$f":"'Population 2016'!Z212*'Prevalence Rates'!Z212","v":0},{"$f":"'Population 2016'!AA212*'Prevalence Rates'!AA212","v":0},{"$f":"'Population 2016'!AB212*'Prevalence Rates'!AB212","v":0},{"$f":"'Population 2016'!AC212*'Prevalence Rates'!AC212","v":0},{"$f":"'Population 2016'!AD212*'Prevalence Rates'!AD212","v":0},{"$f":"'Population 2016'!AE212*'Prevalence Rates'!AE212","v":0},{"$f":"'Population 2016'!AF212*'Prevalence Rates'!AF212","v":0},{"$f":"'Population 2016'!AG212*'Prevalence Rates'!AG212","v":0},{"$f":"'Population 2016'!AH212*'Prevalence Rates'!AH212","v":0},{"$f":"'Population 2016'!AI212*'Prevalence Rates'!AI212","v":0},{"$f":"'Population 2016'!AJ212*'Prevalence Rates'!AJ212","v":0},{"$f":"'Population 2016'!AK212*'Prevalence Rates'!AK212","v":0},{"$f":"'Population 2016'!AL212*'Prevalence Rates'!AL212","v":0},{"$f":"'Population 2016'!AM212*'Prevalence Rates'!AM212","v":0},{"$f":"'Population 2016'!AN212*'Prevalence Rates'!AN212","v":0},{"$f":"'Population 2016'!AO212*'Prevalence Rates'!AO212","v":0},{"$f":"'Population 2016'!AP212*'Prevalence Rates'!AP212","v":0},{"$f":"'Population 2016'!AQ212*'Prevalence Rates'!AQ212","v":0},{"$f":"'Population 2016'!AR212*'Prevalence Rates'!AR212","v":0},{"$f":"'Population 2016'!AS212*'Prevalence Rates'!AS212","v":0},{"$f":"'Population 2016'!AT212*'Prevalence Rates'!AT212","v":0},{"$f":"'Population 2016'!AU212*'Prevalence Rates'!AU212","v":0},{"$f":"'Population 2016'!AV212*'Prevalence Rates'!AV212","v":0},{"$f":"'Population 2016'!AW212*'Prevalence Rates'!AW212","v":0},{"$f":"'Population 2016'!AX212*'Prevalence Rates'!AX212","v":0},{"$f":"'Population 2016'!AY212*'Prevalence Rates'!AY212","v":0},{"$f":"'Population 2016'!AZ212*'Prevalence Rates'!AZ212","v":0},{"$f":"'Population 2016'!BA212*'Prevalence Rates'!BA212","v":0},{"$f":"'Population 2016'!BB212*'Prevalence Rates'!BB212","v":0},{"$f":"'Population 2016'!BC212*'Prevalence Rates'!BC212","v":0},210]
[null,"Female 5-9",{"$f":"'Population 2016'!C213*'Prevalence Rates'!C213","v":0},{"$f":"'Population 2016'!D213*'Prevalence Rates'!D213","v":0},{"$f":"'Population 2016'!E213*'Prevalence Rates'!E213","v":0},{"$f":"'Population 2016'!F213*'Prevalence Rates'!F213","v":0},{"$f":"'Population 2016'!G213*'Prevalence Rates'!G213","v":0},{"$f":"'Population 2016'!H213*'Prevalence Rates'!H213","v":0},{"$f":"'Population 2016'!I213*'Prevalence Rates'!I213","v":0},{"$f":"'Population 2016'!J213*'Prevalence Rates'!J213","v":0},{"$f":"'Population 2016'!K213*'Prevalence Rates'!K213","v":0},{"$f":"'Population 2016'!L213*'Prevalence Rates'!L213","v":0},{"$f":"'Population 2016'!M213*'Prevalence Rates'!M213","v":0},{"$f":"'Population 2016'!N213*'Prevalence Rates'!N213","v":0},{"$f":"'Population 2016'!O213*'Prevalence Rates'!O213","v":0},{"$f":"'Population 2016'!P213*'Prevalence Rates'!P213","v":0},{"$f":"'Population 2016'!Q213*'Prevalence Rates'!Q213","v":0},{"$f":"'Population 2016'!R213*'Prevalence Rates'!R213","v":0},{"$f":"'Population 2016'!S213*'Prevalence Rates'!S213","v":0},{"$f":"'Population 2016'!T213*'Prevalence Rates'!T213","v":0},{"$f":"'Population 2016'!U213*'Prevalence Rates'!U213","v":0},{"$f":"'Population 2016'!V213*'Prevalence Rates'!V213","v":0},{"$f":"'Population 2016'!W213*'Prevalence Rates'!W213","v":0},{"$f":"'Population 2016'!X213*'Prevalence Rates'!X213","v":0},{"$f":"'Population 2016'!Y213*'Prevalence Rates'!Y213","v":0},{"$f":"'Population 2016'!Z213*'Prevalence Rates'!Z213","v":0},{"$f":"'Population 2016'!AA213*'Prevalence Rates'!AA213","v":0},{"$f":"'Population 2016'!AB213*'Prevalence Rates'!AB213","v":0},{"$f":"'Population 2016'!AC213*'Prevalence Rates'!AC213","v":0},{"$f":"'Population 2016'!AD213*'Prevalence Rates'!AD213","v":0},{"$f":"'Population 2016'!AE213*'Prevalence Rates'!AE213","v":0},{"$f":"'Population 2016'!AF213*'Prevalence Rates'!AF213","v":0},{"$f":"'Population 2016'!AG213*'Prevalence Rates'!AG213","v":0},{"$f":"'Population 2016'!AH213*'Prevalence Rates'!AH213","v":0},{"$f":"'Population 2016'!AI213*'Prevalence Rates'!AI213","v":0},{"$f":"'Population 2016'!AJ213*'Prevalence Rates'!AJ213","v":0},{"$f":"'Population 2016'!AK213*'Prevalence Rates'!AK213","v":0},{"$f":"'Population 2016'!AL213*'Prevalence Rates'!AL213","v":0},{"$f":"'Population 2016'!AM213*'Prevalence Rates'!AM213","v":0},{"$f":"'Population 2016'!AN213*'Prevalence Rates'!AN213","v":0},{"$f":"'Population 2016'!AO213*'Prevalence Rates'!AO213","v":0},{"$f":"'Population 2016'!AP213*'Prevalence Rates'!AP213","v":0},{"$f":"'Population 2016'!AQ213*'Prevalence Rates'!AQ213","v":0},{"$f":"'Population 2016'!AR213*'Prevalence Rates'!AR213","v":0},{"$f":"'Population 2016'!AS213*'Prevalence Rates'!AS213","v":0},{"$f":"'Population 2016'!AT213*'Prevalence Rates'!AT213","v":0},{"$f":"'Population 2016'!AU213*'Prevalence Rates'!AU213","v":0},{"$f":"'Population 2016'!AV213*'Prevalence Rates'!AV213","v":0},{"$f":"'Population 2016'!AW213*'Prevalence Rates'!AW213","v":0},{"$f":"'Population 2016'!AX213*'Prevalence Rates'!AX213","v":0},{"$f":"'Population 2016'!AY213*'Prevalence Rates'!AY213","v":0},{"$f":"'Population 2016'!AZ213*'Prevalence Rates'!AZ213","v":0},{"$f":"'Population 2016'!BA213*'Prevalence Rates'!BA213","v":0},{"$f":"'Population 2016'!BB213*'Prevalence Rates'!BB213","v":0},{"$f":"'Population 2016'!BC213*'Prevalence Rates'!BC213","v":0},211]
[null,"Female 10-15",{"$f":"'Population 2016'!C214*'Prevalence Rates'!C214","v":0},{"$f":"'Population 2016'!D214*'Prevalence Rates'!D214","v":0},{"$f":"'Population 2016'!E214*'Prevalence Rates'!E214","v":0},{"$f":"'Population 2016'!F214*'Prevalence Rates'!F214","v":0},{"$f":"'Population 2016'!G214*'Prevalence Rates'!G214","v":0},{"$f":"'Population 2016'!H214*'Prevalence Rates'!H214","v":0},{"$f":"'Population 2016'!I214*'Prevalence Rates'!I214","v":0},{"$f":"'Population 2016'!J214*'Prevalence Rates'!J214","v":0},{"$f":"'Population 2016'!K214*'Prevalence Rates'!K214","v":0},{"$f":"'Population 2016'!L214*'Prevalence Rates'!L214","v":0},{"$f":"'Population 2016'!M214*'Prevalence Rates'!M214","v":0},{"$f":"'Population 2016'!N214*'Prevalence Rates'!N214","v":0},{"$f":"'Population 2016'!O214*'Prevalence Rates'!O214","v":0},{"$f":"'Population 2016'!P214*'Prevalence Rates'!P214","v":0},{"$f":"'Population 2016'!Q214*'Prevalence Rates'!Q214","v":0},{"$f":"'Population 2016'!R214*'Prevalence Rates'!R214","v":0},{"$f":"'Population 2016'!S214*'Prevalence Rates'!S214","v":0},{"$f":"'Population 2016'!T214*'Prevalence Rates'!T214","v":0},{"$f":"'Population 2016'!U214*'Prevalence Rates'!U214","v":0},{"$f":"'Population 2016'!V214*'Prevalence Rates'!V214","v":0},{"$f":"'Population 2016'!W214*'Prevalence Rates'!W214","v":0},{"$f":"'Population 2016'!X214*'Prevalence Rates'!X214","v":0},{"$f":"'Population 2016'!Y214*'Prevalence Rates'!Y214","v":0},{"$f":"'Population 2016'!Z214*'Prevalence Rates'!Z214","v":0},{"$f":"'Population 2016'!AA214*'Prevalence Rates'!AA214","v":0},{"$f":"'Population 2016'!AB214*'Prevalence Rates'!AB214","v":0},{"$f":"'Population 2016'!AC214*'Prevalence Rates'!AC214","v":0},{"$f":"'Population 2016'!AD214*'Prevalence Rates'!AD214","v":0},{"$f":"'Population 2016'!AE214*'Prevalence Rates'!AE214","v":0},{"$f":"'Population 2016'!AF214*'Prevalence Rates'!AF214","v":0},{"$f":"'Population 2016'!AG214*'Prevalence Rates'!AG214","v":0},{"$f":"'Population 2016'!AH214*'Prevalence Rates'!AH214","v":0},{"$f":"'Population 2016'!AI214*'Prevalence Rates'!AI214","v":0},{"$f":"'Population 2016'!AJ214*'Prevalence Rates'!AJ214","v":0},{"$f":"'Population 2016'!AK214*'Prevalence Rates'!AK214","v":0},{"$f":"'Population 2016'!AL214*'Prevalence Rates'!AL214","v":0},{"$f":"'Population 2016'!AM214*'Prevalence Rates'!AM214","v":0},{"$f":"'Population 2016'!AN214*'Prevalence Rates'!AN214","v":0},{"$f":"'Population 2016'!AO214*'Prevalence Rates'!AO214","v":0},{"$f":"'Population 2016'!AP214*'Prevalence Rates'!AP214","v":0},{"$f":"'Population 2016'!AQ214*'Prevalence Rates'!AQ214","v":0},{"$f":"'Population 2016'!AR214*'Prevalence Rates'!AR214","v":0},{"$f":"'Population 2016'!AS214*'Prevalence Rates'!AS214","v":0},{"$f":"'Population 2016'!AT214*'Prevalence Rates'!AT214","v":0},{"$f":"'Population 2016'!AU214*'Prevalence Rates'!AU214","v":0},{"$f":"'Population 2016'!AV214*'Prevalence Rates'!AV214","v":0},{"$f":"'Population 2016'!AW214*'Prevalence Rates'!AW214","v":0},{"$f":"'Population 2016'!AX214*'Prevalence Rates'!AX214","v":0},{"$f":"'Population 2016'!AY214*'Prevalence Rates'!AY214","v":0},{"$f":"'Population 2016'!AZ214*'Prevalence Rates'!AZ214","v":0},{"$f":"'Population 2016'!BA214*'Prevalence Rates'!BA214","v":0},{"$f":"'Population 2016'!BB214*'Prevalence Rates'!BB214","v":0},{"$f":"'Population 2016'!BC214*'Prevalence Rates'!BC214","v":0},212]
[null,"Female 16-19",{"$f":"'Population 2016'!C215*'Prevalence Rates'!C215","v":177.53126404255318},{"$f":"'Population 2016'!D215*'Prevalence Rates'!D215","v":184.4769764745061},{"$f":"'Population 2016'!E215*'Prevalence Rates'!E215","v":138.72456781914894},{"$f":"'Population 2016'!F215*'Prevalence Rates'!F215","v":23.591843138297872},{"$f":"'Population 2016'!G215*'Prevalence Rates'!G215","v":13.1722},{"$f":"'Population 2016'!H215*'Prevalence Rates'!H215","v":105.56070989361703},{"$f":"'Population 2016'!I215*'Prevalence Rates'!I215","v":21.093193085106385},{"$f":"'Population 2016'!J215*'Prevalence Rates'!J215","v":121.5971},{"$f":"'Population 2016'!K215*'Prevalence Rates'!K215","v":16.0229},{"$f":"'Population 2016'!L215*'Prevalence Rates'!L215","v":30.28079212765957},{"$f":"'Population 2016'!M215*'Prevalence Rates'!M215","v":30.28079212765957},{"$f":"'Population 2016'!N215*'Prevalence Rates'!N215","v":80.730234468085101},{"$f":"'Population 2016'!O215*'Prevalence Rates'!O215","v":31.907866276595747},{"$f":"'Population 2016'!P215*'Prevalence Rates'!P215","v":98.426796542553177},{"$f":"'Population 2016'!Q215*'Prevalence Rates'!Q215","v":39.517070585106389},{"$f":"'Population 2016'!R215*'Prevalence Rates'!R215","v":55.78185132978723},{"$f":"'Population 2016'!S215*'Prevalence Rates'!S215","v":599.51536130693773},{"$f":"'Population 2016'!T215*'Prevalence Rates'!T215","v":343.98704617021269},{"$f":"'Population 2016'!U215*'Prevalence Rates'!U215","v":0},{"$f":"'Population 2016'!V215*'Prevalence Rates'!V215","v":44.177274893617025},{"$f":"'Population 2016'!W215*'Prevalence Rates'!W215","v":232.86245170212763},{"$f":"'Population 2016'!X215*'Prevalence Rates'!X215","v":232.86245170212763},{"$f":"'Population 2016'!Y215*'Prevalence Rates'!Y215","v":138.60770585106383},{"$f":"'Population 2016'!Z215*'Prevalence Rates'!Z215","v":177.70809946808509},{"$f":"'Population 2016'!AA215*'Prevalence Rates'!AA215","v":287.19301838179007},{"$f":"'Population 2016'!AB215*'Prevalence Rates'!AB215","v":375.7433840425532},{"$f":"'Population 2016'!AC215*'Prevalence Rates'!AC215","v":567.13348404255305},{"$f":"'Population 2016'!AD215*'Prevalence Rates'!AD215","v":53.726440159574466},{"$f":"'Population 2016'!AE215*'Prevalence Rates'!AE215","v":40.721611595744683},{"$f":"'Population 2016'!AF215*'Prevalence Rates'!AF215","v":19.168499999999998},{"$f":"'Population 2016'!AG215*'Prevalence Rates'!AG215","v":21.755354070305273},{"$f":"'Population 2016'!AH215*'Prevalence Rates'!AH215","v":203.3245565957447},{"$f":"'Population 2016'!AI215*'Prevalence Rates'!AI215","v":541.60418973404251},{"$f":"'Population 2016'!AJ215*'Prevalence Rates'!AJ215","v":27.818899999999999},{"$f":"'Population 2016'!AK215*'Prevalence Rates'!AK215","v":50.093680000000006},{"$f":"'Population 2016'!AL215*'Prevalence Rates'!AL215","v":24.589222127659575},{"$f":"'Population 2016'!AM215*'Prevalence Rates'!AM215","v":106.41403755319148},{"$f":"'Population 2016'!AN215*'Prevalence Rates'!AN215","v":2.5558000000000001},{"$f":"'Population 2016'!AO215*'Prevalence Rates'!AO215","v":2.5558000000000001},{"$f":"'Population 2016'!AP215*'Prevalence Rates'!AP215","v":38.764918723404257},{"$f":"'Population 2016'!AQ215*'Prevalence Rates'!AQ215","v":85.026990212765952},{"$f":"'Population 2016'!AR215*'Prevalence Rates'!AR215","v":2483.8444},{"$f":"'Population 2016'!AS215*'Prevalence Rates'!AS215","v":21.093193085106385},{"$f":"'Population 2016'!AT215*'Prevalence Rates'!AT215","v":0},{"$f":"'Population 2016'!AU215*'Prevalence Rates'!AU215","v":0},{"$f":"'Population 2016'!AV215*'Prevalence Rates'!AV215","v":49.960661276595737},{"$f":"'Population 2016'!AW215*'Prevalence Rates'!AW215","v":91.758134999999996},{"$f":"'Population 2016'!AX215*'Prevalence Rates'!AX215","v":105.5742},{"$f":"'Population 2016'!AY215*'Prevalence Rates'!AY215","v":218.18779954161747},{"$f":"'Population 2016'!AZ215*'Prevalence Rates'!AZ215","v":140.60926117021276},{"$f":"'Population 2016'!BA215*'Prevalence Rates'!BA215","v":13.370577765957448},{"$f":"'Population 2016'!BB215*'Prevalence Rates'!BB215","v":86.145100425531908},{"$f":"'Population 2016'!BC215*'Prevalence Rates'!BC215","v":0},213]
[null,"Female 20-24",{"$f":"'Population 2016'!C216*'Prevalence Rates'!C216","v":312.90103063829787},{"$f":"'Population 2016'!D216*'Prevalence Rates'!D216","v":266.2257823029737},{"$f":"'Population 2016'!E216*'Prevalence Rates'!E216","v":152.04212632978727},{"$f":"'Population 2016'!F216*'Prevalence Rates'!F216","v":21.792900851063827},{"$f":"'Population 2016'!G216*'Prevalence Rates'!G216","v":18.087199999999999},{"$f":"'Population 2016'!H216*'Prevalence Rates'!H216","v":102.87696303191491},{"$f":"'Population 2016'!I216*'Prevalence Rates'!I216","v":20.390086648936173},{"$f":"'Population 2016'!J216*'Prevalence Rates'!J216","v":126.70869999999999},{"$f":"'Population 2016'!K216*'Prevalence Rates'!K216","v":14.351799999999999},{"$f":"'Population 2016'!L216*'Prevalence Rates'!L216","v":36.009590638297865},{"$f":"'Population 2016'!M216*'Prevalence Rates'!M216","v":36.009590638297865},{"$f":"'Population 2016'!N216*'Prevalence Rates'!N216","v":99.124465106382971},{"$f":"'Population 2016'!O216*'Prevalence Rates'!O216","v":31.907866276595747},{"$f":"'Population 2016'!P216*'Prevalence Rates'!P216","v":103.56793882978722},{"$f":"'Population 2016'!Q216*'Prevalence Rates'!Q216","v":39.627762659574479},{"$f":"'Population 2016'!R216*'Prevalence Rates'!R216","v":58.551767553191489},{"$f":"'Population 2016'!S216*'Prevalence Rates'!S216","v":1127.4582853846775},{"$f":"'Population 2016'!T216*'Prevalence Rates'!T216","v":767.41889744680839},{"$f":"'Population 2016'!U216*'Prevalence Rates'!U216","v":0},{"$f":"'Population 2016'!V216*'Prevalence Rates'!V216","v":52.268828936170216},{"$f":"'Population 2016'!W216*'Prevalence Rates'!W216","v":422.2531924468085},{"$f":"'Population 2016'!X216*'Prevalence Rates'!X216","v":422.2531924468085},{"$f":"'Population 2016'!Y216*'Prevalence Rates'!Y216","v":151.35324202127657},{"$f":"'Population 2016'!Z216*'Prevalence Rates'!Z216","v":460.84838680851067},{"$f":"'Population 2016'!AA216*'Prevalence Rates'!AA216","v":409.24694707582364},{"$f":"'Population 2016'!AB216*'Prevalence Rates'!AB216","v":527.89818936170218},{"$f":"'Population 2016'!AC216*'Prevalence Rates'!AC216","v":864.59032978723394},{"$f":"'Population 2016'!AD216*'Prevalence Rates'!AD216","v":63.163606170212759},{"$f":"'Population 2016'!AE216*'Prevalence Rates'!AE216","v":45.430913617021275},{"$f":"'Population 2016'!AF216*'Prevalence Rates'!AF216","v":24.083500000000001},{"$f":"'Population 2016'!AG216*'Prevalence Rates'!AG216","v":24.271279370952822},{"$f":"'Population 2016'!AH216*'Prevalence Rates'!AH216","v":230.8318246808511},{"$f":"'Population 2016'!AI216*'Prevalence Rates'!AI216","v":1049.5200805851064},{"$f":"'Population 2016'!AJ216*'Prevalence Rates'!AJ216","v":34.306699999999999},{"$f":"'Population 2016'!AK216*'Prevalence Rates'!AK216","v":52.381612500000003},{"$f":"'Population 2016'!AL216*'Prevalence Rates'!AL216","v":23.916860585106384},{"$f":"'Population 2016'!AM216*'Prevalence Rates'!AM216","v":116.14950223404254},{"$f":"'Population 2016'!AN216*'Prevalence Rates'!AN216","v":4.3251999999999997},{"$f":"'Population 2016'!AO216*'Prevalence Rates'!AO216","v":4.3251999999999997},{"$f":"'Population 2016'!AP216*'Prevalence Rates'!AP216","v":44.225849734042555},{"$f":"'Population 2016'!AQ216*'Prevalence Rates'!AQ216","v":100.37277053191488},{"$f":"'Population 2016'!AR216*'Prevalence Rates'!AR216","v":3736.6779000000001},{"$f":"'Population 2016'!AS216*'Prevalence Rates'!AS216","v":20.390086648936173},{"$f":"'Population 2016'!AT216*'Prevalence Rates'!AT216","v":0},{"$f":"'Population 2016'!AU216*'Prevalence Rates'!AU216","v":0},{"$f":"'Population 2016'!AV216*'Prevalence Rates'!AV216","v":47.913093191489352},{"$f":"'Population 2016'!AW216*'Prevalence Rates'!AW216","v":107.37654095744681},{"$f":"'Population 2016'!AX216*'Prevalence Rates'!AX216","v":112.3569},{"$f":"'Population 2016'!AY216*'Prevalence Rates'!AY216","v":333.02643331011842},{"$f":"'Population 2016'!AZ216*'Prevalence Rates'!AZ216","v":156.4773909574468},{"$f":"'Population 2016'!BA216*'Prevalence Rates'!BA216","v":15.467923297872341},{"$f":"'Population 2016'!BB216*'Prevalence Rates'!BB216","v":80.430314893617009},{"$f":"'Population 2016'!BC216*'Prevalence Rates'!BC216","v":0},214]
[null,"Female 25-29",{"$f":"'Population 2016'!C217*'Prevalence Rates'!C217","v":357.39802968085104},{"$f":"'Population 2016'!D217*'Prevalence Rates'!D217","v":293.62583463827218},{"$f":"'Population 2016'!E217*'Prevalence Rates'!E217","v":157.24932632978724},{"$f":"'Population 2016'!F217*'Prevalence Rates'!F217","v":21.082526489361701},{"$f":"'Population 2016'!G217*'Prevalence Rates'!G217","v":14.643800000000001},{"$f":"'Population 2016'!H217*'Prevalence Rates'!H217","v":88.134303563829803},{"$f":"'Population 2016'!I217*'Prevalence Rates'!I217","v":16.193008191489362},{"$f":"'Population 2016'!J217*'Prevalence Rates'!J217","v":79.939099999999996},{"$f":"'Population 2016'!K217*'Prevalence Rates'!K217","v":10.6318},{"$f":"'Population 2016'!L217*'Prevalence Rates'!L217","v":42.229714468085106},{"$f":"'Population 2016'!M217*'Prevalence Rates'!M217","v":42.229714468085106},{"$f":"'Population 2016'!N217*'Prevalence Rates'!N217","v":83.285118670212753},{"$f":"'Population 2016'!O217*'Prevalence Rates'!O217","v":34.911815797872343},{"$f":"'Population 2016'!P217*'Prevalence Rates'!P217","v":80.358706117021271},{"$f":"'Population 2016'!Q217*'Prevalence Rates'!Q217","v":41.111689574468095},{"$f":"'Population 2016'!R217*'Prevalence Rates'!R217","v":48.959737765957449},{"$f":"'Population 2016'!S217*'Prevalence Rates'!S217","v":883.26821173475673},{"$f":"'Population 2016'!T217*'Prevalence Rates'!T217","v":672.33544148936176},{"$f":"'Population 2016'!U217*'Prevalence Rates'!U217","v":0},{"$f":"'Population 2016'!V217*'Prevalence Rates'!V217","v":51.268238297872344},{"$f":"'Population 2016'!W217*'Prevalence Rates'!W217","v":199.75790680851063},{"$f":"'Population 2016'!X217*'Prevalence Rates'!X217","v":199.75790680851063},{"$f":"'Population 2016'!Y217*'Prevalence Rates'!Y217","v":115.78754707446808},{"$f":"'Population 2016'!Z217*'Prevalence Rates'!Z217","v":417.04457239361699},{"$f":"'Population 2016'!AA217*'Prevalence Rates'!AA217","v":348.8647004006171},{"$f":"'Population 2016'!AB217*'Prevalence Rates'!AB217","v":581.85737234042551},{"$f":"'Population 2016'!AC217*'Prevalence Rates'!AC217","v":737.31703723404246},{"$f":"'Population 2016'!AD217*'Prevalence Rates'!AD217","v":71.503763297872339},{"$f":"'Population 2016'!AE217*'Prevalence Rates'!AE217","v":56.907659148936176},{"$f":"'Population 2016'!AF217*'Prevalence Rates'!AF217","v":17.151299999999999},{"$f":"'Population 2016'!AG217*'Prevalence Rates'!AG217","v":30.402683626271973},{"$f":"'Population 2016'!AH217*'Prevalence Rates'!AH217","v":196.46849361702129},{"$f":"'Population 2016'!AI217*'Prevalence Rates'!AI217","v":937.57276281914892},{"$f":"'Population 2016'!AJ217*'Prevalence Rates'!AJ217","v":35.0047},{"$f":"'Population 2016'!AK217*'Prevalence Rates'!AK217","v":57.256255000000003},{"$f":"'Population 2016'!AL217*'Prevalence Rates'!AL217","v":17.837074574468087},{"$f":"'Population 2016'!AM217*'Prevalence Rates'!AM217","v":101.40490053191489},{"$f":"'Population 2016'!AN217*'Prevalence Rates'!AN217","v":5.4161999999999999},{"$f":"'Population 2016'!AO217*'Prevalence Rates'!AO217","v":5.4161999999999999},{"$f":"'Population 2016'!AP217*'Prevalence Rates'!AP217","v":41.75104872340426},{"$f":"'Population 2016'!AQ217*'Prevalence Rates'!AQ217","v":84.901175744680842},{"$f":"'Population 2016'!AR217*'Prevalence Rates'!AR217","v":3246.8112999999998},{"$f":"'Population 2016'!AS217*'Prevalence Rates'!AS217","v":16.193008191489362},{"$f":"'Population 2016'!AT217*'Prevalence Rates'!AT217","v":0},{"$f":"'Population 2016'!AU217*'Prevalence Rates'!AU217","v":0},{"$f":"'Population 2016'!AV217*'Prevalence Rates'!AV217","v":36.14363851063829},{"$f":"'Population 2016'!AW217*'Prevalence Rates'!AW217","v":89.640990957446817},{"$f":"'Population 2016'!AX217*'Prevalence Rates'!AX217","v":69.307299999999998},{"$f":"'Population 2016'!AY217*'Prevalence Rates'!AY217","v":200.43866253030242},{"$f":"'Population 2016'!AZ217*'Prevalence Rates'!AZ217","v":141.49118265957449},{"$f":"'Population 2016'!BA217*'Prevalence Rates'!BA217","v":9.0950759574468076},{"$f":"'Population 2016'!BB217*'Prevalence Rates'!BB217","v":80.447002127659559},{"$f":"'Population 2016'!BC217*'Prevalence Rates'!BC217","v":0},215]
[null,"Female 30-34",{"$f":"'Population 2016'!C218*'Prevalence Rates'!C218","v":305.75708085106379},{"$f":"'Population 2016'!D218*'Prevalence Rates'!D218","v":307.96077872775533},{"$f":"'Population 2016'!E218*'Prevalence Rates'!E218","v":223.60657925531916},{"$f":"'Population 2016'!F218*'Prevalence Rates'!F218","v":25.802495106382977},{"$f":"'Population 2016'!G218*'Prevalence Rates'!G218","v":11.233599999999999},{"$f":"'Population 2016'!H218*'Prevalence Rates'!H218","v":103.55020015957449},{"$f":"'Population 2016'!I218*'Prevalence Rates'!I218","v":28.593982819148938},{"$f":"'Population 2016'!J218*'Prevalence Rates'!J218","v":68.103700000000003},{"$f":"'Population 2016'!K218*'Prevalence Rates'!K218","v":14.142300000000001},{"$f":"'Population 2016'!L218*'Prevalence Rates'!L218","v":42.229714468085106},{"$f":"'Population 2016'!M218*'Prevalence Rates'!M218","v":42.229714468085106},{"$f":"'Population 2016'!N218*'Prevalence Rates'!N218","v":80.678385691489353},{"$f":"'Population 2016'!O218*'Prevalence Rates'!O218","v":40.337992446808506},{"$f":"'Population 2016'!P218*'Prevalence Rates'!P218","v":85.756499999999988},{"$f":"'Population 2016'!Q218*'Prevalence Rates'!Q218","v":47.662453297872354},{"$f":"'Population 2016'!R218*'Prevalence Rates'!R218","v":48.437964361702129},{"$f":"'Population 2016'!S218*'Prevalence Rates'!S218","v":803.02950891491787},{"$f":"'Population 2016'!T218*'Prevalence Rates'!T218","v":548.99140978723403},{"$f":"'Population 2016'!U218*'Prevalence Rates'!U218","v":0},{"$f":"'Population 2016'!V218*'Prevalence Rates'!V218","v":68.912502127659579},{"$f":"'Population 2016'!W218*'Prevalence Rates'!W218","v":210.71770914893617},{"$f":"'Population 2016'!X218*'Prevalence Rates'!X218","v":210.71770914893617},{"$f":"'Population 2016'!Y218*'Prevalence Rates'!Y218","v":126.64955691489361},{"$f":"'Population 2016'!Z218*'Prevalence Rates'!Z218","v":311.90114941489361},{"$f":"'Population 2016'!AA218*'Prevalence Rates'!AA218","v":329.22760008754523},{"$f":"'Population 2016'!AB218*'Prevalence Rates'!AB218","v":612.14583829787227},{"$f":"'Population 2016'!AC218*'Prevalence Rates'!AC218","v":651.60855319148936},{"$f":"'Population 2016'!AD218*'Prevalence Rates'!AD218","v":73.410530319148933},{"$f":"'Population 2016'!AE218*'Prevalence Rates'!AE218","v":61.995430000000006},{"$f":"'Population 2016'!AF218*'Prevalence Rates'!AF218","v":17.953700000000001},{"$f":"'Population 2016'!AG218*'Prevalence Rates'!AG218","v":33.120804347826088},{"$f":"'Population 2016'!AH218*'Prevalence Rates'!AH218","v":231.55215319148937},{"$f":"'Population 2016'!AI218*'Prevalence Rates'!AI218","v":814.39267893617011},{"$f":"'Population 2016'!AJ218*'Prevalence Rates'!AJ218","v":42.727800000000002},{"$f":"'Population 2016'!AK218*'Prevalence Rates'!AK218","v":62.662424999999999},{"$f":"'Population 2016'!AL218*'Prevalence Rates'!AL218","v":25.775552819148938},{"$f":"'Population 2016'!AM218*'Prevalence Rates'!AM218","v":119.20249531914892},{"$f":"'Population 2016'!AN218*'Prevalence Rates'!AN218","v":3.9117000000000002},{"$f":"'Population 2016'!AO218*'Prevalence Rates'!AO218","v":3.9117000000000002},{"$f":"'Population 2016'!AP218*'Prevalence Rates'!AP218","v":52.345769734042555},{"$f":"'Population 2016'!AQ218*'Prevalence Rates'!AQ218","v":86.988909574468067},{"$f":"'Population 2016'!AR218*'Prevalence Rates'!AR218","v":3172.7899000000002},{"$f":"'Population 2016'!AS218*'Prevalence Rates'!AS218","v":28.593982819148938},{"$f":"'Population 2016'!AT218*'Prevalence Rates'!AT218","v":0},{"$f":"'Population 2016'!AU218*'Prevalence Rates'!AU218","v":0},{"$f":"'Population 2016'!AV218*'Prevalence Rates'!AV218","v":38.023943404255313},{"$f":"'Population 2016'!AW218*'Prevalence Rates'!AW218","v":105.86174170212767},{"$f":"'Population 2016'!AX218*'Prevalence Rates'!AX218","v":53.961399999999998},{"$f":"'Population 2016'!AY218*'Prevalence Rates'!AY218","v":218.22366225838346},{"$f":"'Population 2016'!AZ218*'Prevalence Rates'!AZ218","v":159.93091085106386},{"$f":"'Population 2016'!BA218*'Prevalence Rates'!BA218","v":10.967591595744681},{"$f":"'Population 2016'!BB218*'Prevalence Rates'!BB218","v":94.808681702127643},{"$f":"'Population 2016'!BC218*'Prevalence Rates'!BC218","v":0},216]
[null,"Female 35-39",{"$f":"'Population 2016'!C219*'Prevalence Rates'!C219","v":250.83402340425533},{"$f":"'Population 2016'!D219*'Prevalence Rates'!D219","v":278.22646721101046},{"$f":"'Population 2016'!E219*'Prevalence Rates'!E219","v":223.59137553191493},{"$f":"'Population 2016'!F219*'Prevalence Rates'!F219","v":27.720077127659575},{"$f":"'Population 2016'!G219*'Prevalence Rates'!G219","v":15.489600000000001},{"$f":"'Population 2016'!H219*'Prevalence Rates'!H219","v":114.95245882978726},{"$f":"'Population 2016'!I219*'Prevalence Rates'!I219","v":29.299541595744682},{"$f":"'Population 2016'!J219*'Prevalence Rates'!J219","v":76.3416},{"$f":"'Population 2016'!K219*'Prevalence Rates'!K219","v":17.886800000000001},{"$f":"'Population 2016'!L219*'Prevalence Rates'!L219","v":38.161383829787233},{"$f":"'Population 2016'!M219*'Prevalence Rates'!M219","v":38.161383829787233},{"$f":"'Population 2016'!N219*'Prevalence Rates'!N219","v":68.531867659574459},{"$f":"'Population 2016'!O219*'Prevalence Rates'!O219","v":38.021514468085108},{"$f":"'Population 2016'!P219*'Prevalence Rates'!P219","v":113.07496276595744},{"$f":"'Population 2016'!Q219*'Prevalence Rates'!Q219","v":57.102696808510657},{"$f":"'Population 2016'!R219*'Prevalence Rates'!R219","v":68.707881382978726},{"$f":"'Population 2016'!S219*'Prevalence Rates'!S219","v":764.36173546152975},{"$f":"'Population 2016'!T219*'Prevalence Rates'!T219","v":488.05834595744676},{"$f":"'Population 2016'!U219*'Prevalence Rates'!U219","v":0},{"$f":"'Population 2016'!V219*'Prevalence Rates'!V219","v":66.040309787234051},{"$f":"'Population 2016'!W219*'Prevalence Rates'!W219","v":217.93696531914895},{"$f":"'Population 2016'!X219*'Prevalence Rates'!X219","v":217.93696531914895},{"$f":"'Population 2016'!Y219*'Prevalence Rates'!Y219","v":129.53094627659576},{"$f":"'Population 2016'!Z219*'Prevalence Rates'!Z219","v":226.08131500000002},{"$f":"'Population 2016'!AA219*'Prevalence Rates'!AA219","v":352.56231676999136},{"$f":"'Population 2016'!AB219*'Prevalence Rates'!AB219","v":545.36986595744679},{"$f":"'Population 2016'!AC219*'Prevalence Rates'!AC219","v":684.77626595744675},{"$f":"'Population 2016'!AD219*'Prevalence Rates'!AD219","v":75.895410851063829},{"$f":"'Population 2016'!AE219*'Prevalence Rates'!AE219","v":60.453185957446813},{"$f":"'Population 2016'!AF219*'Prevalence Rates'!AF219","v":21.3904},{"$f":"'Population 2016'!AG219*'Prevalence Rates'!AG219","v":32.296866790009254},{"$f":"'Population 2016'!AH219*'Prevalence Rates'!AH219","v":261.55060595744686},{"$f":"'Population 2016'!AI219*'Prevalence Rates'!AI219","v":758.01131446808506},{"$f":"'Population 2016'!AJ219*'Prevalence Rates'!AJ219","v":43.979400000000005},{"$f":"'Population 2016'!AK219*'Prevalence Rates'!AK219","v":45.968615000000007},{"$f":"'Population 2016'!AL219*'Prevalence Rates'!AL219","v":28.468809787234047},{"$f":"'Population 2016'!AM219*'Prevalence Rates'!AM219","v":131.38970808510638},{"$f":"'Population 2016'!AN219*'Prevalence Rates'!AN219","v":5.4398},{"$f":"'Population 2016'!AO219*'Prevalence Rates'!AO219","v":5.4398},{"$f":"'Population 2016'!AP219*'Prevalence Rates'!AP219","v":49.561276276595748},{"$f":"'Population 2016'!AQ219*'Prevalence Rates'!AQ219","v":99.581688936170195},{"$f":"'Population 2016'!AR219*'Prevalence Rates'!AR219","v":3104.9272000000001},{"$f":"'Population 2016'!AS219*'Prevalence Rates'!AS219","v":29.299541595744682},{"$f":"'Population 2016'!AT219*'Prevalence Rates'!AT219","v":0},{"$f":"'Population 2016'!AU219*'Prevalence Rates'!AU219","v":0},{"$f":"'Population 2016'!AV219*'Prevalence Rates'!AV219","v":49.260988723404246},{"$f":"'Population 2016'!AW219*'Prevalence Rates'!AW219","v":121.81513042553193},{"$f":"'Population 2016'!AX219*'Prevalence Rates'!AX219","v":58.454800000000006},{"$f":"'Population 2016'!AY219*'Prevalence Rates'!AY219","v":216.94913893471613},{"$f":"'Population 2016'!AZ219*'Prevalence Rates'!AZ219","v":151.64565574468088},{"$f":"'Population 2016'!BA219*'Prevalence Rates'!BA219","v":15.368710106382979},{"$f":"'Population 2016'!BB219*'Prevalence Rates'!BB219","v":104.02670978723403},{"$f":"'Population 2016'!BC219*'Prevalence Rates'!BC219","v":0},217]
[null,"Female 40-44",{"$f":"'Population 2016'!C220*'Prevalence Rates'!C220","v":231.14314404255322},{"$f":"'Population 2016'!D220*'Prevalence Rates'!D220","v":276.67879932283734},{"$f":"'Population 2016'!E220*'Prevalence Rates'!E220","v":237.88678936170217},{"$f":"'Population 2016'!F220*'Prevalence Rates'!F220","v":34.180060319148936},{"$f":"'Population 2016'!G220*'Prevalence Rates'!G220","v":17.886800000000001},{"$f":"'Population 2016'!H220*'Prevalence Rates'!H220","v":146.5573927659575},{"$f":"'Population 2016'!I220*'Prevalence Rates'!I220","v":45.315368191489362},{"$f":"'Population 2016'!J220*'Prevalence Rates'!J220","v":97.086600000000004},{"$f":"'Population 2016'!K220*'Prevalence Rates'!K220","v":23.05},{"$f":"'Population 2016'!L220*'Prevalence Rates'!L220","v":41.231839999999998},{"$f":"'Population 2016'!M220*'Prevalence Rates'!M220","v":41.231839999999998},{"$f":"'Population 2016'!N220*'Prevalence Rates'!N220","v":80.512963404255316},{"$f":"'Population 2016'!O220*'Prevalence Rates'!O220","v":49.691484255319146},{"$f":"'Population 2016'!P220*'Prevalence Rates'!P220","v":131.31511436170211},{"$f":"'Population 2016'!Q220*'Prevalence Rates'!Q220","v":66.34295138297874},{"$f":"'Population 2016'!R220*'Prevalence Rates'!R220","v":77.581150531914901},{"$f":"'Population 2016'!S220*'Prevalence Rates'!S220","v":800.78178724562565},{"$f":"'Population 2016'!T220*'Prevalence Rates'!T220","v":465.15763148936162},{"$f":"'Population 2016'!U220*'Prevalence Rates'!U220","v":0},{"$f":"'Population 2016'!V220*'Prevalence Rates'!V220","v":80.423509787234053},{"$f":"'Population 2016'!W220*'Prevalence Rates'!W220","v":250.34712893617024},{"$f":"'Population 2016'!X220*'Prevalence Rates'!X220","v":250.34712893617024},{"$f":"'Population 2016'!Y220*'Prevalence Rates'!Y220","v":160.77595691489361},{"$f":"'Population 2016'!Z220*'Prevalence Rates'!Z220","v":210.53193212765959},{"$f":"'Population 2016'!AA220*'Prevalence Rates'!AA220","v":384.70519259971525},{"$f":"'Population 2016'!AB220*'Prevalence Rates'!AB220","v":553.10387659574474},{"$f":"'Population 2016'!AC220*'Prevalence Rates'!AC220","v":740.80247872340419},{"$f":"'Population 2016'!AD220*'Prevalence Rates'!AD220","v":87.639042553191487},{"$f":"'Population 2016'!AE220*'Prevalence Rates'!AE220","v":69.806974042553193},{"$f":"'Population 2016'!AF220*'Prevalence Rates'!AF220","v":27.936600000000002},{"$f":"'Population 2016'!AG220*'Prevalence Rates'!AG220","v":37.294089731729883},{"$f":"'Population 2016'!AH220*'Prevalence Rates'!AH220","v":292.08096851063834},{"$f":"'Population 2016'!AI220*'Prevalence Rates'!AI220","v":761.69911829787236},{"$f":"'Population 2016'!AJ220*'Prevalence Rates'!AJ220","v":45.546800000000005},{"$f":"'Population 2016'!AK220*'Prevalence Rates'!AK220","v":60.651465000000009},{"$f":"'Population 2016'!AL220*'Prevalence Rates'!AL220","v":36.486923936170214},{"$f":"'Population 2016'!AM220*'Prevalence Rates'!AM220","v":141.40880744680851},{"$f":"'Population 2016'!AN220*'Prevalence Rates'!AN220","v":3.9646000000000003},{"$f":"'Population 2016'!AO220*'Prevalence Rates'!AO220","v":3.9646000000000003},{"$f":"'Population 2016'!AP220*'Prevalence Rates'!AP220","v":62.186055531914903},{"$f":"'Population 2016'!AQ220*'Prevalence Rates'!AQ220","v":113.54871382978722},{"$f":"'Population 2016'!AR220*'Prevalence Rates'!AR220","v":3366.0376000000001},{"$f":"'Population 2016'!AS220*'Prevalence Rates'!AS220","v":45.315368191489362},{"$f":"'Population 2016'!AT220*'Prevalence Rates'!AT220","v":0},{"$f":"'Population 2016'!AU220*'Prevalence Rates'!AU220","v":0},{"$f":"'Population 2016'!AV220*'Prevalence Rates'!AV220","v":61.3601789361702},{"$f":"'Population 2016'!AW220*'Prevalence Rates'!AW220","v":139.69065063829788},{"$f":"'Population 2016'!AX220*'Prevalence Rates'!AX220","v":74.036600000000007},{"$f":"'Population 2016'!AY220*'Prevalence Rates'!AY220","v":256.37532119811254},{"$f":"'Population 2016'!AZ220*'Prevalence Rates'!AZ220","v":185.46412531914896},{"$f":"'Population 2016'!BA220*'Prevalence Rates'!BA220","v":15.122810744680852},{"$f":"'Population 2016'!BB220*'Prevalence Rates'!BB220","v":130.33117361702125},{"$f":"'Population 2016'!BC220*'Prevalence Rates'!BC220","v":0},218]
[null,"Female 45-49",{"$f":"'Population 2016'!C221*'Prevalence Rates'!C221","v":266.38063914893615},{"$f":"'Population 2016'!D221*'Prevalence Rates'!D221","v":320.30615186362905},{"$f":"'Population 2016'!E221*'Prevalence Rates'!E221","v":276.42476595744682},{"$f":"'Population 2016'!F221*'Prevalence Rates'!F221","v":42.528867553191489},{"$f":"'Population 2016'!G221*'Prevalence Rates'!G221","v":26.347200000000001},{"$f":"'Population 2016'!H221*'Prevalence Rates'!H221","v":201.42591531914897},{"$f":"'Population 2016'!I221*'Prevalence Rates'!I221","v":50.274409255319149},{"$f":"'Population 2016'!J221*'Prevalence Rates'!J221","v":136.62620000000001},{"$f":"'Population 2016'!K221*'Prevalence Rates'!K221","v":29.440999999999999},{"$f":"'Population 2016'!L221*'Prevalence Rates'!L221","v":59.586545531914886},{"$f":"'Population 2016'!M221*'Prevalence Rates'!M221","v":59.586545531914886},{"$f":"'Population 2016'!N221*'Prevalence Rates'!N221","v":110.75262531914892},{"$f":"'Population 2016'!O221*'Prevalence Rates'!O221","v":61.631543085106379},{"$f":"'Population 2016'!P221*'Prevalence Rates'!P221","v":171.18752393617021},{"$f":"'Population 2016'!Q221*'Prevalence Rates'!Q221","v":87.769693936170242},{"$f":"'Population 2016'!R221*'Prevalence Rates'!R221","v":98.469687234042567},{"$f":"'Population 2016'!S221*'Prevalence Rates'!S221","v":950.89039254113527},{"$f":"'Population 2016'!T221*'Prevalence Rates'!T221","v":536.85477702127662},{"$f":"'Population 2016'!U221*'Prevalence Rates'!U221","v":0},{"$f":"'Population 2016'!V221*'Prevalence Rates'!V221","v":93.744051063829801},{"$f":"'Population 2016'!W221*'Prevalence Rates'!W221","v":297.42300446808508},{"$f":"'Population 2016'!X221*'Prevalence Rates'!X221","v":297.42300446808508},{"$f":"'Population 2016'!Y221*'Prevalence Rates'!Y221","v":204.68767659574465},{"$f":"'Population 2016'!Z221*'Prevalence Rates'!Z221","v":257.31014627659573},{"$f":"'Population 2016'!AA221*'Prevalence Rates'!AA221","v":499.74151943163486},{"$f":"'Population 2016'!AB221*'Prevalence Rates'!AB221","v":643.99028936170203},{"$f":"'Population 2016'!AC221*'Prevalence Rates'!AC221","v":960.50068085106375},{"$f":"'Population 2016'!AD221*'Prevalence Rates'!AD221","v":108.71309553191489},{"$f":"'Population 2016'!AE221*'Prevalence Rates'!AE221","v":82.685998723404253},{"$f":"'Population 2016'!AF221*'Prevalence Rates'!AF221","v":39.321199999999997},{"$f":"'Population 2016'!AG221*'Prevalence Rates'!AG221","v":44.17465587419057},{"$f":"'Population 2016'!AH221*'Prevalence Rates'!AH221","v":381.32008680851067},{"$f":"'Population 2016'!AI221*'Prevalence Rates'!AI221","v":907.49663542553185},{"$f":"'Population 2016'!AJ221*'Prevalence Rates'!AJ221","v":56.087600000000002},{"$f":"'Population 2016'!AK221*'Prevalence Rates'!AK221","v":75.309079999999994},{"$f":"'Population 2016'!AL221*'Prevalence Rates'!AL221","v":52.36681180851064},{"$f":"'Population 2016'!AM221*'Prevalence Rates'!AM221","v":196.99405212765959},{"$f":"'Population 2016'!AN221*'Prevalence Rates'!AN221","v":7.4850000000000003},{"$f":"'Population 2016'!AO221*'Prevalence Rates'!AO221","v":7.4850000000000003},{"$f":"'Population 2016'!AP221*'Prevalence Rates'!AP221","v":80.040396276595743},{"$f":"'Population 2016'!AQ221*'Prevalence Rates'!AQ221","v":158.91546829787231},{"$f":"'Population 2016'!AR221*'Prevalence Rates'!AR221","v":4170.143},{"$f":"'Population 2016'!AS221*'Prevalence Rates'!AS221","v":50.274409255319149},{"$f":"'Population 2016'!AT221*'Prevalence Rates'!AT221","v":0},{"$f":"'Population 2016'!AU221*'Prevalence Rates'!AU221","v":0},{"$f":"'Population 2016'!AV221*'Prevalence Rates'!AV221","v":88.765305106382968},{"$f":"'Population 2016'!AW221*'Prevalence Rates'!AW221","v":173.85775787234044},{"$f":"'Population 2016'!AX221*'Prevalence Rates'!AX221","v":107.18519999999999},{"$f":"'Population 2016'!AY221*'Prevalence Rates'!AY221","v":317.79441429528117},{"$f":"'Population 2016'!AZ221*'Prevalence Rates'!AZ221","v":241.11701234042553},{"$f":"'Population 2016'!BA221*'Prevalence Rates'!BA221","v":24.088269468085105},{"$f":"'Population 2016'!BB221*'Prevalence Rates'!BB221","v":169.547034893617},{"$f":"'Population 2016'!BC221*'Prevalence Rates'!BC221","v":0},219]
[null,"Female 50-54",{"$f":"'Population 2016'!C222*'Prevalence Rates'!C222","v":283.80327723404258},{"$f":"'Population 2016'!D222*'Prevalence Rates'!D222","v":323.6566346237089},{"$f":"'Population 2016'!E222*'Prevalence Rates'!E222","v":266.88510691489364},{"$f":"'Population 2016'!F222*'Prevalence Rates'!F222","v":43.624703404255321},{"$f":"'Population 2016'!G222*'Prevalence Rates'!G222","v":27.544799999999999},{"$f":"'Population 2016'!H222*'Prevalence Rates'!H222","v":207.37988776595748},{"$f":"'Population 2016'!I222*'Prevalence Rates'!I222","v":45.277561276595748},{"$f":"'Population 2016'!J222*'Prevalence Rates'!J222","v":134.03139999999999},{"$f":"'Population 2016'!K222*'Prevalence Rates'!K222","v":31.337199999999999},{"$f":"'Population 2016'!L222*'Prevalence Rates'!L222","v":71.693771914893617},{"$f":"'Population 2016'!M222*'Prevalence Rates'!M222","v":71.693771914893617},{"$f":"'Population 2016'!N222*'Prevalence Rates'!N222","v":117.88540563829785},{"$f":"'Population 2016'!O222*'Prevalence Rates'!O222","v":58.881044468085108},{"$f":"'Population 2016'!P222*'Prevalence Rates'!P222","v":186.84630319148934},{"$f":"'Population 2016'!Q222*'Prevalence Rates'!Q222","v":82.48777893617023},{"$f":"'Population 2016'!R222*'Prevalence Rates'!R222","v":98.599480319148938},{"$f":"'Population 2016'!S222*'Prevalence Rates'!S222","v":937.82071059390523},{"$f":"'Population 2016'!T222*'Prevalence Rates'!T222","v":546.63369063829782},{"$f":"'Population 2016'!U222*'Prevalence Rates'!U222","v":0},{"$f":"'Population 2016'!V222*'Prevalence Rates'!V222","v":86.25777702127661},{"$f":"'Population 2016'!W222*'Prevalence Rates'!W222","v":288.36965808510638},{"$f":"'Population 2016'!X222*'Prevalence Rates'!X222","v":288.36965808510638},{"$f":"'Population 2016'!Y222*'Prevalence Rates'!Y222","v":194.46799734042551},{"$f":"'Population 2016'!Z222*'Prevalence Rates'!Z222","v":261.42710861702125},{"$f":"'Population 2016'!AA222*'Prevalence Rates'!AA222","v":522.47423296165368},{"$f":"'Population 2016'!AB222*'Prevalence Rates'!AB222","v":646.81017021276591},{"$f":"'Population 2016'!AC222*'Prevalence Rates'!AC222","v":1003.4199893617021},{"$f":"'Population 2016'!AD222*'Prevalence Rates'!AD222","v":114.31001755319149},{"$f":"'Population 2016'!AE222*'Prevalence Rates'!AE222","v":87.092168723404257},{"$f":"'Population 2016'!AF222*'Prevalence Rates'!AF222","v":39.8202},{"$f":"'Population 2016'!AG222*'Prevalence Rates'!AG222","v":46.52863413506013},{"$f":"'Population 2016'!AH222*'Prevalence Rates'!AH222","v":399.47264510638303},{"$f":"'Population 2016'!AI222*'Prevalence Rates'!AI222","v":903.23268042553184},{"$f":"'Population 2016'!AJ222*'Prevalence Rates'!AJ222","v":52.893999999999998},{"$f":"'Population 2016'!AK222*'Prevalence Rates'!AK222","v":70.663390000000007},{"$f":"'Population 2016'!AL222*'Prevalence Rates'!AL222","v":50.611499680851068},{"$f":"'Population 2016'!AM222*'Prevalence Rates'!AM222","v":193.83665617021276},{"$f":"'Population 2016'!AN222*'Prevalence Rates'!AN222","v":6.6866000000000003},{"$f":"'Population 2016'!AO222*'Prevalence Rates'!AO222","v":6.6866000000000003},{"$f":"'Population 2016'!AP222*'Prevalence Rates'!AP222","v":88.239656382978723},{"$f":"'Population 2016'!AQ222*'Prevalence Rates'!AQ222","v":171.84105468085104},{"$f":"'Population 2016'!AR222*'Prevalence Rates'!AR222","v":4234.3144000000002},{"$f":"'Population 2016'!AS222*'Prevalence Rates'!AS222","v":45.277561276595748},{"$f":"'Population 2016'!AT222*'Prevalence Rates'!AT222","v":0},{"$f":"'Population 2016'!AU222*'Prevalence Rates'!AU222","v":0},{"$f":"'Population 2016'!AV222*'Prevalence Rates'!AV222","v":99.575131489361695},{"$f":"'Population 2016'!AW222*'Prevalence Rates'!AW222","v":190.75273000000001},{"$f":"'Population 2016'!AX222*'Prevalence Rates'!AX222","v":102.6942},{"$f":"'Population 2016'!AY222*'Prevalence Rates'!AY222","v":323.08624608211397},{"$f":"'Population 2016'!AZ222*'Prevalence Rates'!AZ222","v":257.31678191489362},{"$f":"'Population 2016'!BA222*'Prevalence Rates'!BA222","v":27.282294148936167},{"$f":"'Population 2016'!BB222*'Prevalence Rates'!BB222","v":159.12494212765955},{"$f":"'Population 2016'!BC222*'Prevalence Rates'!BC222","v":0},220]
[null,"Female 55-59",{"$f":"'Population 2016'!C223*'Prevalence Rates'!C223","v":284.91648425531918},{"$f":"'Population 2016'!D223*'Prevalence Rates'!D223","v":310.00799755250148},{"$f":"'Population 2016'!E223*'Prevalence Rates'!E223","v":244.5201287234043},{"$f":"'Population 2016'!F223*'Prevalence Rates'!F223","v":44.096543404255321},{"$f":"'Population 2016'!G223*'Prevalence Rates'!G223","v":32.303200000000004},{"$f":"'Population 2016'!H223*'Prevalence Rates'!H223","v":234.12877787234052},{"$f":"'Population 2016'!I223*'Prevalence Rates'!I223","v":43.41950468085107},{"$f":"'Population 2016'!J223*'Prevalence Rates'!J223","v":126.93640000000001},{"$f":"'Population 2016'!K223*'Prevalence Rates'!K223","v":28.834400000000002},{"$f":"'Population 2016'!L223*'Prevalence Rates'!L223","v":68.975842553191484},{"$f":"'Population 2016'!M223*'Prevalence Rates'!M223","v":68.975842553191484},{"$f":"'Population 2016'!N223*'Prevalence Rates'!N223","v":126.91696872340425},{"$f":"'Population 2016'!O223*'Prevalence Rates'!O223","v":61.963285106382983},{"$f":"'Population 2016'!P223*'Prevalence Rates'!P223","v":182.98121808510638},{"$f":"'Population 2016'!Q223*'Prevalence Rates'!Q223","v":75.436367234042578},{"$f":"'Population 2016'!R223*'Prevalence Rates'!R223","v":95.676838297872351},{"$f":"'Population 2016'!S223*'Prevalence Rates'!S223","v":923.81538540977601},{"$f":"'Population 2016'!T223*'Prevalence Rates'!T223","v":555.03959744680844},{"$f":"'Population 2016'!U223*'Prevalence Rates'!U223","v":0},{"$f":"'Population 2016'!V223*'Prevalence Rates'!V223","v":76.996289361702139},{"$f":"'Population 2016'!W223*'Prevalence Rates'!W223","v":289.75285404255322},{"$f":"'Population 2016'!X223*'Prevalence Rates'!X223","v":289.75285404255322},{"$f":"'Population 2016'!Y223*'Prevalence Rates'!Y223","v":178.96292234042556},{"$f":"'Population 2016'!Z223*'Prevalence Rates'!Z223","v":255.54625382978725},{"$f":"'Population 2016'!AA223*'Prevalence Rates'!AA223","v":505.56256739888039},{"$f":"'Population 2016'!AB223*'Prevalence Rates'!AB223","v":618.60535744680863},{"$f":"'Population 2016'!AC223*'Prevalence Rates'!AC223","v":976.06704255319153},{"$f":"'Population 2016'!AD223*'Prevalence Rates'!AD223","v":114.06268914893617},{"$f":"'Population 2016'!AE223*'Prevalence Rates'!AE223","v":82.377888085106392},{"$f":"'Population 2016'!AF223*'Prevalence Rates'!AF223","v":37.723200000000006},{"$f":"'Population 2016'!AG223*'Prevalence Rates'!AG223","v":44.010049028677159},{"$f":"'Population 2016'!AH223*'Prevalence Rates'!AH223","v":381.19159829787236},{"$f":"'Population 2016'!AI223*'Prevalence Rates'!AI223","v":885.77797255319149},{"$f":"'Population 2016'!AJ223*'Prevalence Rates'!AJ223","v":53.983200000000004},{"$f":"'Population 2016'!AK223*'Prevalence Rates'!AK223","v":66.39500000000001},{"$f":"'Population 2016'!AL223*'Prevalence Rates'!AL223","v":56.561620851063836},{"$f":"'Population 2016'!AM223*'Prevalence Rates'!AM223","v":183.84974425531917},{"$f":"'Population 2016'!AN223*'Prevalence Rates'!AN223","v":5.7452000000000005},{"$f":"'Population 2016'!AO223*'Prevalence Rates'!AO223","v":5.7452000000000005},{"$f":"'Population 2016'!AP223*'Prevalence Rates'!AP223","v":88.973278510638309},{"$f":"'Population 2016'!AQ223*'Prevalence Rates'!AQ223","v":167.59551021276596},{"$f":"'Population 2016'!AR223*'Prevalence Rates'!AR223","v":4153.2376000000004},{"$f":"'Population 2016'!AS223*'Prevalence Rates'!AS223","v":43.41950468085107},{"$f":"'Population 2016'!AT223*'Prevalence Rates'!AT223","v":0},{"$f":"'Population 2016'!AU223*'Prevalence Rates'!AU223","v":0},{"$f":"'Population 2016'!AV223*'Prevalence Rates'!AV223","v":117.63913957446808},{"$f":"'Population 2016'!AW223*'Prevalence Rates'!AW223","v":182.79088382978725},{"$f":"'Population 2016'!AX223*'Prevalence Rates'!AX223","v":98.102000000000004},{"$f":"'Population 2016'!AY223*'Prevalence Rates'!AY223","v":328.86305126928295},{"$f":"'Population 2016'!AZ223*'Prevalence Rates'!AZ223","v":265.19990808510642},{"$f":"'Population 2016'!BA223*'Prevalence Rates'!BA223","v":24.573934042553194},{"$f":"'Population 2016'!BB223*'Prevalence Rates'!BB223","v":132.10777191489362},{"$f":"'Population 2016'!BC223*'Prevalence Rates'!BC223","v":0},221]
[null,"Female 60-64",{"$f":"'Population 2016'!C224*'Prevalence Rates'!C224","v":224.59026978723406},{"$f":"'Population 2016'!D224*'Prevalence Rates'!D224","v":265.66172522107706},{"$f":"'Population 2016'!E224*'Prevalence Rates'!E224","v":226.16276170212771},{"$f":"'Population 2016'!F224*'Prevalence Rates'!F224","v":41.149216595744683},{"$f":"'Population 2016'!G224*'Prevalence Rates'!G224","v":23.739600000000003},{"$f":"'Population 2016'!H224*'Prevalence Rates'!H224","v":218.45442617021286},{"$f":"'Population 2016'!I224*'Prevalence Rates'!I224","v":40.207347446808512},{"$f":"'Population 2016'!J224*'Prevalence Rates'!J224","v":119.89040000000001},{"$f":"'Population 2016'!K224*'Prevalence Rates'!K224","v":33.495600000000003},{"$f":"'Population 2016'!L224*'Prevalence Rates'!L224","v":66.397306382978712},{"$f":"'Population 2016'!M224*'Prevalence Rates'!M224","v":66.397306382978712},{"$f":"'Population 2016'!N224*'Prevalence Rates'!N224","v":94.659492765957452},{"$f":"'Population 2016'!O224*'Prevalence Rates'!O224","v":55.545659148936174},{"$f":"'Population 2016'!P224*'Prevalence Rates'!P224","v":163.91896276595745},{"$f":"'Population 2016'!Q224*'Prevalence Rates'!Q224","v":65.915272340425545},{"$f":"'Population 2016'!R224*'Prevalence Rates'!R224","v":83.035841489361715},{"$f":"'Population 2016'!S224*'Prevalence Rates'!S224","v":804.84734429553896},{"$f":"'Population 2016'!T224*'Prevalence Rates'!T224","v":472.45471148936167},{"$f":"'Population 2016'!U224*'Prevalence Rates'!U224","v":0},{"$f":"'Population 2016'!V224*'Prevalence Rates'!V224","v":64.187560851063836},{"$f":"'Population 2016'!W224*'Prevalence Rates'!W224","v":268.63318978723407},{"$f":"'Population 2016'!X224*'Prevalence Rates'!X224","v":268.63318978723407},{"$f":"'Population 2016'!Y224*'Prevalence Rates'!Y224","v":159.55730425531917},{"$f":"'Population 2016'!Z224*'Prevalence Rates'!Z224","v":224.50718234042554},{"$f":"'Population 2016'!AA224*'Prevalence Rates'!AA224","v":440.57014201511174},{"$f":"'Population 2016'!AB224*'Prevalence Rates'!AB224","v":537.43912765957452},{"$f":"'Population 2016'!AC224*'Prevalence Rates'!AC224","v":862.24704255319159},{"$f":"'Population 2016'!AD224*'Prevalence Rates'!AD224","v":102.72854659574469},{"$f":"'Population 2016'!AE224*'Prevalence Rates'!AE224","v":79.2212570212766},{"$f":"'Population 2016'!AF224*'Prevalence Rates'!AF224","v":43.360000000000007},{"$f":"'Population 2016'!AG224*'Prevalence Rates'!AG224","v":42.323631822386687},{"$f":"'Population 2016'!AH224*'Prevalence Rates'!AH224","v":320.0189412765958},{"$f":"'Population 2016'!AI224*'Prevalence Rates'!AI224","v":755.31073085106391},{"$f":"'Population 2016'!AJ224*'Prevalence Rates'!AJ224","v":46.612000000000002},{"$f":"'Population 2016'!AK224*'Prevalence Rates'!AK224","v":67.05895000000001},{"$f":"'Population 2016'!AL224*'Prevalence Rates'!AL224","v":49.994541276595747},{"$f":"'Population 2016'!AM224*'Prevalence Rates'!AM224","v":144.3362144680851},{"$f":"'Population 2016'!AN224*'Prevalence Rates'!AN224","v":6.0704000000000002},{"$f":"'Population 2016'!AO224*'Prevalence Rates'!AO224","v":6.0704000000000002},{"$f":"'Population 2016'!AP224*'Prevalence Rates'!AP224","v":83.714610000000008},{"$f":"'Population 2016'!AQ224*'Prevalence Rates'!AQ224","v":140.14344085106384},{"$f":"'Population 2016'!AR224*'Prevalence Rates'!AR224","v":3647.0096000000003},{"$f":"'Population 2016'!AS224*'Prevalence Rates'!AS224","v":40.207347446808512},{"$f":"'Population 2016'!AT224*'Prevalence Rates'!AT224","v":0},{"$f":"'Population 2016'!AU224*'Prevalence Rates'!AU224","v":0},{"$f":"'Population 2016'!AV224*'Prevalence Rates'!AV224","v":115.04249829787233},{"$f":"'Population 2016'!AW224*'Prevalence Rates'!AW224","v":160.33928340425533},{"$f":"'Population 2016'!AX224*'Prevalence Rates'!AX224","v":86.394800000000004},{"$f":"'Population 2016'!AY224*'Prevalence Rates'!AY224","v":295.98292661691335},{"$f":"'Population 2016'!AZ224*'Prevalence Rates'!AZ224","v":231.85549148936175},{"$f":"'Population 2016'!BA224*'Prevalence Rates'!BA224","v":19.370042127659577},{"$f":"'Population 2016'!BB224*'Prevalence Rates'!BB224","v":111.68475063829787},{"$f":"'Population 2016'!BC224*'Prevalence Rates'!BC224","v":0},222]
[null,"Female 65-69",{"$f":"'Population 2016'!C225*'Prevalence Rates'!C225","v":145.20625595744679},{"$f":"'Population 2016'!D225*'Prevalence Rates'!D225","v":166.26039307515953},{"$f":"'Population 2016'!E225*'Prevalence Rates'!E225","v":137.59128829787235},{"$f":"'Population 2016'!F225*'Prevalence Rates'!F225","v":33.708952340425526},{"$f":"'Population 2016'!G225*'Prevalence Rates'!G225","v":18.367799999999999},{"$f":"'Population 2016'!H225*'Prevalence Rates'!H225","v":158.27402425531918},{"$f":"'Population 2016'!I225*'Prevalence Rates'!I225","v":29.673319148936173},{"$f":"'Population 2016'!J225*'Prevalence Rates'!J225","v":85.667999999999992},{"$f":"'Population 2016'!K225*'Prevalence Rates'!K225","v":22.070399999999999},{"$f":"'Population 2016'!L225*'Prevalence Rates'!L225","v":42.051310212765955},{"$f":"'Population 2016'!M225*'Prevalence Rates'!M225","v":42.051310212765955},{"$f":"'Population 2016'!N225*'Prevalence Rates'!N225","v":72.54852351063829},{"$f":"'Population 2016'!O225*'Prevalence Rates'!O225","v":37.79409255319149},{"$f":"'Population 2016'!P225*'Prevalence Rates'!P225","v":111.54430053191489},{"$f":"'Population 2016'!Q225*'Prevalence Rates'!Q225","v":48.070313617021284},{"$f":"'Population 2016'!R225*'Prevalence Rates'!R225","v":53.62977446808511},{"$f":"'Population 2016'!S225*'Prevalence Rates'!S225","v":560.01856211009897},{"$f":"'Population 2016'!T225*'Prevalence Rates'!T225","v":327.34135148936167},{"$f":"'Population 2016'!U225*'Prevalence Rates'!U225","v":0},{"$f":"'Population 2016'!V225*'Prevalence Rates'!V225","v":41.687846808510642},{"$f":"'Population 2016'!W225*'Prevalence Rates'!W225","v":200.79514914893616},{"$f":"'Population 2016'!X225*'Prevalence Rates'!X225","v":200.79514914893616},{"$f":"'Population 2016'!Y225*'Prevalence Rates'!Y225","v":109.37595478723404},{"$f":"'Population 2016'!Z225*'Prevalence Rates'!Z225","v":124.90513340425532},{"$f":"'Population 2016'!AA225*'Prevalence Rates'!AA225","v":276.60541740831053},{"$f":"'Population 2016'!AB225*'Prevalence Rates'!AB225","v":339.43203191489357},{"$f":"'Population 2016'!AC225*'Prevalence Rates'!AC225","v":547.80175531914881},{"$f":"'Population 2016'!AD225*'Prevalence Rates'!AD225","v":70.526806595744674},{"$f":"'Population 2016'!AE225*'Prevalence Rates'!AE225","v":52.44400021276595},{"$f":"'Population 2016'!AF225*'Prevalence Rates'!AF225","v":29.402999999999999},{"$f":"'Population 2016'!AG225*'Prevalence Rates'!AG225","v":28.017992136910269},{"$f":"'Population 2016'!AH225*'Prevalence Rates'!AH225","v":194.18368340425533},{"$f":"'Population 2016'!AI225*'Prevalence Rates'!AI225","v":511.80277499999994},{"$f":"'Population 2016'!AJ225*'Prevalence Rates'!AJ225","v":30.128999999999998},{"$f":"'Population 2016'!AK225*'Prevalence Rates'!AK225","v":46.246200000000002},{"$f":"'Population 2016'!AL225*'Prevalence Rates'!AL225","v":37.456039148936171},{"$f":"'Population 2016'!AM225*'Prevalence Rates'!AM225","v":86.681619574468073},{"$f":"'Population 2016'!AN225*'Prevalence Rates'!AN225","v":3.7025999999999999},{"$f":"'Population 2016'!AO225*'Prevalence Rates'!AO225","v":3.7025999999999999},{"$f":"'Population 2016'!AP225*'Prevalence Rates'!AP225","v":66.235374255319144},{"$f":"'Population 2016'!AQ225*'Prevalence Rates'!AQ225","v":92.852465106382965},{"$f":"'Population 2016'!AR225*'Prevalence Rates'!AR225","v":2451.4115999999999},{"$f":"'Population 2016'!AS225*'Prevalence Rates'!AS225","v":29.673319148936173},{"$f":"'Population 2016'!AT225*'Prevalence Rates'!AT225","v":0},{"$f":"'Population 2016'!AU225*'Prevalence Rates'!AU225","v":0},{"$f":"'Population 2016'!AV225*'Prevalence Rates'!AV225","v":84.534358723404239},{"$f":"'Population 2016'!AW225*'Prevalence Rates'!AW225","v":97.910677021276598},{"$f":"'Population 2016'!AX225*'Prevalence Rates'!AX225","v":63.5976},{"$f":"'Population 2016'!AY225*'Prevalence Rates'!AY225","v":227.91104299013926},{"$f":"'Population 2016'!AZ225*'Prevalence Rates'!AZ225","v":183.80072489361703},{"$f":"'Population 2016'!BA225*'Prevalence Rates'!BA225","v":9.1972228723404257},{"$f":"'Population 2016'!BB225*'Prevalence Rates'!BB225","v":63.779254468085099},{"$f":"'Population 2016'!BC225*'Prevalence Rates'!BC225","v":0},223]
[null,"Female 70-74",{"$f":"'Population 2016'!C226*'Prevalence Rates'!C226","v":111.75155808510638},{"$f":"'Population 2016'!D226*'Prevalence Rates'!D226","v":123.64202215913959},{"$f":"'Population 2016'!E226*'Prevalence Rates'!E226","v":99.122556382978729},{"$f":"'Population 2016'!F226*'Prevalence Rates'!F226","v":24.256779893617018},{"$f":"'Population 2016'!G226*'Prevalence Rates'!G226","v":15.1008},{"$f":"'Population 2016'!H226*'Prevalence Rates'!H226","v":121.93560031914895},{"$f":"'Population 2016'!I226*'Prevalence Rates'!I226","v":22.477539255319151},{"$f":"'Population 2016'!J226*'Prevalence Rates'!J226","v":65.993399999999994},{"$f":"'Population 2016'!K226*'Prevalence Rates'!K226","v":15.1008},{"$f":"'Population 2016'!L226*'Prevalence Rates'!L226","v":40.497052340425526},{"$f":"'Population 2016'!M226*'Prevalence Rates'!M226","v":40.497052340425526},{"$f":"'Population 2016'!N226*'Prevalence Rates'!N226","v":58.302974680851058},{"$f":"'Population 2016'!O226*'Prevalence Rates'!O226","v":25.937122340425532},{"$f":"'Population 2016'!P226*'Prevalence Rates'!P226","v":93.32961702127659},{"$f":"'Population 2016'!Q226*'Prevalence Rates'!Q226","v":40.54910808510639},{"$f":"'Population 2016'!R226*'Prevalence Rates'!R226","v":46.170703723404259},{"$f":"'Population 2016'!S226*'Prevalence Rates'!S226","v":419.26468102614348},{"$f":"'Population 2016'!T226*'Prevalence Rates'!T226","v":243.68622510638295},{"$f":"'Population 2016'!U226*'Prevalence Rates'!U226","v":0},{"$f":"'Population 2016'!V226*'Prevalence Rates'!V226","v":29.494754042553193},{"$f":"'Population 2016'!W226*'Prevalence Rates'!W226","v":151.17637021276596},{"$f":"'Population 2016'!X226*'Prevalence Rates'!X226","v":151.17637021276596},{"$f":"'Population 2016'!Y226*'Prevalence Rates'!Y226","v":81.350037765957438},{"$f":"'Population 2016'!Z226*'Prevalence Rates'!Z226","v":74.784526276595741},{"$f":"'Population 2016'!AA226*'Prevalence Rates'!AA226","v":210.48788863671413},{"$f":"'Population 2016'!AB226*'Prevalence Rates'!AB226","v":256.60933404255314},{"$f":"'Population 2016'!AC226*'Prevalence Rates'!AC226","v":422.6710212765957},{"$f":"'Population 2016'!AD226*'Prevalence Rates'!AD226","v":56.656074574468079},{"$f":"'Population 2016'!AE226*'Prevalence Rates'!AE226","v":41.805165319148934},{"$f":"'Population 2016'!AF226*'Prevalence Rates'!AF226","v":23.377199999999998},{"$f":"'Population 2016'!AG226*'Prevalence Rates'!AG226","v":22.334238205365402},{"$f":"'Population 2016'!AH226*'Prevalence Rates'!AH226","v":141.70160680851066},{"$f":"'Population 2016'!AI226*'Prevalence Rates'!AI226","v":382.18566989361699},{"$f":"'Population 2016'!AJ226*'Prevalence Rates'!AJ226","v":21.634799999999998},{"$f":"'Population 2016'!AK226*'Prevalence Rates'!AK226","v":40.198619999999998},{"$f":"'Population 2016'!AL226*'Prevalence Rates'!AL226","v":29.156121382978725},{"$f":"'Population 2016'!AM226*'Prevalence Rates'!AM226","v":57.621307021276586},{"$f":"'Population 2016'!AN226*'Prevalence Rates'!AN226","v":3.2669999999999999},{"$f":"'Population 2016'!AO226*'Prevalence Rates'!AO226","v":3.2669999999999999},{"$f":"'Population 2016'!AP226*'Prevalence Rates'!AP226","v":53.681328191489357},{"$f":"'Population 2016'!AQ226*'Prevalence Rates'!AQ226","v":69.765278936170205},{"$f":"'Population 2016'!AR226*'Prevalence Rates'!AR226","v":1867.4171999999999},{"$f":"'Population 2016'!AS226*'Prevalence Rates'!AS226","v":22.477539255319151},{"$f":"'Population 2016'!AT226*'Prevalence Rates'!AT226","v":0},{"$f":"'Population 2016'!AU226*'Prevalence Rates'!AU226","v":0},{"$f":"'Population 2016'!AV226*'Prevalence Rates'!AV226","v":68.050914893617005},{"$f":"'Population 2016'!AW226*'Prevalence Rates'!AW226","v":75.3211870212766},{"$f":"'Population 2016'!AX226*'Prevalence Rates'!AX226","v":50.892600000000002},{"$f":"'Population 2016'!AY226*'Prevalence Rates'!AY226","v":174.76215465026661},{"$f":"'Population 2016'!AZ226*'Prevalence Rates'!AZ226","v":143.36847191489363},{"$f":"'Population 2016'!BA226*'Prevalence Rates'!BA226","v":4.5502050000000001},{"$f":"'Population 2016'!BB226*'Prevalence Rates'!BB226","v":45.176971914893613},{"$f":"'Population 2016'!BC226*'Prevalence Rates'!BC226","v":0},224]
[null,"Female 75-79",{"$f":"'Population 2016'!C227*'Prevalence Rates'!C227","v":67.394839787234048},{"$f":"'Population 2016'!D227*'Prevalence Rates'!D227","v":69.405734770642525},{"$f":"'Population 2016'!E227*'Prevalence Rates'!E227","v":51.680767553191494},{"$f":"'Population 2016'!F227*'Prevalence Rates'!F227","v":13.149298191489359},{"$f":"'Population 2016'!G227*'Prevalence Rates'!G227","v":7.3875999999999999},{"$f":"'Population 2016'!H227*'Prevalence Rates'!H227","v":63.854185531914908},{"$f":"'Population 2016'!I227*'Prevalence Rates'!I227","v":13.701430319148937},{"$f":"'Population 2016'!J227*'Prevalence Rates'!J227","v":37.848799999999997},{"$f":"'Population 2016'!K227*'Prevalence Rates'!K227","v":8.2983999999999991},{"$f":"'Population 2016'!L227*'Prevalence Rates'!L227","v":21.605231063829784},{"$f":"'Population 2016'!M227*'Prevalence Rates'!M227","v":21.605231063829784},{"$f":"'Population 2016'!N227*'Prevalence Rates'!N227","v":33.073801808510638},{"$f":"'Population 2016'!O227*'Prevalence Rates'!O227","v":12.499222765957446},{"$f":"'Population 2016'!P227*'Prevalence Rates'!P227","v":58.757904255319147},{"$f":"'Population 2016'!Q227*'Prevalence Rates'!Q227","v":22.164764787234049},{"$f":"'Population 2016'!R227*'Prevalence Rates'!R227","v":24.611786170212767},{"$f":"'Population 2016'!S227*'Prevalence Rates'!S227","v":231.67582756308647},{"$f":"'Population 2016'!T227*'Prevalence Rates'!T227","v":143.86021404255317},{"$f":"'Population 2016'!U227*'Prevalence Rates'!U227","v":0},{"$f":"'Population 2016'!V227*'Prevalence Rates'!V227","v":15.21617361702128},{"$f":"'Population 2016'!W227*'Prevalence Rates'!W227","v":74.538160212765959},{"$f":"'Population 2016'!X227*'Prevalence Rates'!X227","v":74.538160212765959},{"$f":"'Population 2016'!Y227*'Prevalence Rates'!Y227","v":44.76983031914893},{"$f":"'Population 2016'!Z227*'Prevalence Rates'!Z227","v":45.553511276595742},{"$f":"'Population 2016'!AA227*'Prevalence Rates'!AA227","v":116.25936414984568},{"$f":"'Population 2016'!AB227*'Prevalence Rates'!AB227","v":142.16769787234043},{"$f":"'Population 2016'!AC227*'Prevalence Rates'!AC227","v":238.57630851063826},{"$f":"'Population 2016'!AD227*'Prevalence Rates'!AD227","v":29.146730425531914},{"$f":"'Population 2016'!AE227*'Prevalence Rates'!AE227","v":21.864582978723405},{"$f":"'Population 2016'!AF227*'Prevalence Rates'!AF227","v":12.903},{"$f":"'Population 2016'!AG227*'Prevalence Rates'!AG227","v":11.681063829787236},{"$f":"'Population 2016'!AH227*'Prevalence Rates'!AH227","v":72.920844255319153},{"$f":"'Population 2016'!AI227*'Prevalence Rates'!AI227","v":217.98240457446806},{"$f":"'Population 2016'!AJ227*'Prevalence Rates'!AJ227","v":11.587400000000001},{"$f":"'Population 2016'!AK227*'Prevalence Rates'!AK227","v":19.95917},{"$f":"'Population 2016'!AL227*'Prevalence Rates'!AL227","v":14.733912553191489},{"$f":"'Population 2016'!AM227*'Prevalence Rates'!AM227","v":30.06802723404255},{"$f":"'Population 2016'!AN227*'Prevalence Rates'!AN227","v":1.1637999999999999},{"$f":"'Population 2016'!AO227*'Prevalence Rates'!AO227","v":1.1637999999999999},{"$f":"'Population 2016'!AP227*'Prevalence Rates'!AP227","v":30.921202446808508},{"$f":"'Population 2016'!AQ227*'Prevalence Rates'!AQ227","v":31.42146957446808},{"$f":"'Population 2016'!AR227*'Prevalence Rates'!AR227","v":1026.674},{"$f":"'Population 2016'!AS227*'Prevalence Rates'!AS227","v":13.701430319148937},{"$f":"'Population 2016'!AT227*'Prevalence Rates'!AT227","v":0},{"$f":"'Population 2016'!AU227*'Prevalence Rates'!AU227","v":0},{"$f":"'Population 2016'!AV227*'Prevalence Rates'!AV227","v":37.311148085106375},{"$f":"'Population 2016'!AW227*'Prevalence Rates'!AW227","v":38.475163404255319},{"$f":"'Population 2016'!AX227*'Prevalence Rates'!AX227","v":29.5504},{"$f":"'Population 2016'!AY227*'Prevalence Rates'!AY227","v":92.607911501293259},{"$f":"'Population 2016'!AZ227*'Prevalence Rates'!AZ227","v":80.819127446808523},{"$f":"'Population 2016'!BA227*'Prevalence Rates'!BA227","v":2.2266960638297872},{"$f":"'Population 2016'!BB227*'Prevalence Rates'!BB227","v":20.591831489361699},{"$f":"'Population 2016'!BC227*'Prevalence Rates'!BC227","v":0},225]
[null,"Female 80-84",{"$f":"'Population 2016'!C228*'Prevalence Rates'!C228","v":52.597569574468089},{"$f":"'Population 2016'!D228*'Prevalence Rates'!D228","v":53.170617091775441},{"$f":"'Population 2016'!E228*'Prevalence Rates'!E228","v":38.770096808510644},{"$f":"'Population 2016'!F228*'Prevalence Rates'!F228","v":10.371277446808509},{"$f":"'Population 2016'!G228*'Prevalence Rates'!G228","v":6.1731999999999996},{"$f":"'Population 2016'!H228*'Prevalence Rates'!H228","v":47.685978297872353},{"$f":"'Population 2016'!I228*'Prevalence Rates'!I228","v":8.2208581914893628},{"$f":"'Population 2016'!J228*'Prevalence Rates'!J228","v":26.008399999999998},{"$f":"'Population 2016'!K228*'Prevalence Rates'!K228","v":5.2118000000000002},{"$f":"'Population 2016'!L228*'Prevalence Rates'!L228","v":17.452693617021275},{"$f":"'Population 2016'!M228*'Prevalence Rates'!M228","v":17.452693617021275},{"$f":"'Population 2016'!N228*'Prevalence Rates'!N228","v":26.564246382978723},{"$f":"'Population 2016'!O228*'Prevalence Rates'!O228","v":10.020038085106382},{"$f":"'Population 2016'!P228*'Prevalence Rates'!P228","v":43.339707446808504},{"$f":"'Population 2016'!Q228*'Prevalence Rates'!Q228","v":15.783135851063834},{"$f":"'Population 2016'!R228*'Prevalence Rates'!R228","v":20.465950531914896},{"$f":"'Population 2016'!S228*'Prevalence Rates'!S228","v":181.47279575476335},{"$f":"'Population 2016'!T228*'Prevalence Rates'!T228","v":121.33761574468085},{"$f":"'Population 2016'!U228*'Prevalence Rates'!U228","v":0},{"$f":"'Population 2016'!V228*'Prevalence Rates'!V228","v":10.009756595744683},{"$f":"'Population 2016'!W228*'Prevalence Rates'!W228","v":54.925600212765957},{"$f":"'Population 2016'!X228*'Prevalence Rates'!X228","v":54.925600212765957},{"$f":"'Population 2016'!Y228*'Prevalence Rates'!Y228","v":30.269027659574466},{"$f":"'Population 2016'!Z228*'Prevalence Rates'!Z228","v":38.73890244680851},{"$f":"'Population 2016'!AA228*'Prevalence Rates'!AA228","v":88.81900112528983},{"$f":"'Population 2016'!AB228*'Prevalence Rates'!AB228","v":109.73094468085107},{"$f":"'Population 2016'!AC228*'Prevalence Rates'!AC228","v":185.55935106382975},{"$f":"'Population 2016'!AD228*'Prevalence Rates'!AD228","v":24.866104999999997},{"$f":"'Population 2016'!AE228*'Prevalence Rates'!AE228","v":18.775022340425529},{"$f":"'Population 2016'!AF228*'Prevalence Rates'!AF228","v":9.4116},{"$f":"'Population 2016'!AG228*'Prevalence Rates'!AG228","v":10.030478723404256},{"$f":"'Population 2016'!AH228*'Prevalence Rates'!AH228","v":52.271737872340431},{"$f":"'Population 2016'!AI228*'Prevalence Rates'!AI228","v":176.03263606382976},{"$f":"'Population 2016'!AJ228*'Prevalence Rates'!AJ228","v":7.7923999999999998},{"$f":"'Population 2016'!AK228*'Prevalence Rates'!AK228","v":16.426025000000003},{"$f":"'Population 2016'!AL228*'Prevalence Rates'!AL228","v":11.569582340425532},{"$f":"'Population 2016'!AM228*'Prevalence Rates'!AM228","v":19.140526595744678},{"$f":"'Population 2016'!AN228*'Prevalence Rates'!AN228","v":1.3662000000000001},{"$f":"'Population 2016'!AO228*'Prevalence Rates'!AO228","v":1.3662000000000001},{"$f":"'Population 2016'!AP228*'Prevalence Rates'!AP228","v":23.834268723404254},{"$f":"'Population 2016'!AQ228*'Prevalence Rates'!AQ228","v":22.293444893617018},{"$f":"'Population 2016'!AR228*'Prevalence Rates'!AR228","v":791.38400000000001},{"$f":"'Population 2016'!AS228*'Prevalence Rates'!AS228","v":8.2208581914893628},{"$f":"'Population 2016'!AT228*'Prevalence Rates'!AT228","v":0},{"$f":"'Population 2016'!AU228*'Prevalence Rates'!AU228","v":0},{"$f":"'Population 2016'!AV228*'Prevalence Rates'!AV228","v":26.560478297872333},{"$f":"'Population 2016'!AW228*'Prevalence Rates'!AW228","v":29.239210000000003},{"$f":"'Population 2016'!AX228*'Prevalence Rates'!AX228","v":20.796599999999998},{"$f":"'Population 2016'!AY228*'Prevalence Rates'!AY228","v":70.710900650987469},{"$f":"'Population 2016'!AZ228*'Prevalence Rates'!AZ228","v":63.439157872340431},{"$f":"'Population 2016'!BA228*'Prevalence Rates'!BA228","v":1.4844640425531916},{"$f":"'Population 2016'!BB228*'Prevalence Rates'!BB228","v":13.019702978723402},{"$f":"'Population 2016'!BC228*'Prevalence Rates'!BC228","v":0},226]
[null,"Female 85-89",{"$f":"'Population 2016'!C229*'Prevalence Rates'!C229","v":38.562582978723405},{"$f":"'Population 2016'!D229*'Prevalence Rates'!D229","v":36.547215582023647},{"$f":"'Population 2016'!E229*'Prevalence Rates'!E229","v":24.60263510638298},{"$f":"'Population 2016'!F229*'Prevalence Rates'!F229","v":6.6937071276595734},{"$f":"'Population 2016'!G229*'Prevalence Rates'!G229","v":3.5419999999999998},{"$f":"'Population 2016'!H229*'Prevalence Rates'!H229","v":28.294362659574475},{"$f":"'Population 2016'!I229*'Prevalence Rates'!I229","v":4.3430948936170211},{"$f":"'Population 2016'!J229*'Prevalence Rates'!J229","v":14.572799999999999},{"$f":"'Population 2016'!K229*'Prevalence Rates'!K229","v":2.2770000000000001},{"$f":"'Population 2016'!L229*'Prevalence Rates'!L229","v":9.3883455319148919},{"$f":"'Population 2016'!M229*'Prevalence Rates'!M229","v":9.3883455319148919},{"$f":"'Population 2016'!N229*'Prevalence Rates'!N229","v":17.293061382978724},{"$f":"'Population 2016'!O229*'Prevalence Rates'!O229","v":6.0946623404255318},{"$f":"'Population 2016'!P229*'Prevalence Rates'!P229","v":25.275103723404253},{"$f":"'Population 2016'!Q229*'Prevalence Rates'!Q229","v":10.370147021276598},{"$f":"'Population 2016'!R229*'Prevalence Rates'!R229","v":14.214293617021278},{"$f":"'Population 2016'!S229*'Prevalence Rates'!S229","v":120.89783198030176},{"$f":"'Population 2016'!T229*'Prevalence Rates'!T229","v":84.709567659574461},{"$f":"'Population 2016'!U229*'Prevalence Rates'!U229","v":0},{"$f":"'Population 2016'!V229*'Prevalence Rates'!V229","v":5.4079557446808524},{"$f":"'Population 2016'!W229*'Prevalence Rates'!W229","v":34.009013617021274},{"$f":"'Population 2016'!X229*'Prevalence Rates'!X229","v":34.009013617021274},{"$f":"'Population 2016'!Y229*'Prevalence Rates'!Y229","v":16.737430319148935},{"$f":"'Population 2016'!Z229*'Prevalence Rates'!Z229","v":25.969185},{"$f":"'Population 2016'!AA229*'Prevalence Rates'!AA229","v":54.433328825885233},{"$f":"'Population 2016'!AB229*'Prevalence Rates'!AB229","v":74.434753191489364},{"$f":"'Population 2016'!AC229*'Prevalence Rates'!AC229","v":118.24251063829786},{"$f":"'Population 2016'!AD229*'Prevalence Rates'!AD229","v":14.910043617021275},{"$f":"'Population 2016'!AE229*'Prevalence Rates'!AE229","v":11.407608510638298},{"$f":"'Population 2016'!AF229*'Prevalence Rates'!AF229","v":6.6791999999999998},{"$f":"'Population 2016'!AG229*'Prevalence Rates'!AG229","v":6.0944680851063833},{"$f":"'Population 2016'!AH229*'Prevalence Rates'!AH229","v":27.315817872340428},{"$f":"'Population 2016'!AI229*'Prevalence Rates'!AI229","v":120.5595869148936},{"$f":"'Population 2016'!AJ229*'Prevalence Rates'!AJ229","v":3.1877999999999997},{"$f":"'Population 2016'!AK229*'Prevalence Rates'!AK229","v":9.9176000000000002},{"$f":"'Population 2016'!AL229*'Prevalence Rates'!AL229","v":6.5758737234042552},{"$f":"'Population 2016'!AM229*'Prevalence Rates'!AM229","v":8.561035531914893},{"$f":"'Population 2016'!AN229*'Prevalence Rates'!AN229","v":0.70840000000000003},{"$f":"'Population 2016'!AO229*'Prevalence Rates'!AO229","v":0.70840000000000003},{"$f":"'Population 2016'!AP229*'Prevalence Rates'!AP229","v":15.361621702127659},{"$f":"'Population 2016'!AQ229*'Prevalence Rates'!AQ229","v":12.872855319148934},{"$f":"'Population 2016'!AR229*'Prevalence Rates'!AR229","v":504.17840000000001},{"$f":"'Population 2016'!AS229*'Prevalence Rates'!AS229","v":4.3430948936170211},{"$f":"'Population 2016'!AT229*'Prevalence Rates'!AT229","v":0},{"$f":"'Population 2016'!AU229*'Prevalence Rates'!AU229","v":0},{"$f":"'Population 2016'!AV229*'Prevalence Rates'!AV229","v":15.915207234042549},{"$f":"'Population 2016'!AW229*'Prevalence Rates'!AW229","v":16.270591489361703},{"$f":"'Population 2016'!AX229*'Prevalence Rates'!AX229","v":12.2958},{"$f":"'Population 2016'!AY229*'Prevalence Rates'!AY229","v":44.890314733960224},{"$f":"'Population 2016'!AZ229*'Prevalence Rates'!AZ229","v":41.022173617021281},{"$f":"'Population 2016'!BA229*'Prevalence Rates'!BA229","v":0.67475638297872342},{"$f":"'Population 2016'!BB229*'Prevalence Rates'!BB229","v":9.3698280851063824},{"$f":"'Population 2016'!BC229*'Prevalence Rates'!BC229","v":0},227]
[null,"Female 90+",{"$f":"'Population 2016'!C230*'Prevalence Rates'!C230","v":23.496271489361703},{"$f":"'Population 2016'!D230*'Prevalence Rates'!D230","v":22.787407325046619},{"$f":"'Population 2016'!E230*'Prevalence Rates'!E230","v":15.80509840425532},{"$f":"'Population 2016'!F230*'Prevalence Rates'!F230","v":3.4129969148936166},{"$f":"'Population 2016'!G230*'Prevalence Rates'!G230","v":2.2263999999999999},{"$f":"'Population 2016'!H230*'Prevalence Rates'!H230","v":18.419476595744687},{"$f":"'Population 2016'!I230*'Prevalence Rates'!I230","v":3.5675422340425533},{"$f":"'Population 2016'!J230*'Prevalence Rates'!J230","v":8.1972000000000005},{"$f":"'Population 2016'!K230*'Prevalence Rates'!K230","v":0.91079999999999994},{"$f":"'Population 2016'!L230*'Prevalence Rates'!L230","v":5.4765348936170204},{"$f":"'Population 2016'!M230*'Prevalence Rates'!M230","v":5.4765348936170204},{"$f":"'Population 2016'!N230*'Prevalence Rates'!N230","v":7.693110957446808},{"$f":"'Population 2016'!O230*'Prevalence Rates'!O230","v":2.7374330851063826},{"$f":"'Population 2016'!P230*'Prevalence Rates'!P230","v":14.957952127659572},{"$f":"'Population 2016'!Q230*'Prevalence Rates'!Q230","v":6.4955865957446823},{"$f":"'Population 2016'!R230*'Prevalence Rates'!R230","v":7.8090872340425532},{"$f":"'Population 2016'!S230*'Prevalence Rates'!S230","v":76.925162082193793},{"$f":"'Population 2016'!T230*'Prevalence Rates'!T230","v":52.578352340425525},{"$f":"'Population 2016'!U230*'Prevalence Rates'!U230","v":0},{"$f":"'Population 2016'!V230*'Prevalence Rates'!V230","v":4.1315438297872351},{"$f":"'Population 2016'!W230*'Prevalence Rates'!W230","v":22.533579574468085},{"$f":"'Population 2016'!X230*'Prevalence Rates'!X230","v":22.533579574468085},{"$f":"'Population 2016'!Y230*'Prevalence Rates'!Y230","v":10.623981382978723},{"$f":"'Population 2016'!Z230*'Prevalence Rates'!Z230","v":16.944432765957448},{"$f":"'Population 2016'!AA230*'Prevalence Rates'!AA230","v":30.934322291657672},{"$f":"'Population 2016'!AB230*'Prevalence Rates'!AB230","v":46.55522978723404},{"$f":"'Population 2016'!AC230*'Prevalence Rates'!AC230","v":68.842914893617007},{"$f":"'Population 2016'!AD230*'Prevalence Rates'!AD230","v":8.3688631914893605},{"$f":"'Population 2016'!AE230*'Prevalence Rates'!AE230","v":6.1791212765957448},{"$f":"'Population 2016'!AF230*'Prevalence Rates'!AF230","v":4.5540000000000003},{"$f":"'Population 2016'!AG230*'Prevalence Rates'!AG230","v":3.3011702127659577},{"$f":"'Population 2016'!AH230*'Prevalence Rates'!AH230","v":13.80540255319149},{"$f":"'Population 2016'!AI230*'Prevalence Rates'!AI230","v":75.205999468085096},{"$f":"'Population 2016'!AJ230*'Prevalence Rates'!AJ230","v":2.3275999999999999},{"$f":"'Population 2016'!AK230*'Prevalence Rates'!AK230","v":6.3844550000000009},{"$f":"'Population 2016'!AL230*'Prevalence Rates'!AL230","v":3.60931414893617},{"$f":"'Population 2016'!AM230*'Prevalence Rates'!AM230","v":4.5937263829787227},{"$f":"'Population 2016'!AN230*'Prevalence Rates'!AN230","v":0.35420000000000001},{"$f":"'Population 2016'!AO230*'Prevalence Rates'!AO230","v":0.35420000000000001},{"$f":"'Population 2016'!AP230*'Prevalence Rates'!AP230","v":10.45223744680851},{"$f":"'Population 2016'!AQ230*'Prevalence Rates'!AQ230","v":5.7927848936170205},{"$f":"'Population 2016'!AR230*'Prevalence Rates'!AR230","v":306.48419999999999},{"$f":"'Population 2016'!AS230*'Prevalence Rates'!AS230","v":3.5675422340425533},{"$f":"'Population 2016'!AT230*'Prevalence Rates'!AT230","v":0},{"$f":"'Population 2016'!AU230*'Prevalence Rates'!AU230","v":0},{"$f":"'Population 2016'!AV230*'Prevalence Rates'!AV230","v":12.331650638297869},{"$f":"'Population 2016'!AW230*'Prevalence Rates'!AW230","v":8.0395863829787242},{"$f":"'Population 2016'!AX230*'Prevalence Rates'!AX230","v":7.2863999999999995},{"$f":"'Population 2016'!AY230*'Prevalence Rates'!AY230","v":27.176527300379519},{"$f":"'Population 2016'!AZ230*'Prevalence Rates'!AZ230","v":23.143040425531918},{"$f":"'Population 2016'!BA230*'Prevalence Rates'!BA230","v":0.4723294680851064},{"$f":"'Population 2016'!BB230*'Prevalence Rates'!BB230","v":5.8289046808510632},{"$f":"'Population 2016'!BC230*'Prevalence Rates'!BC230","v":0},228]
[null,"Male 0-4",{"$f":"'Population 2016'!C231*'Prevalence Rates'!C231","v":0},{"$f":"'Population 2016'!D231*'Prevalence Rates'!D231","v":0},{"$f":"'Population 2016'!E231*'Prevalence Rates'!E231","v":0},{"$f":"'Population 2016'!F231*'Prevalence Rates'!F231","v":0},{"$f":"'Population 2016'!G231*'Prevalence Rates'!G231","v":0},{"$f":"'Population 2016'!H231*'Prevalence Rates'!H231","v":0},{"$f":"'Population 2016'!I231*'Prevalence Rates'!I231","v":0},{"$f":"'Population 2016'!J231*'Prevalence Rates'!J231","v":0},{"$f":"'Population 2016'!K231*'Prevalence Rates'!K231","v":0},{"$f":"'Population 2016'!L231*'Prevalence Rates'!L231","v":0},{"$f":"'Population 2016'!M231*'Prevalence Rates'!M231","v":0},{"$f":"'Population 2016'!N231*'Prevalence Rates'!N231","v":0},{"$f":"'Population 2016'!O231*'Prevalence Rates'!O231","v":0},{"$f":"'Population 2016'!P231*'Prevalence Rates'!P231","v":0},{"$f":"'Population 2016'!Q231*'Prevalence Rates'!Q231","v":0},{"$f":"'Population 2016'!R231*'Prevalence Rates'!R231","v":0},{"$f":"'Population 2016'!S231*'Prevalence Rates'!S231","v":0},{"$f":"'Population 2016'!T231*'Prevalence Rates'!T231","v":0},{"$f":"'Population 2016'!U231*'Prevalence Rates'!U231","v":0},{"$f":"'Population 2016'!V231*'Prevalence Rates'!V231","v":0},{"$f":"'Population 2016'!W231*'Prevalence Rates'!W231","v":0},{"$f":"'Population 2016'!X231*'Prevalence Rates'!X231","v":0},{"$f":"'Population 2016'!Y231*'Prevalence Rates'!Y231","v":0},{"$f":"'Population 2016'!Z231*'Prevalence Rates'!Z231","v":0},{"$f":"'Population 2016'!AA231*'Prevalence Rates'!AA231","v":0},{"$f":"'Population 2016'!AB231*'Prevalence Rates'!AB231","v":0},{"$f":"'Population 2016'!AC231*'Prevalence Rates'!AC231","v":0},{"$f":"'Population 2016'!AD231*'Prevalence Rates'!AD231","v":0},{"$f":"'Population 2016'!AE231*'Prevalence Rates'!AE231","v":0},{"$f":"'Population 2016'!AF231*'Prevalence Rates'!AF231","v":0},{"$f":"'Population 2016'!AG231*'Prevalence Rates'!AG231","v":0},{"$f":"'Population 2016'!AH231*'Prevalence Rates'!AH231","v":0},{"$f":"'Population 2016'!AI231*'Prevalence Rates'!AI231","v":0},{"$f":"'Population 2016'!AJ231*'Prevalence Rates'!AJ231","v":0},{"$f":"'Population 2016'!AK231*'Prevalence Rates'!AK231","v":0},{"$f":"'Population 2016'!AL231*'Prevalence Rates'!AL231","v":0},{"$f":"'Population 2016'!AM231*'Prevalence Rates'!AM231","v":0},{"$f":"'Population 2016'!AN231*'Prevalence Rates'!AN231","v":0},{"$f":"'Population 2016'!AO231*'Prevalence Rates'!AO231","v":0},{"$f":"'Population 2016'!AP231*'Prevalence Rates'!AP231","v":0},{"$f":"'Population 2016'!AQ231*'Prevalence Rates'!AQ231","v":0},{"$f":"'Population 2016'!AR231*'Prevalence Rates'!AR231","v":0},{"$f":"'Population 2016'!AS231*'Prevalence Rates'!AS231","v":0},{"$f":"'Population 2016'!AT231*'Prevalence Rates'!AT231","v":0},{"$f":"'Population 2016'!AU231*'Prevalence Rates'!AU231","v":0},{"$f":"'Population 2016'!AV231*'Prevalence Rates'!AV231","v":0},{"$f":"'Population 2016'!AW231*'Prevalence Rates'!AW231","v":0},{"$f":"'Population 2016'!AX231*'Prevalence Rates'!AX231","v":0},{"$f":"'Population 2016'!AY231*'Prevalence Rates'!AY231","v":0},{"$f":"'Population 2016'!AZ231*'Prevalence Rates'!AZ231","v":0},{"$f":"'Population 2016'!BA231*'Prevalence Rates'!BA231","v":0},{"$f":"'Population 2016'!BB231*'Prevalence Rates'!BB231","v":0},{"$f":"'Population 2016'!BC231*'Prevalence Rates'!BC231","v":0},229]
[null,"Male 5-9",{"$f":"'Population 2016'!C232*'Prevalence Rates'!C232","v":0},{"$f":"'Population 2016'!D232*'Prevalence Rates'!D232","v":0},{"$f":"'Population 2016'!E232*'Prevalence Rates'!E232","v":0},{"$f":"'Population 2016'!F232*'Prevalence Rates'!F232","v":0},{"$f":"'Population 2016'!G232*'Prevalence Rates'!G232","v":0},{"$f":"'Population 2016'!H232*'Prevalence Rates'!H232","v":0},{"$f":"'Population 2016'!I232*'Prevalence Rates'!I232","v":0},{"$f":"'Population 2016'!J232*'Prevalence Rates'!J232","v":0},{"$f":"'Population 2016'!K232*'Prevalence Rates'!K232","v":0},{"$f":"'Population 2016'!L232*'Prevalence Rates'!L232","v":0},{"$f":"'Population 2016'!M232*'Prevalence Rates'!M232","v":0},{"$f":"'Population 2016'!N232*'Prevalence Rates'!N232","v":0},{"$f":"'Population 2016'!O232*'Prevalence Rates'!O232","v":0},{"$f":"'Population 2016'!P232*'Prevalence Rates'!P232","v":0},{"$f":"'Population 2016'!Q232*'Prevalence Rates'!Q232","v":0},{"$f":"'Population 2016'!R232*'Prevalence Rates'!R232","v":0},{"$f":"'Population 2016'!S232*'Prevalence Rates'!S232","v":0},{"$f":"'Population 2016'!T232*'Prevalence Rates'!T232","v":0},{"$f":"'Population 2016'!U232*'Prevalence Rates'!U232","v":0},{"$f":"'Population 2016'!V232*'Prevalence Rates'!V232","v":0},{"$f":"'Population 2016'!W232*'Prevalence Rates'!W232","v":0},{"$f":"'Population 2016'!X232*'Prevalence Rates'!X232","v":0},{"$f":"'Population 2016'!Y232*'Prevalence Rates'!Y232","v":0},{"$f":"'Population 2016'!Z232*'Prevalence Rates'!Z232","v":0},{"$f":"'Population 2016'!AA232*'Prevalence Rates'!AA232","v":0},{"$f":"'Population 2016'!AB232*'Prevalence Rates'!AB232","v":0},{"$f":"'Population 2016'!AC232*'Prevalence Rates'!AC232","v":0},{"$f":"'Population 2016'!AD232*'Prevalence Rates'!AD232","v":0},{"$f":"'Population 2016'!AE232*'Prevalence Rates'!AE232","v":0},{"$f":"'Population 2016'!AF232*'Prevalence Rates'!AF232","v":0},{"$f":"'Population 2016'!AG232*'Prevalence Rates'!AG232","v":0},{"$f":"'Population 2016'!AH232*'Prevalence Rates'!AH232","v":0},{"$f":"'Population 2016'!AI232*'Prevalence Rates'!AI232","v":0},{"$f":"'Population 2016'!AJ232*'Prevalence Rates'!AJ232","v":0},{"$f":"'Population 2016'!AK232*'Prevalence Rates'!AK232","v":0},{"$f":"'Population 2016'!AL232*'Prevalence Rates'!AL232","v":0},{"$f":"'Population 2016'!AM232*'Prevalence Rates'!AM232","v":0},{"$f":"'Population 2016'!AN232*'Prevalence Rates'!AN232","v":0},{"$f":"'Population 2016'!AO232*'Prevalence Rates'!AO232","v":0},{"$f":"'Population 2016'!AP232*'Prevalence Rates'!AP232","v":0},{"$f":"'Population 2016'!AQ232*'Prevalence Rates'!AQ232","v":0},{"$f":"'Population 2016'!AR232*'Prevalence Rates'!AR232","v":0},{"$f":"'Population 2016'!AS232*'Prevalence Rates'!AS232","v":0},{"$f":"'Population 2016'!AT232*'Prevalence Rates'!AT232","v":0},{"$f":"'Population 2016'!AU232*'Prevalence Rates'!AU232","v":0},{"$f":"'Population 2016'!AV232*'Prevalence Rates'!AV232","v":0},{"$f":"'Population 2016'!AW232*'Prevalence Rates'!AW232","v":0},{"$f":"'Population 2016'!AX232*'Prevalence Rates'!AX232","v":0},{"$f":"'Population 2016'!AY232*'Prevalence Rates'!AY232","v":0},{"$f":"'Population 2016'!AZ232*'Prevalence Rates'!AZ232","v":0},{"$f":"'Population 2016'!BA232*'Prevalence Rates'!BA232","v":0},{"$f":"'Population 2016'!BB232*'Prevalence Rates'!BB232","v":0},{"$f":"'Population 2016'!BC232*'Prevalence Rates'!BC232","v":0},230]
[null,"Male 10-15",{"$f":"'Population 2016'!C233*'Prevalence Rates'!C233","v":0},{"$f":"'Population 2016'!D233*'Prevalence Rates'!D233","v":0},{"$f":"'Population 2016'!E233*'Prevalence Rates'!E233","v":0},{"$f":"'Population 2016'!F233*'Prevalence Rates'!F233","v":0},{"$f":"'Population 2016'!G233*'Prevalence Rates'!G233","v":0},{"$f":"'Population 2016'!H233*'Prevalence Rates'!H233","v":0},{"$f":"'Population 2016'!I233*'Prevalence Rates'!I233","v":0},{"$f":"'Population 2016'!J233*'Prevalence Rates'!J233","v":0},{"$f":"'Population 2016'!K233*'Prevalence Rates'!K233","v":0},{"$f":"'Population 2016'!L233*'Prevalence Rates'!L233","v":0},{"$f":"'Population 2016'!M233*'Prevalence Rates'!M233","v":0},{"$f":"'Population 2016'!N233*'Prevalence Rates'!N233","v":0},{"$f":"'Population 2016'!O233*'Prevalence Rates'!O233","v":0},{"$f":"'Population 2016'!P233*'Prevalence Rates'!P233","v":0},{"$f":"'Population 2016'!Q233*'Prevalence Rates'!Q233","v":0},{"$f":"'Population 2016'!R233*'Prevalence Rates'!R233","v":0},{"$f":"'Population 2016'!S233*'Prevalence Rates'!S233","v":0},{"$f":"'Population 2016'!T233*'Prevalence Rates'!T233","v":0},{"$f":"'Population 2016'!U233*'Prevalence Rates'!U233","v":0},{"$f":"'Population 2016'!V233*'Prevalence Rates'!V233","v":0},{"$f":"'Population 2016'!W233*'Prevalence Rates'!W233","v":0},{"$f":"'Population 2016'!X233*'Prevalence Rates'!X233","v":0},{"$f":"'Population 2016'!Y233*'Prevalence Rates'!Y233","v":0},{"$f":"'Population 2016'!Z233*'Prevalence Rates'!Z233","v":0},{"$f":"'Population 2016'!AA233*'Prevalence Rates'!AA233","v":0},{"$f":"'Population 2016'!AB233*'Prevalence Rates'!AB233","v":0},{"$f":"'Population 2016'!AC233*'Prevalence Rates'!AC233","v":0},{"$f":"'Population 2016'!AD233*'Prevalence Rates'!AD233","v":0},{"$f":"'Population 2016'!AE233*'Prevalence Rates'!AE233","v":0},{"$f":"'Population 2016'!AF233*'Prevalence Rates'!AF233","v":0},{"$f":"'Population 2016'!AG233*'Prevalence Rates'!AG233","v":0},{"$f":"'Population 2016'!AH233*'Prevalence Rates'!AH233","v":0},{"$f":"'Population 2016'!AI233*'Prevalence Rates'!AI233","v":0},{"$f":"'Population 2016'!AJ233*'Prevalence Rates'!AJ233","v":0},{"$f":"'Population 2016'!AK233*'Prevalence Rates'!AK233","v":0},{"$f":"'Population 2016'!AL233*'Prevalence Rates'!AL233","v":0},{"$f":"'Population 2016'!AM233*'Prevalence Rates'!AM233","v":0},{"$f":"'Population 2016'!AN233*'Prevalence Rates'!AN233","v":0},{"$f":"'Population 2016'!AO233*'Prevalence Rates'!AO233","v":0},{"$f":"'Population 2016'!AP233*'Prevalence Rates'!AP233","v":0},{"$f":"'Population 2016'!AQ233*'Prevalence Rates'!AQ233","v":0},{"$f":"'Population 2016'!AR233*'Prevalence Rates'!AR233","v":0},{"$f":"'Population 2016'!AS233*'Prevalence Rates'!AS233","v":0},{"$f":"'Population 2016'!AT233*'Prevalence Rates'!AT233","v":0},{"$f":"'Population 2016'!AU233*'Prevalence Rates'!AU233","v":0},{"$f":"'Population 2016'!AV233*'Prevalence Rates'!AV233","v":0},{"$f":"'Population 2016'!AW233*'Prevalence Rates'!AW233","v":0},{"$f":"'Population 2016'!AX233*'Prevalence Rates'!AX233","v":0},{"$f":"'Population 2016'!AY233*'Prevalence Rates'!AY233","v":0},{"$f":"'Population 2016'!AZ233*'Prevalence Rates'!AZ233","v":0},{"$f":"'Population 2016'!BA233*'Prevalence Rates'!BA233","v":0},{"$f":"'Population 2016'!BB233*'Prevalence Rates'!BB233","v":0},{"$f":"'Population 2016'!BC233*'Prevalence Rates'!BC233","v":0},231]
[null,"Male 16-19",{"$f":"'Population 2016'!C234*'Prevalence Rates'!C234","v":280.09574708737858},{"$f":"'Population 2016'!D234*'Prevalence Rates'!D234","v":217.0693039621512},{"$f":"'Population 2016'!E234*'Prevalence Rates'!E234","v":286.19527956751989},{"$f":"'Population 2016'!F234*'Prevalence Rates'!F234","v":78.48147400706091},{"$f":"'Population 2016'!G234*'Prevalence Rates'!G234","v":45.393599999999999},{"$f":"'Population 2016'!H234*'Prevalence Rates'!H234","v":162.30691019417475},{"$f":"'Population 2016'!I234*'Prevalence Rates'!I234","v":29.055920035304503},{"$f":"'Population 2016'!J234*'Prevalence Rates'!J234","v":161.5796},{"$f":"'Population 2016'!K234*'Prevalence Rates'!K234","v":21.210699999999999},{"$f":"'Population 2016'!L234*'Prevalence Rates'!L234","v":39.777887687555165},{"$f":"'Population 2016'!M234*'Prevalence Rates'!M234","v":39.777887687555165},{"$f":"'Population 2016'!N234*'Prevalence Rates'!N234","v":97.716291791703441},{"$f":"'Population 2016'!O234*'Prevalence Rates'!O234","v":46.194899205648724},{"$f":"'Population 2016'!P234*'Prevalence Rates'!P234","v":169.68083036187113},{"$f":"'Population 2016'!Q234*'Prevalence Rates'!Q234","v":46.036785701676962},{"$f":"'Population 2016'!R234*'Prevalence Rates'!R234","v":116.56292065313328},{"$f":"'Population 2016'!S234*'Prevalence Rates'!S234","v":717.74085554023702},{"$f":"'Population 2016'!T234*'Prevalence Rates'!T234","v":570.82909885260369},{"$f":"'Population 2016'!U234*'Prevalence Rates'!U234","v":0},{"$f":"'Population 2016'!V234*'Prevalence Rates'!V234","v":89.108048896734331},{"$f":"'Population 2016'!W234*'Prevalence Rates'!W234","v":322.46211738746695},{"$f":"'Population 2016'!X234*'Prevalence Rates'!X234","v":322.46211738746695},{"$f":"'Population 2016'!Y234*'Prevalence Rates'!Y234","v":219.65614474845543},{"$f":"'Population 2016'!Z234*'Prevalence Rates'!Z234","v":208.54813451015005},{"$f":"'Population 2016'!AA234*'Prevalence Rates'!AA234","v":346.63193029699755},{"$f":"'Population 2016'!AB234*'Prevalence Rates'!AB234","v":657.57760776699024},{"$f":"'Population 2016'!AC234*'Prevalence Rates'!AC234","v":785.15875022065302},{"$f":"'Population 2016'!AD234*'Prevalence Rates'!AD234","v":119.43579293909973},{"$f":"'Population 2016'!AE234*'Prevalence Rates'!AE234","v":72.742943512797879},{"$f":"'Population 2016'!AF234*'Prevalence Rates'!AF234","v":27.695499999999999},{"$f":"'Population 2016'!AG234*'Prevalence Rates'!AG234","v":28.012810545301051},{"$f":"'Population 2016'!AH234*'Prevalence Rates'!AH234","v":249.00611297440429},{"$f":"'Population 2016'!AI234*'Prevalence Rates'!AI234","v":782.32647947925864},{"$f":"'Population 2016'!AJ234*'Prevalence Rates'!AJ234","v":47.284999999999997},{"$f":"'Population 2016'!AK234*'Prevalence Rates'!AK234","v":88.082338217122697},{"$f":"'Population 2016'!AL234*'Prevalence Rates'!AL234","v":53.781604854368936},{"$f":"'Population 2016'!AM234*'Prevalence Rates'!AM234","v":107.40909077669902},{"$f":"'Population 2016'!AN234*'Prevalence Rates'!AN234","v":4.0529999999999999},{"$f":"'Population 2016'!AO234*'Prevalence Rates'!AO234","v":4.0529999999999999},{"$f":"'Population 2016'!AP234*'Prevalence Rates'!AP234","v":68.923178817299203},{"$f":"'Population 2016'!AQ234*'Prevalence Rates'!AQ234","v":117.8170969991174},{"$f":"'Population 2016'!AR234*'Prevalence Rates'!AR234","v":3635.1356999999998},{"$f":"'Population 2016'!AS234*'Prevalence Rates'!AS234","v":29.055920035304503},{"$f":"'Population 2016'!AT234*'Prevalence Rates'!AT234","v":0},{"$f":"'Population 2016'!AU234*'Prevalence Rates'!AU234","v":0},{"$f":"'Population 2016'!AV234*'Prevalence Rates'!AV234","v":54.000650485436893},{"$f":"'Population 2016'!AW234*'Prevalence Rates'!AW234","v":141.10771694616065},{"$f":"'Population 2016'!AX234*'Prevalence Rates'!AX234","v":140.3689},{"$f":"'Population 2016'!AY234*'Prevalence Rates'!AY234","v":248.91627637634269},{"$f":"'Population 2016'!AZ234*'Prevalence Rates'!AZ234","v":243.45514849955867},{"$f":"'Population 2016'!BA234*'Prevalence Rates'!BA234","v":16.805819947043247},{"$f":"'Population 2016'!BB234*'Prevalence Rates'!BB234","v":95.186654589585174},{"$f":"'Population 2016'!BC234*'Prevalence Rates'!BC234","v":0},232]
[null,"Male 20-24",{"$f":"'Population 2016'!C235*'Prevalence Rates'!C235","v":466.21501601941742},{"$f":"'Population 2016'!D235*'Prevalence Rates'!D235","v":292.00605723685123},{"$f":"'Population 2016'!E235*'Prevalence Rates'!E235","v":309.03898442188881},{"$f":"'Population 2016'!F235*'Prevalence Rates'!F235","v":81.91406332744927},{"$f":"'Population 2016'!G235*'Prevalence Rates'!G235","v":120.239},{"$f":"'Population 2016'!H235*'Prevalence Rates'!H235","v":177.34313477493379},{"$f":"'Population 2016'!I235*'Prevalence Rates'!I235","v":23.881578111209183},{"$f":"'Population 2016'!J235*'Prevalence Rates'!J235","v":183.06049999999999},{"$f":"'Population 2016'!K235*'Prevalence Rates'!K235","v":22.156399999999998},{"$f":"'Population 2016'!L235*'Prevalence Rates'!L235","v":43.68589068843778},{"$f":"'Population 2016'!M235*'Prevalence Rates'!M235","v":43.68589068843778},{"$f":"'Population 2016'!N235*'Prevalence Rates'!N235","v":123.98906835834069},{"$f":"'Population 2016'!O235*'Prevalence Rates'!O235","v":52.381716063548105},{"$f":"'Population 2016'!P235*'Prevalence Rates'!P235","v":201.56872303618709},{"$f":"'Population 2016'!Q235*'Prevalence Rates'!Q235","v":58.451199823477488},{"$f":"'Population 2016'!R235*'Prevalence Rates'!R235","v":127.77538596646073},{"$f":"'Population 2016'!S235*'Prevalence Rates'!S235","v":1167.1166740639844},{"$f":"'Population 2016'!T235*'Prevalence Rates'!T235","v":1042.2130313327448},{"$f":"'Population 2016'!U235*'Prevalence Rates'!U235","v":0},{"$f":"'Population 2016'!V235*'Prevalence Rates'!V235","v":104.71454333627537},{"$f":"'Population 2016'!W235*'Prevalence Rates'!W235","v":528.95620723742286},{"$f":"'Population 2016'!X235*'Prevalence Rates'!X235","v":528.95620723742286},{"$f":"'Population 2016'!Y235*'Prevalence Rates'!Y235","v":252.30461584289495},{"$f":"'Population 2016'!Z235*'Prevalence Rates'!Z235","v":497.91659470432478},{"$f":"'Population 2016'!AA235*'Prevalence Rates'!AA235","v":473.91121089754245},{"$f":"'Population 2016'!AB235*'Prevalence Rates'!AB235","v":880.97267184466023},{"$f":"'Population 2016'!AC235*'Prevalence Rates'!AC235","v":1131.266587113857},{"$f":"'Population 2016'!AD235*'Prevalence Rates'!AD235","v":196.4819039717564},{"$f":"'Population 2016'!AE235*'Prevalence Rates'!AE235","v":70.405820829655781},{"$f":"'Population 2016'!AF235*'Prevalence Rates'!AF235","v":25.2637},{"$f":"'Population 2016'!AG235*'Prevalence Rates'!AG235","v":27.112800567941978},{"$f":"'Population 2016'!AH235*'Prevalence Rates'!AH235","v":289.00191350397182},{"$f":"'Population 2016'!AI235*'Prevalence Rates'!AI235","v":1296.5637623124449},{"$f":"'Population 2016'!AJ235*'Prevalence Rates'!AJ235","v":53.094299999999997},{"$f":"'Population 2016'!AK235*'Prevalence Rates'!AK235","v":114.7695367166814},{"$f":"'Population 2016'!AL235*'Prevalence Rates'!AL235","v":56.702650485436898},{"$f":"'Population 2016'!AM235*'Prevalence Rates'!AM235","v":120.72103155339805},{"$f":"'Population 2016'!AN235*'Prevalence Rates'!AN235","v":6.3497000000000003},{"$f":"'Population 2016'!AO235*'Prevalence Rates'!AO235","v":6.3497000000000003},{"$f":"'Population 2016'!AP235*'Prevalence Rates'!AP235","v":79.572767210944392},{"$f":"'Population 2016'!AQ235*'Prevalence Rates'!AQ235","v":136.53172612533101},{"$f":"'Population 2016'!AR235*'Prevalence Rates'!AR235","v":5143.1219000000001},{"$f":"'Population 2016'!AS235*'Prevalence Rates'!AS235","v":23.881578111209183},{"$f":"'Population 2016'!AT235*'Prevalence Rates'!AT235","v":0},{"$f":"'Population 2016'!AU235*'Prevalence Rates'!AU235","v":0},{"$f":"'Population 2016'!AV235*'Prevalence Rates'!AV235","v":58.803079876434239},{"$f":"'Population 2016'!AW235*'Prevalence Rates'!AW235","v":167.62118137687557},{"$f":"'Population 2016'!AX235*'Prevalence Rates'!AX235","v":160.9041},{"$f":"'Population 2016'!AY235*'Prevalence Rates'!AY235","v":356.15158106427668},{"$f":"'Population 2016'!AZ235*'Prevalence Rates'!AZ235","v":283.48684055604588},{"$f":"'Population 2016'!BA235*'Prevalence Rates'!BA235","v":21.318493821712266},{"$f":"'Population 2016'!BB235*'Prevalence Rates'!BB235","v":102.18085194174756},{"$f":"'Population 2016'!BC235*'Prevalence Rates'!BC235","v":0},233]
[null,"Male 25-29",{"$f":"'Population 2016'!C236*'Prevalence Rates'!C236","v":971.36501067961171},{"$f":"'Population 2016'!D236*'Prevalence Rates'!D236","v":517.0633349797306},{"$f":"'Population 2016'!E236*'Prevalence Rates'!E236","v":423.36097864077681},{"$f":"'Population 2016'!F236*'Prevalence Rates'!F236","v":91.420148367166846},{"$f":"'Population 2016'!G236*'Prevalence Rates'!G236","v":134.04960000000003},{"$f":"'Population 2016'!H236*'Prevalence Rates'!H236","v":176.49478120035306},{"$f":"'Population 2016'!I236*'Prevalence Rates'!I236","v":23.548367343336281},{"$f":"'Population 2016'!J236*'Prevalence Rates'!J236","v":136.36080000000001},{"$f":"'Population 2016'!K236*'Prevalence Rates'!K236","v":22.149000000000001},{"$f":"'Population 2016'!L236*'Prevalence Rates'!L236","v":51.93238861429834},{"$f":"'Population 2016'!M236*'Prevalence Rates'!M236","v":51.93238861429834},{"$f":"'Population 2016'!N236*'Prevalence Rates'!N236","v":164.27522065313329},{"$f":"'Population 2016'!O236*'Prevalence Rates'!O236","v":59.975945984112983},{"$f":"'Population 2016'!P236*'Prevalence Rates'!P236","v":232.44185136804947},{"$f":"'Population 2016'!Q236*'Prevalence Rates'!Q236","v":63.233911827007951},{"$f":"'Population 2016'!R236*'Prevalence Rates'!R236","v":127.65487202118273},{"$f":"'Population 2016'!S236*'Prevalence Rates'!S236","v":1427.7527509639342},{"$f":"'Population 2016'!T236*'Prevalence Rates'!T236","v":1456.1860432480144},{"$f":"'Population 2016'!U236*'Prevalence Rates'!U236","v":0},{"$f":"'Population 2016'!V236*'Prevalence Rates'!V236","v":146.59078384819065},{"$f":"'Population 2016'!W236*'Prevalence Rates'!W236","v":420.06110997352164},{"$f":"'Population 2016'!X236*'Prevalence Rates'!X236","v":420.06110997352164},{"$f":"'Population 2016'!Y236*'Prevalence Rates'!Y236","v":250.81135260370701},{"$f":"'Population 2016'!Z236*'Prevalence Rates'!Z236","v":752.98559417475724},{"$f":"'Population 2016'!AA236*'Prevalence Rates'!AA236","v":583.37375290750947},{"$f":"'Population 2016'!AB236*'Prevalence Rates'!AB236","v":1506.7453281553398},{"$f":"'Population 2016'!AC236*'Prevalence Rates'!AC236","v":1432.0818047661078},{"$f":"'Population 2016'!AD236*'Prevalence Rates'!AD236","v":242.33720759046778},{"$f":"'Population 2016'!AE236*'Prevalence Rates'!AE236","v":102.24544130626656},{"$f":"'Population 2016'!AF236*'Prevalence Rates'!AF236","v":38.134800000000006},{"$f":"'Population 2016'!AG236*'Prevalence Rates'!AG236","v":39.374020875705142},{"$f":"'Population 2016'!AH236*'Prevalence Rates'!AH236","v":320.5907745807591},{"$f":"'Population 2016'!AI236*'Prevalence Rates'!AI236","v":1776.9479989408653},{"$f":"'Population 2016'!AJ236*'Prevalence Rates'!AJ236","v":72.417600000000007},{"$f":"'Population 2016'!AK236*'Prevalence Rates'!AK236","v":148.44003283318628},{"$f":"'Population 2016'!AL236*'Prevalence Rates'!AL236","v":51.930943689320401},{"$f":"'Population 2016'!AM236*'Prevalence Rates'!AM236","v":144.93710970873786},{"$f":"'Population 2016'!AN236*'Prevalence Rates'!AN236","v":8.6670000000000016},{"$f":"'Population 2016'!AO236*'Prevalence Rates'!AO236","v":8.6670000000000016},{"$f":"'Population 2016'!AP236*'Prevalence Rates'!AP236","v":91.093000353045028},{"$f":"'Population 2016'!AQ236*'Prevalence Rates'!AQ236","v":152.39810732568407},{"$f":"'Population 2016'!AR236*'Prevalence Rates'!AR236","v":6602.3280000000004},{"$f":"'Population 2016'!AS236*'Prevalence Rates'!AS236","v":23.548367343336281},{"$f":"'Population 2016'!AT236*'Prevalence Rates'!AT236","v":0},{"$f":"'Population 2016'!AU236*'Prevalence Rates'!AU236","v":0},{"$f":"'Population 2016'!AV236*'Prevalence Rates'!AV236","v":55.227582524271853},{"$f":"'Population 2016'!AW236*'Prevalence Rates'!AW236","v":175.17862453662843},{"$f":"'Population 2016'!AX236*'Prevalence Rates'!AX236","v":114.21180000000001},{"$f":"'Population 2016'!AY236*'Prevalence Rates'!AY236","v":335.90765799596602},{"$f":"'Population 2016'!AZ236*'Prevalence Rates'!AZ236","v":343.02476478375991},{"$f":"'Population 2016'!BA236*'Prevalence Rates'!BA236","v":20.409140335392763},{"$f":"'Population 2016'!BB236*'Prevalence Rates'!BB236","v":128.22085763459842},{"$f":"'Population 2016'!BC236*'Prevalence Rates'!BC236","v":0},234]
[null,"Male 30-34",{"$f":"'Population 2016'!C237*'Prevalence Rates'!C237","v":840.65879708737873},{"$f":"'Population 2016'!D237*'Prevalence Rates'!D237","v":500.58658723693497},{"$f":"'Population 2016'!E237*'Prevalence Rates'!E237","v":494.59960485436903},{"$f":"'Population 2016'!F237*'Prevalence Rates'!F237","v":102.98668781994706},{"$f":"'Population 2016'!G237*'Prevalence Rates'!G237","v":63.172800000000009},{"$f":"'Population 2016'!H237*'Prevalence Rates'!H237","v":159.4663403353928},{"$f":"'Population 2016'!I237*'Prevalence Rates'!I237","v":26.243662400706096},{"$f":"'Population 2016'!J237*'Prevalence Rates'!J237","v":112.67100000000001},{"$f":"'Population 2016'!K237*'Prevalence Rates'!K237","v":22.726800000000001},{"$f":"'Population 2016'!L237*'Prevalence Rates'!L237","v":60.090350044130645},{"$f":"'Population 2016'!M237*'Prevalence Rates'!M237","v":60.090350044130645},{"$f":"'Population 2016'!N237*'Prevalence Rates'!N237","v":113.24038543689321},{"$f":"'Population 2016'!O237*'Prevalence Rates'!O237","v":64.28794210061784},{"$f":"'Population 2016'!P237*'Prevalence Rates'!P237","v":196.27316928508387},{"$f":"'Population 2016'!Q237*'Prevalence Rates'!Q237","v":68.764574669020305},{"$f":"'Population 2016'!R237*'Prevalence Rates'!R237","v":104.01096963812888},{"$f":"'Population 2016'!S237*'Prevalence Rates'!S237","v":1213.7149401216429},{"$f":"'Population 2016'!T237*'Prevalence Rates'!T237","v":1156.8570847308033},{"$f":"'Population 2016'!U237*'Prevalence Rates'!U237","v":0},{"$f":"'Population 2016'!V237*'Prevalence Rates'!V237","v":174.4017648720212},{"$f":"'Population 2016'!W237*'Prevalence Rates'!W237","v":410.15002956751988},{"$f":"'Population 2016'!X237*'Prevalence Rates'!X237","v":410.15002956751988},{"$f":"'Population 2016'!Y237*'Prevalence Rates'!Y237","v":256.07427934686677},{"$f":"'Population 2016'!Z237*'Prevalence Rates'!Z237","v":587.83933874669026},{"$f":"'Population 2016'!AA237*'Prevalence Rates'!AA237","v":490.93279609803909},{"$f":"'Population 2016'!AB237*'Prevalence Rates'!AB237","v":1431.6201087378643},{"$f":"'Population 2016'!AC237*'Prevalence Rates'!AC237","v":1171.4214185348633},{"$f":"'Population 2016'!AD237*'Prevalence Rates'!AD237","v":175.98540264783762},{"$f":"'Population 2016'!AE237*'Prevalence Rates'!AE237","v":111.19972639011475},{"$f":"'Population 2016'!AF237*'Prevalence Rates'!AF237","v":36.401400000000002},{"$f":"'Population 2016'!AG237*'Prevalence Rates'!AG237","v":42.822254883149782},{"$f":"'Population 2016'!AH237*'Prevalence Rates'!AH237","v":299.80663371579885},{"$f":"'Population 2016'!AI237*'Prevalence Rates'!AI237","v":1460.0509625772288},{"$f":"'Population 2016'!AJ237*'Prevalence Rates'!AJ237","v":73.573200000000014},{"$f":"'Population 2016'!AK237*'Prevalence Rates'!AK237","v":115.79985754633719},{"$f":"'Population 2016'!AL237*'Prevalence Rates'!AL237","v":48.256584466019426},{"$f":"'Population 2016'!AM237*'Prevalence Rates'!AM237","v":128.37818446601943},{"$f":"'Population 2016'!AN237*'Prevalence Rates'!AN237","v":7.8966000000000012},{"$f":"'Population 2016'!AO237*'Prevalence Rates'!AO237","v":7.8966000000000012},{"$f":"'Population 2016'!AP237*'Prevalence Rates'!AP237","v":96.892929214474862},{"$f":"'Population 2016'!AQ237*'Prevalence Rates'!AQ237","v":135.82430785525156},{"$f":"'Population 2016'!AR237*'Prevalence Rates'!AR237","v":5809.586400000001},{"$f":"'Population 2016'!AS237*'Prevalence Rates'!AS237","v":26.243662400706096},{"$f":"'Population 2016'!AT237*'Prevalence Rates'!AT237","v":0},{"$f":"'Population 2016'!AU237*'Prevalence Rates'!AU237","v":0},{"$f":"'Population 2016'!AV237*'Prevalence Rates'!AV237","v":41.2305092674316},{"$f":"'Population 2016'!AW237*'Prevalence Rates'!AW237","v":170.81733097969993},{"$f":"'Population 2016'!AX237*'Prevalence Rates'!AX237","v":89.944200000000009},{"$f":"'Population 2016'!AY237*'Prevalence Rates'!AY237","v":318.23310262541617},{"$f":"'Population 2016'!AZ237*'Prevalence Rates'!AZ237","v":313.2757143865843},{"$f":"'Population 2016'!BA237*'Prevalence Rates'!BA237","v":18.634432480141221},{"$f":"'Population 2016'!BB237*'Prevalence Rates'!BB237","v":117.31507387466904},{"$f":"'Population 2016'!BC237*'Prevalence Rates'!BC237","v":0},235]
[null,"Male 35-39",{"$f":"'Population 2016'!C238*'Prevalence Rates'!C238","v":474.47531844660199},{"$f":"'Population 2016'!D238*'Prevalence Rates'!D238","v":325.13590314383902},{"$f":"'Population 2016'!E238*'Prevalence Rates'!E238","v":382.01373451015013},{"$f":"'Population 2016'!F238*'Prevalence Rates'!F238","v":74.705533362753769},{"$f":"'Population 2016'!G238*'Prevalence Rates'!G238","v":38.065600000000003},{"$f":"'Population 2016'!H238*'Prevalence Rates'!H238","v":145.53570061782881},{"$f":"'Population 2016'!I238*'Prevalence Rates'!I238","v":25.574147396293036},{"$f":"'Population 2016'!J238*'Prevalence Rates'!J238","v":92.977800000000016},{"$f":"'Population 2016'!K238*'Prevalence Rates'!K238","v":19.290000000000003},{"$f":"'Population 2016'!L238*'Prevalence Rates'!L238","v":42.912616857899387},{"$f":"'Population 2016'!M238*'Prevalence Rates'!M238","v":42.912616857899387},{"$f":"'Population 2016'!N238*'Prevalence Rates'!N238","v":82.338675463371587},{"$f":"'Population 2016'!O238*'Prevalence Rates'!O238","v":50.254110503089152},{"$f":"'Population 2016'!P238*'Prevalence Rates'!P238","v":155.756506266549},{"$f":"'Population 2016'!Q238*'Prevalence Rates'!Q238","v":55.392775816416602},{"$f":"'Population 2016'!R238*'Prevalence Rates'!R238","v":104.80298428949693},{"$f":"'Population 2016'!S238*'Prevalence Rates'!S238","v":823.31299457880687},{"$f":"'Population 2016'!T238*'Prevalence Rates'!T238","v":727.96424933804076},{"$f":"'Population 2016'!U238*'Prevalence Rates'!U238","v":0},{"$f":"'Population 2016'!V238*'Prevalence Rates'!V238","v":127.59066593115624},{"$f":"'Population 2016'!W238*'Prevalence Rates'!W238","v":297.93634845542812},{"$f":"'Population 2016'!X238*'Prevalence Rates'!X238","v":297.93634845542812},{"$f":"'Population 2016'!Y238*'Prevalence Rates'!Y238","v":196.34938570167699},{"$f":"'Population 2016'!Z238*'Prevalence Rates'!Z238","v":332.91884007060901},{"$f":"'Population 2016'!AA238*'Prevalence Rates'!AA238","v":371.10346316063459},{"$f":"'Population 2016'!AB238*'Prevalence Rates'!AB238","v":920.30155339805833},{"$f":"'Population 2016'!AC238*'Prevalence Rates'!AC238","v":842.34112338923205},{"$f":"'Population 2016'!AD238*'Prevalence Rates'!AD238","v":136.72722488967344},{"$f":"'Population 2016'!AE238*'Prevalence Rates'!AE238","v":98.30295233892322},{"$f":"'Population 2016'!AF238*'Prevalence Rates'!AF238","v":24.048200000000005},{"$f":"'Population 2016'!AG238*'Prevalence Rates'!AG238","v":37.855795310641248},{"$f":"'Population 2016'!AH238*'Prevalence Rates'!AH238","v":265.02677987643432},{"$f":"'Population 2016'!AI238*'Prevalence Rates'!AI238","v":965.06842789055634},{"$f":"'Population 2016'!AJ238*'Prevalence Rates'!AJ238","v":55.426600000000008},{"$f":"'Population 2016'!AK238*'Prevalence Rates'!AK238","v":65.382033362753774},{"$f":"'Population 2016'!AL238*'Prevalence Rates'!AL238","v":45.960141747572827},{"$f":"'Population 2016'!AM238*'Prevalence Rates'!AM238","v":113.79476893203885},{"$f":"'Population 2016'!AN238*'Prevalence Rates'!AN238","v":7.8446000000000016},{"$f":"'Population 2016'!AO238*'Prevalence Rates'!AO238","v":7.8446000000000016},{"$f":"'Population 2016'!AP238*'Prevalence Rates'!AP238","v":74.947013062665505},{"$f":"'Population 2016'!AQ238*'Prevalence Rates'!AQ238","v":108.23489037952341},{"$f":"'Population 2016'!AR238*'Prevalence Rates'!AR238","v":4104.2690000000002},{"$f":"'Population 2016'!AS238*'Prevalence Rates'!AS238","v":25.574147396293036},{"$f":"'Population 2016'!AT238*'Prevalence Rates'!AT238","v":0},{"$f":"'Population 2016'!AU238*'Prevalence Rates'!AU238","v":0},{"$f":"'Population 2016'!AV238*'Prevalence Rates'!AV238","v":42.970901147396297},{"$f":"'Population 2016'!AW238*'Prevalence Rates'!AW238","v":150.69899629302739},{"$f":"'Population 2016'!AX238*'Prevalence Rates'!AX238","v":73.68780000000001},{"$f":"'Population 2016'!AY238*'Prevalence Rates'!AY238","v":233.59453467221269},{"$f":"'Population 2016'!AZ238*'Prevalence Rates'!AZ238","v":232.95804872021185},{"$f":"'Population 2016'!BA238*'Prevalence Rates'!BA238","v":12.886673433362756},{"$f":"'Population 2016'!BB238*'Prevalence Rates'!BB238","v":98.408965048543706},{"$f":"'Population 2016'!BC238*'Prevalence Rates'!BC238","v":0},236]
[null,"Male 40-44",{"$f":"'Population 2016'!C239*'Prevalence Rates'!C239","v":430.40235048543695},{"$f":"'Population 2016'!D239*'Prevalence Rates'!D239","v":327.33622480502646},{"$f":"'Population 2016'!E239*'Prevalence Rates'!E239","v":424.7617138570169},{"$f":"'Population 2016'!F239*'Prevalence Rates'!F239","v":97.132045366284231},{"$f":"'Population 2016'!G239*'Prevalence Rates'!G239","v":44.109800000000007},{"$f":"'Population 2016'!H239*'Prevalence Rates'!H239","v":189.94549161518097},{"$f":"'Population 2016'!I239*'Prevalence Rates'!I239","v":35.519649161518103},{"$f":"'Population 2016'!J239*'Prevalence Rates'!J239","v":130.14320000000001},{"$f":"'Population 2016'!K239*'Prevalence Rates'!K239","v":27.263200000000005},{"$f":"'Population 2016'!L239*'Prevalence Rates'!L239","v":46.632596028243611},{"$f":"'Population 2016'!M239*'Prevalence Rates'!M239","v":46.632596028243611},{"$f":"'Population 2016'!N239*'Prevalence Rates'!N239","v":82.77742506619596},{"$f":"'Population 2016'!O239*'Prevalence Rates'!O239","v":63.079378287731693},{"$f":"'Population 2016'!P239*'Prevalence Rates'!P239","v":192.20308561341574},{"$f":"'Population 2016'!Q239*'Prevalence Rates'!Q239","v":75.21108005295676},{"$f":"'Population 2016'!R239*'Prevalence Rates'!R239","v":127.92782947925863},{"$f":"'Population 2016'!S239*'Prevalence Rates'!S239","v":897.65568243092389},{"$f":"'Population 2016'!T239*'Prevalence Rates'!T239","v":719.61830229479267},{"$f":"'Population 2016'!U239*'Prevalence Rates'!U239","v":0},{"$f":"'Population 2016'!V239*'Prevalence Rates'!V239","v":145.56118225948811},{"$f":"'Population 2016'!W239*'Prevalence Rates'!W239","v":363.26832656663731},{"$f":"'Population 2016'!X239*'Prevalence Rates'!X239","v":363.26832656663731},{"$f":"'Population 2016'!Y239*'Prevalence Rates'!Y239","v":244.55821138570172},{"$f":"'Population 2016'!Z239*'Prevalence Rates'!Z239","v":300.78847625772289},{"$f":"'Population 2016'!AA239*'Prevalence Rates'!AA239","v":417.82269832430245},{"$f":"'Population 2016'!AB239*'Prevalence Rates'!AB239","v":940.39311844660199},{"$f":"'Population 2016'!AC239*'Prevalence Rates'!AC239","v":929.43226690202994},{"$f":"'Population 2016'!AD239*'Prevalence Rates'!AD239","v":141.36204607237426},{"$f":"'Population 2016'!AE239*'Prevalence Rates'!AE239","v":96.495401588702563},{"$f":"'Population 2016'!AF239*'Prevalence Rates'!AF239","v":31.507000000000005},{"$f":"'Population 2016'!AG239*'Prevalence Rates'!AG239","v":37.159719866456896},{"$f":"'Population 2016'!AH239*'Prevalence Rates'!AH239","v":315.25660052956761},{"$f":"'Population 2016'!AI239*'Prevalence Rates'!AI239","v":1011.8610077669906},{"$f":"'Population 2016'!AJ239*'Prevalence Rates'!AJ239","v":60.956400000000009},{"$f":"'Population 2016'!AK239*'Prevalence Rates'!AK239","v":80.096461253309812},{"$f":"'Population 2016'!AL239*'Prevalence Rates'!AL239","v":57.572846601941762},{"$f":"'Population 2016'!AM239*'Prevalence Rates'!AM239","v":133.54735436893205},{"$f":"'Population 2016'!AN239*'Prevalence Rates'!AN239","v":5.9156000000000013},{"$f":"'Population 2016'!AO239*'Prevalence Rates'!AO239","v":5.9156000000000013},{"$f":"'Population 2016'!AP239*'Prevalence Rates'!AP239","v":81.553284730803185},{"$f":"'Population 2016'!AQ239*'Prevalence Rates'!AQ239","v":126.85884907325686},{"$f":"'Population 2016'!AR239*'Prevalence Rates'!AR239","v":4515.5318000000007},{"$f":"'Population 2016'!AS239*'Prevalence Rates'!AS239","v":35.519649161518103},{"$f":"'Population 2016'!AT239*'Prevalence Rates'!AT239","v":0},{"$f":"'Population 2016'!AU239*'Prevalence Rates'!AU239","v":0},{"$f":"'Population 2016'!AV239*'Prevalence Rates'!AV239","v":59.529428067078555},{"$f":"'Population 2016'!AW239*'Prevalence Rates'!AW239","v":181.03293274492501},{"$f":"'Population 2016'!AX239*'Prevalence Rates'!AX239","v":102.88000000000001},{"$f":"'Population 2016'!AY239*'Prevalence Rates'!AY239","v":274.71690588013348},{"$f":"'Population 2016'!AZ239*'Prevalence Rates'!AZ239","v":261.60486213592236},{"$f":"'Population 2016'!BA239*'Prevalence Rates'!BA239","v":13.92353221535746},{"$f":"'Population 2016'!BB239*'Prevalence Rates'!BB239","v":127.74440706090029},{"$f":"'Population 2016'!BC239*'Prevalence Rates'!BC239","v":0},237]
[null,"Male 45-49",{"$f":"'Population 2016'!C240*'Prevalence Rates'!C240","v":414.9396334951457},{"$f":"'Population 2016'!D240*'Prevalence Rates'!D240","v":321.23872595005832},{"$f":"'Population 2016'!E240*'Prevalence Rates'!E240","v":423.17344536628428},{"$f":"'Population 2016'!F240*'Prevalence Rates'!F240","v":102.47853248014124},{"$f":"'Population 2016'!G240*'Prevalence Rates'!G240","v":35.641000000000005},{"$f":"'Population 2016'!H240*'Prevalence Rates'!H240","v":224.09567559576348},{"$f":"'Population 2016'!I240*'Prevalence Rates'!I240","v":45.35091354810239},{"$f":"'Population 2016'!J240*'Prevalence Rates'!J240","v":159.40130000000002},{"$f":"'Population 2016'!K240*'Prevalence Rates'!K240","v":36.992900000000006},{"$f":"'Population 2016'!L240*'Prevalence Rates'!L240","v":60.182709002647847},{"$f":"'Population 2016'!M240*'Prevalence Rates'!M240","v":60.182709002647847},{"$f":"'Population 2016'!N240*'Prevalence Rates'!N240","v":109.43800260370698},{"$f":"'Population 2016'!O240*'Prevalence Rates'!O240","v":72.665357193292152},{"$f":"'Population 2016'!P240*'Prevalence Rates'!P240","v":216.92706937334512},{"$f":"'Population 2016'!Q240*'Prevalence Rates'!Q240","v":79.641640644307159},{"$f":"'Population 2016'!R240*'Prevalence Rates'!R240","v":140.88668075904681},{"$f":"'Population 2016'!S240*'Prevalence Rates'!S240","v":938.49546280927098},{"$f":"'Population 2016'!T240*'Prevalence Rates'!T240","v":720.46599624889677},{"$f":"'Population 2016'!U240*'Prevalence Rates'!U240","v":0},{"$f":"'Population 2016'!V240*'Prevalence Rates'!V240","v":150.9022172109444},{"$f":"'Population 2016'!W240*'Prevalence Rates'!W240","v":381.48002714033538},{"$f":"'Population 2016'!X240*'Prevalence Rates'!X240","v":381.48002714033538},{"$f":"'Population 2016'!Y240*'Prevalence Rates'!Y240","v":274.4382491173875},{"$f":"'Population 2016'!Z240*'Prevalence Rates'!Z240","v":297.69189452780233},{"$f":"'Population 2016'!AA240*'Prevalence Rates'!AA240","v":461.94000072807006},{"$f":"'Population 2016'!AB240*'Prevalence Rates'!AB240","v":932.47451650485448},{"$f":"'Population 2016'!AC240*'Prevalence Rates'!AC240","v":1024.0969546337158},{"$f":"'Population 2016'!AD240*'Prevalence Rates'!AD240","v":149.16621403353929},{"$f":"'Population 2016'!AE240*'Prevalence Rates'!AE240","v":113.61199249779347},{"$f":"'Population 2016'!AF240*'Prevalence Rates'!AF240","v":35.518100000000004},{"$f":"'Population 2016'!AG240*'Prevalence Rates'!AG240","v":43.75120207989562},{"$f":"'Population 2016'!AH240*'Prevalence Rates'!AH240","v":351.63414721977057},{"$f":"'Population 2016'!AI240*'Prevalence Rates'!AI240","v":1046.6326709620478},{"$f":"'Population 2016'!AJ240*'Prevalence Rates'!AJ240","v":71.282000000000011},{"$f":"'Population 2016'!AK240*'Prevalence Rates'!AK240","v":88.485939011473974},{"$f":"'Population 2016'!AL240*'Prevalence Rates'!AL240","v":73.934492233009721},{"$f":"'Population 2016'!AM240*'Prevalence Rates'!AM240","v":147.81111407766991},{"$f":"'Population 2016'!AN240*'Prevalence Rates'!AN240","v":8.3572000000000006},{"$f":"'Population 2016'!AO240*'Prevalence Rates'!AO240","v":8.3572000000000006},{"$f":"'Population 2016'!AP240*'Prevalence Rates'!AP240","v":94.810733142100631},{"$f":"'Population 2016'!AQ240*'Prevalence Rates'!AQ240","v":155.67221244483676},{"$f":"'Population 2016'!AR240*'Prevalence Rates'!AR240","v":4837.2211000000007},{"$f":"'Population 2016'!AS240*'Prevalence Rates'!AS240","v":45.35091354810239},{"$f":"'Population 2016'!AT240*'Prevalence Rates'!AT240","v":0},{"$f":"'Population 2016'!AU240*'Prevalence Rates'!AU240","v":0},{"$f":"'Population 2016'!AV240*'Prevalence Rates'!AV240","v":67.861301412180055},{"$f":"'Population 2016'!AW240*'Prevalence Rates'!AW240","v":203.04197272727274},{"$f":"'Population 2016'!AX240*'Prevalence Rates'!AX240","v":122.40840000000001},{"$f":"'Population 2016'!AY240*'Prevalence Rates'!AY240","v":302.94475697767029},{"$f":"'Population 2016'!AZ240*'Prevalence Rates'!AZ240","v":306.8299922330097},{"$f":"'Population 2016'!BA240*'Prevalence Rates'!BA240","v":23.356966019417474},{"$f":"'Population 2016'!BB240*'Prevalence Rates'!BB240","v":146.53856213592235},{"$f":"'Population 2016'!BC240*'Prevalence Rates'!BC240","v":0},238]
[null,"Male 50-54",{"$f":"'Population 2016'!C241*'Prevalence Rates'!C241","v":423.83616165048551},{"$f":"'Population 2016'!D241*'Prevalence Rates'!D241","v":319.67385470170973},{"$f":"'Population 2016'!E241*'Prevalence Rates'!E241","v":411.83844236540165},{"$f":"'Population 2016'!F241*'Prevalence Rates'!F241","v":120.78840878199473},{"$f":"'Population 2016'!G241*'Prevalence Rates'!G241","v":39.0822},{"$f":"'Population 2016'!H241*'Prevalence Rates'!H241","v":244.16585304501325},{"$f":"'Population 2016'!I241*'Prevalence Rates'!I241","v":37.475605207413949},{"$f":"'Population 2016'!J241*'Prevalence Rates'!J241","v":153.625},{"$f":"'Population 2016'!K241*'Prevalence Rates'!K241","v":35.518100000000004},{"$f":"'Population 2016'!L241*'Prevalence Rates'!L241","v":70.086192762577241},{"$f":"'Population 2016'!M241*'Prevalence Rates'!M241","v":70.086192762577241},{"$f":"'Population 2016'!N241*'Prevalence Rates'!N241","v":108.04032696381289},{"$f":"'Population 2016'!O241*'Prevalence Rates'!O241","v":66.411884112974406},{"$f":"'Population 2016'!P241*'Prevalence Rates'!P241","v":242.1240642541924},{"$f":"'Population 2016'!Q241*'Prevalence Rates'!Q241","v":91.876102427184478},{"$f":"'Population 2016'!R241*'Prevalence Rates'!R241","v":137.62836637246252},{"$f":"'Population 2016'!S241*'Prevalence Rates'!S241","v":914.98227614439293},{"$f":"'Population 2016'!T241*'Prevalence Rates'!T241","v":714.06418623124455},{"$f":"'Population 2016'!U241*'Prevalence Rates'!U241","v":0},{"$f":"'Population 2016'!V241*'Prevalence Rates'!V241","v":146.55147043248013},{"$f":"'Population 2016'!W241*'Prevalence Rates'!W241","v":357.3936338923213},{"$f":"'Population 2016'!X241*'Prevalence Rates'!X241","v":357.3936338923213},{"$f":"'Population 2016'!Y241*'Prevalence Rates'!Y241","v":265.51769417475731},{"$f":"'Population 2016'!Z241*'Prevalence Rates'!Z241","v":292.79042992056486},{"$f":"'Population 2016'!AA241*'Prevalence Rates'!AA241","v":488.04218664281603},{"$f":"'Population 2016'!AB241*'Prevalence Rates'!AB241","v":918.68585242718461},{"$f":"'Population 2016'!AC241*'Prevalence Rates'!AC241","v":1086.3552960282434},{"$f":"'Population 2016'!AD241*'Prevalence Rates'!AD241","v":152.42311827007944},{"$f":"'Population 2016'!AE241*'Prevalence Rates'!AE241","v":113.21335392762576},{"$f":"'Population 2016'!AF241*'Prevalence Rates'!AF241","v":52.601200000000006},{"$f":"'Population 2016'!AG241*'Prevalence Rates'!AG241","v":43.597689090141607},{"$f":"'Population 2016'!AH241*'Prevalence Rates'!AH241","v":367.59617793468675},{"$f":"'Population 2016'!AI241*'Prevalence Rates'!AI241","v":1040.3066293909974},{"$f":"'Population 2016'!AJ241*'Prevalence Rates'!AJ241","v":65.751500000000007},{"$f":"'Population 2016'!AK241*'Prevalence Rates'!AK241","v":78.53624571932923},{"$f":"'Population 2016'!AL241*'Prevalence Rates'!AL241","v":82.062597087378649},{"$f":"'Population 2016'!AM241*'Prevalence Rates'!AM241","v":159.68349271844662},{"$f":"'Population 2016'!AN241*'Prevalence Rates'!AN241","v":7.742700000000001},{"$f":"'Population 2016'!AO241*'Prevalence Rates'!AO241","v":7.742700000000001},{"$f":"'Population 2016'!AP241*'Prevalence Rates'!AP241","v":118.64948234774934},{"$f":"'Population 2016'!AQ241*'Prevalence Rates'!AQ241","v":176.82402921447488},{"$f":"'Population 2016'!AR241*'Prevalence Rates'!AR241","v":4921.4076000000005},{"$f":"'Population 2016'!AS241*'Prevalence Rates'!AS241","v":37.475605207413949},{"$f":"'Population 2016'!AT241*'Prevalence Rates'!AT241","v":0},{"$f":"'Population 2016'!AU241*'Prevalence Rates'!AU241","v":0},{"$f":"'Population 2016'!AV241*'Prevalence Rates'!AV241","v":82.909229479258613},{"$f":"'Population 2016'!AW241*'Prevalence Rates'!AW241","v":207.21645075022067},{"$f":"'Population 2016'!AX241*'Prevalence Rates'!AX241","v":118.10690000000001},{"$f":"'Population 2016'!AY241*'Prevalence Rates'!AY241","v":312.18832181348864},{"$f":"'Population 2016'!AZ241*'Prevalence Rates'!AZ241","v":350.47836654898498},{"$f":"'Population 2016'!BA241*'Prevalence Rates'!BA241","v":24.914097087378639},{"$f":"'Population 2016'!BB241*'Prevalence Rates'!BB241","v":140.97128976169463},{"$f":"'Population 2016'!BC241*'Prevalence Rates'!BC241","v":0},239]
[null,"Male 55-59",{"$f":"'Population 2016'!C242*'Prevalence Rates'!C242","v":368.12190291262135},{"$f":"'Population 2016'!D242*'Prevalence Rates'!D242","v":265.10816146504345},{"$f":"'Population 2016'!E242*'Prevalence Rates'!E242","v":327.41465136804948},{"$f":"'Population 2016'!F242*'Prevalence Rates'!F242","v":96.560601588702582},{"$f":"'Population 2016'!G242*'Prevalence Rates'!G242","v":31.240000000000002},{"$f":"'Population 2016'!H242*'Prevalence Rates'!H242","v":229.23437246248898},{"$f":"'Population 2016'!I242*'Prevalence Rates'!I242","v":29.201165754633717},{"$f":"'Population 2016'!J242*'Prevalence Rates'!J242","v":120.98400000000001},{"$f":"'Population 2016'!K242*'Prevalence Rates'!K242","v":27.377600000000001},{"$f":"'Population 2016'!L242*'Prevalence Rates'!L242","v":58.093165048543703},{"$f":"'Population 2016'!M242*'Prevalence Rates'!M242","v":58.093165048543703},{"$f":"'Population 2016'!N242*'Prevalence Rates'!N242","v":105.29080670785525},{"$f":"'Population 2016'!O242*'Prevalence Rates'!O242","v":62.542464960282445},{"$f":"'Population 2016'!P242*'Prevalence Rates'!P242","v":204.03482436010592},{"$f":"'Population 2016'!Q242*'Prevalence Rates'!Q242","v":64.589871844660195},{"$f":"'Population 2016'!R242*'Prevalence Rates'!R242","v":128.19594563106799},{"$f":"'Population 2016'!S242*'Prevalence Rates'!S242","v":767.79746071582201},{"$f":"'Population 2016'!T242*'Prevalence Rates'!T242","v":608.71376875551641},{"$f":"'Population 2016'!U242*'Prevalence Rates'!U242","v":0},{"$f":"'Population 2016'!V242*'Prevalence Rates'!V242","v":112.1792480141218},{"$f":"'Population 2016'!W242*'Prevalence Rates'!W242","v":317.04070538393648},{"$f":"'Population 2016'!X242*'Prevalence Rates'!X242","v":317.04070538393648},{"$f":"'Population 2016'!Y242*'Prevalence Rates'!Y242","v":206.13812886142986},{"$f":"'Population 2016'!Z242*'Prevalence Rates'!Z242","v":237.45488155339808},{"$f":"'Population 2016'!AA242*'Prevalence Rates'!AA242","v":416.3891656255297},{"$f":"'Population 2016'!AB242*'Prevalence Rates'!AB242","v":757.33039223300977},{"$f":"'Population 2016'!AC242*'Prevalence Rates'!AC242","v":932.33735851721087},{"$f":"'Population 2016'!AD242*'Prevalence Rates'!AD242","v":126.07765154457194},{"$f":"'Population 2016'!AE242*'Prevalence Rates'!AE242","v":94.820406001765221},{"$f":"'Population 2016'!AF242*'Prevalence Rates'!AF242","v":43.395200000000003},{"$f":"'Population 2016'!AG242*'Prevalence Rates'!AG242","v":36.514690509996548},{"$f":"'Population 2016'!AH242*'Prevalence Rates'!AH242","v":308.75256769638133},{"$f":"'Population 2016'!AI242*'Prevalence Rates'!AI242","v":861.77722012356594},{"$f":"'Population 2016'!AJ242*'Prevalence Rates'!AJ242","v":53.1648},{"$f":"'Population 2016'!AK242*'Prevalence Rates'!AK242","v":60.453548455428077},{"$f":"'Population 2016'!AL242*'Prevalence Rates'!AL242","v":67.039440776699038},{"$f":"'Population 2016'!AM242*'Prevalence Rates'!AM242","v":127.95661359223303},{"$f":"'Population 2016'!AN242*'Prevalence Rates'!AN242","v":8.2927999999999997},{"$f":"'Population 2016'!AO242*'Prevalence Rates'!AO242","v":8.2927999999999997},{"$f":"'Population 2016'!AP242*'Prevalence Rates'!AP242","v":89.950445189761695},{"$f":"'Population 2016'!AQ242*'Prevalence Rates'!AQ242","v":154.86006142983231},{"$f":"'Population 2016'!AR242*'Prevalence Rates'!AR242","v":4137.5392000000002},{"$f":"'Population 2016'!AS242*'Prevalence Rates'!AS242","v":29.201165754633717},{"$f":"'Population 2016'!AT242*'Prevalence Rates'!AT242","v":0},{"$f":"'Population 2016'!AU242*'Prevalence Rates'!AU242","v":0},{"$f":"'Population 2016'!AV242*'Prevalence Rates'!AV242","v":83.904077669902904},{"$f":"'Population 2016'!AW242*'Prevalence Rates'!AW242","v":180.06753045013241},{"$f":"'Population 2016'!AX242*'Prevalence Rates'!AX242","v":93.606400000000008},{"$f":"'Population 2016'!AY242*'Prevalence Rates'!AY242","v":268.35973476174553},{"$f":"'Population 2016'!AZ242*'Prevalence Rates'!AZ242","v":291.84797528684902},{"$f":"'Population 2016'!BA242*'Prevalence Rates'!BA242","v":18.449221535745806},{"$f":"'Population 2016'!BB242*'Prevalence Rates'!BB242","v":111.28202859664609},{"$f":"'Population 2016'!BC242*'Prevalence Rates'!BC242","v":0},240]
[null,"Male 60-64",{"$f":"'Population 2016'!C243*'Prevalence Rates'!C243","v":326.23438446601938},{"$f":"'Population 2016'!D243*'Prevalence Rates'!D243","v":238.93635831273994},{"$f":"'Population 2016'!E243*'Prevalence Rates'!E243","v":299.80268243601063},{"$f":"'Population 2016'!F243*'Prevalence Rates'!F243","v":89.607188702559597},{"$f":"'Population 2016'!G243*'Prevalence Rates'!G243","v":25.787200000000002},{"$f":"'Population 2016'!H243*'Prevalence Rates'!H243","v":215.17308879082086},{"$f":"'Population 2016'!I243*'Prevalence Rates'!I243","v":30.790914033539281},{"$f":"'Population 2016'!J243*'Prevalence Rates'!J243","v":114.9632},{"$f":"'Population 2016'!K243*'Prevalence Rates'!K243","v":30.558400000000002},{"$f":"'Population 2016'!L243*'Prevalence Rates'!L243","v":55.276526743159764},{"$f":"'Population 2016'!M243*'Prevalence Rates'!M243","v":55.276526743159764},{"$f":"'Population 2016'!N243*'Prevalence Rates'!N243","v":85.653748278905567},{"$f":"'Population 2016'!O243*'Prevalence Rates'!O243","v":54.218883671668145},{"$f":"'Population 2016'!P243*'Prevalence Rates'!P243","v":180.35308455428068},{"$f":"'Population 2016'!Q243*'Prevalence Rates'!Q243","v":54.586053309797002},{"$f":"'Population 2016'!R243*'Prevalence Rates'!R243","v":108.48860158870258},{"$f":"'Population 2016'!S243*'Prevalence Rates'!S243","v":654.3652131122526},{"$f":"'Population 2016'!T243*'Prevalence Rates'!T243","v":523.63935039717569},{"$f":"'Population 2016'!U243*'Prevalence Rates'!U243","v":0},{"$f":"'Population 2016'!V243*'Prevalence Rates'!V243","v":91.330840600176529},{"$f":"'Population 2016'!W243*'Prevalence Rates'!W243","v":272.88635057369817},{"$f":"'Population 2016'!X243*'Prevalence Rates'!X243","v":272.88635057369817},{"$f":"'Population 2016'!Y243*'Prevalence Rates'!Y243","v":181.88658428949694},{"$f":"'Population 2016'!Z243*'Prevalence Rates'!Z243","v":211.33750962047662},{"$f":"'Population 2016'!AA243*'Prevalence Rates'!AA243","v":360.63516031686021},{"$f":"'Population 2016'!AB243*'Prevalence Rates'!AB243","v":685.38519611650486},{"$f":"'Population 2016'!AC243*'Prevalence Rates'!AC243","v":804.92889249779341},{"$f":"'Population 2016'!AD243*'Prevalence Rates'!AD243","v":113.19292497793469},{"$f":"'Population 2016'!AE243*'Prevalence Rates'!AE243","v":87.573768755516326},{"$f":"'Population 2016'!AF243*'Prevalence Rates'!AF243","v":36.011200000000002},{"$f":"'Population 2016'!AG243*'Prevalence Rates'!AG243","v":33.724060017652256},{"$f":"'Population 2016'!AH243*'Prevalence Rates'!AH243","v":269.69742912621365},{"$f":"'Population 2016'!AI243*'Prevalence Rates'!AI243","v":725.17121482789071},{"$f":"'Population 2016'!AJ243*'Prevalence Rates'!AJ243","v":44.758400000000002},{"$f":"'Population 2016'!AK243*'Prevalence Rates'!AK243","v":57.387952691968238},{"$f":"'Population 2016'!AL243*'Prevalence Rates'!AL243","v":68.484256310679612},{"$f":"'Population 2016'!AM243*'Prevalence Rates'!AM243","v":106.11839223300971},{"$f":"'Population 2016'!AN243*'Prevalence Rates'!AN243","v":6.1344000000000003},{"$f":"'Population 2016'!AO243*'Prevalence Rates'!AO243","v":6.1344000000000003},{"$f":"'Population 2016'!AP243*'Prevalence Rates'!AP243","v":90.252292321270971},{"$f":"'Population 2016'!AQ243*'Prevalence Rates'!AQ243","v":126.36771756398942},{"$f":"'Population 2016'!AR243*'Prevalence Rates'!AR243","v":3635.3136000000004},{"$f":"'Population 2016'!AS243*'Prevalence Rates'!AS243","v":30.790914033539281},{"$f":"'Population 2016'!AT243*'Prevalence Rates'!AT243","v":0},{"$f":"'Population 2016'!AU243*'Prevalence Rates'!AU243","v":0},{"$f":"'Population 2016'!AV243*'Prevalence Rates'!AV243","v":78.78906972639011},{"$f":"'Population 2016'!AW243*'Prevalence Rates'!AW243","v":162.81105878199472},{"$f":"'Population 2016'!AX243*'Prevalence Rates'!AX243","v":84.404800000000009},{"$f":"'Population 2016'!AY243*'Prevalence Rates'!AY243","v":238.42854287902779},{"$f":"'Population 2016'!AZ243*'Prevalence Rates'!AZ243","v":267.73619982347748},{"$f":"'Population 2016'!BA243*'Prevalence Rates'!BA243","v":18.187530450132392},{"$f":"'Population 2016'!BB243*'Prevalence Rates'!BB243","v":82.611514210061785},{"$f":"'Population 2016'!BC243*'Prevalence Rates'!BC243","v":0},241]
[null,"Male 65-69",{"$f":"'Population 2016'!C244*'Prevalence Rates'!C244","v":193.49066504854369},{"$f":"'Population 2016'!D244*'Prevalence Rates'!D244","v":145.65812666610958},{"$f":"'Population 2016'!E244*'Prevalence Rates'!E244","v":187.33709470432484},{"$f":"'Population 2016'!F244*'Prevalence Rates'!F244","v":71.722661518093574},{"$f":"'Population 2016'!G244*'Prevalence Rates'!G244","v":18.4404},{"$f":"'Population 2016'!H244*'Prevalence Rates'!H244","v":160.42245436893205},{"$f":"'Population 2016'!I244*'Prevalence Rates'!I244","v":22.618117122683145},{"$f":"'Population 2016'!J244*'Prevalence Rates'!J244","v":85.344000000000008},{"$f":"'Population 2016'!K244*'Prevalence Rates'!K244","v":23.241},{"$f":"'Population 2016'!L244*'Prevalence Rates'!L244","v":40.305697440423657},{"$f":"'Population 2016'!M244*'Prevalence Rates'!M244","v":40.305697440423657},{"$f":"'Population 2016'!N244*'Prevalence Rates'!N244","v":56.934413857016764},{"$f":"'Population 2016'!O244*'Prevalence Rates'!O244","v":38.15218993821712},{"$f":"'Population 2016'!P244*'Prevalence Rates'!P244","v":120.91063583406886},{"$f":"'Population 2016'!Q244*'Prevalence Rates'!Q244","v":37.052569461606353},{"$f":"'Population 2016'!R244*'Prevalence Rates'!R244","v":65.481087908208295},{"$f":"'Population 2016'!S244*'Prevalence Rates'!S244","v":448.2456743746875},{"$f":"'Population 2016'!T244*'Prevalence Rates'!T244","v":350.13782303618717},{"$f":"'Population 2016'!U244*'Prevalence Rates'!U244","v":0},{"$f":"'Population 2016'!V244*'Prevalence Rates'!V244","v":59.487719152691966},{"$f":"'Population 2016'!W244*'Prevalence Rates'!W244","v":201.98383768755519},{"$f":"'Population 2016'!X244*'Prevalence Rates'!X244","v":201.98383768755519},{"$f":"'Population 2016'!Y244*'Prevalence Rates'!Y244","v":127.40566019417477},{"$f":"'Population 2016'!Z244*'Prevalence Rates'!Z244","v":125.84984854368932},{"$f":"'Population 2016'!AA244*'Prevalence Rates'!AA244","v":223.11257283025796},{"$f":"'Population 2016'!AB244*'Prevalence Rates'!AB244","v":421.30758058252428},{"$f":"'Population 2016'!AC244*'Prevalence Rates'!AC244","v":509.17579805825238},{"$f":"'Population 2016'!AD244*'Prevalence Rates'!AD244","v":79.884838305383937},{"$f":"'Population 2016'!AE244*'Prevalence Rates'!AE244","v":61.543437775816422},{"$f":"'Population 2016'!AF244*'Prevalence Rates'!AF244","v":26.746200000000002},{"$f":"'Population 2016'!AG244*'Prevalence Rates'!AG244","v":23.699957404351661},{"$f":"'Population 2016'!AH244*'Prevalence Rates'!AH244","v":156.89210097087383},{"$f":"'Population 2016'!AI244*'Prevalence Rates'!AI244","v":482.7070924977935},{"$f":"'Population 2016'!AJ244*'Prevalence Rates'!AJ244","v":32.461200000000005},{"$f":"'Population 2016'!AK244*'Prevalence Rates'!AK244","v":38.576636716681385},{"$f":"'Population 2016'!AL244*'Prevalence Rates'!AL244","v":48.941854368932042},{"$f":"'Population 2016'!AM244*'Prevalence Rates'!AM244","v":61.980192233009717},{"$f":"'Population 2016'!AN244*'Prevalence Rates'!AN244","v":4.8006000000000002},{"$f":"'Population 2016'!AO244*'Prevalence Rates'!AO244","v":4.8006000000000002},{"$f":"'Population 2016'!AP244*'Prevalence Rates'!AP244","v":71.067462577228596},{"$f":"'Population 2016'!AQ244*'Prevalence Rates'!AQ244","v":82.92503671668139},{"$f":"'Population 2016'!AR244*'Prevalence Rates'!AR244","v":2414.6256000000003},{"$f":"'Population 2016'!AS244*'Prevalence Rates'!AS244","v":22.618117122683145},{"$f":"'Population 2016'!AT244*'Prevalence Rates'!AT244","v":0},{"$f":"'Population 2016'!AU244*'Prevalence Rates'!AU244","v":0},{"$f":"'Population 2016'!AV244*'Prevalence Rates'!AV244","v":61.818511032656659},{"$f":"'Population 2016'!AW244*'Prevalence Rates'!AW244","v":94.470917210944393},{"$f":"'Population 2016'!AX244*'Prevalence Rates'!AX244","v":62.103000000000002},{"$f":"'Population 2016'!AY244*'Prevalence Rates'!AY244","v":178.27874489462602},{"$f":"'Population 2016'!AZ244*'Prevalence Rates'!AZ244","v":202.16959620476612},{"$f":"'Population 2016'!BA244*'Prevalence Rates'!BA244","v":8.513483671668137},{"$f":"'Population 2016'!BB244*'Prevalence Rates'!BB244","v":50.729124360105914},{"$f":"'Population 2016'!BC244*'Prevalence Rates'!BC244","v":0},242]
[null,"Male 70-74",{"$f":"'Population 2016'!C245*'Prevalence Rates'!C245","v":126.43688446601942},{"$f":"'Population 2016'!D245*'Prevalence Rates'!D245","v":96.205919215563213},{"$f":"'Population 2016'!E245*'Prevalence Rates'!E245","v":124.89139646954989},{"$f":"'Population 2016'!F245*'Prevalence Rates'!F245","v":53.15397246248898},{"$f":"'Population 2016'!G245*'Prevalence Rates'!G245","v":15.3924},{"$f":"'Population 2016'!H245*'Prevalence Rates'!H245","v":121.34722215357459},{"$f":"'Population 2016'!I245*'Prevalence Rates'!I245","v":14.592333627537514},{"$f":"'Population 2016'!J245*'Prevalence Rates'!J245","v":58.064400000000006},{"$f":"'Population 2016'!K245*'Prevalence Rates'!K245","v":15.0114},{"$f":"'Population 2016'!L245*'Prevalence Rates'!L245","v":28.733553839364522},{"$f":"'Population 2016'!M245*'Prevalence Rates'!M245","v":28.733553839364522},{"$f":"'Population 2016'!N245*'Prevalence Rates'!N245","v":44.455638217122683},{"$f":"'Population 2016'!O245*'Prevalence Rates'!O245","v":24.814432480141217},{"$f":"'Population 2016'!P245*'Prevalence Rates'!P245","v":96.032714563106808},{"$f":"'Population 2016'!Q245*'Prevalence Rates'!Q245","v":30.998704766107679},{"$f":"'Population 2016'!R245*'Prevalence Rates'!R245","v":50.153858075904679},{"$f":"'Population 2016'!S245*'Prevalence Rates'!S245","v":321.5831996341991},{"$f":"'Population 2016'!T245*'Prevalence Rates'!T245","v":244.20502691968227},{"$f":"'Population 2016'!U245*'Prevalence Rates'!U245","v":0},{"$f":"'Population 2016'!V245*'Prevalence Rates'!V245","v":39.043252427184463},{"$f":"'Population 2016'!W245*'Prevalence Rates'!W245","v":158.43341915269198},{"$f":"'Population 2016'!X245*'Prevalence Rates'!X245","v":158.43341915269198},{"$f":"'Population 2016'!Y245*'Prevalence Rates'!Y245","v":85.370902030008835},{"$f":"'Population 2016'!Z245*'Prevalence Rates'!Z245","v":75.25963954104148},{"$f":"'Population 2016'!AA245*'Prevalence Rates'!AA245","v":161.46514755289249},{"$f":"'Population 2016'!AB245*'Prevalence Rates'!AB245","v":283.40185631067959},{"$f":"'Population 2016'!AC245*'Prevalence Rates'!AC245","v":372.27244342453662},{"$f":"'Population 2016'!AD245*'Prevalence Rates'!AD245","v":59.045315269196827},{"$f":"'Population 2016'!AE245*'Prevalence Rates'!AE245","v":43.582969991173876},{"$f":"'Population 2016'!AF245*'Prevalence Rates'!AF245","v":22.631400000000003},{"$f":"'Population 2016'!AG245*'Prevalence Rates'!AG245","v":16.783503971756399},{"$f":"'Population 2016'!AH245*'Prevalence Rates'!AH245","v":110.17376663724627},{"$f":"'Population 2016'!AI245*'Prevalence Rates'!AI245","v":337.31338993821714},{"$f":"'Population 2016'!AJ245*'Prevalence Rates'!AJ245","v":21.640800000000002},{"$f":"'Population 2016'!AK245*'Prevalence Rates'!AK245","v":30.762605825242723},{"$f":"'Population 2016'!AL245*'Prevalence Rates'!AL245","v":37.409021359223303},{"$f":"'Population 2016'!AM245*'Prevalence Rates'!AM245","v":37.173393203883499},{"$f":"'Population 2016'!AN245*'Prevalence Rates'!AN245","v":3.1242000000000001},{"$f":"'Population 2016'!AO245*'Prevalence Rates'!AO245","v":3.1242000000000001},{"$f":"'Population 2016'!AP245*'Prevalence Rates'!AP245","v":54.397317034421889},{"$f":"'Population 2016'!AQ245*'Prevalence Rates'!AQ245","v":60.694409708737872},{"$f":"'Population 2016'!AR245*'Prevalence Rates'!AR245","v":1726.9206000000001},{"$f":"'Population 2016'!AS245*'Prevalence Rates'!AS245","v":14.592333627537514},{"$f":"'Population 2016'!AT245*'Prevalence Rates'!AT245","v":0},{"$f":"'Population 2016'!AU245*'Prevalence Rates'!AU245","v":0},{"$f":"'Population 2016'!AV245*'Prevalence Rates'!AV245","v":49.659466019417472},{"$f":"'Population 2016'!AW245*'Prevalence Rates'!AW245","v":72.542736275375105},{"$f":"'Population 2016'!AX245*'Prevalence Rates'!AX245","v":43.053000000000004},{"$f":"'Population 2016'!AY245*'Prevalence Rates'!AY245","v":137.76412514906201},{"$f":"'Population 2016'!AZ245*'Prevalence Rates'!AZ245","v":153.96916178287731},{"$f":"'Population 2016'!BA245*'Prevalence Rates'!BA245","v":4.300625772285966},{"$f":"'Population 2016'!BB245*'Prevalence Rates'!BB245","v":32.422259311562229},{"$f":"'Population 2016'!BC245*'Prevalence Rates'!BC245","v":0},243]
[null,"Male 75-79",{"$f":"'Population 2016'!C246*'Prevalence Rates'!C246","v":50.309902912621354},{"$f":"'Population 2016'!D246*'Prevalence Rates'!D246","v":37.05268781687866},{"$f":"'Population 2016'!E246*'Prevalence Rates'!E246","v":46.729602824360107},{"$f":"'Population 2016'!F246*'Prevalence Rates'!F246","v":18.339788172992058},{"$f":"'Population 2016'!G246*'Prevalence Rates'!G246","v":5.04},{"$f":"'Population 2016'!H246*'Prevalence Rates'!H246","v":44.310767872903796},{"$f":"'Population 2016'!I246*'Prevalence Rates'!I246","v":5.2147043248014127},{"$f":"'Population 2016'!J246*'Prevalence Rates'!J246","v":24.48},{"$f":"'Population 2016'!K246*'Prevalence Rates'!K246","v":4.84},{"$f":"'Population 2016'!L246*'Prevalence Rates'!L246","v":12.851738746690204},{"$f":"'Population 2016'!M246*'Prevalence Rates'!M246","v":12.851738746690204},{"$f":"'Population 2016'!N246*'Prevalence Rates'!N246","v":19.196716681376877},{"$f":"'Population 2016'!O246*'Prevalence Rates'!O246","v":8.7925154457193297},{"$f":"'Population 2016'!P246*'Prevalence Rates'!P246","v":42.141147396293029},{"$f":"'Population 2016'!Q246*'Prevalence Rates'!Q246","v":12.48180052956752},{"$f":"'Population 2016'!R246*'Prevalence Rates'!R246","v":21.693662842012358},{"$f":"'Population 2016'!S246*'Prevalence Rates'!S246","v":119.49212080243738},{"$f":"'Population 2016'!T246*'Prevalence Rates'!T246","v":95.708208296557828},{"$f":"'Population 2016'!U246*'Prevalence Rates'!U246","v":0},{"$f":"'Population 2016'!V246*'Prevalence Rates'!V246","v":13.787643424536627},{"$f":"'Population 2016'!W246*'Prevalence Rates'!W246","v":52.729461606354818},{"$f":"'Population 2016'!X246*'Prevalence Rates'!X246","v":52.729461606354818},{"$f":"'Population 2016'!Y246*'Prevalence Rates'!Y246","v":33.542277140335393},{"$f":"'Population 2016'!Z246*'Prevalence Rates'!Z246","v":27.401094439541041},{"$f":"'Population 2016'!AA246*'Prevalence Rates'!AA246","v":62.835387166830429},{"$f":"'Population 2016'!AB246*'Prevalence Rates'!AB246","v":109.76155339805825},{"$f":"'Population 2016'!AC246*'Prevalence Rates'!AC246","v":148.71046778464253},{"$f":"'Population 2016'!AD246*'Prevalence Rates'!AD246","v":20.649143865842895},{"$f":"'Population 2016'!AE246*'Prevalence Rates'!AE246","v":15.61253309796999},{"$f":"'Population 2016'!AF246*'Prevalence Rates'!AF246","v":8},{"$f":"'Population 2016'!AG246*'Prevalence Rates'!AG246","v":6.0122798265474495},{"$f":"'Population 2016'!AH246*'Prevalence Rates'!AH246","v":39.460052956751994},{"$f":"'Population 2016'!AI246*'Prevalence Rates'!AI246","v":130.56413062665493},{"$f":"'Population 2016'!AJ246*'Prevalence Rates'!AJ246","v":7.28},{"$f":"'Population 2016'!AK246*'Prevalence Rates'!AK246","v":12.478270079435129},{"$f":"'Population 2016'!AL246*'Prevalence Rates'!AL246","v":12.769320388349517},{"$f":"'Population 2016'!AM246*'Prevalence Rates'!AM246","v":13.910679611650487},{"$f":"'Population 2016'!AN246*'Prevalence Rates'!AN246","v":0.88},{"$f":"'Population 2016'!AO246*'Prevalence Rates'!AO246","v":0.88},{"$f":"'Population 2016'!AP246*'Prevalence Rates'!AP246","v":21.823689320388347},{"$f":"'Population 2016'!AQ246*'Prevalence Rates'!AQ246","v":20.316893203883499},{"$f":"'Population 2016'!AR246*'Prevalence Rates'!AR246","v":659},{"$f":"'Population 2016'!AS246*'Prevalence Rates'!AS246","v":5.2147043248014127},{"$f":"'Population 2016'!AT246*'Prevalence Rates'!AT246","v":0},{"$f":"'Population 2016'!AU246*'Prevalence Rates'!AU246","v":0},{"$f":"'Population 2016'!AV246*'Prevalence Rates'!AV246","v":18.895322153574579},{"$f":"'Population 2016'!AW246*'Prevalence Rates'!AW246","v":25.399364518976171},{"$f":"'Population 2016'!AX246*'Prevalence Rates'!AX246","v":19.64},{"$f":"'Population 2016'!AY246*'Prevalence Rates'!AY246","v":49.933253709821251},{"$f":"'Population 2016'!AZ246*'Prevalence Rates'!AZ246","v":60.313062665489845},{"$f":"'Population 2016'!BA246*'Prevalence Rates'!BA246","v":1.4743159752868491},{"$f":"'Population 2016'!BB246*'Prevalence Rates'!BB246","v":11.907219770520742},{"$f":"'Population 2016'!BC246*'Prevalence Rates'!BC246","v":0},244]
[null,"Male 80-84",{"$f":"'Population 2016'!C247*'Prevalence Rates'!C247","v":37.234757281553392},{"$f":"'Population 2016'!D247*'Prevalence Rates'!D247","v":25.656758058766492},{"$f":"'Population 2016'!E247*'Prevalence Rates'!E247","v":30.320441306266552},{"$f":"'Population 2016'!F247*'Prevalence Rates'!F247","v":15.244660194174759},{"$f":"'Population 2016'!G247*'Prevalence Rates'!G247","v":3.04},{"$f":"'Population 2016'!H247*'Prevalence Rates'!H247","v":31.787255075022067},{"$f":"'Population 2016'!I247*'Prevalence Rates'!I247","v":3.8300088261253316},{"$f":"'Population 2016'!J247*'Prevalence Rates'!J247","v":17.04},{"$f":"'Population 2016'!K247*'Prevalence Rates'!K247","v":3.24},{"$f":"'Population 2016'!L247*'Prevalence Rates'!L247","v":8.3887555163283327},{"$f":"'Population 2016'!M247*'Prevalence Rates'!M247","v":8.3887555163283327},{"$f":"'Population 2016'!N247*'Prevalence Rates'!N247","v":14.875180935569286},{"$f":"'Population 2016'!O247*'Prevalence Rates'!O247","v":5.4953221535745804},{"$f":"'Population 2016'!P247*'Prevalence Rates'!P247","v":31.390503089143866},{"$f":"'Population 2016'!Q247*'Prevalence Rates'!Q247","v":8.5764518976169466},{"$f":"'Population 2016'!R247*'Prevalence Rates'!R247","v":15.814933804060018},{"$f":"'Population 2016'!S247*'Prevalence Rates'!S247","v":88.196002980095116},{"$f":"'Population 2016'!T247*'Prevalence Rates'!T247","v":75.384730803177419},{"$f":"'Population 2016'!U247*'Prevalence Rates'!U247","v":0},{"$f":"'Population 2016'!V247*'Prevalence Rates'!V247","v":10.098517210944395},{"$f":"'Population 2016'!W247*'Prevalence Rates'!W247","v":38.189443954104149},{"$f":"'Population 2016'!X247*'Prevalence Rates'!X247","v":38.189443954104149},{"$f":"'Population 2016'!Y247*'Prevalence Rates'!Y247","v":23.807502206531336},{"$f":"'Population 2016'!Z247*'Prevalence Rates'!Z247","v":18.204836716681374},{"$f":"'Population 2016'!AA247*'Prevalence Rates'!AA247","v":43.622877192538269},{"$f":"'Population 2016'!AB247*'Prevalence Rates'!AB247","v":75.746796116504854},{"$f":"'Population 2016'!AC247*'Prevalence Rates'!AC247","v":104.66400706090026},{"$f":"'Population 2016'!AD247*'Prevalence Rates'!AD247","v":14.628243601059134},{"$f":"'Population 2016'!AE247*'Prevalence Rates'!AE247","v":11.633715798764342},{"$f":"'Population 2016'!AF247*'Prevalence Rates'!AF247","v":5.64},{"$f":"'Population 2016'!AG247*'Prevalence Rates'!AG247","v":4.4800644690893741},{"$f":"'Population 2016'!AH247*'Prevalence Rates'!AH247","v":26.128437775816423},{"$f":"'Population 2016'!AI247*'Prevalence Rates'!AI247","v":96.982383053839385},{"$f":"'Population 2016'!AJ247*'Prevalence Rates'!AJ247","v":4.5200000000000005},{"$f":"'Population 2016'!AK247*'Prevalence Rates'!AK247","v":8.3764165931156231},{"$f":"'Population 2016'!AL247*'Prevalence Rates'!AL247","v":9.666019417475729},{"$f":"'Population 2016'!AM247*'Prevalence Rates'!AM247","v":7.573592233009709},{"$f":"'Population 2016'!AN247*'Prevalence Rates'!AN247","v":0.64},{"$f":"'Population 2016'!AO247*'Prevalence Rates'!AO247","v":0.64},{"$f":"'Population 2016'!AP247*'Prevalence Rates'!AP247","v":16.970044130626654},{"$f":"'Population 2016'!AQ247*'Prevalence Rates'!AQ247","v":12.215322153574583},{"$f":"'Population 2016'!AR247*'Prevalence Rates'!AR247","v":472.92},{"$f":"'Population 2016'!AS247*'Prevalence Rates'!AS247","v":3.8300088261253316},{"$f":"'Population 2016'!AT247*'Prevalence Rates'!AT247","v":0},{"$f":"'Population 2016'!AU247*'Prevalence Rates'!AU247","v":0},{"$f":"'Population 2016'!AV247*'Prevalence Rates'!AV247","v":13.871315092674315},{"$f":"'Population 2016'!AW247*'Prevalence Rates'!AW247","v":18.417369814651369},{"$f":"'Population 2016'!AX247*'Prevalence Rates'!AX247","v":13.8},{"$f":"'Population 2016'!AY247*'Prevalence Rates'!AY247","v":37.99392703649908},{"$f":"'Population 2016'!AZ247*'Prevalence Rates'!AZ247","v":47.74609002647837},{"$f":"'Population 2016'!BA247*'Prevalence Rates'!BA247","v":0.96751985878199476},{"$f":"'Population 2016'!BB247*'Prevalence Rates'!BB247","v":6.0830361871138576},{"$f":"'Population 2016'!BC247*'Prevalence Rates'!BC247","v":0},245]
[null,"Male 85-89",{"$f":"'Population 2016'!C248*'Prevalence Rates'!C248","v":20.540194174757278},{"$f":"'Population 2016'!D248*'Prevalence Rates'!D248","v":13.942506240371866},{"$f":"'Population 2016'!E248*'Prevalence Rates'!E248","v":16.217016769638128},{"$f":"'Population 2016'!F248*'Prevalence Rates'!F248","v":6.6522153574580773},{"$f":"'Population 2016'!G248*'Prevalence Rates'!G248","v":2.08},{"$f":"'Population 2016'!H248*'Prevalence Rates'!H248","v":16.351297440423654},{"$f":"'Population 2016'!I248*'Prevalence Rates'!I248","v":2.3569285083848195},{"$f":"'Population 2016'!J248*'Prevalence Rates'!J248","v":7.08},{"$f":"'Population 2016'!K248*'Prevalence Rates'!K248","v":1.36},{"$f":"'Population 2016'!L248*'Prevalence Rates'!L248","v":4.3390114739629313},{"$f":"'Population 2016'!M248*'Prevalence Rates'!M248","v":4.3390114739629313},{"$f":"'Population 2016'!N248*'Prevalence Rates'!N248","v":8.506601941747574},{"$f":"'Population 2016'!O248*'Prevalence Rates'!O248","v":3.052956751985878},{"$f":"'Population 2016'!P248*'Prevalence Rates'!P248","v":15.402365401588703},{"$f":"'Population 2016'!Q248*'Prevalence Rates'!Q248","v":3.8670609002647836},{"$f":"'Population 2016'!R248*'Prevalence Rates'!R248","v":8.253274492497793},{"$f":"'Population 2016'!S248*'Prevalence Rates'!S248","v":46.672550050527036},{"$f":"'Population 2016'!T248*'Prevalence Rates'!T248","v":41.94492497793469},{"$f":"'Population 2016'!U248*'Prevalence Rates'!U248","v":0},{"$f":"'Population 2016'!V248*'Prevalence Rates'!V248","v":4.0990291262135923},{"$f":"'Population 2016'!W248*'Prevalence Rates'!W248","v":18.656769638128864},{"$f":"'Population 2016'!X248*'Prevalence Rates'!X248","v":18.656769638128864},{"$f":"'Population 2016'!Y248*'Prevalence Rates'!Y248","v":9.8030891438658436},{"$f":"'Population 2016'!Z248*'Prevalence Rates'!Z248","v":8.9147396293027352},{"$f":"'Population 2016'!AA248*'Prevalence Rates'!AA248","v":21.126774604457996},{"$f":"'Population 2016'!AB248*'Prevalence Rates'!AB248","v":41.732038834951453},{"$f":"'Population 2016'!AC248*'Prevalence Rates'!AC248","v":51.945631067961159},{"$f":"'Population 2016'!AD248*'Prevalence Rates'!AD248","v":8.18333627537511},{"$f":"'Population 2016'!AE248*'Prevalence Rates'!AE248","v":6.0979699911738745},{"$f":"'Population 2016'!AF248*'Prevalence Rates'!AF248","v":2.68},{"$f":"'Population 2016'!AG248*'Prevalence Rates'!AG248","v":2.3482865804520512},{"$f":"'Population 2016'!AH248*'Prevalence Rates'!AH248","v":11.536240070609004},{"$f":"'Population 2016'!AI248*'Prevalence Rates'!AI248","v":52.183053839364526},{"$f":"'Population 2016'!AJ248*'Prevalence Rates'!AJ248","v":2.2400000000000002},{"$f":"'Population 2016'!AK248*'Prevalence Rates'!AK248","v":5.1381112091791712},{"$f":"'Population 2016'!AL248*'Prevalence Rates'!AL248","v":4.6295145631067971},{"$f":"'Population 2016'!AM248*'Prevalence Rates'!AM248","v":3.3617475728155339},{"$f":"'Population 2016'!AN248*'Prevalence Rates'!AN248","v":0.4},{"$f":"'Population 2016'!AO248*'Prevalence Rates'!AO248","v":0.4},{"$f":"'Population 2016'!AP248*'Prevalence Rates'!AP248","v":9.3884377758164153},{"$f":"'Population 2016'!AQ248*'Prevalence Rates'!AQ248","v":5.9607413945278029},{"$f":"'Population 2016'!AR248*'Prevalence Rates'!AR248","v":242.68},{"$f":"'Population 2016'!AS248*'Prevalence Rates'!AS248","v":2.3569285083848195},{"$f":"'Population 2016'!AT248*'Prevalence Rates'!AT248","v":0},{"$f":"'Population 2016'!AU248*'Prevalence Rates'!AU248","v":0},{"$f":"'Population 2016'!AV248*'Prevalence Rates'!AV248","v":7.1726390114739624},{"$f":"'Population 2016'!AW248*'Prevalence Rates'!AW248","v":8.1142100617828774},{"$f":"'Population 2016'!AX248*'Prevalence Rates'!AX248","v":5.72},{"$f":"'Population 2016'!AY248*'Prevalence Rates'!AY248","v":19.337546529532897},{"$f":"'Population 2016'!AZ248*'Prevalence Rates'!AZ248","v":25.049885260370697},{"$f":"'Population 2016'!BA248*'Prevalence Rates'!BA248","v":0.27643424536628419},{"$f":"'Population 2016'!BB248*'Prevalence Rates'!BB248","v":2.7503089143865846},{"$f":"'Population 2016'!BC248*'Prevalence Rates'!BC248","v":0},246]
[null,"Male 90+",{"$f":"'Population 2016'!C249*'Prevalence Rates'!C249","v":10.04388349514563},{"$f":"'Population 2016'!D249*'Prevalence Rates'!D249","v":6.573350544832854},{"$f":"'Population 2016'!E249*'Prevalence Rates'!E249","v":7.3399293909973524},{"$f":"'Population 2016'!F249*'Prevalence Rates'!F249","v":2.4021888790820833},{"$f":"'Population 2016'!G249*'Prevalence Rates'!G249","v":0.56000000000000005},{"$f":"'Population 2016'!H249*'Prevalence Rates'!H249","v":7.9468137687555167},{"$f":"'Population 2016'!I249*'Prevalence Rates'!I249","v":0.6776169461606355},{"$f":"'Population 2016'!J249*'Prevalence Rates'!J249","v":2.88},{"$f":"'Population 2016'!K249*'Prevalence Rates'!K249","v":0.36},{"$f":"'Population 2016'!L249*'Prevalence Rates'!L249","v":1.8182524271844662},{"$f":"'Population 2016'!M249*'Prevalence Rates'!M249","v":1.8182524271844662},{"$f":"'Population 2016'!N249*'Prevalence Rates'!N249","v":2.7748808473080318},{"$f":"'Population 2016'!O249*'Prevalence Rates'!O249","v":1.2211827007943512},{"$f":"'Population 2016'!P249*'Prevalence Rates'!P249","v":6.5468667255075026},{"$f":"'Population 2016'!Q249*'Prevalence Rates'!Q249","v":2.4121270962047658},{"$f":"'Population 2016'!R249*'Prevalence Rates'!R249","v":3.4350220653133277},{"$f":"'Population 2016'!S249*'Prevalence Rates'!S249","v":22.013571177677729},{"$f":"'Population 2016'!T249*'Prevalence Rates'!T249","v":20.289320388349516},{"$f":"'Population 2016'!U249*'Prevalence Rates'!U249","v":0},{"$f":"'Population 2016'!V249*'Prevalence Rates'!V249","v":1.8631950573698146},{"$f":"'Population 2016'!W249*'Prevalence Rates'!W249","v":7.9707325684024717},{"$f":"'Population 2016'!X249*'Prevalence Rates'!X249","v":7.9707325684024717},{"$f":"'Population 2016'!Y249*'Prevalence Rates'!Y249","v":4.1671668137687563},{"$f":"'Population 2016'!Z249*'Prevalence Rates'!Z249","v":4.6919682259488082},{"$f":"'Population 2016'!AA249*'Prevalence Rates'!AA249","v":8.8587136899645298},{"$f":"'Population 2016'!AB249*'Prevalence Rates'!AB249","v":19.293203883495146},{"$f":"'Population 2016'!AC249*'Prevalence Rates'!AC249","v":22.36667255075022},{"$f":"'Population 2016'!AD249*'Prevalence Rates'!AD249","v":2.9680494263018531},{"$f":"'Population 2016'!AE249*'Prevalence Rates'!AE249","v":2.4218887908208298},{"$f":"'Population 2016'!AF249*'Prevalence Rates'!AF249","v":1.68},{"$f":"'Population 2016'!AG249*'Prevalence Rates'!AG249","v":0.93265282627882873},{"$f":"'Population 2016'!AH249*'Prevalence Rates'!AH249","v":4.3165401588702563},{"$f":"'Population 2016'!AI249*'Prevalence Rates'!AI249","v":25.80753751103266},{"$f":"'Population 2016'!AJ249*'Prevalence Rates'!AJ249","v":0.96},{"$f":"'Population 2016'!AK249*'Prevalence Rates'!AK249","v":2.0293380406001766},{"$f":"'Population 2016'!AL249*'Prevalence Rates'!AL249","v":2.136699029126214},{"$f":"'Population 2016'!AM249*'Prevalence Rates'!AM249","v":1.5456310679611651},{"$f":"'Population 2016'!AN249*'Prevalence Rates'!AN249","v":0.16},{"$f":"'Population 2016'!AO249*'Prevalence Rates'!AO249","v":0.16},{"$f":"'Population 2016'!AP249*'Prevalence Rates'!AP249","v":3.8262312444836715},{"$f":"'Population 2016'!AQ249*'Prevalence Rates'!AQ249","v":1.5951279788172994},{"$f":"'Population 2016'!AR249*'Prevalence Rates'!AR249","v":107.12},{"$f":"'Population 2016'!AS249*'Prevalence Rates'!AS249","v":0.6776169461606355},{"$f":"'Population 2016'!AT249*'Prevalence Rates'!AT249","v":0},{"$f":"'Population 2016'!AU249*'Prevalence Rates'!AU249","v":0},{"$f":"'Population 2016'!AV249*'Prevalence Rates'!AV249","v":3.7601059135039718},{"$f":"'Population 2016'!AW249*'Prevalence Rates'!AW249","v":2.7550573698146517},{"$f":"'Population 2016'!AX249*'Prevalence Rates'!AX249","v":2.52},{"$f":"'Population 2016'!AY249*'Prevalence Rates'!AY249","v":7.6252751970662995},{"$f":"'Population 2016'!AZ249*'Prevalence Rates'!AZ249","v":9.2886319505736967},{"$f":"'Population 2016'!BA249*'Prevalence Rates'!BA249","v":9.2144748455428069E-2},{"$f":"'Population 2016'!BB249*'Prevalence Rates'!BB249","v":1.4884024713150927},{"$f":"'Population 2016'!BC249*'Prevalence Rates'!BC249","v":0},247]
["Estimated number of smokers",null,null,null,null,null,null,null,null,null,null,null,null,null,null,null,null,null,null,null,null,null,null,null,null,null,null,null,null,null,null,null,null,null,null,null,null,null,null,null,null,null,null,null,null,null,null,null,null,null,null,null,null,null,null,248]
[null,"Total at risk",{"$f":"C5","v":38501.644480168361},31650.587444437882,30230.076571870486,16025.675174002699,14766.830599999999,77225.713446203226,16052.327776050264,25283.411300000003,10093.963000000002,29519.798412005788,29519.798412005788,37955.409689162545,25984.396673343181,11376.610908842085,17404.856903376934,5865.7758528548775,152028.06058807109,67839.05193405287,4803.0752000000002,23187.038770003943,71067.760408106798,71067.760408106798,43175.52841651965,173181.25354788156,144079.47332649602,84670.091681894235,265387.28703555051,54374.447202856652,39709.05370530131,16980.833500000001,17917.859663439674,140272.13308747558,{"$f":"AI5","v":133992.39156131336},15977.620599999998,16471.624755264787,32901.982880498865,83854.895560381119,3325.9813000000004,3325.9813000000004,19042.439949079595,37780.774683167168,990842.21130000008,16052.327776050264,3405.3119999999999,3405.3119999999999,18758.630063021166,57315.669842809541,15189.4483,72531.178122679878,71073.815175826734,25317.820538799791,30726.75309481662,4803.0752000000002,249]
[null,"Q1 only",{"$f":"C7","v":5922.8542925480269},3247.81699516145,1403.7102476674145,2056.1600662913379,1908.6546000000001,33969.491143299565,1620.6537048400974,7182.7689,3611.7577000000001,3988.1386513034499,3988.1386513034499,18973.622413131066,11463.837156502037,1223.5756752725297,1099.9693800470886,893.91943176278392,36222.180534083222,16686.255726125521,0,5501.6257774622063,22669.011695195397,22669.011695195397,11179.457901275799,103336.68586064287,67289.432941993451,7459.0303499999991,136676.76351807572,6751.8004062134523,4855.539252524366,9885.0972000000002,2196.7339380409676,53075.245851851811,{"$f":"AI7","v":29253.857128672797},2546.6169,267.0522579766108,18064.899602207188,36337.82187548028,0,0,2032.0903873461527,16331.641951197347,316301.97120000003,1620.6537048400974,0,0,5283.1636135385252,17929.569123792324,3571.0111999999999,21739.544640120032,19945.791781234439,12691.642710892473,7839.3835779333731,0,250]
[null,"Q1 & Q2",{"$f":"SUM(C7:C8)","v":17226.873234261519},10063.722584842899,5198.4665110908718,5794.4722147159227,5180.1660999999995,54729.429950146667,5224.8817124317393,13438.219300000001,6661.4721000000009,14229.38287298248,14229.38287298248,27244.924746810386,18879.168518195809,4466.0830985441571,7645.5166681717255,1841.9926222941824,76813.96533349852,30996.499949763383,1440.9021,13692.540355329853,40372.073170344876,40372.073170344876,24313.150268444726,134131.33554629196,100959.83381588917,25743.507299700468,188520.10040902236,19944.489904899016,14808.650488871572,12217.448400000001,6717.504087349248,95648.534995937749,{"$f":"SUM(AI7:AI8)","v":66645.422778914202},9525.8901000000005,4077.8034700198591,24933.503135780833,61272.801925700274,694.58400000000006,694.58400000000006,5338.3966498105201,24366.633211712739,561679.87490000005,5224.8817124317393,175.53950000000003,175.53950000000003,11556.694541084298,35753.121240297369,6776.7471999999998,38314.511245447473,34764.28946059764,20184.601083044407,17889.648432685957,1440.9021,251]
["Estimated no. of smokers who buy their tobacco through non-illicit sources (estimated at 80.7%):",null,null,null,null,null,null,null,null,null,null,null,null,null,null,null,null,null,null,null,null,null,null,null,null,null,null,null,null,null,null,null,null,null,null,null,null,null,null,null,null,null,null,null,null,null,null,null,null,null,null,null,null,null,null,252]
[null,"Eligible at risk",{"$f":"0.807*C251","v":31070.827095495868},25542.024067661372,24395.671793499485,12932.719865420178,11916.8322942,62321.15075108601,12954.228515272564,20403.712919100006,8145.8281410000018,23822.477318488673,23822.477318488673,30630.015619154176,20969.408115387949,9180.9250034355628,14045.719521025187,4733.681113253886,122686.64489457339,54746.11491078067,3876.0816864000003,18711.940287393183,57351.68264934219,57351.68264934219,34842.651432131359,139757.27161314042,116272.13497448229,68328.76398728865,214167.54063768926,43880.17889270532,32045.20634017816,13703.532634500001,14459.712748395817,113199.6114015928,{"$f":"0.807*AI251","v":108131.85998997989},12893.939824199999,13292.601177498684,26551.900184562586,67670.900717227574,2684.0669091000004,2684.0669091000004,15367.249038907234,30489.085169315906,799609.6645191001,12954.228515272564,2748.0867840000001,2748.0867840000001,15138.214460858082,46253.745563147299,12257.8847781,58532.660745002664,57356.56884689218,20431.481174811433,24796.489747517015,3876.0816864000003,253]
[null,"Q1",{"$f":"0.807*C252","v":4779.7434140862579},2620.9883150952901,1132.7941698676036,1659.3211734971098,1540.2842622000001,27413.379352642751,1307.8675398059586,5796.4945023,2914.6884639000004,3218.4278916018843,3218.4278916018843,15311.713287396771,9251.3165852971451,987.42556994493157,887.6752896980006,721.39298143256667,29231.299691005162,13465.808370983295,0,4439.8120024120008,18293.892438022685,18293.892438022685,9021.8225263295699,83392.705489538799,54302.572384188716,6019.4374924499998,110298.14815908711,5448.7029278142563,3918.4201767871637,7977.2734404000003,1772.764287999061,42831.723402444411,{"$f":"0.807*AI252","v":23607.862702838949},2055.1198383000001,215.51117218712494,14578.373978981201,29324.622253512589,0,0,1639.8969425883454,13179.635054616259,255255.69075840004,1307.8675398059586,0,0,4263.5130361255897,14469.162282900406,2881.8060384,17543.812524576868,16096.253967456192,10242.155667690226,6326.3825473922325,0,254]
[null,"Q1 & Q2",{"$f":"0.807*C253","v":13902.086700049047},8121.4241259682203,4195.1624744503342,4676.1390772757495,4180.3940426999998,44166.649969768361,4216.4795419324137,10844.642975100001,5375.8079847000008,11483.111978496861,11483.111978496861,21986.654270675983,15235.488994184019,3604.1290605251352,6169.931951214583,1486.4880461914054,61988.870024133306,25014.175459459053,1162.8079947000001,11049.880066751191,32580.263048468318,32580.263048468318,19620.712266634895,108243.98778585762,81474.585889422568,20775.010390858279,152135.72103008104,16095.203353253506,11950.580944519359,9859.4808588000014,5421.025798490844,77188.36774172177,{"$f":"0.807*AI253","v":53782.856182583768},7687.3933107000012,3290.7874003060265,20121.337030575134,49447.151154040126,560.52928800000007,560.52928800000007,4308.0860963970899,19663.873001852182,453275.65904430009,4216.4795419324137,141.66037650000004,141.66037650000004,9326.2524946550293,28852.76884091998,5468.8349904000006,30919.810575076113,28054.781594702297,16288.973074016838,14436.946285177568,1162.8079947000001,255]